{"text_format":"1","workbook":"xlsx","n_sheets":49,"sheets":["S1","S2","S3","S4","S5","S6","S7","S8","S9","S10","S11","S12","S13","S14","S15","S16","QA","C1-24","C25-48","C49-72","C73-96","S17","S18","AP","G1","G2","G3","G4","G5","G6","G7","G8","V1","V2","V3","V4","V5","V6","V7","V8","C 1-24","C 25-48","C 49-72","C 73-96","Stats","A P","ST1","ST2","Data Table"],"not_rendered":{"charts":95,"images":71,"macros":1,"external_links":0,"defined_names":41,"comments":1,"pivot_tables":0},"unopened":[],"bounds":{"document_bytes":16777216,"sheet_cells":100000,"rows_first":2000,"rows_last":500,"rows_between":2000,"halvings":0,"cell_chars":16384,"cell_head_chars":4096},"cells_cut":0,"cells_raw":0,"read":"whole","date_system":"1900"}

{"sheet":"S1","index":0,"n_rows":94,"n_cols":25,"rows_kept":94,"cut":false,"hidden":false,"merged":[[29,2,29,3],[31,8,31,9],[30,8,30,9],[31,10,31,11],[30,2,30,3],[31,4,31,5],[72,18,72,24],[89,18,89,24],[31,2,31,3],[52,12,52,13],[37,9,37,10],[37,3,37,8],[37,0,37,2],[52,10,52,11],[52,8,52,9],[52,6,52,7],[55,18,55,24],[29,12,29,13],[29,10,29,11],[29,8,29,9],[31,12,31,13],[30,12,30,13],[30,10,30,11],[52,18,52,24],[5,5,5,8],[6,10,6,11],[12,8,12,9],[12,6,12,7],[10,4,10,5],[10,6,10,7],[10,8,10,9],[11,8,11,9],[11,6,11,7],[12,4,12,5],[11,4,11,5],[6,5,7,8],[1,12,1,13],[2,10,2,11],[2,12,2,13],[5,12,5,13],[5,10,5,11],[1,10,1,11],[27,10,27,11],[12,10,12,11],[5,0,5,1],[7,0,7,2],[9,8,9,9],[8,2,8,3],[8,4,8,5],[9,4,9,5],[11,10,11,11],[9,10,9,11],[10,10,10,11],[10,12,10,13],[11,12,11,13],[9,12,9,13],[0,0,3,1],[6,12,6,13],[8,0,8,1],[8,10,8,11],[53,0,68,1],[53,2,58,3],[59,2,68,3],[53,4,58,5],[59,4,68,5],[9,6,9,7],[9,0,9,1],[9,2,9,3],[12,2,12,3],[29,0,31,0],[27,6,27,7],[28,2,28,3],[28,4,28,5],[27,2,27,3],[10,0,10,1],[52,0,52,1],[52,2,52,3],[27,4,27,5],[12,0,12,1],[10,2,10,3],[11,2,11,3],[11,0,11,1],[28,0,28,1],[52,4,52,5],[53,8,58,9],[53,6,58,7],[59,12,68,13],[59,10,68,11],[59,8,68,9],[59,6,68,7],[53,12,58,13],[53,10,58,11],[12,12,12,13],[30,4,30,5],[31,6,31,7],[30,6,30,7],[29,6,29,7],[29,4,29,5],[8,12,8,13],[8,8,8,9],[8,6,8,7],[28,12,28,13],[28,8,28,9],[28,10,28,11],[27,8,27,9],[27,12,27,13],[28,6,28,7]]}
[]
[null,null,null,null,"COMMONWEALTH OF PENNSYLVANIA",null,null,null,null,null,"DISTRICT"]
[null,null,null,null,"DEPARTMENT OF TRANSPORTATION",null,null,null,null,null,"PLANT CODE"]
[null,null,null,null,"LABORATORY TEST SECTION"]
["ESB-16",null,null,null,null,null,null,null,null,null,null,null,null,null,null,null,null,4.75]
["Material Class ",null,9.5,"mm",null,"Burnoff Results",null,null,null,null,"Design No.",null,null,null,null,null,null,9.5]
[null,null,null,null,null,"Red values indicate action area, single and multiple sample deviations",null,null,null,null,"Gyrations @ Ndes",null,null,null,null,null,null,12.5]
["-200 Correction Factor (+ or -)",null,null,null,null,null,null,null,null,null,null,null,null,null,null,null,null,19]
["Sample No.",null,null,null,null,null,null,null,null,null,null,null,null,null,null,null,null,25]
["Date",null,null,null,null,null,null,null,null,null,null,null,null,null,null,null,null,37.5]
["St. Wt. Before Wash",null,null,null,null,null,null,null,null,null,null,null,null,null,null,null,null,"SMA95"]
["Dry Wt. After Wash",null,null,null,null,null,null,null,null,null,null,null,null,null,null,null,null,"SMA125"]
["Wt. Loss",null,{"$f":"IF(ISBLANK(C11),\" \",IF(ISBLANK(C12),\" \",C11-C12))","v":" "},null,{"$f":"IF(ISBLANK(E11),\" \",IF(ISBLANK(E12),\" \",E11-E12))","v":" "},null,{"$f":"IF(ISBLANK(G11),\" \",IF(ISBLANK(G12),\" \",G11-G12))","v":" "},null,{"$f":"IF(ISBLANK(I11),\" \",IF(ISBLANK(I12),\" \",I11-I12))","v":" "},null,{"$f":"IF(ISBLANK(K11),\" \",IF(ISBLANK(K12),\" \",K11-K12))","v":" "},null,{"$f":"IF(ISBLANK(M11),\" \",IF(ISBLANK(M12),\" \",M11-M12))","v":" "}]
["Size","JMF","Weight","%Passing","Weight","%Passing","Weight","%Passing","Weight","%Pasing","Weight","%Pasing","Weight","%Pasing"]
[2,null,null,{"$f":"IF(ISBLANK(C11),\" \",IF(ISBLANK(C12),\" \",IF(ISBLANK(C15),\" \",ROUND((C15+C13)/C11*100,0))))","v":" "},null,{"$f":"IF(ISBLANK(E11),\" \",IF(ISBLANK(E12),\" \",IF(ISBLANK(E15),\" \",ROUND((E15+E13)/E11*100,0))))","v":" "},null,{"$f":"IF(ISBLANK(G11),\" \",IF(ISBLANK(G12),\" \",IF(ISBLANK(G15),\" \",ROUND((G15+G13)/G11*100,0))))","v":" "},null,{"$f":"IF(ISBLANK(I11),\" \",IF(ISBLANK(I12),\" \",IF(ISBLANK(I15),\" \",ROUND((I15+I13)/I11*100,0))))","v":" "},null,{"$f":"IF(ISBLANK(K11),\" \",IF(ISBLANK(K12),\" \",IF(ISBLANK(K15),\" \",ROUND((K15+K13)/K11*100,0))))","v":" "},null,{"$f":"IF(ISBLANK(M11),\" \",IF(ISBLANK(M12),\" \",IF(ISBLANK(M15),\" \",ROUND((M15+M13)/M11*100,0))))","v":" "}]
[1.5,null,null,{"$f":"IF(ISBLANK(C11),\"  \",IF(ISBLANK(C12),\" \",IF(ISBLANK(C16),\" \",ROUND((C16+C13)/C11*100,0))))","v":"  "},null,{"$f":"IF(ISBLANK(E11),\"  \",IF(ISBLANK(E12),\" \",IF(ISBLANK(E16),\" \",ROUND((E16+E13)/E11*100,0))))","v":"  "},null,{"$f":"IF(ISBLANK(G11),\"  \",IF(ISBLANK(G12),\" \",IF(ISBLANK(G16),\" \",ROUND((G16+G13)/G11*100,0))))","v":"  "},null,{"$f":"IF(ISBLANK(I11),\"  \",IF(ISBLANK(I12),\" \",IF(ISBLANK(I16),\" \",ROUND((I16+I13)/I11*100,0))))","v":"  "},null,{"$f":"IF(ISBLANK(K11),\"  \",IF(ISBLANK(K12),\" \",IF(ISBLANK(K16),\" \",ROUND((K16+K13)/K11*100,0))))","v":"  "},null,{"$f":"IF(ISBLANK(M11),\"  \",IF(ISBLANK(M12),\" \",IF(ISBLANK(M16),\" \",ROUND((M16+M13)/M11*100,0))))","v":"  "}]
[1,null,null,{"$f":"IF(ISBLANK(C11),\"  \",IF(ISBLANK(C12),\" \",IF(ISBLANK(C17),\" \",ROUND((C17+C13)/C11*100,0))))","v":"  "},null,{"$f":"IF(ISBLANK(E11),\"  \",IF(ISBLANK(E12),\" \",IF(ISBLANK(E17),\" \",ROUND((E17+E13)/E11*100,0))))","v":"  "},null,{"$f":"IF(ISBLANK(G11),\"  \",IF(ISBLANK(G12),\" \",IF(ISBLANK(G17),\" \",ROUND((G17+G13)/G11*100,0))))","v":"  "},null,{"$f":"IF(ISBLANK(I11),\"  \",IF(ISBLANK(I12),\" \",IF(ISBLANK(I17),\" \",ROUND((I17+I13)/I11*100,0))))","v":"  "},null,{"$f":"IF(ISBLANK(K11),\"  \",IF(ISBLANK(K12),\" \",IF(ISBLANK(K17),\" \",ROUND((K17+K13)/K11*100,0))))","v":"  "},null,{"$f":"IF(ISBLANK(M11),\"  \",IF(ISBLANK(M12),\" \",IF(ISBLANK(M17),\" \",ROUND((M17+M13)/M11*100,0))))","v":"  "}]
[0.75,null,null,{"$f":"IF(ISBLANK(C11),\"  \",IF(ISBLANK(C12),\" \",IF(ISBLANK(C18),\" \",ROUND((C18+C13)/C11*100,0))))","v":"  "},null,{"$f":"IF(ISBLANK(E11),\"  \",IF(ISBLANK(E12),\" \",IF(ISBLANK(E18),\" \",ROUND((E18+E13)/E11*100,0))))","v":"  "},null,{"$f":"IF(ISBLANK(G11),\"  \",IF(ISBLANK(G12),\" \",IF(ISBLANK(G18),\" \",ROUND((G18+G13)/G11*100,0))))","v":"  "},null,{"$f":"IF(ISBLANK(I11),\"  \",IF(ISBLANK(I12),\" \",IF(ISBLANK(I18),\" \",ROUND((I18+I13)/I11*100,0))))","v":"  "},null,{"$f":"IF(ISBLANK(K11),\"  \",IF(ISBLANK(K12),\" \",IF(ISBLANK(K18),\" \",ROUND((K18+K13)/K11*100,0))))","v":"  "},null,{"$f":"IF(ISBLANK(M11),\"  \",IF(ISBLANK(M12),\" \",IF(ISBLANK(M18),\" \",ROUND((M18+M13)/M11*100,0))))","v":"  "}]
[0.5,null,null,{"$f":"IF(ISBLANK(C11),\"  \",IF(ISBLANK(C12),\" \",IF(ISBLANK(C19),\" \",ROUND((C19+C13)/C11*100,0))))","v":"  "},null,{"$f":"IF(ISBLANK(E11),\"  \",IF(ISBLANK(E12),\" \",IF(ISBLANK(E19),\" \",ROUND((E19+E13)/E11*100,0))))","v":"  "},null,{"$f":"IF(ISBLANK(G11),\"  \",IF(ISBLANK(G12),\" \",IF(ISBLANK(G19),\" \",ROUND((G19+G13)/G11*100,0))))","v":"  "},null,{"$f":"IF(ISBLANK(I11),\"  \",IF(ISBLANK(I12),\" \",IF(ISBLANK(I19),\" \",ROUND((I19+I13)/I11*100,0))))","v":"  "},null,{"$f":"IF(ISBLANK(K11),\"  \",IF(ISBLANK(K12),\" \",IF(ISBLANK(K19),\" \",ROUND((K19+K13)/K11*100,0))))","v":"  "},null,{"$f":"IF(ISBLANK(M11),\"  \",IF(ISBLANK(M12),\" \",IF(ISBLANK(M19),\" \",ROUND((M19+M13)/M11*100,0))))","v":"  "}]
[0.375,null,null,{"$f":"IF(ISBLANK(C11),\"  \",IF(ISBLANK(C12),\" \",IF(ISBLANK(C20),\" \",ROUND((C20+C13)/C11*100,0))))","v":"  "},null,{"$f":"IF(ISBLANK(E11),\"  \",IF(ISBLANK(E12),\" \",IF(ISBLANK(E20),\" \",ROUND((E20+E13)/E11*100,0))))","v":"  "},null,{"$f":"IF(ISBLANK(G11),\"  \",IF(ISBLANK(G12),\" \",IF(ISBLANK(G20),\" \",ROUND((G20+G13)/G11*100,0))))","v":"  "},null,{"$f":"IF(ISBLANK(I11),\"  \",IF(ISBLANK(I12),\" \",IF(ISBLANK(I20),\" \",ROUND((I20+I13)/I11*100,0))))","v":"  "},null,{"$f":"IF(ISBLANK(K11),\"  \",IF(ISBLANK(K12),\" \",IF(ISBLANK(K20),\" \",ROUND((K20+K13)/K11*100,0))))","v":"  "},null,{"$f":"IF(ISBLANK(M11),\"  \",IF(ISBLANK(M12),\" \",IF(ISBLANK(M20),\" \",ROUND((M20+M13)/M11*100,0))))","v":"  "}]
[4,null,null,{"$f":"IF(ISBLANK(C11),\"  \",IF(ISBLANK(C12),\" \",IF(ISBLANK(C21),\" \",ROUND((C21+C13)/C11*100,0))))","v":"  "},null,{"$f":"IF(ISBLANK(E11),\"  \",IF(ISBLANK(E12),\" \",IF(ISBLANK(E21),\" \",ROUND((E21+E13)/E11*100,0))))","v":"  "},null,{"$f":"IF(ISBLANK(G11),\"  \",IF(ISBLANK(G12),\" \",IF(ISBLANK(G21),\" \",ROUND((G21+G13)/G11*100,0))))","v":"  "},null,{"$f":"IF(ISBLANK(I11),\"  \",IF(ISBLANK(I12),\" \",IF(ISBLANK(I21),\" \",ROUND((I21+I13)/I11*100,0))))","v":"  "},null,{"$f":"IF(ISBLANK(K11),\"  \",IF(ISBLANK(K12),\" \",IF(ISBLANK(K21),\" \",ROUND((K21+K13)/K11*100,0))))","v":"  "},null,{"$f":"IF(ISBLANK(M11),\"  \",IF(ISBLANK(M12),\" \",IF(ISBLANK(M21),\" \",ROUND((M21+M13)/M11*100,0))))","v":"  "}]
[8,null,null,{"$f":"IF(ISBLANK(C11),\"  \",IF(ISBLANK(C12),\" \",IF(ISBLANK(C22),\" \",ROUND((C22+C13)/C11*100,0))))","v":"  "},null,{"$f":"IF(ISBLANK(E11),\"  \",IF(ISBLANK(E12),\" \",IF(ISBLANK(E22),\" \",ROUND((E22+E13)/E11*100,0))))","v":"  "},null,{"$f":"IF(ISBLANK(G11),\"  \",IF(ISBLANK(G12),\" \",IF(ISBLANK(G22),\" \",ROUND((G22+G13)/G11*100,0))))","v":"  "},null,{"$f":"IF(ISBLANK(I11),\"  \",IF(ISBLANK(I12),\" \",IF(ISBLANK(I22),\" \",ROUND((I22+I13)/I11*100,0))))","v":"  "},null,{"$f":"IF(ISBLANK(K11),\"  \",IF(ISBLANK(K12),\" \",IF(ISBLANK(K22),\" \",ROUND((K22+K13)/K11*100,0))))","v":"  "},null,{"$f":"IF(ISBLANK(M11),\"  \",IF(ISBLANK(M12),\" \",IF(ISBLANK(M22),\" \",ROUND((M22+M13)/M11*100,0))))","v":"  "}]
[16,null,null,{"$f":"IF(ISBLANK(C11),\"  \",IF(ISBLANK(C12),\" \",IF(ISBLANK(C23),\" \",ROUND((C23+C13)/C11*100,0))))","v":"  "},null,{"$f":"IF(ISBLANK(E11),\"  \",IF(ISBLANK(E12),\" \",IF(ISBLANK(E23),\" \",ROUND((E23+E13)/E11*100,0))))","v":"  "},null,{"$f":"IF(ISBLANK(G11),\"  \",IF(ISBLANK(G12),\" \",IF(ISBLANK(G23),\" \",ROUND((G23+G13)/G11*100,0))))","v":"  "},null,{"$f":"IF(ISBLANK(I11),\"  \",IF(ISBLANK(I12),\" \",IF(ISBLANK(I23),\" \",ROUND((I23+I13)/I11*100,0))))","v":"  "},null,{"$f":"IF(ISBLANK(K11),\"  \",IF(ISBLANK(K12),\" \",IF(ISBLANK(K23),\" \",ROUND((K23+K13)/K11*100,0))))","v":"  "},null,{"$f":"IF(ISBLANK(M11),\"  \",IF(ISBLANK(M12),\" \",IF(ISBLANK(M23),\" \",ROUND((M23+M13)/M11*100,0))))","v":"  "}]
[30,null,null,{"$f":"IF(ISBLANK(C11),\"  \",IF(ISBLANK(C12),\" \",IF(ISBLANK(C24),\" \",ROUND((C24+C13)/C11*100,0))))","v":"  "},null,{"$f":"IF(ISBLANK(E11),\"  \",IF(ISBLANK(E12),\" \",IF(ISBLANK(E24),\" \",ROUND((E24+E13)/E11*100,0))))","v":"  "},null,{"$f":"IF(ISBLANK(G11),\"  \",IF(ISBLANK(G12),\" \",IF(ISBLANK(G24),\" \",ROUND((G24+G13)/G11*100,0))))","v":"  "},null,{"$f":"IF(ISBLANK(I11),\"  \",IF(ISBLANK(I12),\" \",IF(ISBLANK(I24),\" \",ROUND((I24+I13)/I11*100,0))))","v":"  "},null,{"$f":"IF(ISBLANK(K11),\"  \",IF(ISBLANK(K12),\" \",IF(ISBLANK(K24),\" \",ROUND((K24+K13)/K11*100,0))))","v":"  "},null,{"$f":"IF(ISBLANK(M11),\"  \",IF(ISBLANK(M12),\" \",IF(ISBLANK(M24),\" \",ROUND((M24+M13)/M11*100,0))))","v":"  "}]
[50,null,null,{"$f":"IF(ISBLANK(C11),\"  \",IF(ISBLANK(C12),\" \",IF(ISBLANK(C25),\" \",ROUND((C25+C13)/C11*100,0))))","v":"  "},null,{"$f":"IF(ISBLANK(E11),\"  \",IF(ISBLANK(E12),\" \",IF(ISBLANK(E25),\" \",ROUND((E25+E13)/E11*100,0))))","v":"  "},null,{"$f":"IF(ISBLANK(G11),\"  \",IF(ISBLANK(G12),\" \",IF(ISBLANK(G25),\" \",ROUND((G25+G13)/G11*100,0))))","v":"  "},null,{"$f":"IF(ISBLANK(I11),\"  \",IF(ISBLANK(I12),\" \",IF(ISBLANK(I25),\" \",ROUND((I25+I13)/I11*100,0))))","v":"  "},null,{"$f":"IF(ISBLANK(K11),\"  \",IF(ISBLANK(K12),\" \",IF(ISBLANK(K25),\" \",ROUND((K25+K13)/K11*100,0))))","v":"  "},null,{"$f":"IF(ISBLANK(M11),\"  \",IF(ISBLANK(M12),\" \",IF(ISBLANK(M25),\" \",ROUND((M25+M13)/M11*100,0))))","v":"  "}]
[100,null,null,{"$f":"IF(ISBLANK(C11),\"  \",IF(ISBLANK(C12),\" \",IF(ISBLANK(C26),\" \",ROUND((C26+C13)/C11*100,0))))","v":"  "},null,{"$f":"IF(ISBLANK(E11),\"  \",IF(ISBLANK(E12),\" \",IF(ISBLANK(E26),\" \",ROUND((E26+E13)/E11*100,0))))","v":"  "},null,{"$f":"IF(ISBLANK(G11),\"  \",IF(ISBLANK(G12),\" \",IF(ISBLANK(G26),\" \",ROUND((G26+G13)/G11*100,0))))","v":"  "},null,{"$f":"IF(ISBLANK(I11),\"  \",IF(ISBLANK(I12),\" \",IF(ISBLANK(I26),\" \",ROUND((I26+I13)/I11*100,0))))","v":"  "},null,{"$f":"IF(ISBLANK(K11),\"  \",IF(ISBLANK(K12),\" \",IF(ISBLANK(K26),\" \",ROUND((K26+K13)/K11*100,0))))","v":"  "},null,{"$f":"IF(ISBLANK(M11),\"  \",IF(ISBLANK(M12),\" \",IF(ISBLANK(M26),\" \",ROUND((M26+M13)/M11*100,0))))","v":"  "}]
[200,null,null,{"$f":"IF(ISBLANK(C11),\"  \",IF(ISBLANK(C12),\" \",IF(ISBLANK(C27),\" \",ROUND((C27+C13)/C11*100+$D$8,1))))","v":"  "},null,{"$f":"IF(ISBLANK(E11),\"  \",IF(ISBLANK(E12),\" \",IF(ISBLANK(E27),\" \",ROUND((E27+E13)/E11*100+$D$8,1))))","v":"  "},null,{"$f":"IF(ISBLANK(G11),\"  \",IF(ISBLANK(G12),\" \",IF(ISBLANK(G27),\" \",ROUND((G27+G13)/G11*100+$D$8,1))))","v":"  "},null,{"$f":"IF(ISBLANK(I11),\"  \",IF(ISBLANK(I12),\" \",IF(ISBLANK(I27),\" \",ROUND((I27+I13)/I11*100+$D$8,1))))","v":"  "},null,{"$f":"IF(ISBLANK(K11),\"  \",IF(ISBLANK(K12),\" \",IF(ISBLANK(K27),\" \",ROUND((K27+K13)/K11*100+$D$8,1))))","v":"  "},null,{"$f":"IF(ISBLANK(M11),\"  \",IF(ISBLANK(M12),\" \",IF(ISBLANK(M27),\" \",ROUND((M27+M13)/M11*100+$D$8,1))))","v":"  "}]
["%AC"]
["Percent Loss / Gain",null,{"$f":"IF(ISBLANK(C12),\"\",IF(ISBLANK(C20),\"\",(C12-C71)/C12*100))","v":""},null,{"$f":"IF(ISBLANK(E12),\"\",IF(ISBLANK(E20),\"\",(E12-E71)/E12*100))","v":""},null,{"$f":"IF(ISBLANK(G12),\"\",IF(ISBLANK(G20),\"\",(G12-G71)/G12*100))","v":""},null,{"$f":"IF(ISBLANK(I12),\"\",IF(ISBLANK(I20),\"\",(I12-I71)/I12*100))","v":""},null,{"$f":"IF(ISBLANK(K12),\"\",IF(ISBLANK(K20),\"\",(K12-K71)/K12*100))","v":""},null,{"$f":"IF(ISBLANK(M12),\"\",IF(ISBLANK(M20),\"\",(M12-M71)/M12*100))","v":""}]
["Apparent Moisture","Orig Wt"]
[null,"Const Wt"]
[null,"% moisture",{"$f":"IF(ISBLANK(C30),\" \",IF(ISBLANK(C31),\" \",((C30-C31)/C31)*100))","v":" "},null,{"$f":"IF(ISBLANK(E30),\" \",IF(ISBLANK(E31),\" \",((E30-E31)/E31)*100))","v":" "},null,{"$f":"IF(ISBLANK(G30),\" \",IF(ISBLANK(G31),\" \",((G30-G31)/G31)*100))","v":" "},null,{"$f":"IF(ISBLANK(I30),\" \",IF(ISBLANK(I31),\" \",((I30-I31)/I31)*100))","v":" "},null,{"$f":"IF(ISBLANK(K30),\" \",IF(ISBLANK(K31),\" \",((K30-K31)/K31)*100))","v":" "},null,{"$f":"IF(ISBLANK(M30),\" \",IF(ISBLANK(M31),\" \",((M30-M31)/M31)*100))","v":" "}]
[]
[]
[]
[]
[]
["Sets up Min and Max for charts",null,null,"Running Avg for Conditional Format",null,null,null,null,null,"AP upper & lower Tolerances"]
[2,{"$f":"B15-8","v":-8},{"$f":"B15+8","v":8},{"$f":"'S17'!$AC2","v":{"$error":"#N/A"}},{"$f":"'S17'!$AC3","v":{"$error":"#N/A"}},{"$f":"'S17'!$AC4","v":{"$error":"#N/A"}},{"$f":"'S17'!$AC5","v":{"$error":"#N/A"}},{"$f":"'S17'!$AC6","v":{"$error":"#N/A"}},{"$f":"'S17'!$AC7","v":{"$error":"#N/A"}},{"$f":"AP!E90","v":5},{"$f":"AP!E92","v":5}]
[1.5,{"$f":"B16-8","v":-8},{"$f":"B16+8","v":8},{"$f":"'S17'!$AA2","v":{"$error":"#N/A"}},{"$f":"'S17'!$AA3","v":{"$error":"#N/A"}},{"$f":"'S17'!$AA4","v":{"$error":"#N/A"}},{"$f":"'S17'!$AA5","v":{"$error":"#N/A"}},{"$f":"'S17'!$AA6","v":{"$error":"#N/A"}},{"$f":"'S17'!$AA7","v":{"$error":"#N/A"}},{"$f":"AP!E84","v":5},{"$f":"AP!E86","v":5}]
[1,{"$f":"B17-8","v":-8},{"$f":"B17+8","v":8},{"$f":"'S17'!$Y2","v":{"$error":"#N/A"}},{"$f":"'S17'!$Y3","v":{"$error":"#N/A"}},{"$f":"'S17'!$Y4","v":{"$error":"#N/A"}},{"$f":"'S17'!$Y5","v":{"$error":"#N/A"}},{"$f":"'S17'!$Y6","v":{"$error":"#N/A"}},{"$f":"'S17'!$Y7","v":{"$error":"#N/A"}},{"$f":"AP!E78","v":5},{"$f":"AP!E80","v":5}]
[0.75,{"$f":"B18-8","v":-8},{"$f":"B18+8","v":8},{"$f":"'S17'!$W2","v":{"$error":"#N/A"}},{"$f":"'S17'!$W3","v":{"$error":"#N/A"}},{"$f":"'S17'!$W4","v":{"$error":"#N/A"}},{"$f":"'S17'!$W5","v":{"$error":"#N/A"}},{"$f":"'S17'!$W6","v":{"$error":"#N/A"}},{"$f":"'S17'!$W7","v":{"$error":"#N/A"}},{"$f":"AP!E72","v":5},{"$f":"AP!E74","v":5}]
[0.5,{"$f":"B19-8","v":-8},{"$f":"B19+8","v":8},{"$f":"'S17'!$U2","v":{"$error":"#N/A"}},{"$f":"'S17'!U3","v":{"$error":"#N/A"}},{"$f":"'S17'!U4","v":{"$error":"#N/A"}},{"$f":"'S17'!U5","v":{"$error":"#N/A"}},{"$f":"'S17'!U6","v":{"$error":"#N/A"}},{"$f":"'S17'!U7","v":{"$error":"#N/A"}},{"$f":"AP!E66","v":5},{"$f":"AP!E68","v":5}]
[0.375,{"$f":"B20-7","v":-7},{"$f":"B20+7","v":7},{"$f":"'S17'!$S2","v":{"$error":"#N/A"}},{"$f":"'S17'!$S3","v":{"$error":"#N/A"}},{"$f":"'S17'!$S4","v":{"$error":"#N/A"}},{"$f":"'S17'!$S5","v":{"$error":"#N/A"}},{"$f":"'S17'!$S6","v":{"$error":"#N/A"}},{"$f":"'S17'!$S7","v":{"$error":"#N/A"}},{"$f":"AP!E60","v":3},{"$f":"AP!E62","v":3}]
["#4",-7,7,{"$f":"'S17'!$Q2","v":{"$error":"#N/A"}},{"$f":"'S17'!Q3","v":{"$error":"#N/A"}},{"$f":"'S17'!Q4","v":{"$error":"#N/A"}},{"$f":"'S17'!Q5","v":{"$error":"#N/A"}},{"$f":"'S17'!Q6","v":{"$error":"#N/A"}},{"$f":"'S17'!Q7","v":{"$error":"#N/A"}},{"$f":"AP!E54","v":3},{"$f":"AP!E56","v":3}]
["#8",-7,7,{"$f":"'S17'!$O2","v":{"$error":"#N/A"}},{"$f":"'S17'!O3","v":{"$error":"#N/A"}},{"$f":"'S17'!O4","v":{"$error":"#N/A"}},{"$f":"'S17'!O5","v":{"$error":"#N/A"}},{"$f":"'S17'!O6","v":{"$error":"#N/A"}},{"$f":"'S17'!O7","v":{"$error":"#N/A"}},{"$f":"AP!E47","v":3},{"$f":"AP!E49","v":3}]
["#16",-7,7,{"$f":"'S17'!$M2","v":{"$error":"#N/A"}},{"$f":"'S17'!$M3","v":{"$error":"#N/A"}},{"$f":"'S17'!$M4","v":{"$error":"#N/A"}},{"$f":"'S17'!$M5","v":{"$error":"#N/A"}},{"$f":"'S17'!$M6","v":{"$error":"#N/A"}},{"$f":"'S17'!$M7","v":{"$error":"#N/A"}},{"$f":"AP!E40","v":3},{"$f":"AP!E42","v":3}]
["#30",-7,7,{"$f":"'S17'!$K2","v":{"$error":"#N/A"}},{"$f":"'S17'!$K3","v":{"$error":"#N/A"}},{"$f":"'S17'!$K4","v":{"$error":"#N/A"}},{"$f":"'S17'!$K5","v":{"$error":"#N/A"}},{"$f":"'S17'!$K6","v":{"$error":"#N/A"}},{"$f":"'S17'!$K7","v":{"$error":"#N/A"}},{"$f":"AP!E34","v":3},{"$f":"AP!E36","v":3}]
["#50",-7,7,{"$f":"'S17'!$I2","v":{"$error":"#N/A"}},{"$f":"'S17'!$I3","v":{"$error":"#N/A"}},{"$f":"'S17'!$I4","v":{"$error":"#N/A"}},{"$f":"'S17'!$I5","v":{"$error":"#N/A"}},{"$f":"'S17'!$I6","v":{"$error":"#N/A"}},{"$f":"'S17'!$I7","v":{"$error":"#N/A"}},{"$f":"AP!E28","v":3},{"$f":"AP!E30","v":3}]
["#100",-7,7,{"$f":"'S17'!$G2","v":{"$error":"#N/A"}},{"$f":"'S17'!$G3","v":{"$error":"#N/A"}},{"$f":"'S17'!$G4","v":{"$error":"#N/A"}},{"$f":"'S17'!$G5","v":{"$error":"#N/A"}},{"$f":"'S17'!$G6","v":{"$error":"#N/A"}},{"$f":"'S17'!$G7","v":{"$error":"#N/A"}},{"$f":"AP!E22","v":3},{"$f":"AP!E24","v":3}]
["#200",{"$f":"B27-4","v":-4},{"$f":"B27+4","v":4},{"$f":"'S17'!E2","v":{"$error":"#N/A"}},{"$f":"'S17'!E3","v":{"$error":"#N/A"}},{"$f":"'S17'!E4","v":{"$error":"#N/A"}},{"$f":"'S17'!E5","v":{"$error":"#N/A"}},{"$f":"'S17'!E6","v":{"$error":"#N/A"}},{"$f":"'S17'!E7","v":{"$error":"#N/A"}},{"$f":"AP!E15","v":1},{"$f":"AP!E17","v":1}]
["AC",{"$f":"IF(C6<24,B28-0.8,B28-0.9)","v":-0.8},{"$f":"IF(C6<24,B28+0.8,B28+0.9)","v":0.8},{"$f":"ROUND('S17'!C2,1)","v":{"$error":"#N/A"}},{"$f":"ROUND('S17'!C3,1)","v":{"$error":"#N/A"}},{"$f":"ROUND('S17'!C4,1)","v":{"$error":"#N/A"}},{"$f":"ROUND('S17'!C5,1)","v":{"$error":"#N/A"}},{"$f":"ROUND('S17'!C6,1)","v":{"$error":"#N/A"}},{"$f":"ROUND('S17'!C7,1)","v":{"$error":"#N/A"}},{"$f":"AP!E7","v":0.2},{"$f":"AP!E9","v":0.2}]
["Tested By"]
["Remarks",null,{"$f":"IF(T94=3,\"Single sample deviation, resample within 150 tons. Document corrective action\")","v":false},null,{"$f":"IF(U94=3,\"Single sample deviation, resample within 150 tons. Document corrective action\")","v":false},null,{"$f":"IF(AND(V94=3,E54=\"Single sample deviation, resample within 150 tons. Document corrective action\"),\"Deviation on 150 ton sample, suspend production of JMF\",IF(AND(V88=2,E54=\"Multiple sample deviation, resample within 150 tons. Document corrective action\"),\"Deviation on 150 ton sample, suspend production of JMF\",IF(AND(V88=2,E54=\"Single sample deviation, resample within 150 tons. Document corrective action\"),\"Deviation on 150 ton sample, suspend production of JMF\",IF(V94=3,\"Single sample deviation, resample within 150 tons. Document corrective action\",IF(V88=2,\"Multiple sample deviation, resample within 150 tons. Document corrective action\",IF(V71=1,\"Action area, document corrective action\",\" \"))))))","v":{"$error":"#N/A"}},null,{"$f":"IF(AND(W94=3,G54=\"Single sample deviation, resample within 150 tons. Document corrective action\"),\"Deviation on 150 ton sample, suspend production of JMF\",IF(AND(W88=2,G54=\"Multiple sample deviation, resample within 150 tons. Document corrective action\"),\"Deviation on 150 ton sample, suspend production of JMF\",IF(AND(W88=2,G54=\"Single sample deviation, resample within 150 tons. Document corrective action\"),\"Deviation on 150 ton sample, suspend production of JMF\",IF(W94=3,\"Single sample deviation, resample within 150 tons. Document corrective action\",IF(W88=2,\"Multiple sample deviation, resample within 150 tons. Document corrective action\",IF(W71=1,\"Action area, document corrective action\",\" \"))))))","v":{"$error":"#N/A"}},null,{"$f":"IF(AND(X94=3,I54=\"Single sample deviation, resample within 150 tons. Document corrective action\"),\"Deviation on 150 ton sample, suspend production of JMF\",IF(AND(X88=2,I54=\"Multiple sample deviation, resample within 150 tons. Document corrective action\"),\"Deviation on 150 ton sample, suspend production of JMF\",IF(AND(X88=2,I54=\"Single sample deviation, resample within 150 tons. Document corrective action\"),\"Deviation on 150 ton sample, suspend production of JMF\",IF(X94=3,\"Single sample deviation, resample within 150 tons. Document corrective action\",IF(X88=2,\"Multiple sample deviation, resample within 150 tons. Document corrective action\",IF(X71=1,\"Action area, document corrective action\",\" \"))))))","v":{"$error":"#N/A"}},null,{"$f":"IF(AND(Y94=3,K54=\"Single sample deviation, resample within 150 tons. Document corrective action\"),\"Deviation on 150 ton sample, suspend production of JMF\",IF(AND(Y88=2,K54=\"Multiple sample deviation, resample within 150 tons. Document corrective action\"),\"Deviation on 150 ton sample, suspend production of JMF\",IF(AND(Y88=2,K54=\"Single sample deviation, resample within 150 tons. Document corrective action\"),\"Deviation on 150 ton sample, suspend production of JMF\",IF(Y94=3,\"Single sample deviation, resample within 150 tons. Document corrective action\",IF(Y88=2,\"Multiple sample deviation, resample within 150 tons. Document corrective action\",IF(Y71=1,\"Action area, document corrective action\",\" \"))))))","v":{"$error":"#N/A"}}]
[]
[null,null,null,null,null,null,null,null,null,null,null,null,null,null,null,null,null,null,"Action points flags"]
[null,null,null,null,null,null,null,null,null,null,null,null,null,null,null,null,null,2,{"$f":"$B$15","v":0},{"$f":"IF(ISBLANK(C15),0,IF(OR(D39>=$S57+$J39,D39<=$S57-$K39),1,0))","v":0},{"$f":"IF(ISBLANK(E15),0,IF(OR(E39>=$S57+$J39,E39<=$S57-$K39),1,0))","v":0},{"$f":"IF(ISBLANK(G15),0,IF(OR(F39>=$S57+$J39,F39<=$S57-$K39),1,0))","v":0},{"$f":"IF(ISBLANK(I15),0,IF(OR(G39>=$S57+$J39,G39<=$S57-$K39),1,0))","v":0},{"$f":"IF(ISBLANK(K15),0,IF(OR(H39>=$S57+$J39,H39<=$S57-$K39),1,0))","v":0},{"$f":"IF(ISBLANK(M15),0,IF(OR(I39>=$S57+$J39,I39<=$S57-$K39),1,0))","v":0}]
[null,null,null,null,null,null,null,null,null,null,null,null,null,null,null,null,null,1.5,{"$f":"$B$16","v":0},{"$f":"IF(ISBLANK(C16),0,IF(OR(D40>=$S58+$J40,D40<=$S58-$K40),1,0))","v":0},{"$f":"IF(ISBLANK(E16),0,IF(OR(E40>=$S58+$J40,E40<=$S58-$K40),1,0))","v":0},{"$f":"IF(ISBLANK(G16),0,IF(OR(F40>=$S58+$J40,F40<=$S58-$K40),1,0))","v":0},{"$f":"IF(ISBLANK(I16),0,IF(OR(G40>=$S58+$J40,G40<=$S58-$K40),1,0))","v":0},{"$f":"IF(ISBLANK(K16),0,IF(OR(H40>=$S58+$J40,H40<=$S58-$K40),1,0))","v":0},{"$f":"IF(ISBLANK(M16),0,IF(OR(I40>=$S58+$J40,I40<=$S58-$K40),1,0))","v":0}]
[null,null,null,null,null,null,null,null,null,null,null,null,null,null,null,null,null,1,{"$f":"$B$17","v":0},{"$f":"IF(ISBLANK(C17),0,IF(OR(D41>=$S59+$J41,D41<=$S59-$K41),1,0))","v":0},{"$f":"IF(ISBLANK(E17),0,IF(OR(E41>=$S59+$J41,E41<=$S59-$K41),1,0))","v":0},{"$f":"IF(ISBLANK(G17),0,IF(OR(F41>=$S59+$J41,F41<=$S59-$K41),1,0))","v":0},{"$f":"IF(ISBLANK(I17),0,IF(OR(G41>=$S59+$J41,G41<=$S59-$K41),1,0))","v":0},{"$f":"IF(ISBLANK(K17),0,IF(OR(H41>=$S59+$J41,H41<=$S59-$K41),1,0))","v":0},{"$f":"IF(ISBLANK(M17),0,IF(OR(I41>=$S59+$J41,I41<=$S59-$K41),1,0))","v":0}]
[null,null,null,null,null,null,null,null,null,null,null,null,null,null,null,null,null,0.75,{"$f":"$B$18","v":0},{"$f":"IF(ISBLANK(C18),0,IF(OR(D42>=$S60+$J42,D42<=$S60-$K42),1,0))","v":0},{"$f":"IF(ISBLANK(E18),0,IF(OR(E42>=$S60+$J42,E42<=$S60-$K42),1,0))","v":0},{"$f":"IF(ISBLANK(G18),0,IF(OR(F42>=$S60+$J42,F42<=$S60-$K42),1,0))","v":0},{"$f":"IF(ISBLANK(I18),0,IF(OR(G42>=$S60+$J42,G42<=$S60-$K42),1,0))","v":0},{"$f":"IF(ISBLANK(K18),0,IF(OR(H42>=$S60+$J42,H42<=$S60-$K42),1,0))","v":0},{"$f":"IF(ISBLANK(M18),0,IF(OR(I42>=$S60+$J42,I42<=$S60-$K42),1,0))","v":0}]
[null,null,null,null,null,null,null,null,null,null,null,null,null,null,null,null,null,0.5,{"$f":"$B$19","v":0},{"$f":"IF(ISBLANK(C19),0,IF(OR(D43>=$S61+$J43,D43<=$S61-$K43),1,0))","v":0},{"$f":"IF(ISBLANK(E19),0,IF(OR(E43>=$S61+$J43,E43<=$S61-$K43),1,0))","v":0},{"$f":"IF(ISBLANK(G19),0,IF(OR(F43>=$S61+$J43,F43<=$S61-$K43),1,0))","v":0},{"$f":"IF(ISBLANK(I19),0,IF(OR(G43>=$S61+$J43,G43<=$S61-$K43),1,0))","v":0},{"$f":"IF(ISBLANK(K19),0,IF(OR(H43>=$S61+$J43,H43<=$S61-$K43),1,0))","v":0},{"$f":"IF(ISBLANK(M19),0,IF(OR(I43>=$S61+$J43,I43<=$S61-$K43),1,0))","v":0}]
[null,null,null,null,null,null,null,null,null,null,null,null,null,null,null,null,null,0.375,{"$f":"$B$20","v":0},{"$f":"IF(OR(D44>=$S62+$J44,D44<=$S62-$K44),1,0)","v":{"$error":"#N/A"}},{"$f":"IF(OR(E44>=$S62+$J44,E44<=$S62-$K44),1,0)","v":{"$error":"#N/A"}},{"$f":"IF(OR(F44>=$S62+$J44,F44<=$S62-$K44),1,0)","v":{"$error":"#N/A"}},{"$f":"IF(OR(G44>=$S62+$J44,G44<=$S62-$K44),1,0)","v":{"$error":"#N/A"}},{"$f":"IF(OR(H44>=$S62+$J44,H44<=$S62-$K44),1,0)","v":{"$error":"#N/A"}},{"$f":"IF(OR(I44>=$S62+$J44,I44<=$S62-$K44),1,0)","v":{"$error":"#N/A"}}]
[null,null,null,null,null,null,null,null,null,null,null,null,null,null,null,null,null,4,{"$f":"$B$21","v":0},{"$error":"#N/A"},{"$error":"#N/A"},{"$error":"#N/A"},{"$error":"#N/A"},{"$error":"#N/A"},{"$error":"#N/A"}]
[null,null,null,null,null,null,null,null,null,null,null,null,null,null,null,null,null,8,{"$f":"$B$22","v":0},{"$error":"#N/A"},{"$error":"#N/A"},{"$error":"#N/A"},{"$error":"#N/A"},{"$error":"#N/A"},{"$error":"#N/A"}]
[null,null,null,null,null,null,null,null,null,null,null,null,null,null,null,null,null,16,{"$f":"$B$23","v":0},{"$error":"#N/A"},{"$error":"#N/A"},{"$error":"#N/A"},{"$error":"#N/A"},{"$error":"#N/A"},{"$error":"#N/A"}]
[null,null,null,null,null,null,null,null,null,null,null,null,null,null,null,null,null,30,{"$f":"$B$24","v":0},{"$error":"#N/A"},{"$error":"#N/A"},{"$error":"#N/A"},{"$error":"#N/A"},{"$error":"#N/A"},{"$error":"#N/A"}]
[null,null,null,null,null,null,null,null,null,null,null,null,null,null,null,null,null,50,{"$f":"$B$25","v":0},{"$error":"#N/A"},{"$error":"#N/A"},{"$error":"#N/A"},{"$error":"#N/A"},{"$error":"#N/A"},{"$error":"#N/A"}]
[null,null,null,null,null,null,null,null,null,null,null,null,null,null,null,null,null,100,{"$f":"$B$26","v":0},{"$error":"#N/A"},{"$error":"#N/A"},{"$error":"#N/A"},{"$error":"#N/A"},{"$error":"#N/A"},{"$error":"#N/A"}]
[null,null,null,null,null,null,null,null,null,null,null,null,null,null,null,null,null,200,{"$f":"$B$27","v":0},{"$error":"#N/A"},{"$error":"#N/A"},{"$error":"#N/A"},{"$error":"#N/A"},{"$error":"#N/A"},{"$error":"#N/A"}]
[null,null,null,null,null,null,null,null,null,null,null,null,null,null,null,null,null,"%AC",{"$f":"$B$28","v":0},{"$error":"#N/A"},{"$error":"#N/A"},{"$error":"#N/A"},{"$error":"#N/A"},{"$error":"#N/A"},{"$error":"#N/A"}]
[null,null,{"$f":"MAX(C15:C23)","v":0},null,{"$f":"MAX(E15:E23)","v":0},null,{"$f":"MAX(G15:G23)","v":0},null,{"$f":"MAX(I15:I23)","v":0},null,{"$f":"MAX(K15:K23)","v":0},null,{"$f":"MAX(M15:M23)","v":0},null,null,null,null,null,"Max",{"$f":"MAX(T56:T70)","v":{"$error":"#N/A"}},{"$error":"#N/A"},{"$error":"#N/A"},{"$error":"#N/A"},{"$error":"#N/A"},{"$error":"#N/A"}]
[]
[null,null,null,null,null,null,null,null,null,null,null,null,null,null,null,null,null,null,"Multiple sample flag"]
[null,null,null,null,null,null,null,null,null,null,null,null,null,null,null,null,null,2,{"$f":"$B$15","v":0},{"$f":"IF(ISBLANK(C15),0,IF(OR(D39>$S74+AP!$E$89,D39<$S74-AP!$E$93),2,0))","v":0},{"$f":"IF(ISBLANK(E15),0,IF(OR(E39>$S74+AP!$E$89,E39<$S74-AP!$E$93),2,0))","v":0},{"$f":"IF(ISBLANK(G15),0,IF(OR(F39>$S74+AP!$E$89,F39<$S74-AP!$E$93),2,0))","v":0},{"$f":"IF(ISBLANK(I15),0,IF(OR(G39>$S74+AP!$E$89,G39<$S74-AP!$E$93),2,0))","v":0},{"$f":"IF(ISBLANK(K15),0,IF(OR(H39>$S74+AP!$E$89,H39<$S74-AP!$E$93),2,0))","v":0},{"$f":"IF(ISBLANK(M15),0,IF(OR(I39>$S74+AP!$E$89,I39<$S74-AP!$E$93),2,0))","v":0}]
[null,null,null,null,null,null,null,null,null,null,null,null,null,null,null,null,null,1.5,{"$f":"$B$16","v":0},{"$f":"IF(ISBLANK(C16),0,IF(OR(D40>$S75+AP!$E$83,D40<$S75-AP!$E$87),2,0))","v":0},{"$f":"IF(ISBLANK(E16),0,IF(OR(E40>$S75+AP!$E$89,E40<$S75-AP!$E$93),2,0))","v":0},{"$f":"IF(ISBLANK(G16),0,IF(OR(F40>$S75+AP!$E$89,F40<$S75-AP!$E$93),2,0))","v":0},{"$f":"IF(ISBLANK(I16),0,IF(OR(G40>$S75+AP!$E$89,G40<$S75-AP!$E$93),2,0))","v":0},{"$f":"IF(ISBLANK(K16),0,IF(OR(H40>$S75+AP!$E$89,H40<$S75-AP!$E$93),2,0))","v":0},{"$f":"IF(ISBLANK(M16),0,IF(OR(I40>$S75+AP!$E$89,I40<$S75-AP!$E$93),2,0))","v":0}]
[null,null,null,null,null,null,null,null,null,null,null,null,null,null,null,null,null,1,{"$f":"$B$17","v":0},{"$f":"IF(ISBLANK(C17),0,IF(OR(D41>$S76+AP!$E$83,D41<$S76-AP!$E$87),2,0))","v":0},{"$f":"IF(ISBLANK(E17),0,IF(OR(E41>$S76+AP!$E$89,E41<$S76-AP!$E$93),2,0))","v":0},{"$f":"IF(ISBLANK(G17),0,IF(OR(F41>$S76+AP!$E$89,F41<$S76-AP!$E$93),2,0))","v":0},{"$f":"IF(ISBLANK(I17),0,IF(OR(G41>$S76+AP!$E$89,G41<$S76-AP!$E$93),2,0))","v":0},{"$f":"IF(ISBLANK(K17),0,IF(OR(H41>$S76+AP!$E$89,H41<$S76-AP!$E$93),2,0))","v":0},{"$f":"IF(ISBLANK(M17),0,IF(OR(I41>$S76+AP!$E$89,I41<$S76-AP!$E$93),2,0))","v":0}]
[null,null,null,null,null,null,null,null,null,null,null,null,null,null,null,null,null,0.75,{"$f":"$B$18","v":0},{"$f":"IF(ISBLANK(C18),0,IF(OR(D42>$S77+AP!$E$83,D42<$S77-AP!$E$87),2,0))","v":0},{"$f":"IF(ISBLANK(E18),0,IF(OR(E42>$S77+AP!$E$89,E42<$S77-AP!$E$93),2,0))","v":0},{"$f":"IF(ISBLANK(G18),0,IF(OR(F42>$S77+AP!$E$89,F42<$S77-AP!$E$93),2,0))","v":0},{"$f":"IF(ISBLANK(I18),0,IF(OR(G42>$S77+AP!$E$89,G42<$S77-AP!$E$93),2,0))","v":0},{"$f":"IF(ISBLANK(K18),0,IF(OR(H42>$S77+AP!$E$89,H42<$S77-AP!$E$93),2,0))","v":0},{"$f":"IF(ISBLANK(M18),0,IF(OR(I42>$S77+AP!$E$89,I42<$S77-AP!$E$93),2,0))","v":0}]
[null,null,null,null,null,null,null,null,null,null,null,null,null,null,null,null,null,0.5,{"$f":"$B$19","v":0},{"$f":"IF(ISBLANK(C19),0,IF(OR(D43>$S78+AP!$E$83,D43<$S78-AP!$E$87),2,0))","v":0},{"$f":"IF(ISBLANK(E19),0,IF(OR(E43>$S78+AP!$E$89,E43<$S78-AP!$E$93),2,0))","v":0},{"$f":"IF(ISBLANK(G19),0,IF(OR(F43>$S78+AP!$E$89,F43<$S78-AP!$E$93),2,0))","v":0},{"$f":"IF(ISBLANK(I19),0,IF(OR(G43>$S78+AP!$E$89,G43<$S78-AP!$E$93),2,0))","v":0},{"$f":"IF(ISBLANK(K19),0,IF(OR(H43>$S78+AP!$E$89,H43<$S78-AP!$E$93),2,0))","v":0},{"$f":"IF(ISBLANK(M19),0,IF(OR(I43>$S78+AP!$E$89,I43<$S78-AP!$E$93),2,0))","v":0}]
[null,null,null,null,null,null,null,null,null,null,null,null,null,null,null,null,null,0.375,{"$f":"$B$20","v":0},{"$f":"IF(OR(D44>$S79+AP!$E$59,D44<$S79-AP!$E$63),2,0)","v":{"$error":"#N/A"}},{"$f":"IF(OR(E44>$S79+AP!$E$59,E44<$S79-AP!$E$63),2,0)","v":{"$error":"#N/A"}},{"$f":"IF(OR(F44>$S79+AP!$E$59,F44<$S79-AP!$E$63),2,0)","v":{"$error":"#N/A"}},{"$f":"IF(OR(G44>$S79+AP!$E$59,G44<$S79-AP!$E$63),2,0)","v":{"$error":"#N/A"}},{"$f":"IF(OR(H44>$S79+AP!$E$59,H44<$S79-AP!$E$63),2,0)","v":{"$error":"#N/A"}},{"$f":"IF(OR(I44>$S79+AP!$E$59,I44<$S79-AP!$E$63),2,0)","v":{"$error":"#N/A"}}]
[null,null,null,null,null,null,null,null,null,null,null,null,null,null,null,null,null,4,{"$f":"$B$21","v":0},{"$f":"IF(OR(D45>$S80+AP!$E$53,D45<$S80-AP!$E$57),2,0)","v":{"$error":"#N/A"}},{"$f":"IF(OR(E45>$S80+AP!$E$53,E45<$S80-AP!$E$57),2,0)","v":{"$error":"#N/A"}},{"$f":"IF(OR(F45>$S80+AP!$E$53,F45<$S80-AP!$E$57),2,0)","v":{"$error":"#N/A"}},{"$f":"IF(OR(G45>$S80+AP!$E$53,G45<$S80-AP!$E$57),2,0)","v":{"$error":"#N/A"}},{"$f":"IF(OR(H45>$S80+AP!$E$53,H45<$S80-AP!$E$57),2,0)","v":{"$error":"#N/A"}},{"$f":"IF(OR(I45>$S80+AP!$E$53,I45<$S80-AP!$E$57),2,0)","v":{"$error":"#N/A"}}]
[null,null,null,null,null,null,null,null,null,null,null,null,null,null,null,null,null,8,{"$f":"$B$22","v":0},{"$f":"IF(OR(D46>$S81+AP!$E$46,D46<$S81-AP!$E$50),2,0)","v":{"$error":"#N/A"}},{"$f":"IF(OR(E46>$S81+AP!$E$46,E46<$S81-AP!$E$50),2,0)","v":{"$error":"#N/A"}},{"$f":"IF(OR(F46>$S81+AP!$E$46,F46<$S81-AP!$E$50),2,0)","v":{"$error":"#N/A"}},{"$f":"IF(OR(G46>$S81+AP!$E$46,G46<$S81-AP!$E$50),2,0)","v":{"$error":"#N/A"}},{"$f":"IF(OR(H46>$S81+AP!$E$46,H46<$S81-AP!$E$50),2,0)","v":{"$error":"#N/A"}},{"$f":"IF(OR(I46>$S81+AP!$E$46,I46<$S81-AP!$E$50),2,0)","v":{"$error":"#N/A"}}]
[null,null,null,null,null,null,null,null,null,null,null,null,null,null,null,null,null,16,{"$f":"$B$23","v":0},{"$f":"IF(OR(D47>$S82+AP!$E$39,D47<$S82-AP!$E$43),2,0)","v":{"$error":"#N/A"}},{"$f":"IF(OR(E47>$S82+AP!$E$39,E47<$S82-AP!$E$43),2,0)","v":{"$error":"#N/A"}},{"$f":"IF(OR(F47>$S82+AP!$E$39,F47<$S82-AP!$E$43),2,0)","v":{"$error":"#N/A"}},{"$f":"IF(OR(G47>$S82+AP!$E$39,G47<$S82-AP!$E$43),2,0)","v":{"$error":"#N/A"}},{"$f":"IF(OR(H47>$S82+AP!$E$39,H47<$S82-AP!$E$43),2,0)","v":{"$error":"#N/A"}},{"$f":"IF(OR(I47>$S82+AP!$E$39,I47<$S82-AP!$E$43),2,0)","v":{"$error":"#N/A"}}]
[null,null,null,null,null,null,null,null,null,null,null,null,null,null,null,null,null,30,{"$f":"$B$24","v":0},{"$f":"IF(OR(D48>$S83+AP!$E$33,D48<$S83-AP!$E$37),2,0)","v":{"$error":"#N/A"}},{"$f":"IF(OR(E48>$S83+AP!$E$33,E48<$S83-AP!$E$37),2,0)","v":{"$error":"#N/A"}},{"$f":"IF(OR(F48>$S83+AP!$E$33,F48<$S83-AP!$E$37),2,0)","v":{"$error":"#N/A"}},{"$f":"IF(OR(G48>$S83+AP!$E$33,G48<$S83-AP!$E$37),2,0)","v":{"$error":"#N/A"}},{"$f":"IF(OR(H48>$S83+AP!$E$33,H48<$S83-AP!$E$37),2,0)","v":{"$error":"#N/A"}},{"$f":"IF(OR(I48>$S83+AP!$E$33,I48<$S83-AP!$E$37),2,0)","v":{"$error":"#N/A"}}]
[null,null,null,null,null,null,null,null,null,null,null,null,null,null,null,null,null,50,{"$f":"$B$25","v":0},{"$f":"IF(OR(D49>$S84+AP!$E$27,D49<$S84-AP!$E$31),2,0)","v":{"$error":"#N/A"}},{"$f":"IF(OR(E49>$S84+AP!$E$27,E49<$S84-AP!$E$31),2,0)","v":{"$error":"#N/A"}},{"$f":"IF(OR(F49>$S84+AP!$E$27,F49<$S84-AP!$E$31),2,0)","v":{"$error":"#N/A"}},{"$f":"IF(OR(G49>$S84+AP!$E$27,G49<$S84-AP!$E$31),2,0)","v":{"$error":"#N/A"}},{"$f":"IF(OR(H49>$S84+AP!$E$27,H49<$S84-AP!$E$31),2,0)","v":{"$error":"#N/A"}},{"$f":"IF(OR(I49>$S84+AP!$E$27,I49<$S84-AP!$E$31),2,0)","v":{"$error":"#N/A"}}]
[null,null,null,null,null,null,null,null,null,null,null,null,null,null,null,null,null,100,{"$f":"$B$26","v":0},{"$f":"IF(OR(D50>$S85+AP!$E$21,D50<$S85-AP!$E$25),2,0)","v":{"$error":"#N/A"}},{"$f":"IF(OR(E50>$S85+AP!$E$21,E50<$S85-AP!$E$25),2,0)","v":{"$error":"#N/A"}},{"$f":"IF(OR(F50>$S85+AP!$E$21,F50<$S85-AP!$E$25),2,0)","v":{"$error":"#N/A"}},{"$f":"IF(OR(G50>$S85+AP!$E$21,G50<$S85-AP!$E$25),2,0)","v":{"$error":"#N/A"}},{"$f":"IF(OR(H50>$S85+AP!$E$21,H50<$S85-AP!$E$25),2,0)","v":{"$error":"#N/A"}},{"$f":"IF(OR(I50>$S85+AP!$E$21,I50<$S85-AP!$E$25),2,0)","v":{"$error":"#N/A"}}]
[null,null,null,null,null,null,null,null,null,null,null,null,null,null,null,null,null,200,{"$f":"$B$27","v":0},{"$f":"IF(OR(D51>$S86+AP!$E$14,D51<$S86-AP!$E$18),2,0)","v":{"$error":"#N/A"}},{"$f":"IF(OR(E51>$S86+AP!$E$14,E51<$S86-AP!$E$18),2,0)","v":{"$error":"#N/A"}},{"$f":"IF(OR(F51>$S86+AP!$E$14,F51<$S86-AP!$E$18),2,0)","v":{"$error":"#N/A"}},{"$f":"IF(OR(G51>$S86+AP!$E$14,G51<$S86-AP!$E$18),2,0)","v":{"$error":"#N/A"}},{"$f":"IF(OR(H51>$S86+AP!$E$14,H51<$S86-AP!$E$18),2,0)","v":{"$error":"#N/A"}},{"$f":"IF(OR(I51>$S86+AP!$E$14,I51<$S86-AP!$E$18),2,0)","v":{"$error":"#N/A"}}]
[null,null,null,null,null,null,null,null,null,null,null,null,null,null,null,null,null,"%AC",{"$f":"$B$28","v":0},{"$f":"IF(OR(D52>AP!$L$6,D52<AP!$L$10),2,0)","v":{"$error":"#N/A"}},{"$f":"IF(OR(E52>AP!$L$6,E52<AP!$L$10),2,0)","v":{"$error":"#N/A"}},{"$f":"IF(OR(F52>AP!$L$6,F52<AP!$L$10),2,0)","v":{"$error":"#N/A"}},{"$f":"IF(OR(G52>AP!$L$6,G52<AP!$L$10),2,0)","v":{"$error":"#N/A"}},{"$f":"IF(OR(H52>AP!$L$6,H52<AP!$L$10),2,0)","v":{"$error":"#N/A"}},{"$f":"IF(OR(I52>AP!$L$6,I52<AP!$L$10),2,0)","v":{"$error":"#N/A"}}]
[null,null,null,null,null,null,null,null,null,null,null,null,null,null,null,null,null,null,"Max",{"$f":"MAX(T74:T87)","v":{"$error":"#N/A"}},{"$error":"#N/A"},{"$error":"#N/A"},{"$error":"#N/A"},{"$error":"#N/A"},{"$error":"#N/A"}]
[]
[null,null,null,null,null,null,null,null,null,null,null,null,null,null,null,null,null,null,"Single sample flag"]
[null,null,null,null,null,null,null,null,null,null,null,null,null,null,null,null,null,8,{"$f":"$B$22","v":0},{"$f":"IF(OR($D$22>$S91+AP!$E$45,$D$22<$S91-AP!$E$51),3,0)","v":3},{"$f":"IF(OR($F$22>$S91+AP!$E$45,$F$22<$S91-AP!$E$51),3,0)","v":3},{"$f":"IF(OR($H$22>$S91+AP!$E$45,$H$22<$S91-AP!$E$51),3,0)","v":3},{"$f":"IF(OR($J$22>$S91+AP!$E$45,$J$22<$S91-AP!$E$51),3,0)","v":3},{"$f":"IF(OR($L$22>$S91+AP!$E$45,$L$22<$S91-AP!$E$51),3,0)","v":3},{"$f":"IF(OR($N$22>$S91+AP!$E$45,$N$22<$S91-AP!$E$51),3,0)","v":3}]
[null,null,null,null,null,null,null,null,null,null,null,null,null,null,null,null,null,200,{"$f":"$B$27","v":0},{"$f":"IF(OR($D$27>$S92+AP!$E$13,$D$27<$S92-AP!$E$19),3,0)","v":3},{"$f":"IF(OR($F$27>$S92+AP!$E$13,$F$27<$S92-AP!$E$19),3,0)","v":3},{"$f":"IF(OR($H$27>$S92+AP!$E$13,$H$27<$S92-AP!$E$19),3,0)","v":3},{"$f":"IF(OR($J$27>$S92+AP!$E$13,$J$27<$S92-AP!$E$19),3,0)","v":3},{"$f":"IF(OR($L$27>$S92+AP!$E$13,$L$27<$S92-AP!$E$19),3,0)","v":3},{"$f":"IF(OR($N$27>$S92+AP!$E$13,$N$27<$S92-AP!$E$19),3,0)","v":3}]
[null,null,null,null,null,null,null,null,null,null,null,null,null,null,null,null,null,"%AC",{"$f":"$B$28","v":0},{"$f":"IF(OR($C$28>AP!$L$5,$C$28<AP!$L$11),3,0)","v":0},{"$f":"IF(OR($E$28>AP!$L$5,$E$28<AP!$L$11),3,0)","v":0},{"$f":"IF(OR($G$28>AP!$L$5,$G$28<AP!$L$11),3,0)","v":0},{"$f":"IF(OR($I$28>AP!$L$5,$I$28<AP!$L$11),3,0)","v":0},{"$f":"IF(OR($K$28>AP!$L$5,$K$28<AP!$L$11),3,0)","v":0},{"$f":"IF(OR($M$28>AP!$L$5,$M$28<AP!$L$11),3,0)","v":0}]
[null,null,null,null,null,null,null,null,null,null,null,null,null,null,null,null,null,null,"Max",{"$f":"IF(ISBLANK(C27),\" \",MAX(T91:T93))","v":" "},{"$f":"IF(ISBLANK(E27),\" \",MAX(U91:U93))","v":" "},{"$f":"IF(ISBLANK(G27),\" \",MAX(V91:V93))","v":" "},{"$f":"IF(ISBLANK(I27),\" \",MAX(W91:W93))","v":" "},{"$f":"IF(ISBLANK(K27),\" \",MAX(X91:X93))","v":" "},{"$f":"IF(ISBLANK(M27),\" \",MAX(Y91:Y93))","v":" "}]

{"sheet":"S2","index":1,"n_rows":94,"n_cols":25,"rows_kept":94,"cut":false,"hidden":true,"merged":[[31,10,31,11],[30,2,30,3],[30,4,30,5],[30,6,30,7],[30,8,30,9],[30,10,30,11],[29,4,29,5],[29,6,29,7],[52,0,52,1],[52,2,52,3],[52,4,52,5],[52,6,52,7],[52,8,52,9],[31,2,31,3],[31,4,31,5],[31,6,31,7],[31,8,31,9],[12,4,12,5],[11,8,11,9],[12,8,12,9],[52,10,52,11],[52,12,52,13],[30,12,30,13],[31,12,31,13],[28,0,28,1],[28,2,28,3],[28,4,28,5],[29,12,29,13],[27,12,27,13],[27,10,27,11],[27,8,27,9],[29,8,29,9],[28,6,28,7],[28,12,28,13],[28,8,28,9],[28,10,28,11],[37,0,37,2],[37,9,37,10],[37,3,37,8],[29,0,31,0],[29,2,29,3],[5,5,5,8],[8,6,8,7],[0,0,3,1],[5,0,5,1],[7,0,7,2],[10,4,10,5],[9,4,9,5],[9,8,9,9],[9,6,9,7],[10,6,10,7],[8,0,8,1],[8,2,8,3],[9,0,9,1],[9,2,9,3],[8,4,8,5],[8,8,8,9],[10,0,10,1],[10,2,10,3],[10,8,10,9],[5,10,5,11],[6,10,6,11],[1,12,1,13],[2,10,2,11],[2,12,2,13],[1,10,1,11],[8,12,8,13],[8,10,8,11],[5,12,5,13],[6,12,6,13],[55,18,55,24],[72,18,72,24],[89,18,89,24],[53,0,68,1],[6,5,7,8],[11,0,11,1],[11,2,11,3],[11,4,11,5],[12,0,12,1],[27,2,27,3],[12,2,12,3],[27,4,27,5],[11,12,11,13],[12,12,12,13],[12,10,12,11],[11,10,11,11],[27,6,27,7],[11,6,11,7],[12,6,12,7],[10,12,10,13],[10,10,10,11],[9,12,9,13],[9,10,9,11],[29,10,29,11],[53,6,58,7],[53,4,58,5],[53,2,58,3],[59,12,68,13],[59,10,68,11],[59,8,68,9],[59,6,68,7],[59,4,68,5],[59,2,68,3],[53,12,58,13],[53,10,58,11],[53,8,58,9]]}
[]
[null,null,null,null,"COMMONWEALTH OF PENNSYLVANIA",null,null,null,null,null,"DISTRICT",null,{"$f":"IF(ISBLANK('S1'!M2),\" \",('S1'!M2))","v":" "}]
[null,null,null,null,"DEPARTMENT OF TRANSPORTATION",null,null,null,null,null,"PLANT CODE",null,{"$f":"IF(ISBLANK('S1'!M3),\" \",('S1'!M3))","v":" "}]
[null,null,null,null,"LABORATORY TEST SECTION"]
[{"$f":"'S1'!A5","v":"ESB-16"}]
["Material Class ",null,{"$f":"IF(ISBLANK('S1'!C6),\" \",('S1'!C6))","v":9.5},"mm",null,"Burnoff Results",null,null,null,null,"Design No.",null,{"$f":"IF(ISBLANK('S1'!M6),\" \",('S1'!M6))","v":" "}]
[null,null,null,null,null,"Red values indicate action area, single and multiple sample deviations",null,null,null,null,"Gyrations @ Ndes",null,{"$f":"IF(ISBLANK('S1'!M7),\" \",'S1'!M7)","v":" "}]
["-200 Correction Factor (+ or -)",null,null,{"$f":"IF(ISBLANK('S1'!D8),\" \",('S1'!D8))","v":" "}]
["Sample No."]
["Date"]
["St. Wt. Before Wash"]
["Dry Wt. After Wash"]
["Wt. Loss",null,{"$f":"IF(ISBLANK(C11),\" \",IF(ISBLANK(C12),\" \",C11-C12))","v":" "},null,{"$f":"IF(ISBLANK(E11),\" \",IF(ISBLANK(E12),\" \",E11-E12))","v":" "},null,{"$f":"IF(ISBLANK(G11),\" \",IF(ISBLANK(G12),\" \",G11-G12))","v":" "},null,{"$f":"IF(ISBLANK(I11),\" \",IF(ISBLANK(I12),\" \",I11-I12))","v":" "},null,{"$f":"IF(ISBLANK(K11),\" \",IF(ISBLANK(K12),\" \",K11-K12))","v":" "},null,{"$f":"IF(ISBLANK(M11),\" \",IF(ISBLANK(M12),\" \",M11-M12))","v":" "}]
["Size","JMF","Weight","%Passing","Weight","%Passing","Weight","%Passing","Weight","%Pasing","Weight","%Pasing","Weight","%Pasing"]
[2,{"$f":"IF(ISBLANK('S1'!B15),\" \",'S1'!B15)","v":" "},null,{"$f":"IF(ISBLANK(C11),\" \",IF(ISBLANK(C12),\" \",IF(ISBLANK(C15),\" \",ROUND((C15+C13)/C11*100,0))))","v":" "},null,{"$f":"IF(ISBLANK(E11),\" \",IF(ISBLANK(E12),\" \",IF(ISBLANK(E15),\" \",ROUND((E15+E13)/E11*100,0))))","v":" "},null,{"$f":"IF(ISBLANK(G11),\" \",IF(ISBLANK(G12),\" \",IF(ISBLANK(G15),\" \",ROUND((G15+G13)/G11*100,0))))","v":" "},null,{"$f":"IF(ISBLANK(I11),\" \",IF(ISBLANK(I12),\" \",IF(ISBLANK(I15),\" \",ROUND((I15+I13)/I11*100,0))))","v":" "},null,{"$f":"IF(ISBLANK(K11),\" \",IF(ISBLANK(K12),\" \",IF(ISBLANK(K15),\" \",ROUND((K15+K13)/K11*100,0))))","v":" "},null,{"$f":"IF(ISBLANK(M11),\" \",IF(ISBLANK(M12),\" \",IF(ISBLANK(M15),\" \",ROUND((M15+M13)/M11*100,0))))","v":" "}]
[1.5,{"$f":"IF(ISBLANK('S1'!B16),\" \",'S1'!B16)","v":" "},null,{"$f":"IF(ISBLANK(C11),\"  \",IF(ISBLANK(C12),\" \",IF(ISBLANK(C16),\" \",ROUND((C16+C13)/C11*100,0))))","v":"  "},null,{"$f":"IF(ISBLANK(E11),\"  \",IF(ISBLANK(E12),\" \",IF(ISBLANK(E16),\" \",ROUND((E16+E13)/E11*100,0))))","v":"  "},null,{"$f":"IF(ISBLANK(G11),\"  \",IF(ISBLANK(G12),\" \",IF(ISBLANK(G16),\" \",ROUND((G16+G13)/G11*100,0))))","v":"  "},null,{"$f":"IF(ISBLANK(I11),\"  \",IF(ISBLANK(I12),\" \",IF(ISBLANK(I16),\" \",ROUND((I16+I13)/I11*100,0))))","v":"  "},null,{"$f":"IF(ISBLANK(K11),\"  \",IF(ISBLANK(K12),\" \",IF(ISBLANK(K16),\" \",ROUND((K16+K13)/K11*100,0))))","v":"  "},null,{"$f":"IF(ISBLANK(M11),\"  \",IF(ISBLANK(M12),\" \",IF(ISBLANK(M16),\" \",ROUND((M16+M13)/M11*100,0))))","v":"  "}]
[1,{"$f":"IF(ISBLANK('S1'!B17),\" \",'S1'!B17)","v":" "},null,{"$f":"IF(ISBLANK(C11),\"  \",IF(ISBLANK(C12),\" \",IF(ISBLANK(C17),\" \",ROUND((C17+C13)/C11*100,0))))","v":"  "},null,{"$f":"IF(ISBLANK(E11),\"  \",IF(ISBLANK(E12),\" \",IF(ISBLANK(E17),\" \",ROUND((E17+E13)/E11*100,0))))","v":"  "},null,{"$f":"IF(ISBLANK(G11),\"  \",IF(ISBLANK(G12),\" \",IF(ISBLANK(G17),\" \",ROUND((G17+G13)/G11*100,0))))","v":"  "},null,{"$f":"IF(ISBLANK(I11),\"  \",IF(ISBLANK(I12),\" \",IF(ISBLANK(I17),\" \",ROUND((I17+I13)/I11*100,0))))","v":"  "},null,{"$f":"IF(ISBLANK(K11),\"  \",IF(ISBLANK(K12),\" \",IF(ISBLANK(K17),\" \",ROUND((K17+K13)/K11*100,0))))","v":"  "},null,{"$f":"IF(ISBLANK(M11),\"  \",IF(ISBLANK(M12),\" \",IF(ISBLANK(M17),\" \",ROUND((M17+M13)/M11*100,0))))","v":"  "}]
[0.75,{"$f":"IF(ISBLANK('S1'!B18),\" \",'S1'!B18)","v":" "},null,{"$f":"IF(ISBLANK(C11),\"  \",IF(ISBLANK(C12),\" \",IF(ISBLANK(C18),\" \",ROUND((C18+C13)/C11*100,0))))","v":"  "},null,{"$f":"IF(ISBLANK(E11),\"  \",IF(ISBLANK(E12),\" \",IF(ISBLANK(E18),\" \",ROUND((E18+E13)/E11*100,0))))","v":"  "},null,{"$f":"IF(ISBLANK(G11),\"  \",IF(ISBLANK(G12),\" \",IF(ISBLANK(G18),\" \",ROUND((G18+G13)/G11*100,0))))","v":"  "},null,{"$f":"IF(ISBLANK(I11),\"  \",IF(ISBLANK(I12),\" \",IF(ISBLANK(I18),\" \",ROUND((I18+I13)/I11*100,0))))","v":"  "},null,{"$f":"IF(ISBLANK(K11),\"  \",IF(ISBLANK(K12),\" \",IF(ISBLANK(K18),\" \",ROUND((K18+K13)/K11*100,0))))","v":"  "},null,{"$f":"IF(ISBLANK(M11),\"  \",IF(ISBLANK(M12),\" \",IF(ISBLANK(M18),\" \",ROUND((M18+M13)/M11*100,0))))","v":"  "}]
[0.5,{"$f":"IF(ISBLANK('S1'!B19),\" \",'S1'!B19)","v":" "},null,{"$f":"IF(ISBLANK(C11),\"  \",IF(ISBLANK(C12),\" \",IF(ISBLANK(C19),\" \",ROUND((C19+C13)/C11*100,0))))","v":"  "},null,{"$f":"IF(ISBLANK(E11),\"  \",IF(ISBLANK(E12),\" \",IF(ISBLANK(E19),\" \",ROUND((E19+E13)/E11*100,0))))","v":"  "},null,{"$f":"IF(ISBLANK(G11),\"  \",IF(ISBLANK(G12),\" \",IF(ISBLANK(G19),\" \",ROUND((G19+G13)/G11*100,0))))","v":"  "},null,{"$f":"IF(ISBLANK(I11),\"  \",IF(ISBLANK(I12),\" \",IF(ISBLANK(I19),\" \",ROUND((I19+I13)/I11*100,0))))","v":"  "},null,{"$f":"IF(ISBLANK(K11),\"  \",IF(ISBLANK(K12),\" \",IF(ISBLANK(K19),\" \",ROUND((K19+K13)/K11*100,0))))","v":"  "},null,{"$f":"IF(ISBLANK(M11),\"  \",IF(ISBLANK(M12),\" \",IF(ISBLANK(M19),\" \",ROUND((M19+M13)/M11*100,0))))","v":"  "}]
[0.375,{"$f":"IF(ISBLANK('S1'!B20),\" \",'S1'!B20)","v":" "},null,{"$f":"IF(ISBLANK(C11),\"  \",IF(ISBLANK(C12),\" \",IF(ISBLANK(C20),\" \",ROUND((C20+C13)/C11*100,0))))","v":"  "},null,{"$f":"IF(ISBLANK(E11),\"  \",IF(ISBLANK(E12),\" \",IF(ISBLANK(E20),\" \",ROUND((E20+E13)/E11*100,0))))","v":"  "},null,{"$f":"IF(ISBLANK(G11),\"  \",IF(ISBLANK(G12),\" \",IF(ISBLANK(G20),\" \",ROUND((G20+G13)/G11*100,0))))","v":"  "},null,{"$f":"IF(ISBLANK(I11),\"  \",IF(ISBLANK(I12),\" \",IF(ISBLANK(I20),\" \",ROUND((I20+I13)/I11*100,0))))","v":"  "},null,{"$f":"IF(ISBLANK(K11),\"  \",IF(ISBLANK(K12),\" \",IF(ISBLANK(K20),\" \",ROUND((K20+K13)/K11*100,0))))","v":"  "},null,{"$f":"IF(ISBLANK(M11),\"  \",IF(ISBLANK(M12),\" \",IF(ISBLANK(M20),\" \",ROUND((M20+M13)/M11*100,0))))","v":"  "}]
[4,{"$f":"IF(ISBLANK('S1'!B21),\" \",'S1'!B21)","v":" "},null,{"$f":"IF(ISBLANK(C11),\"  \",IF(ISBLANK(C12),\" \",IF(ISBLANK(C21),\" \",ROUND((C21+C13)/C11*100,0))))","v":"  "},null,{"$f":"IF(ISBLANK(E11),\"  \",IF(ISBLANK(E12),\" \",IF(ISBLANK(E21),\" \",ROUND((E21+E13)/E11*100,0))))","v":"  "},null,{"$f":"IF(ISBLANK(G11),\"  \",IF(ISBLANK(G12),\" \",IF(ISBLANK(G21),\" \",ROUND((G21+G13)/G11*100,0))))","v":"  "},null,{"$f":"IF(ISBLANK(I11),\"  \",IF(ISBLANK(I12),\" \",IF(ISBLANK(I21),\" \",ROUND((I21+I13)/I11*100,0))))","v":"  "},null,{"$f":"IF(ISBLANK(K11),\"  \",IF(ISBLANK(K12),\" \",IF(ISBLANK(K21),\" \",ROUND((K21+K13)/K11*100,0))))","v":"  "},null,{"$f":"IF(ISBLANK(M11),\"  \",IF(ISBLANK(M12),\" \",IF(ISBLANK(M21),\" \",ROUND((M21+M13)/M11*100,0))))","v":"  "}]
[8,{"$f":"IF(ISBLANK('S1'!B22),\" \",'S1'!B22)","v":" "},null,{"$f":"IF(ISBLANK(C11),\"  \",IF(ISBLANK(C12),\" \",IF(ISBLANK(C22),\" \",ROUND((C22+C13)/C11*100,0))))","v":"  "},null,{"$f":"IF(ISBLANK(E11),\"  \",IF(ISBLANK(E12),\" \",IF(ISBLANK(E22),\" \",ROUND((E22+E13)/E11*100,0))))","v":"  "},null,{"$f":"IF(ISBLANK(G11),\"  \",IF(ISBLANK(G12),\" \",IF(ISBLANK(G22),\" \",ROUND((G22+G13)/G11*100,0))))","v":"  "},null,{"$f":"IF(ISBLANK(I11),\"  \",IF(ISBLANK(I12),\" \",IF(ISBLANK(I22),\" \",ROUND((I22+I13)/I11*100,0))))","v":"  "},null,{"$f":"IF(ISBLANK(K11),\"  \",IF(ISBLANK(K12),\" \",IF(ISBLANK(K22),\" \",ROUND((K22+K13)/K11*100,0))))","v":"  "},null,{"$f":"IF(ISBLANK(M11),\"  \",IF(ISBLANK(M12),\" \",IF(ISBLANK(M22),\" \",ROUND((M22+M13)/M11*100,0))))","v":"  "}]
[16,{"$f":"IF(ISBLANK('S1'!B23),\" \",'S1'!B23)","v":" "},null,{"$f":"IF(ISBLANK(C11),\"  \",IF(ISBLANK(C12),\" \",IF(ISBLANK(C23),\" \",ROUND((C23+C13)/C11*100,0))))","v":"  "},null,{"$f":"IF(ISBLANK(E11),\"  \",IF(ISBLANK(E12),\" \",IF(ISBLANK(E23),\" \",ROUND((E23+E13)/E11*100,0))))","v":"  "},null,{"$f":"IF(ISBLANK(G11),\"  \",IF(ISBLANK(G12),\" \",IF(ISBLANK(G23),\" \",ROUND((G23+G13)/G11*100,0))))","v":"  "},null,{"$f":"IF(ISBLANK(I11),\"  \",IF(ISBLANK(I12),\" \",IF(ISBLANK(I23),\" \",ROUND((I23+I13)/I11*100,0))))","v":"  "},null,{"$f":"IF(ISBLANK(K11),\"  \",IF(ISBLANK(K12),\" \",IF(ISBLANK(K23),\" \",ROUND((K23+K13)/K11*100,0))))","v":"  "},null,{"$f":"IF(ISBLANK(M11),\"  \",IF(ISBLANK(M12),\" \",IF(ISBLANK(M23),\" \",ROUND((M23+M13)/M11*100,0))))","v":"  "}]
[30,{"$f":"IF(ISBLANK('S1'!B24),\" \",'S1'!B24)","v":" "},null,{"$f":"IF(ISBLANK(C11),\"  \",IF(ISBLANK(C12),\" \",IF(ISBLANK(C24),\" \",ROUND((C24+C13)/C11*100,0))))","v":"  "},null,{"$f":"IF(ISBLANK(E11),\"  \",IF(ISBLANK(E12),\" \",IF(ISBLANK(E24),\" \",ROUND((E24+E13)/E11*100,0))))","v":"  "},null,{"$f":"IF(ISBLANK(G11),\"  \",IF(ISBLANK(G12),\" \",IF(ISBLANK(G24),\" \",ROUND((G24+G13)/G11*100,0))))","v":"  "},null,{"$f":"IF(ISBLANK(I11),\"  \",IF(ISBLANK(I12),\" \",IF(ISBLANK(I24),\" \",ROUND((I24+I13)/I11*100,0))))","v":"  "},null,{"$f":"IF(ISBLANK(K11),\"  \",IF(ISBLANK(K12),\" \",IF(ISBLANK(K24),\" \",ROUND((K24+K13)/K11*100,0))))","v":"  "},null,{"$f":"IF(ISBLANK(M11),\"  \",IF(ISBLANK(M12),\" \",IF(ISBLANK(M24),\" \",ROUND((M24+M13)/M11*100,0))))","v":"  "}]
[50,{"$f":"IF(ISBLANK('S1'!B25),\" \",'S1'!B25)","v":" "},null,{"$f":"IF(ISBLANK(C11),\"  \",IF(ISBLANK(C12),\" \",IF(ISBLANK(C25),\" \",ROUND((C25+C13)/C11*100,0))))","v":"  "},null,{"$f":"IF(ISBLANK(E11),\"  \",IF(ISBLANK(E12),\" \",IF(ISBLANK(E25),\" \",ROUND((E25+E13)/E11*100,0))))","v":"  "},null,{"$f":"IF(ISBLANK(G11),\"  \",IF(ISBLANK(G12),\" \",IF(ISBLANK(G25),\" \",ROUND((G25+G13)/G11*100,0))))","v":"  "},null,{"$f":"IF(ISBLANK(I11),\"  \",IF(ISBLANK(I12),\" \",IF(ISBLANK(I25),\" \",ROUND((I25+I13)/I11*100,0))))","v":"  "},null,{"$f":"IF(ISBLANK(K11),\"  \",IF(ISBLANK(K12),\" \",IF(ISBLANK(K25),\" \",ROUND((K25+K13)/K11*100,0))))","v":"  "},null,{"$f":"IF(ISBLANK(M11),\"  \",IF(ISBLANK(M12),\" \",IF(ISBLANK(M25),\" \",ROUND((M25+M13)/M11*100,0))))","v":"  "}]
[100,{"$f":"IF(ISBLANK('S1'!B26),\" \",'S1'!B26)","v":" "},null,{"$f":"IF(ISBLANK(C11),\"  \",IF(ISBLANK(C12),\" \",IF(ISBLANK(C26),\" \",ROUND((C26+C13)/C11*100,0))))","v":"  "},null,{"$f":"IF(ISBLANK(E11),\"  \",IF(ISBLANK(E12),\" \",IF(ISBLANK(E26),\" \",ROUND((E26+E13)/E11*100,0))))","v":"  "},null,{"$f":"IF(ISBLANK(G11),\"  \",IF(ISBLANK(G12),\" \",IF(ISBLANK(G26),\" \",ROUND((G26+G13)/G11*100,0))))","v":"  "},null,{"$f":"IF(ISBLANK(I11),\"  \",IF(ISBLANK(I12),\" \",IF(ISBLANK(I26),\" \",ROUND((I26+I13)/I11*100,0))))","v":"  "},null,{"$f":"IF(ISBLANK(K11),\"  \",IF(ISBLANK(K12),\" \",IF(ISBLANK(K26),\" \",ROUND((K26+K13)/K11*100,0))))","v":"  "},null,{"$f":"IF(ISBLANK(M11),\"  \",IF(ISBLANK(M12),\" \",IF(ISBLANK(M26),\" \",ROUND((M26+M13)/M11*100,0))))","v":"  "}]
[200,{"$f":"IF(ISBLANK('S1'!B27),\" \",'S1'!B27)","v":" "},null,{"$f":"IF(ISBLANK(C11),\"  \",IF(ISBLANK(C12),\" \",IF(ISBLANK(C27),\" \",ROUND((C27+C13)/C11*100+$D$8,1))))","v":"  "},null,{"$f":"IF(ISBLANK(E11),\"  \",IF(ISBLANK(E12),\" \",IF(ISBLANK(E27),\" \",ROUND((E27+E13)/E11*100+$D$8,1))))","v":"  "},null,{"$f":"IF(ISBLANK(G11),\"  \",IF(ISBLANK(G12),\" \",IF(ISBLANK(G27),\" \",ROUND((G27+G13)/G11*100+$D$8,1))))","v":"  "},null,{"$f":"IF(ISBLANK(I11),\"  \",IF(ISBLANK(I12),\" \",IF(ISBLANK(I27),\" \",ROUND((I27+I13)/I11*100+$D$8,1))))","v":"  "},null,{"$f":"IF(ISBLANK(K11),\"  \",IF(ISBLANK(K12),\" \",IF(ISBLANK(K27),\" \",ROUND((K27+K13)/K11*100+$D$8,1))))","v":"  "},null,{"$f":"IF(ISBLANK(M11),\"  \",IF(ISBLANK(M12),\" \",IF(ISBLANK(M27),\" \",ROUND((M27+M13)/M11*100+$D$8,1))))","v":"  "}]
["%AC",{"$f":"IF(ISBLANK('S1'!B28),\" \",'S1'!B28)","v":" "}]
["Percent Loss / Gain",null,{"$f":"IF(ISBLANK(C12),\"\",IF(ISBLANK(C20),\"\",(C12-C71)/C12*100))","v":""},null,{"$f":"IF(ISBLANK(E12),\"\",IF(ISBLANK(E20),\"\",(E12-E71)/E12*100))","v":""},null,{"$f":"IF(ISBLANK(G12),\"\",IF(ISBLANK(G20),\"\",(G12-G71)/G12*100))","v":""},null,{"$f":"IF(ISBLANK(I12),\"\",IF(ISBLANK(I20),\"\",(I12-I71)/I12*100))","v":""},null,{"$f":"IF(ISBLANK(K12),\"\",IF(ISBLANK(K20),\"\",(K12-K71)/K12*100))","v":""},null,{"$f":"IF(ISBLANK(M12),\"\",IF(ISBLANK(M20),\"\",(M12-M71)/M12*100))","v":""}]
["Apparent Moisture","Orig Wt"]
[null,"Const Wt"]
[null,"% moisture",{"$f":"IF(ISBLANK(C30),\" \",IF(ISBLANK(C31),\" \",((C30-C31)/C31)*100))","v":" "},null,{"$f":"IF(ISBLANK(E30),\" \",IF(ISBLANK(E31),\" \",((E30-E31)/E31)*100))","v":" "},null,{"$f":"IF(ISBLANK(G30),\" \",IF(ISBLANK(G31),\" \",((G30-G31)/G31)*100))","v":" "},null,{"$f":"IF(ISBLANK(I30),\" \",IF(ISBLANK(I31),\" \",((I30-I31)/I31)*100))","v":" "},null,{"$f":"IF(ISBLANK(K30),\" \",IF(ISBLANK(K31),\" \",((K30-K31)/K31)*100))","v":" "},null,{"$f":"IF(ISBLANK(M30),\" \",IF(ISBLANK(M31),\" \",((M30-M31)/M31)*100))","v":" "}]
[]
[]
[]
[]
[]
["Sets up Min and Max for charts",null,null,"Running Avg for Conditional Format",null,null,null,null,null,"AP upper & lower Tolerances"]
["#4",{"$f":"B21-8","v":{"$error":"#VALUE!"}},{"$f":"B21+8","v":{"$error":"#VALUE!"}},{"$f":"'S17'!$AC8","v":{"$error":"#N/A"}},{"$f":"'S17'!$AC9","v":{"$error":"#N/A"}},{"$f":"'S17'!$AC10","v":{"$error":"#N/A"}},{"$f":"'S17'!$AC11","v":{"$error":"#N/A"}},{"$f":"'S17'!$AC12","v":{"$error":"#N/A"}},{"$f":"'S17'!$AC13","v":{"$error":"#N/A"}},{"$f":"AP!E90","v":5},{"$f":"AP!E92","v":5}]
["#8",{"$f":"B22-6","v":{"$error":"#VALUE!"}},{"$f":"B22+6","v":{"$error":"#VALUE!"}},{"$f":"'S17'!$AA8","v":{"$error":"#N/A"}},{"$f":"'S17'!$AA9","v":{"$error":"#N/A"}},{"$f":"'S17'!$AA10","v":{"$error":"#N/A"}},{"$f":"'S17'!$AA11","v":{"$error":"#N/A"}},{"$f":"'S17'!$AA12","v":{"$error":"#N/A"}},{"$f":"'S17'!$AA13","v":{"$error":"#N/A"}},{"$f":"AP!E84","v":5},{"$f":"AP!E86","v":5}]
["#200",{"$f":"B27-2","v":{"$error":"#VALUE!"}},{"$f":"B27+2","v":{"$error":"#VALUE!"}},{"$f":"'S17'!$Y8","v":{"$error":"#N/A"}},{"$f":"'S17'!$Y9","v":{"$error":"#N/A"}},{"$f":"'S17'!$Y10","v":{"$error":"#N/A"}},{"$f":"'S17'!$Y11","v":{"$error":"#N/A"}},{"$f":"'S17'!$Y12","v":{"$error":"#N/A"}},{"$f":"'S17'!$Y13","v":{"$error":"#N/A"}},{"$f":"AP!E78","v":5},{"$f":"AP!E80","v":5}]
["AC",{"$f":"B28-0.4","v":{"$error":"#VALUE!"}},{"$f":"B28+0.4","v":{"$error":"#VALUE!"}},{"$f":"'S17'!$W8","v":{"$error":"#N/A"}},{"$f":"'S17'!$W9","v":{"$error":"#N/A"}},{"$f":"'S17'!$W10","v":{"$error":"#N/A"}},{"$f":"'S17'!$W11","v":{"$error":"#N/A"}},{"$f":"'S17'!$W12","v":{"$error":"#N/A"}},{"$f":"'S17'!$W13","v":{"$error":"#N/A"}},{"$f":"AP!E72","v":5},{"$f":"AP!E74","v":5}]
[null,null,null,{"$f":"'S17'!$U8","v":{"$error":"#N/A"}},{"$f":"'S17'!U9","v":{"$error":"#N/A"}},{"$f":"'S17'!U10","v":{"$error":"#N/A"}},{"$f":"'S17'!U11","v":{"$error":"#N/A"}},{"$f":"'S17'!U12","v":{"$error":"#N/A"}},{"$f":"'S17'!U13","v":{"$error":"#N/A"}},{"$f":"AP!E66","v":5},{"$f":"AP!E68","v":5}]
[null,null,null,{"$f":"'S17'!$S8","v":{"$error":"#N/A"}},{"$f":"'S17'!$S9","v":{"$error":"#N/A"}},{"$f":"'S17'!$S10","v":{"$error":"#N/A"}},{"$f":"'S17'!$S11","v":{"$error":"#N/A"}},{"$f":"'S17'!$S12","v":{"$error":"#N/A"}},{"$f":"'S17'!$S13","v":{"$error":"#N/A"}},{"$f":"AP!E60","v":3},{"$f":"AP!E62","v":3}]
[null,null,null,{"$f":"'S17'!$Q8","v":{"$error":"#N/A"}},{"$f":"'S17'!Q9","v":{"$error":"#N/A"}},{"$f":"'S17'!Q10","v":{"$error":"#N/A"}},{"$f":"'S17'!Q11","v":{"$error":"#N/A"}},{"$f":"'S17'!Q12","v":{"$error":"#N/A"}},{"$f":"'S17'!Q13","v":{"$error":"#N/A"}},{"$f":"AP!E54","v":3},{"$f":"AP!E56","v":3}]
[null,null,null,{"$f":"'S17'!$O8","v":{"$error":"#N/A"}},{"$f":"'S17'!O9","v":{"$error":"#N/A"}},{"$f":"'S17'!O10","v":{"$error":"#N/A"}},{"$f":"'S17'!O11","v":{"$error":"#N/A"}},{"$f":"'S17'!O12","v":{"$error":"#N/A"}},{"$f":"'S17'!O13","v":{"$error":"#N/A"}},{"$f":"AP!E47","v":3},{"$f":"AP!E49","v":3}]
[null,null,null,{"$f":"'S17'!$M8","v":{"$error":"#N/A"}},{"$f":"'S17'!$M9","v":{"$error":"#N/A"}},{"$f":"'S17'!$M10","v":{"$error":"#N/A"}},{"$f":"'S17'!$M11","v":{"$error":"#N/A"}},{"$f":"'S17'!$M12","v":{"$error":"#N/A"}},{"$f":"'S17'!$M13","v":{"$error":"#N/A"}},{"$f":"AP!E40","v":3},{"$f":"AP!E42","v":3}]
[null,null,null,{"$f":"'S17'!$K8","v":{"$error":"#N/A"}},{"$f":"'S17'!$K9","v":{"$error":"#N/A"}},{"$f":"'S17'!$K10","v":{"$error":"#N/A"}},{"$f":"'S17'!$K11","v":{"$error":"#N/A"}},{"$f":"'S17'!$K12","v":{"$error":"#N/A"}},{"$f":"'S17'!$K13","v":{"$error":"#N/A"}},{"$f":"AP!E34","v":3},{"$f":"AP!E36","v":3}]
[null,null,null,{"$f":"'S17'!$I8","v":{"$error":"#N/A"}},{"$f":"'S17'!$I9","v":{"$error":"#N/A"}},{"$f":"'S17'!$I10","v":{"$error":"#N/A"}},{"$f":"'S17'!$I11","v":{"$error":"#N/A"}},{"$f":"'S17'!$I12","v":{"$error":"#N/A"}},{"$f":"'S17'!$I13","v":{"$error":"#N/A"}},{"$f":"AP!E28","v":3},{"$f":"AP!E30","v":3}]
[null,null,null,{"$f":"'S17'!$G8","v":{"$error":"#N/A"}},{"$f":"'S17'!$G9","v":{"$error":"#N/A"}},{"$f":"'S17'!$G10","v":{"$error":"#N/A"}},{"$f":"'S17'!$G11","v":{"$error":"#N/A"}},{"$f":"'S17'!$G12","v":{"$error":"#N/A"}},{"$f":"'S17'!$G13","v":{"$error":"#N/A"}},{"$f":"AP!E22","v":3},{"$f":"AP!E24","v":3}]
[null,null,null,{"$f":"'S17'!E8","v":{"$error":"#N/A"}},{"$f":"'S17'!E9","v":{"$error":"#N/A"}},{"$f":"'S17'!E10","v":{"$error":"#N/A"}},{"$f":"'S17'!E11","v":{"$error":"#N/A"}},{"$f":"'S17'!E12","v":{"$error":"#N/A"}},{"$f":"'S17'!E13","v":{"$error":"#N/A"}},{"$f":"AP!E15","v":1},{"$f":"AP!E17","v":1}]
[null,null,null,{"$f":"ROUND('S17'!C8,1)","v":{"$error":"#N/A"}},{"$f":"ROUND('S17'!C9,1)","v":{"$error":"#N/A"}},{"$f":"ROUND('S17'!C10,1)","v":{"$error":"#N/A"}},{"$f":"ROUND('S17'!C11,1)","v":{"$error":"#N/A"}},{"$f":"ROUND('S17'!C12,1)","v":{"$error":"#N/A"}},{"$f":"ROUND('S17'!C13,1)","v":{"$error":"#N/A"}},{"$f":"AP!E7","v":0.2},{"$f":"AP!E9","v":0.2}]
["Tested By"]
["Remarks",null,{"$f":"IF(AND(T94=3,'S1'!M54=\"Single sample deviation, resample within 150 tons. Document corrective action\"),\"Deviation on 150 ton sample, suspend production of JMF\",IF(AND(T88=2,'S1'!M54=\"Multiple sample deviation, resample within 150 tons. Document corrective action\"),\"Deviation on 150 ton sample, suspend production of JMF\",IF(AND(T88=2,'S1'!M54=\"Single sample deviation, resample within 150 tons. Document corrective action\"),\"Deviation on 150 ton sample, suspend production of JMF\",IF(T94=3,\"Single sample deviation, resample within 150 tons. Document corrective action\",IF(T88=2,\"Multiple sample deviation, resample within 150 tons. Document corrective action\",IF(T71=1,\"Action area, document corrective action\",\" \"))))))","v":{"$error":"#N/A"}},null,{"$f":"IF(AND(U94=3,C54=\"Single sample deviation, resample within 150 tons. Document corrective action\"),\"Deviation on 150 ton sample, suspend production of JMF\",IF(AND(U88=2,C54=\"Multiple sample deviation, resample within 150 tons. Document corrective action\"),\"Deviation on 150 ton sample, suspend production of JMF\",IF(AND(U88=2,C54=\"Single sample deviation, resample within 150 tons. Document corrective action\"),\"Deviation on 150 ton sample, suspend production of JMF\",IF(U94=3,\"Single sample deviation, resample within 150 tons. Document corrective action\",IF(U88=2,\"Multiple sample deviation, resample within 150 tons. Document corrective action\",IF(U71=1,\"Action area, document corrective action\",\" \"))))))","v":{"$error":"#N/A"}},null,{"$f":"IF(AND(V94=3,E54=\"Single sample deviation, resample within 150 tons. Document corrective action\"),\"Deviation on 150 ton sample, suspend production of JMF\",IF(AND(V88=2,E54=\"Multiple sample deviation, resample within 150 tons. Document corrective action\"),\"Deviation on 150 ton sample, suspend production of JMF\",IF(AND(V88=2,E54=\"Single sample deviation, resample within 150 tons. Document corrective action\"),\"Deviation on 150 ton sample, suspend production of JMF\",IF(V94=3,\"Single sample deviation, resample within 150 tons. Document corrective action\",IF(V88=2,\"Multiple sample deviation, resample within 150 tons. Document corrective action\",IF(V71=1,\"Action area, document corrective action\",\" \"))))))","v":{"$error":"#N/A"}},null,{"$f":"IF(AND(W94=3,G54=\"Single sample deviation, resample within 150 tons. Document corrective action\"),\"Deviation on 150 ton sample, suspend production of JMF\",IF(AND(W88=2,G54=\"Multiple sample deviation, resample within 150 tons. Document corrective action\"),\"Deviation on 150 ton sample, suspend production of JMF\",IF(AND(W88=2,G54=\"Single sample deviation, resample within 150 tons. Document corrective action\"),\"Deviation on 150 ton sample, suspend production of JMF\",IF(W94=3,\"Single sample deviation, resample within 150 tons. Document corrective action\",IF(W88=2,\"Multiple sample deviation, resample within 150 tons. Document corrective action\",IF(W71=1,\"Action area, document corrective action\",\" \"))))))","v":{"$error":"#N/A"}},null,{"$f":"IF(AND(X94=3,I54=\"Single sample deviation, resample within 150 tons. Document corrective action\"),\"Deviation on 150 ton sample, suspend production of JMF\",IF(AND(X88=2,I54=\"Multiple sample deviation, resample within 150 tons. Document corrective action\"),\"Deviation on 150 ton sample, suspend production of JMF\",IF(AND(X88=2,I54=\"Single sample deviation, resample within 150 tons. Document corrective action\"),\"Deviation on 150 ton sample, suspend production of JMF\",IF(X94=3,\"Single sample deviation, resample within 150 tons. Document corrective action\",IF(X88=2,\"Multiple sample deviation, resample within 150 tons. Document corrective action\",IF(X71=1,\"Action area, document corrective action\",\" \"))))))","v":{"$error":"#N/A"}},null,{"$f":"IF(AND(Y94=3,K54=\"Single sample deviation, resample within 150 tons. Document corrective action\"),\"Deviation on 150 ton sample, suspend production of JMF\",IF(AND(Y88=2,K54=\"Multiple sample deviation, resample within 150 tons. Document corrective action\"),\"Deviation on 150 ton sample, suspend production of JMF\",IF(AND(Y88=2,K54=\"Single sample deviation, resample within 150 tons. Document corrective action\"),\"Deviation on 150 ton sample, suspend production of JMF\",IF(Y94=3,\"Single sample deviation, resample within 150 tons. Document corrective action\",IF(Y88=2,\"Multiple sample deviation, resample within 150 tons. Document corrective action\",IF(Y71=1,\"Action area, document corrective action\",\" \"))))))","v":{"$error":"#N/A"}}]
[]
[null,null,null,null,null,null,null,null,null,null,null,null,null,null,null,null,null,null,"Action points flags"]
[null,null,null,null,null,null,null,null,null,null,null,null,null,null,null,null,null,2,{"$f":"$B$15","v":" "},{"$f":"IF(ISBLANK(C15),0,IF(OR(D39>=$S57+$J39,D39<=$S57-$K39),1,0))","v":0},{"$f":"IF(ISBLANK(E15),0,IF(OR(E39>=$S57+$J39,E39<=$S57-$K39),1,0))","v":0},{"$f":"IF(ISBLANK(G15),0,IF(OR(F39>=$S57+$J39,F39<=$S57-$K39),1,0))","v":0},{"$f":"IF(ISBLANK(I15),0,IF(OR(G39>=$S57+$J39,G39<=$S57-$K39),1,0))","v":0},{"$f":"IF(ISBLANK(K15),0,IF(OR(H39>=$S57+$J39,H39<=$S57-$K39),1,0))","v":0},{"$f":"IF(ISBLANK(M15),0,IF(OR(I39>=$S57+$J39,I39<=$S57-$K39),1,0))","v":0}]
[null,null,null,null,null,null,null,null,null,null,null,null,null,null,null,null,null,1.5,{"$f":"$B$16","v":" "},{"$f":"IF(ISBLANK(C16),0,IF(OR(D40>=$S58+$J40,D40<=$S58-$K40),1,0))","v":0},{"$f":"IF(ISBLANK(E16),0,IF(OR(E40>=$S58+$J40,E40<=$S58-$K40),1,0))","v":0},{"$f":"IF(ISBLANK(G16),0,IF(OR(F40>=$S58+$J40,F40<=$S58-$K40),1,0))","v":0},{"$f":"IF(ISBLANK(I16),0,IF(OR(G40>=$S58+$J40,G40<=$S58-$K40),1,0))","v":0},{"$f":"IF(ISBLANK(K16),0,IF(OR(H40>=$S58+$J40,H40<=$S58-$K40),1,0))","v":0},{"$f":"IF(ISBLANK(M16),0,IF(OR(I40>=$S58+$J40,I40<=$S58-$K40),1,0))","v":0}]
[null,null,null,null,null,null,null,null,null,null,null,null,null,null,null,null,null,1,{"$f":"$B$17","v":" "},{"$f":"IF(ISBLANK(C17),0,IF(OR(D41>=$S59+$J41,D41<=$S59-$K41),1,0))","v":0},{"$f":"IF(ISBLANK(E17),0,IF(OR(E41>=$S59+$J41,E41<=$S59-$K41),1,0))","v":0},{"$f":"IF(ISBLANK(G17),0,IF(OR(F41>=$S59+$J41,F41<=$S59-$K41),1,0))","v":0},{"$f":"IF(ISBLANK(I17),0,IF(OR(G41>=$S59+$J41,G41<=$S59-$K41),1,0))","v":0},{"$f":"IF(ISBLANK(K17),0,IF(OR(H41>=$S59+$J41,H41<=$S59-$K41),1,0))","v":0},{"$f":"IF(ISBLANK(M17),0,IF(OR(I41>=$S59+$J41,I41<=$S59-$K41),1,0))","v":0}]
[null,null,null,null,null,null,null,null,null,null,null,null,null,null,null,null,null,0.75,{"$f":"$B$18","v":" "},{"$f":"IF(ISBLANK(C18),0,IF(OR(D42>=$S60+$J42,D42<=$S60-$K42),1,0))","v":0},{"$f":"IF(ISBLANK(E18),0,IF(OR(E42>=$S60+$J42,E42<=$S60-$K42),1,0))","v":0},{"$f":"IF(ISBLANK(G18),0,IF(OR(F42>=$S60+$J42,F42<=$S60-$K42),1,0))","v":0},{"$f":"IF(ISBLANK(I18),0,IF(OR(G42>=$S60+$J42,G42<=$S60-$K42),1,0))","v":0},{"$f":"IF(ISBLANK(K18),0,IF(OR(H42>=$S60+$J42,H42<=$S60-$K42),1,0))","v":0},{"$f":"IF(ISBLANK(M18),0,IF(OR(I42>=$S60+$J42,I42<=$S60-$K42),1,0))","v":0}]
[null,null,null,null,null,null,null,null,null,null,null,null,null,null,null,null,null,0.5,{"$f":"$B$19","v":" "},{"$f":"IF(ISBLANK(C19),0,IF(OR(D43>=$S61+$J43,D43<=$S61-$K43),1,0))","v":0},{"$f":"IF(ISBLANK(E19),0,IF(OR(E43>=$S61+$J43,E43<=$S61-$K43),1,0))","v":0},{"$f":"IF(ISBLANK(G19),0,IF(OR(F43>=$S61+$J43,F43<=$S61-$K43),1,0))","v":0},{"$f":"IF(ISBLANK(I19),0,IF(OR(G43>=$S61+$J43,G43<=$S61-$K43),1,0))","v":0},{"$f":"IF(ISBLANK(K19),0,IF(OR(H43>=$S61+$J43,H43<=$S61-$K43),1,0))","v":0},{"$f":"IF(ISBLANK(M19),0,IF(OR(I43>=$S61+$J43,I43<=$S61-$K43),1,0))","v":0}]
[null,null,null,null,null,null,null,null,null,null,null,null,null,null,null,null,null,0.375,{"$f":"$B$20","v":" "},{"$f":"IF(OR(D44>=$S62+$J44,D44<=$S62-$K44),1,0)","v":{"$error":"#N/A"}},{"$error":"#N/A"},{"$error":"#N/A"},{"$error":"#N/A"},{"$error":"#N/A"},{"$error":"#N/A"}]
[null,null,null,null,null,null,null,null,null,null,null,null,null,null,null,null,null,4,{"$f":"$B$21","v":" "},{"$error":"#N/A"},{"$error":"#N/A"},{"$error":"#N/A"},{"$error":"#N/A"},{"$error":"#N/A"},{"$error":"#N/A"}]
[null,null,null,null,null,null,null,null,null,null,null,null,null,null,null,null,null,8,{"$f":"$B$22","v":" "},{"$error":"#N/A"},{"$error":"#N/A"},{"$error":"#N/A"},{"$error":"#N/A"},{"$error":"#N/A"},{"$error":"#N/A"}]
[null,null,null,null,null,null,null,null,null,null,null,null,null,null,null,null,null,16,{"$f":"$B$23","v":" "},{"$error":"#N/A"},{"$error":"#N/A"},{"$error":"#N/A"},{"$error":"#N/A"},{"$error":"#N/A"},{"$error":"#N/A"}]
[null,null,null,null,null,null,null,null,null,null,null,null,null,null,null,null,null,30,{"$f":"$B$24","v":" "},{"$error":"#N/A"},{"$error":"#N/A"},{"$error":"#N/A"},{"$error":"#N/A"},{"$error":"#N/A"},{"$error":"#N/A"}]
[null,null,null,null,null,null,null,null,null,null,null,null,null,null,null,null,null,50,{"$f":"$B$25","v":" "},{"$error":"#N/A"},{"$error":"#N/A"},{"$error":"#N/A"},{"$error":"#N/A"},{"$error":"#N/A"},{"$error":"#N/A"}]
[null,null,null,null,null,null,null,null,null,null,null,null,null,null,null,null,null,100,{"$f":"$B$26","v":" "},{"$error":"#N/A"},{"$error":"#N/A"},{"$error":"#N/A"},{"$error":"#N/A"},{"$error":"#N/A"},{"$error":"#N/A"}]
[null,null,null,null,null,null,null,null,null,null,null,null,null,null,null,null,null,200,{"$f":"$B$27","v":" "},{"$error":"#N/A"},{"$error":"#N/A"},{"$error":"#N/A"},{"$error":"#N/A"},{"$error":"#N/A"},{"$error":"#N/A"}]
[null,null,null,null,null,null,null,null,null,null,null,null,null,null,null,null,null,"%AC",{"$f":"$B$28","v":" "},{"$error":"#N/A"},{"$error":"#N/A"},{"$error":"#N/A"},{"$error":"#N/A"},{"$error":"#N/A"},{"$error":"#N/A"}]
[null,null,{"$f":"MAX(C15:C23)","v":0},null,{"$f":"MAX(E15:E23)","v":0},null,{"$f":"MAX(G15:G23)","v":0},null,{"$f":"MAX(I15:I23)","v":0},null,{"$f":"MAX(K15:K23)","v":0},null,{"$f":"MAX(M15:M23)","v":0},null,null,null,null,null,"Max",{"$f":"MAX(T56:T70)","v":{"$error":"#N/A"}},{"$error":"#N/A"},{"$error":"#N/A"},{"$error":"#N/A"},{"$error":"#N/A"},{"$error":"#N/A"}]
[]
[null,null,null,null,null,null,null,null,null,null,null,null,null,null,null,null,null,null,"Multiple sample flag"]
[null,null,null,null,null,null,null,null,null,null,null,null,null,null,null,null,null,2,{"$f":"$B$15","v":" "},{"$f":"IF(ISBLANK(C15),0,IF(OR(D39>$S74+AP!$E$89,D39<$S74-AP!$E$93),2,0))","v":0},{"$f":"IF(ISBLANK(E15),0,IF(OR(E39>$S74+AP!$E$89,E39<$S74-AP!$E$93),2,0))","v":0},{"$f":"IF(ISBLANK(G15),0,IF(OR(F39>$S74+AP!$E$89,F39<$S74-AP!$E$93),2,0))","v":0},{"$f":"IF(ISBLANK(I15),0,IF(OR(G39>$S74+AP!$E$89,G39<$S74-AP!$E$93),2,0))","v":0},{"$f":"IF(ISBLANK(K15),0,IF(OR(H39>$S74+AP!$E$89,H39<$S74-AP!$E$93),2,0))","v":0},{"$f":"IF(ISBLANK(M15),0,IF(OR(I39>$S74+AP!$E$89,I39<$S74-AP!$E$93),2,0))","v":0}]
[null,null,null,null,null,null,null,null,null,null,null,null,null,null,null,null,null,1.5,{"$f":"$B$16","v":" "},{"$f":"IF(ISBLANK(C16),0,IF(OR(D40>$S75+AP!$E$83,D40<$S75-AP!$E$87),2,0))","v":0},{"$f":"IF(ISBLANK(E16),0,IF(OR(E40>$S75+AP!$E$89,E40<$S75-AP!$E$93),2,0))","v":0},{"$f":"IF(ISBLANK(G16),0,IF(OR(F40>$S75+AP!$E$89,F40<$S75-AP!$E$93),2,0))","v":0},{"$f":"IF(ISBLANK(I16),0,IF(OR(G40>$S75+AP!$E$89,G40<$S75-AP!$E$93),2,0))","v":0},{"$f":"IF(ISBLANK(K16),0,IF(OR(H40>$S75+AP!$E$89,H40<$S75-AP!$E$93),2,0))","v":0},{"$f":"IF(ISBLANK(M16),0,IF(OR(I40>$S75+AP!$E$89,I40<$S75-AP!$E$93),2,0))","v":0}]
[null,null,null,null,null,null,null,null,null,null,null,null,null,null,null,null,null,1,{"$f":"$B$17","v":" "},{"$f":"IF(ISBLANK(C17),0,IF(OR(D41>$S76+AP!$E$83,D41<$S76-AP!$E$87),2,0))","v":0},{"$f":"IF(ISBLANK(E17),0,IF(OR(E41>$S76+AP!$E$89,E41<$S76-AP!$E$93),2,0))","v":0},{"$f":"IF(ISBLANK(G17),0,IF(OR(F41>$S76+AP!$E$89,F41<$S76-AP!$E$93),2,0))","v":0},{"$f":"IF(ISBLANK(I17),0,IF(OR(G41>$S76+AP!$E$89,G41<$S76-AP!$E$93),2,0))","v":0},{"$f":"IF(ISBLANK(K17),0,IF(OR(H41>$S76+AP!$E$89,H41<$S76-AP!$E$93),2,0))","v":0},{"$f":"IF(ISBLANK(M17),0,IF(OR(I41>$S76+AP!$E$89,I41<$S76-AP!$E$93),2,0))","v":0}]
[null,null,null,null,null,null,null,null,null,null,null,null,null,null,null,null,null,0.75,{"$f":"$B$18","v":" "},{"$f":"IF(ISBLANK(C18),0,IF(OR(D42>$S77+AP!$E$83,D42<$S77-AP!$E$87),2,0))","v":0},{"$f":"IF(ISBLANK(E18),0,IF(OR(E42>$S77+AP!$E$89,E42<$S77-AP!$E$93),2,0))","v":0},{"$f":"IF(ISBLANK(G18),0,IF(OR(F42>$S77+AP!$E$89,F42<$S77-AP!$E$93),2,0))","v":0},{"$f":"IF(ISBLANK(I18),0,IF(OR(G42>$S77+AP!$E$89,G42<$S77-AP!$E$93),2,0))","v":0},{"$f":"IF(ISBLANK(K18),0,IF(OR(H42>$S77+AP!$E$89,H42<$S77-AP!$E$93),2,0))","v":0},{"$f":"IF(ISBLANK(M18),0,IF(OR(I42>$S77+AP!$E$89,I42<$S77-AP!$E$93),2,0))","v":0}]
[null,null,null,null,null,null,null,null,null,null,null,null,null,null,null,null,null,0.5,{"$f":"$B$19","v":" "},{"$f":"IF(ISBLANK(C19),0,IF(OR(D43>$S78+AP!$E$83,D43<$S78-AP!$E$87),2,0))","v":0},{"$f":"IF(ISBLANK(E19),0,IF(OR(E43>$S78+AP!$E$89,E43<$S78-AP!$E$93),2,0))","v":0},{"$f":"IF(ISBLANK(G19),0,IF(OR(F43>$S78+AP!$E$89,F43<$S78-AP!$E$93),2,0))","v":0},{"$f":"IF(ISBLANK(I19),0,IF(OR(G43>$S78+AP!$E$89,G43<$S78-AP!$E$93),2,0))","v":0},{"$f":"IF(ISBLANK(K19),0,IF(OR(H43>$S78+AP!$E$89,H43<$S78-AP!$E$93),2,0))","v":0},{"$f":"IF(ISBLANK(M19),0,IF(OR(I43>$S78+AP!$E$89,I43<$S78-AP!$E$93),2,0))","v":0}]
[null,null,null,null,null,null,null,null,null,null,null,null,null,null,null,null,null,0.375,{"$f":"$B$20","v":" "},{"$f":"IF(OR(D44>$S79+AP!$E$59,D44<$S79-AP!$E$63),2,0)","v":{"$error":"#N/A"}},{"$f":"IF(OR(E44>$S79+AP!$E$59,E44<$S79-AP!$E$63),2,0)","v":{"$error":"#N/A"}},{"$f":"IF(OR(F44>$S79+AP!$E$59,F44<$S79-AP!$E$63),2,0)","v":{"$error":"#N/A"}},{"$f":"IF(OR(G44>$S79+AP!$E$59,G44<$S79-AP!$E$63),2,0)","v":{"$error":"#N/A"}},{"$f":"IF(OR(H44>$S79+AP!$E$59,H44<$S79-AP!$E$63),2,0)","v":{"$error":"#N/A"}},{"$f":"IF(OR(I44>$S79+AP!$E$59,I44<$S79-AP!$E$63),2,0)","v":{"$error":"#N/A"}}]
[null,null,null,null,null,null,null,null,null,null,null,null,null,null,null,null,null,4,{"$f":"$B$21","v":" "},{"$f":"IF(OR(D45>$S80+AP!$E$53,D45<$S80-AP!$E$57),2,0)","v":{"$error":"#N/A"}},{"$f":"IF(OR(E45>$S80+AP!$E$53,E45<$S80-AP!$E$57),2,0)","v":{"$error":"#N/A"}},{"$f":"IF(OR(F45>$S80+AP!$E$53,F45<$S80-AP!$E$57),2,0)","v":{"$error":"#N/A"}},{"$f":"IF(OR(G45>$S80+AP!$E$53,G45<$S80-AP!$E$57),2,0)","v":{"$error":"#N/A"}},{"$f":"IF(OR(H45>$S80+AP!$E$53,H45<$S80-AP!$E$57),2,0)","v":{"$error":"#N/A"}},{"$f":"IF(OR(I45>$S80+AP!$E$53,I45<$S80-AP!$E$57),2,0)","v":{"$error":"#N/A"}}]
[null,null,null,null,null,null,null,null,null,null,null,null,null,null,null,null,null,8,{"$f":"$B$22","v":" "},{"$f":"IF(OR(D46>$S81+AP!$E$46,D46<$S81-AP!$E$50),2,0)","v":{"$error":"#N/A"}},{"$f":"IF(OR(E46>$S81+AP!$E$46,E46<$S81-AP!$E$50),2,0)","v":{"$error":"#N/A"}},{"$f":"IF(OR(F46>$S81+AP!$E$46,F46<$S81-AP!$E$50),2,0)","v":{"$error":"#N/A"}},{"$f":"IF(OR(G46>$S81+AP!$E$46,G46<$S81-AP!$E$50),2,0)","v":{"$error":"#N/A"}},{"$f":"IF(OR(H46>$S81+AP!$E$46,H46<$S81-AP!$E$50),2,0)","v":{"$error":"#N/A"}},{"$f":"IF(OR(I46>$S81+AP!$E$46,I46<$S81-AP!$E$50),2,0)","v":{"$error":"#N/A"}}]
[null,null,null,null,null,null,null,null,null,null,null,null,null,null,null,null,null,16,{"$f":"$B$23","v":" "},{"$f":"IF(OR(D47>$S82+AP!$E$39,D47<$S82-AP!$E$43),2,0)","v":{"$error":"#N/A"}},{"$f":"IF(OR(E47>$S82+AP!$E$39,E47<$S82-AP!$E$43),2,0)","v":{"$error":"#N/A"}},{"$f":"IF(OR(F47>$S82+AP!$E$39,F47<$S82-AP!$E$43),2,0)","v":{"$error":"#N/A"}},{"$f":"IF(OR(G47>$S82+AP!$E$39,G47<$S82-AP!$E$43),2,0)","v":{"$error":"#N/A"}},{"$f":"IF(OR(H47>$S82+AP!$E$39,H47<$S82-AP!$E$43),2,0)","v":{"$error":"#N/A"}},{"$f":"IF(OR(I47>$S82+AP!$E$39,I47<$S82-AP!$E$43),2,0)","v":{"$error":"#N/A"}}]
[null,null,null,null,null,null,null,null,null,null,null,null,null,null,null,null,null,30,{"$f":"$B$24","v":" "},{"$f":"IF(OR(D48>$S83+AP!$E$33,D48<$S83-AP!$E$37),2,0)","v":{"$error":"#N/A"}},{"$f":"IF(OR(E48>$S83+AP!$E$33,E48<$S83-AP!$E$37),2,0)","v":{"$error":"#N/A"}},{"$f":"IF(OR(F48>$S83+AP!$E$33,F48<$S83-AP!$E$37),2,0)","v":{"$error":"#N/A"}},{"$f":"IF(OR(G48>$S83+AP!$E$33,G48<$S83-AP!$E$37),2,0)","v":{"$error":"#N/A"}},{"$f":"IF(OR(H48>$S83+AP!$E$33,H48<$S83-AP!$E$37),2,0)","v":{"$error":"#N/A"}},{"$f":"IF(OR(I48>$S83+AP!$E$33,I48<$S83-AP!$E$37),2,0)","v":{"$error":"#N/A"}}]
[null,null,null,null,null,null,null,null,null,null,null,null,null,null,null,null,null,50,{"$f":"$B$25","v":" "},{"$f":"IF(OR(D49>$S84+AP!$E$27,D49<$S84-AP!$E$31),2,0)","v":{"$error":"#N/A"}},{"$f":"IF(OR(E49>$S84+AP!$E$27,E49<$S84-AP!$E$31),2,0)","v":{"$error":"#N/A"}},{"$f":"IF(OR(F49>$S84+AP!$E$27,F49<$S84-AP!$E$31),2,0)","v":{"$error":"#N/A"}},{"$f":"IF(OR(G49>$S84+AP!$E$27,G49<$S84-AP!$E$31),2,0)","v":{"$error":"#N/A"}},{"$f":"IF(OR(H49>$S84+AP!$E$27,H49<$S84-AP!$E$31),2,0)","v":{"$error":"#N/A"}},{"$f":"IF(OR(I49>$S84+AP!$E$27,I49<$S84-AP!$E$31),2,0)","v":{"$error":"#N/A"}}]
[null,null,null,null,null,null,null,null,null,null,null,null,null,null,null,null,null,100,{"$f":"$B$26","v":" "},{"$f":"IF(OR(D50>$S85+AP!$E$21,D50<$S85-AP!$E$25),2,0)","v":{"$error":"#N/A"}},{"$f":"IF(OR(E50>$S85+AP!$E$21,E50<$S85-AP!$E$25),2,0)","v":{"$error":"#N/A"}},{"$f":"IF(OR(F50>$S85+AP!$E$21,F50<$S85-AP!$E$25),2,0)","v":{"$error":"#N/A"}},{"$f":"IF(OR(G50>$S85+AP!$E$21,G50<$S85-AP!$E$25),2,0)","v":{"$error":"#N/A"}},{"$f":"IF(OR(H50>$S85+AP!$E$21,H50<$S85-AP!$E$25),2,0)","v":{"$error":"#N/A"}},{"$f":"IF(OR(I50>$S85+AP!$E$21,I50<$S85-AP!$E$25),2,0)","v":{"$error":"#N/A"}}]
[null,null,null,null,null,null,null,null,null,null,null,null,null,null,null,null,null,200,{"$f":"$B$27","v":" "},{"$f":"IF(OR(D51>$S86+AP!$E$14,D51<$S86-AP!$E$18),2,0)","v":{"$error":"#N/A"}},{"$f":"IF(OR(E51>$S86+AP!$E$14,E51<$S86-AP!$E$18),2,0)","v":{"$error":"#N/A"}},{"$f":"IF(OR(F51>$S86+AP!$E$14,F51<$S86-AP!$E$18),2,0)","v":{"$error":"#N/A"}},{"$f":"IF(OR(G51>$S86+AP!$E$14,G51<$S86-AP!$E$18),2,0)","v":{"$error":"#N/A"}},{"$f":"IF(OR(H51>$S86+AP!$E$14,H51<$S86-AP!$E$18),2,0)","v":{"$error":"#N/A"}},{"$f":"IF(OR(I51>$S86+AP!$E$14,I51<$S86-AP!$E$18),2,0)","v":{"$error":"#N/A"}}]
[null,null,null,null,null,null,null,null,null,null,null,null,null,null,null,null,null,"%AC",{"$f":"$B$28","v":" "},{"$f":"IF(OR(D52>AP!$L$6,D52<AP!$L$10),2,0)","v":{"$error":"#N/A"}},{"$f":"IF(OR(E52>AP!$L$6,E52<AP!$L$10),2,0)","v":{"$error":"#N/A"}},{"$f":"IF(OR(F52>AP!$L$6,F52<AP!$L$10),2,0)","v":{"$error":"#N/A"}},{"$f":"IF(OR(G52>AP!$L$6,G52<AP!$L$10),2,0)","v":{"$error":"#N/A"}},{"$f":"IF(OR(H52>AP!$L$6,H52<AP!$L$10),2,0)","v":{"$error":"#N/A"}},{"$f":"IF(OR(I52>AP!$L$6,I52<AP!$L$10),2,0)","v":{"$error":"#N/A"}}]
[null,null,null,null,null,null,null,null,null,null,null,null,null,null,null,null,null,null,"Max",{"$f":"MAX(T74:T87)","v":{"$error":"#N/A"}},{"$error":"#N/A"},{"$error":"#N/A"},{"$error":"#N/A"},{"$error":"#N/A"},{"$error":"#N/A"}]
[]
[null,null,null,null,null,null,null,null,null,null,null,null,null,null,null,null,null,null,"Single sample flag"]
[null,null,null,null,null,null,null,null,null,null,null,null,null,null,null,null,null,8,{"$f":"$B$22","v":" "},{"$f":"IF(OR($D$22>$S91+AP!$E$45,$D$22<$S91-AP!$E$51),3,0)","v":{"$error":"#VALUE!"}},{"$f":"IF(OR($F$22>$S91+AP!$E$45,$F$22<$S91-AP!$E$51),3,0)","v":{"$error":"#VALUE!"}},{"$f":"IF(OR($H$22>$S91+AP!$E$45,$H$22<$S91-AP!$E$51),3,0)","v":{"$error":"#VALUE!"}},{"$f":"IF(OR($J$22>$S91+AP!$E$45,$J$22<$S91-AP!$E$51),3,0)","v":{"$error":"#VALUE!"}},{"$f":"IF(OR($L$22>$S91+AP!$E$45,$L$22<$S91-AP!$E$51),3,0)","v":{"$error":"#VALUE!"}},{"$f":"IF(OR($N$22>$S91+AP!$E$45,$N$22<$S91-AP!$E$51),3,0)","v":{"$error":"#VALUE!"}}]
[null,null,null,null,null,null,null,null,null,null,null,null,null,null,null,null,null,200,{"$f":"$B$27","v":" "},{"$f":"IF(OR($D$27>$S92+AP!$E$13,$D$27<$S92-AP!$E$19),3,0)","v":{"$error":"#VALUE!"}},{"$f":"IF(OR($F$27>$S92+AP!$E$13,$F$27<$S92-AP!$E$19),3,0)","v":{"$error":"#VALUE!"}},{"$f":"IF(OR($H$27>$S92+AP!$E$13,$H$27<$S92-AP!$E$19),3,0)","v":{"$error":"#VALUE!"}},{"$f":"IF(OR($J$27>$S92+AP!$E$13,$J$27<$S92-AP!$E$19),3,0)","v":{"$error":"#VALUE!"}},{"$f":"IF(OR($L$27>$S92+AP!$E$13,$L$27<$S92-AP!$E$19),3,0)","v":{"$error":"#VALUE!"}},{"$f":"IF(OR($N$27>$S92+AP!$E$13,$N$27<$S92-AP!$E$19),3,0)","v":{"$error":"#VALUE!"}}]
[null,null,null,null,null,null,null,null,null,null,null,null,null,null,null,null,null,"%AC",{"$f":"$B$28","v":" "},{"$f":"IF(OR($C$28>AP!$L$5,$C$28<AP!$L$11),3,0)","v":0},{"$f":"IF(OR($E$28>AP!$L$5,$E$28<AP!$L$11),3,0)","v":0},{"$f":"IF(OR($G$28>AP!$L$5,$G$28<AP!$L$11),3,0)","v":0},{"$f":"IF(OR($I$28>AP!$L$5,$I$28<AP!$L$11),3,0)","v":0},{"$f":"IF(OR($K$28>AP!$L$5,$K$28<AP!$L$11),3,0)","v":0},{"$f":"IF(OR($M$28>AP!$L$5,$M$28<AP!$L$11),3,0)","v":0}]
[null,null,null,null,null,null,null,null,null,null,null,null,null,null,null,null,null,null,"Max",{"$f":"IF(ISBLANK(C27),\" \",MAX(T91:T93))","v":" "},{"$f":"IF(ISBLANK(E27),\" \",MAX(U91:U93))","v":" "},{"$f":"IF(ISBLANK(G27),\" \",MAX(V91:V93))","v":" "},{"$f":"IF(ISBLANK(I27),\" \",MAX(W91:W93))","v":" "},{"$f":"IF(ISBLANK(K27),\" \",MAX(X91:X93))","v":" "},{"$f":"IF(ISBLANK(M27),\" \",MAX(Y91:Y93))","v":" "}]

{"sheet":"S3","index":2,"n_rows":94,"n_cols":25,"rows_kept":94,"cut":false,"hidden":true,"merged":[[53,0,68,1],[53,2,58,3],[53,4,58,5],[53,6,58,7],[53,8,58,9],[53,10,58,11],[55,18,55,24],[72,18,72,24],[89,18,89,24],[53,12,58,13],[59,2,68,3],[59,12,68,13],[59,10,68,11],[59,8,68,9],[59,6,68,7],[59,4,68,5],[30,2,30,3],[29,12,29,13],[52,12,52,13],[52,0,52,1],[52,2,52,3],[52,4,52,5],[52,6,52,7],[52,8,52,9],[52,10,52,11],[29,2,29,3],[29,4,29,5],[29,6,29,7],[28,12,28,13],[27,12,27,13],[28,10,28,11],[28,8,28,9],[31,12,31,13],[28,0,28,1],[28,2,28,3],[28,4,28,5],[37,0,37,2],[37,9,37,10],[29,8,29,9],[29,10,29,11],[37,3,37,8],[29,0,31,0],[30,6,30,7],[30,8,30,9],[30,10,30,11],[30,4,30,5],[30,12,30,13],[31,2,31,3],[31,4,31,5],[31,6,31,7],[31,8,31,9],[31,10,31,11],[11,0,11,1],[27,2,27,3],[28,6,28,7],[27,4,27,5],[27,6,27,7],[9,10,9,11],[11,2,11,3],[11,4,11,5],[10,10,10,11],[10,4,10,5],[9,2,9,3],[27,10,27,11],[11,10,11,11],[12,10,12,11],[11,8,11,9],[9,8,9,9],[27,8,27,9],[1,12,1,13],[0,0,3,1],[1,10,1,11],[7,0,7,2],[5,0,5,1],[2,10,2,11],[2,12,2,13],[5,5,5,8],[5,10,5,11],[6,10,6,11],[6,12,6,13],[5,12,5,13],[6,5,7,8],[8,12,8,13],[8,8,8,9],[8,10,8,11],[9,12,9,13],[12,0,12,1],[12,2,12,3],[10,6,10,7],[10,8,10,9],[11,6,11,7],[12,6,12,7],[12,8,12,9],[9,4,9,5],[9,6,9,7],[9,0,9,1],[8,0,8,1],[8,6,8,7],[10,0,10,1],[10,2,10,3],[12,4,12,5],[12,12,12,13],[11,12,11,13],[10,12,10,13],[8,2,8,3],[8,4,8,5]]}
[]
[null,null,null,null,"COMMONWEALTH OF PENNSYLVANIA",null,null,null,null,null,"DISTRICT",null,{"$f":"IF(ISBLANK('S1'!M2),\" \",('S1'!M2))","v":" "}]
[null,null,null,null,"DEPARTMENT OF TRANSPORTATION",null,null,null,null,null,"PLANT CODE",null,{"$f":"IF(ISBLANK('S1'!M3),\" \",('S1'!M3))","v":" "}]
[null,null,null,null,"LABORATORY TEST SECTION"]
[{"$f":"'S1'!A5","v":"ESB-16"}]
["Material Class ",null,{"$f":"IF(ISBLANK('S1'!C6),\" \",('S1'!C6))","v":9.5},"mm",null,"Burnoff Results",null,null,null,null,"Design No.",null,{"$f":"IF(ISBLANK('S1'!M6),\" \",('S1'!M6))","v":" "}]
[null,null,null,null,null,"Red values indicate action area, single and multiple sample deviations",null,null,null,null,"Gyrations @ Ndes",null,{"$f":"IF(ISBLANK('S1'!M7),\" \",'S1'!M7)","v":" "}]
["-200 Correction Factor (+ or -)",null,null,{"$f":"IF(ISBLANK('S1'!D8),\" \",('S1'!D8))","v":" "}]
["Sample No."]
["Date"]
["St. Wt. Before Wash"]
["Dry Wt. After Wash"]
["Wt. Loss",null,{"$f":"IF(ISBLANK(C11),\" \",IF(ISBLANK(C12),\" \",C11-C12))","v":" "},null,{"$f":"IF(ISBLANK(E11),\" \",IF(ISBLANK(E12),\" \",E11-E12))","v":" "},null,{"$f":"IF(ISBLANK(G11),\" \",IF(ISBLANK(G12),\" \",G11-G12))","v":" "},null,{"$f":"IF(ISBLANK(I11),\" \",IF(ISBLANK(I12),\" \",I11-I12))","v":" "},null,{"$f":"IF(ISBLANK(K11),\" \",IF(ISBLANK(K12),\" \",K11-K12))","v":" "},null,{"$f":"IF(ISBLANK(M11),\" \",IF(ISBLANK(M12),\" \",M11-M12))","v":" "}]
["Size","JMF","Weight","%Passing","Weight","%Passing","Weight","%Passing","Weight","%Pasing","Weight","%Pasing","Weight","%Pasing"]
[2,{"$f":"IF(ISBLANK('S1'!B15),\" \",'S1'!B15)","v":" "},null,{"$f":"IF(ISBLANK(C11),\" \",IF(ISBLANK(C12),\" \",IF(ISBLANK(C15),\" \",ROUND((C15+C13)/C11*100,0))))","v":" "},null,{"$f":"IF(ISBLANK(E11),\" \",IF(ISBLANK(E12),\" \",IF(ISBLANK(E15),\" \",ROUND((E15+E13)/E11*100,0))))","v":" "},null,{"$f":"IF(ISBLANK(G11),\" \",IF(ISBLANK(G12),\" \",IF(ISBLANK(G15),\" \",ROUND((G15+G13)/G11*100,0))))","v":" "},null,{"$f":"IF(ISBLANK(I11),\" \",IF(ISBLANK(I12),\" \",IF(ISBLANK(I15),\" \",ROUND((I15+I13)/I11*100,0))))","v":" "},null,{"$f":"IF(ISBLANK(K11),\" \",IF(ISBLANK(K12),\" \",IF(ISBLANK(K15),\" \",ROUND((K15+K13)/K11*100,0))))","v":" "},null,{"$f":"IF(ISBLANK(M11),\" \",IF(ISBLANK(M12),\" \",IF(ISBLANK(M15),\" \",ROUND((M15+M13)/M11*100,0))))","v":" "}]
[1.5,{"$f":"IF(ISBLANK('S1'!B16),\" \",'S1'!B16)","v":" "},null,{"$f":"IF(ISBLANK(C11),\"  \",IF(ISBLANK(C12),\" \",IF(ISBLANK(C16),\" \",ROUND((C16+C13)/C11*100,0))))","v":"  "},null,{"$f":"IF(ISBLANK(E11),\"  \",IF(ISBLANK(E12),\" \",IF(ISBLANK(E16),\" \",ROUND((E16+E13)/E11*100,0))))","v":"  "},null,{"$f":"IF(ISBLANK(G11),\"  \",IF(ISBLANK(G12),\" \",IF(ISBLANK(G16),\" \",ROUND((G16+G13)/G11*100,0))))","v":"  "},null,{"$f":"IF(ISBLANK(I11),\"  \",IF(ISBLANK(I12),\" \",IF(ISBLANK(I16),\" \",ROUND((I16+I13)/I11*100,0))))","v":"  "},null,{"$f":"IF(ISBLANK(K11),\"  \",IF(ISBLANK(K12),\" \",IF(ISBLANK(K16),\" \",ROUND((K16+K13)/K11*100,0))))","v":"  "},null,{"$f":"IF(ISBLANK(M11),\"  \",IF(ISBLANK(M12),\" \",IF(ISBLANK(M16),\" \",ROUND((M16+M13)/M11*100,0))))","v":"  "}]
[1,{"$f":"IF(ISBLANK('S1'!B17),\" \",'S1'!B17)","v":" "},null,{"$f":"IF(ISBLANK(C11),\"  \",IF(ISBLANK(C12),\" \",IF(ISBLANK(C17),\" \",ROUND((C17+C13)/C11*100,0))))","v":"  "},null,{"$f":"IF(ISBLANK(E11),\"  \",IF(ISBLANK(E12),\" \",IF(ISBLANK(E17),\" \",ROUND((E17+E13)/E11*100,0))))","v":"  "},null,{"$f":"IF(ISBLANK(G11),\"  \",IF(ISBLANK(G12),\" \",IF(ISBLANK(G17),\" \",ROUND((G17+G13)/G11*100,0))))","v":"  "},null,{"$f":"IF(ISBLANK(I11),\"  \",IF(ISBLANK(I12),\" \",IF(ISBLANK(I17),\" \",ROUND((I17+I13)/I11*100,0))))","v":"  "},null,{"$f":"IF(ISBLANK(K11),\"  \",IF(ISBLANK(K12),\" \",IF(ISBLANK(K17),\" \",ROUND((K17+K13)/K11*100,0))))","v":"  "},null,{"$f":"IF(ISBLANK(M11),\"  \",IF(ISBLANK(M12),\" \",IF(ISBLANK(M17),\" \",ROUND((M17+M13)/M11*100,0))))","v":"  "}]
[0.75,{"$f":"IF(ISBLANK('S1'!B18),\" \",'S1'!B18)","v":" "},null,{"$f":"IF(ISBLANK(C11),\"  \",IF(ISBLANK(C12),\" \",IF(ISBLANK(C18),\" \",ROUND((C18+C13)/C11*100,0))))","v":"  "},null,{"$f":"IF(ISBLANK(E11),\"  \",IF(ISBLANK(E12),\" \",IF(ISBLANK(E18),\" \",ROUND((E18+E13)/E11*100,0))))","v":"  "},null,{"$f":"IF(ISBLANK(G11),\"  \",IF(ISBLANK(G12),\" \",IF(ISBLANK(G18),\" \",ROUND((G18+G13)/G11*100,0))))","v":"  "},null,{"$f":"IF(ISBLANK(I11),\"  \",IF(ISBLANK(I12),\" \",IF(ISBLANK(I18),\" \",ROUND((I18+I13)/I11*100,0))))","v":"  "},null,{"$f":"IF(ISBLANK(K11),\"  \",IF(ISBLANK(K12),\" \",IF(ISBLANK(K18),\" \",ROUND((K18+K13)/K11*100,0))))","v":"  "},null,{"$f":"IF(ISBLANK(M11),\"  \",IF(ISBLANK(M12),\" \",IF(ISBLANK(M18),\" \",ROUND((M18+M13)/M11*100,0))))","v":"  "}]
[0.5,{"$f":"IF(ISBLANK('S1'!B19),\" \",'S1'!B19)","v":" "},null,{"$f":"IF(ISBLANK(C11),\"  \",IF(ISBLANK(C12),\" \",IF(ISBLANK(C19),\" \",ROUND((C19+C13)/C11*100,0))))","v":"  "},null,{"$f":"IF(ISBLANK(E11),\"  \",IF(ISBLANK(E12),\" \",IF(ISBLANK(E19),\" \",ROUND((E19+E13)/E11*100,0))))","v":"  "},null,{"$f":"IF(ISBLANK(G11),\"  \",IF(ISBLANK(G12),\" \",IF(ISBLANK(G19),\" \",ROUND((G19+G13)/G11*100,0))))","v":"  "},null,{"$f":"IF(ISBLANK(I11),\"  \",IF(ISBLANK(I12),\" \",IF(ISBLANK(I19),\" \",ROUND((I19+I13)/I11*100,0))))","v":"  "},null,{"$f":"IF(ISBLANK(K11),\"  \",IF(ISBLANK(K12),\" \",IF(ISBLANK(K19),\" \",ROUND((K19+K13)/K11*100,0))))","v":"  "},null,{"$f":"IF(ISBLANK(M11),\"  \",IF(ISBLANK(M12),\" \",IF(ISBLANK(M19),\" \",ROUND((M19+M13)/M11*100,0))))","v":"  "}]
[0.375,{"$f":"IF(ISBLANK('S1'!B20),\" \",'S1'!B20)","v":" "},null,{"$f":"IF(ISBLANK(C11),\"  \",IF(ISBLANK(C12),\" \",IF(ISBLANK(C20),\" \",ROUND((C20+C13)/C11*100,0))))","v":"  "},null,{"$f":"IF(ISBLANK(E11),\"  \",IF(ISBLANK(E12),\" \",IF(ISBLANK(E20),\" \",ROUND((E20+E13)/E11*100,0))))","v":"  "},null,{"$f":"IF(ISBLANK(G11),\"  \",IF(ISBLANK(G12),\" \",IF(ISBLANK(G20),\" \",ROUND((G20+G13)/G11*100,0))))","v":"  "},null,{"$f":"IF(ISBLANK(I11),\"  \",IF(ISBLANK(I12),\" \",IF(ISBLANK(I20),\" \",ROUND((I20+I13)/I11*100,0))))","v":"  "},null,{"$f":"IF(ISBLANK(K11),\"  \",IF(ISBLANK(K12),\" \",IF(ISBLANK(K20),\" \",ROUND((K20+K13)/K11*100,0))))","v":"  "},null,{"$f":"IF(ISBLANK(M11),\"  \",IF(ISBLANK(M12),\" \",IF(ISBLANK(M20),\" \",ROUND((M20+M13)/M11*100,0))))","v":"  "}]
[4,{"$f":"IF(ISBLANK('S1'!B21),\" \",'S1'!B21)","v":" "},null,{"$f":"IF(ISBLANK(C11),\"  \",IF(ISBLANK(C12),\" \",IF(ISBLANK(C21),\" \",ROUND((C21+C13)/C11*100,0))))","v":"  "},null,{"$f":"IF(ISBLANK(E11),\"  \",IF(ISBLANK(E12),\" \",IF(ISBLANK(E21),\" \",ROUND((E21+E13)/E11*100,0))))","v":"  "},null,{"$f":"IF(ISBLANK(G11),\"  \",IF(ISBLANK(G12),\" \",IF(ISBLANK(G21),\" \",ROUND((G21+G13)/G11*100,0))))","v":"  "},null,{"$f":"IF(ISBLANK(I11),\"  \",IF(ISBLANK(I12),\" \",IF(ISBLANK(I21),\" \",ROUND((I21+I13)/I11*100,0))))","v":"  "},null,{"$f":"IF(ISBLANK(K11),\"  \",IF(ISBLANK(K12),\" \",IF(ISBLANK(K21),\" \",ROUND((K21+K13)/K11*100,0))))","v":"  "},null,{"$f":"IF(ISBLANK(M11),\"  \",IF(ISBLANK(M12),\" \",IF(ISBLANK(M21),\" \",ROUND((M21+M13)/M11*100,0))))","v":"  "}]
[8,{"$f":"IF(ISBLANK('S1'!B22),\" \",'S1'!B22)","v":" "},null,{"$f":"IF(ISBLANK(C11),\"  \",IF(ISBLANK(C12),\" \",IF(ISBLANK(C22),\" \",ROUND((C22+C13)/C11*100,0))))","v":"  "},null,{"$f":"IF(ISBLANK(E11),\"  \",IF(ISBLANK(E12),\" \",IF(ISBLANK(E22),\" \",ROUND((E22+E13)/E11*100,0))))","v":"  "},null,{"$f":"IF(ISBLANK(G11),\"  \",IF(ISBLANK(G12),\" \",IF(ISBLANK(G22),\" \",ROUND((G22+G13)/G11*100,0))))","v":"  "},null,{"$f":"IF(ISBLANK(I11),\"  \",IF(ISBLANK(I12),\" \",IF(ISBLANK(I22),\" \",ROUND((I22+I13)/I11*100,0))))","v":"  "},null,{"$f":"IF(ISBLANK(K11),\"  \",IF(ISBLANK(K12),\" \",IF(ISBLANK(K22),\" \",ROUND((K22+K13)/K11*100,0))))","v":"  "},null,{"$f":"IF(ISBLANK(M11),\"  \",IF(ISBLANK(M12),\" \",IF(ISBLANK(M22),\" \",ROUND((M22+M13)/M11*100,0))))","v":"  "}]
[16,{"$f":"IF(ISBLANK('S1'!B23),\" \",'S1'!B23)","v":" "},null,{"$f":"IF(ISBLANK(C11),\"  \",IF(ISBLANK(C12),\" \",IF(ISBLANK(C23),\" \",ROUND((C23+C13)/C11*100,0))))","v":"  "},null,{"$f":"IF(ISBLANK(E11),\"  \",IF(ISBLANK(E12),\" \",IF(ISBLANK(E23),\" \",ROUND((E23+E13)/E11*100,0))))","v":"  "},null,{"$f":"IF(ISBLANK(G11),\"  \",IF(ISBLANK(G12),\" \",IF(ISBLANK(G23),\" \",ROUND((G23+G13)/G11*100,0))))","v":"  "},null,{"$f":"IF(ISBLANK(I11),\"  \",IF(ISBLANK(I12),\" \",IF(ISBLANK(I23),\" \",ROUND((I23+I13)/I11*100,0))))","v":"  "},null,{"$f":"IF(ISBLANK(K11),\"  \",IF(ISBLANK(K12),\" \",IF(ISBLANK(K23),\" \",ROUND((K23+K13)/K11*100,0))))","v":"  "},null,{"$f":"IF(ISBLANK(M11),\"  \",IF(ISBLANK(M12),\" \",IF(ISBLANK(M23),\" \",ROUND((M23+M13)/M11*100,0))))","v":"  "}]
[30,{"$f":"IF(ISBLANK('S1'!B24),\" \",'S1'!B24)","v":" "},null,{"$f":"IF(ISBLANK(C11),\"  \",IF(ISBLANK(C12),\" \",IF(ISBLANK(C24),\" \",ROUND((C24+C13)/C11*100,0))))","v":"  "},null,{"$f":"IF(ISBLANK(E11),\"  \",IF(ISBLANK(E12),\" \",IF(ISBLANK(E24),\" \",ROUND((E24+E13)/E11*100,0))))","v":"  "},null,{"$f":"IF(ISBLANK(G11),\"  \",IF(ISBLANK(G12),\" \",IF(ISBLANK(G24),\" \",ROUND((G24+G13)/G11*100,0))))","v":"  "},null,{"$f":"IF(ISBLANK(I11),\"  \",IF(ISBLANK(I12),\" \",IF(ISBLANK(I24),\" \",ROUND((I24+I13)/I11*100,0))))","v":"  "},null,{"$f":"IF(ISBLANK(K11),\"  \",IF(ISBLANK(K12),\" \",IF(ISBLANK(K24),\" \",ROUND((K24+K13)/K11*100,0))))","v":"  "},null,{"$f":"IF(ISBLANK(M11),\"  \",IF(ISBLANK(M12),\" \",IF(ISBLANK(M24),\" \",ROUND((M24+M13)/M11*100,0))))","v":"  "}]
[50,{"$f":"IF(ISBLANK('S1'!B25),\" \",'S1'!B25)","v":" "},null,{"$f":"IF(ISBLANK(C11),\"  \",IF(ISBLANK(C12),\" \",IF(ISBLANK(C25),\" \",ROUND((C25+C13)/C11*100,0))))","v":"  "},null,{"$f":"IF(ISBLANK(E11),\"  \",IF(ISBLANK(E12),\" \",IF(ISBLANK(E25),\" \",ROUND((E25+E13)/E11*100,0))))","v":"  "},null,{"$f":"IF(ISBLANK(G11),\"  \",IF(ISBLANK(G12),\" \",IF(ISBLANK(G25),\" \",ROUND((G25+G13)/G11*100,0))))","v":"  "},null,{"$f":"IF(ISBLANK(I11),\"  \",IF(ISBLANK(I12),\" \",IF(ISBLANK(I25),\" \",ROUND((I25+I13)/I11*100,0))))","v":"  "},null,{"$f":"IF(ISBLANK(K11),\"  \",IF(ISBLANK(K12),\" \",IF(ISBLANK(K25),\" \",ROUND((K25+K13)/K11*100,0))))","v":"  "},null,{"$f":"IF(ISBLANK(M11),\"  \",IF(ISBLANK(M12),\" \",IF(ISBLANK(M25),\" \",ROUND((M25+M13)/M11*100,0))))","v":"  "}]
[100,{"$f":"IF(ISBLANK('S1'!B26),\" \",'S1'!B26)","v":" "},null,{"$f":"IF(ISBLANK(C11),\"  \",IF(ISBLANK(C12),\" \",IF(ISBLANK(C26),\" \",ROUND((C26+C13)/C11*100,0))))","v":"  "},null,{"$f":"IF(ISBLANK(E11),\"  \",IF(ISBLANK(E12),\" \",IF(ISBLANK(E26),\" \",ROUND((E26+E13)/E11*100,0))))","v":"  "},null,{"$f":"IF(ISBLANK(G11),\"  \",IF(ISBLANK(G12),\" \",IF(ISBLANK(G26),\" \",ROUND((G26+G13)/G11*100,0))))","v":"  "},null,{"$f":"IF(ISBLANK(I11),\"  \",IF(ISBLANK(I12),\" \",IF(ISBLANK(I26),\" \",ROUND((I26+I13)/I11*100,0))))","v":"  "},null,{"$f":"IF(ISBLANK(K11),\"  \",IF(ISBLANK(K12),\" \",IF(ISBLANK(K26),\" \",ROUND((K26+K13)/K11*100,0))))","v":"  "},null,{"$f":"IF(ISBLANK(M11),\"  \",IF(ISBLANK(M12),\" \",IF(ISBLANK(M26),\" \",ROUND((M26+M13)/M11*100,0))))","v":"  "}]
[200,{"$f":"IF(ISBLANK('S1'!B27),\" \",'S1'!B27)","v":" "},null,{"$f":"IF(ISBLANK(C11),\"  \",IF(ISBLANK(C12),\" \",IF(ISBLANK(C27),\" \",ROUND((C27+C13)/C11*100+$D$8,1))))","v":"  "},null,{"$f":"IF(ISBLANK(E11),\"  \",IF(ISBLANK(E12),\" \",IF(ISBLANK(E27),\" \",ROUND((E27+E13)/E11*100+$D$8,1))))","v":"  "},null,{"$f":"IF(ISBLANK(G11),\"  \",IF(ISBLANK(G12),\" \",IF(ISBLANK(G27),\" \",ROUND((G27+G13)/G11*100+$D$8,1))))","v":"  "},null,{"$f":"IF(ISBLANK(I11),\"  \",IF(ISBLANK(I12),\" \",IF(ISBLANK(I27),\" \",ROUND((I27+I13)/I11*100+$D$8,1))))","v":"  "},null,{"$f":"IF(ISBLANK(K11),\"  \",IF(ISBLANK(K12),\" \",IF(ISBLANK(K27),\" \",ROUND((K27+K13)/K11*100+$D$8,1))))","v":"  "},null,{"$f":"IF(ISBLANK(M11),\"  \",IF(ISBLANK(M12),\" \",IF(ISBLANK(M27),\" \",ROUND((M27+M13)/M11*100+$D$8,1))))","v":"  "}]
["%AC",{"$f":"IF(ISBLANK('S1'!B28),\" \",'S1'!B28)","v":" "}]
["Percent Loss / Gain",null,{"$f":"IF(ISBLANK(C12),\"\",IF(ISBLANK(C20),\"\",(C12-C71)/C12*100))","v":""},null,{"$f":"IF(ISBLANK(E12),\"\",IF(ISBLANK(E20),\"\",(E12-E71)/E12*100))","v":""},null,{"$f":"IF(ISBLANK(G12),\"\",IF(ISBLANK(G20),\"\",(G12-G71)/G12*100))","v":""},null,{"$f":"IF(ISBLANK(I12),\"\",IF(ISBLANK(I20),\"\",(I12-I71)/I12*100))","v":""},null,{"$f":"IF(ISBLANK(K12),\"\",IF(ISBLANK(K20),\"\",(K12-K71)/K12*100))","v":""},null,{"$f":"IF(ISBLANK(M12),\"\",IF(ISBLANK(M20),\"\",(M12-M71)/M12*100))","v":""}]
["Apparent Moisture","Orig Wt"]
[null,"Const Wt"]
[null,"% moisture",{"$f":"IF(ISBLANK(C30),\" \",IF(ISBLANK(C31),\" \",((C30-C31)/C31)*100))","v":" "},null,{"$f":"IF(ISBLANK(E30),\" \",IF(ISBLANK(E31),\" \",((E30-E31)/E31)*100))","v":" "},null,{"$f":"IF(ISBLANK(G30),\" \",IF(ISBLANK(G31),\" \",((G30-G31)/G31)*100))","v":" "},null,{"$f":"IF(ISBLANK(I30),\" \",IF(ISBLANK(I31),\" \",((I30-I31)/I31)*100))","v":" "},null,{"$f":"IF(ISBLANK(K30),\" \",IF(ISBLANK(K31),\" \",((K30-K31)/K31)*100))","v":" "},null,{"$f":"IF(ISBLANK(M30),\" \",IF(ISBLANK(M31),\" \",((M30-M31)/M31)*100))","v":" "}]
[]
[]
[]
[]
[]
["Sets up Min and Max for charts",null,null,"Running Avg for Conditional Format",null,null,null,null,null,"AP upper & lower Tolerances"]
["#4",{"$f":"B21-8","v":{"$error":"#VALUE!"}},{"$f":"B21+8","v":{"$error":"#VALUE!"}},{"$f":"'S17'!$AC14","v":{"$error":"#N/A"}},{"$f":"'S17'!$AC15","v":{"$error":"#N/A"}},{"$f":"'S17'!$AC16","v":{"$error":"#N/A"}},{"$f":"'S17'!$AC17","v":{"$error":"#N/A"}},{"$f":"'S17'!$AC18","v":{"$error":"#N/A"}},{"$f":"'S17'!$AC19","v":{"$error":"#N/A"}},{"$f":"AP!E90","v":5},{"$f":"AP!E92","v":5}]
["#8",{"$f":"B22-6","v":{"$error":"#VALUE!"}},{"$f":"B22+6","v":{"$error":"#VALUE!"}},{"$f":"'S17'!$AA14","v":{"$error":"#N/A"}},{"$f":"'S17'!$AA15","v":{"$error":"#N/A"}},{"$f":"'S17'!$AA16","v":{"$error":"#N/A"}},{"$f":"'S17'!$AA17","v":{"$error":"#N/A"}},{"$f":"'S17'!$AA18","v":{"$error":"#N/A"}},{"$f":"'S17'!$AA19","v":{"$error":"#N/A"}},{"$f":"AP!E84","v":5},{"$f":"AP!E86","v":5}]
["#200",{"$f":"B27-2","v":{"$error":"#VALUE!"}},{"$f":"B27+2","v":{"$error":"#VALUE!"}},{"$f":"'S17'!$Y14","v":{"$error":"#N/A"}},{"$f":"'S17'!$Y15","v":{"$error":"#N/A"}},{"$f":"'S17'!$Y16","v":{"$error":"#N/A"}},{"$f":"'S17'!$Y17","v":{"$error":"#N/A"}},{"$f":"'S17'!$Y18","v":{"$error":"#N/A"}},{"$f":"'S17'!$Y19","v":{"$error":"#N/A"}},{"$f":"AP!E78","v":5},{"$f":"AP!E80","v":5}]
["AC",{"$f":"B28-0.4","v":{"$error":"#VALUE!"}},{"$f":"B28+0.4","v":{"$error":"#VALUE!"}},{"$f":"'S17'!$W14","v":{"$error":"#N/A"}},{"$f":"'S17'!$W15","v":{"$error":"#N/A"}},{"$f":"'S17'!$W16","v":{"$error":"#N/A"}},{"$f":"'S17'!$W17","v":{"$error":"#N/A"}},{"$f":"'S17'!$W18","v":{"$error":"#N/A"}},{"$f":"'S17'!$W19","v":{"$error":"#N/A"}},{"$f":"AP!E72","v":5},{"$f":"AP!E74","v":5}]
[null,null,null,{"$f":"'S17'!$U14","v":{"$error":"#N/A"}},{"$f":"'S17'!U15","v":{"$error":"#N/A"}},{"$f":"'S17'!U16","v":{"$error":"#N/A"}},{"$f":"'S17'!U17","v":{"$error":"#N/A"}},{"$f":"'S17'!U18","v":{"$error":"#N/A"}},{"$f":"'S17'!U19","v":{"$error":"#N/A"}},{"$f":"AP!E66","v":5},{"$f":"AP!E68","v":5}]
[null,null,null,{"$f":"'S17'!$S14","v":{"$error":"#N/A"}},{"$f":"'S17'!$S15","v":{"$error":"#N/A"}},{"$f":"'S17'!$S16","v":{"$error":"#N/A"}},{"$f":"'S17'!$S17","v":{"$error":"#N/A"}},{"$f":"'S17'!$S18","v":{"$error":"#N/A"}},{"$f":"'S17'!$S19","v":{"$error":"#N/A"}},{"$f":"AP!E60","v":3},{"$f":"AP!E62","v":3}]
[null,null,null,{"$f":"'S17'!$Q14","v":{"$error":"#N/A"}},{"$f":"'S17'!Q15","v":{"$error":"#N/A"}},{"$f":"'S17'!Q16","v":{"$error":"#N/A"}},{"$f":"'S17'!Q17","v":{"$error":"#N/A"}},{"$f":"'S17'!Q18","v":{"$error":"#N/A"}},{"$f":"'S17'!Q19","v":{"$error":"#N/A"}},{"$f":"AP!E54","v":3},{"$f":"AP!E56","v":3}]
[null,null,null,{"$f":"'S17'!$O14","v":{"$error":"#N/A"}},{"$f":"'S17'!O15","v":{"$error":"#N/A"}},{"$f":"'S17'!O16","v":{"$error":"#N/A"}},{"$f":"'S17'!O17","v":{"$error":"#N/A"}},{"$f":"'S17'!O18","v":{"$error":"#N/A"}},{"$f":"'S17'!O19","v":{"$error":"#N/A"}},{"$f":"AP!E47","v":3},{"$f":"AP!E49","v":3}]
[null,null,null,{"$f":"'S17'!$M14","v":{"$error":"#N/A"}},{"$f":"'S17'!$M15","v":{"$error":"#N/A"}},{"$f":"'S17'!$M16","v":{"$error":"#N/A"}},{"$f":"'S17'!$M17","v":{"$error":"#N/A"}},{"$f":"'S17'!$M18","v":{"$error":"#N/A"}},{"$f":"'S17'!$M19","v":{"$error":"#N/A"}},{"$f":"AP!E40","v":3},{"$f":"AP!E42","v":3}]
[null,null,null,{"$f":"'S17'!$K14","v":{"$error":"#N/A"}},{"$f":"'S17'!$K15","v":{"$error":"#N/A"}},{"$f":"'S17'!$K16","v":{"$error":"#N/A"}},{"$f":"'S17'!$K17","v":{"$error":"#N/A"}},{"$f":"'S17'!$K18","v":{"$error":"#N/A"}},{"$f":"'S17'!$K19","v":{"$error":"#N/A"}},{"$f":"AP!E34","v":3},{"$f":"AP!E36","v":3}]
[null,null,null,{"$f":"'S17'!$I14","v":{"$error":"#N/A"}},{"$f":"'S17'!$I15","v":{"$error":"#N/A"}},{"$f":"'S17'!$I16","v":{"$error":"#N/A"}},{"$f":"'S17'!$I17","v":{"$error":"#N/A"}},{"$f":"'S17'!$I18","v":{"$error":"#N/A"}},{"$f":"'S17'!$I19","v":{"$error":"#N/A"}},{"$f":"AP!E28","v":3},{"$f":"AP!E30","v":3}]
[null,null,null,{"$f":"'S17'!$G14","v":{"$error":"#N/A"}},{"$f":"'S17'!$G15","v":{"$error":"#N/A"}},{"$f":"'S17'!$G16","v":{"$error":"#N/A"}},{"$f":"'S17'!$G17","v":{"$error":"#N/A"}},{"$f":"'S17'!$G18","v":{"$error":"#N/A"}},{"$f":"'S17'!$G19","v":{"$error":"#N/A"}},{"$f":"AP!E22","v":3},{"$f":"AP!E24","v":3}]
[null,null,null,{"$f":"'S17'!E14","v":{"$error":"#N/A"}},{"$f":"'S17'!E15","v":{"$error":"#N/A"}},{"$f":"'S17'!E16","v":{"$error":"#N/A"}},{"$f":"'S17'!E17","v":{"$error":"#N/A"}},{"$f":"'S17'!E18","v":{"$error":"#N/A"}},{"$f":"'S17'!E19","v":{"$error":"#N/A"}},{"$f":"AP!E15","v":1},{"$f":"AP!E17","v":1}]
[null,null,null,{"$f":"ROUND('S17'!C14,1)","v":{"$error":"#N/A"}},{"$f":"ROUND('S17'!C15,1)","v":{"$error":"#N/A"}},{"$f":"ROUND('S17'!C16,1)","v":{"$error":"#N/A"}},{"$f":"ROUND('S17'!C17,1)","v":{"$error":"#N/A"}},{"$f":"ROUND('S17'!C18,1)","v":{"$error":"#N/A"}},{"$f":"ROUND('S17'!C19,1)","v":{"$error":"#N/A"}},{"$f":"AP!E7","v":0.2},{"$f":"AP!E9","v":0.2}]
["Tested By"]
["Remarks",null,{"$f":"IF(AND(T94=3,'S2'!M54=\"Single sample deviation, resample within 150 tons. Document corrective action\"),\"Deviation on 150 ton sample, suspend production of JMF\",IF(AND(T88=2,'S2'!M54=\"Multiple sample deviation, resample within 150 tons. Document corrective action\"),\"Deviation on 150 ton sample, suspend production of JMF\",IF(AND(T88=2,'S2'!M54=\"Single sample deviation, resample within 150 tons. Document corrective action\"),\"Deviation on 150 ton sample, suspend production of JMF\",IF(T94=3,\"Single sample deviation, resample within 150 tons. Document corrective action\",IF(T88=2,\"Multiple sample deviation, resample within 150 tons. Document corrective action\",IF(T71=1,\"Action area, document corrective action\",\" \"))))))","v":{"$error":"#N/A"}},null,{"$f":"IF(AND(U94=3,C54=\"Single sample deviation, resample within 150 tons. Document corrective action\"),\"Deviation on 150 ton sample, suspend production of JMF\",IF(AND(U88=2,C54=\"Multiple sample deviation, resample within 150 tons. Document corrective action\"),\"Deviation on 150 ton sample, suspend production of JMF\",IF(AND(U88=2,C54=\"Single sample deviation, resample within 150 tons. Document corrective action\"),\"Deviation on 150 ton sample, suspend production of JMF\",IF(U94=3,\"Single sample deviation, resample within 150 tons. Document corrective action\",IF(U88=2,\"Multiple sample deviation, resample within 150 tons. Document corrective action\",IF(U71=1,\"Action area, document corrective action\",\" \"))))))","v":{"$error":"#N/A"}},null,{"$f":"IF(AND(V94=3,E54=\"Single sample deviation, resample within 150 tons. Document corrective action\"),\"Deviation on 150 ton sample, suspend production of JMF\",IF(AND(V88=2,E54=\"Multiple sample deviation, resample within 150 tons. Document corrective action\"),\"Deviation on 150 ton sample, suspend production of JMF\",IF(AND(V88=2,E54=\"Single sample deviation, resample within 150 tons. Document corrective action\"),\"Deviation on 150 ton sample, suspend production of JMF\",IF(V94=3,\"Single sample deviation, resample within 150 tons. Document corrective action\",IF(V88=2,\"Multiple sample deviation, resample within 150 tons. Document corrective action\",IF(V71=1,\"Action area, document corrective action\",\" \"))))))","v":{"$error":"#N/A"}},null,{"$f":"IF(AND(W94=3,G54=\"Single sample deviation, resample within 150 tons. Document corrective action\"),\"Deviation on 150 ton sample, suspend production of JMF\",IF(AND(W88=2,G54=\"Multiple sample deviation, resample within 150 tons. Document corrective action\"),\"Deviation on 150 ton sample, suspend production of JMF\",IF(AND(W88=2,G54=\"Single sample deviation, resample within 150 tons. Document corrective action\"),\"Deviation on 150 ton sample, suspend production of JMF\",IF(W94=3,\"Single sample deviation, resample within 150 tons. Document corrective action\",IF(W88=2,\"Multiple sample deviation, resample within 150 tons. Document corrective action\",IF(W71=1,\"Action area, document corrective action\",\" \"))))))","v":{"$error":"#N/A"}},null,{"$f":"IF(AND(X94=3,I54=\"Single sample deviation, resample within 150 tons. Document corrective action\"),\"Deviation on 150 ton sample, suspend production of JMF\",IF(AND(X88=2,I54=\"Multiple sample deviation, resample within 150 tons. Document corrective action\"),\"Deviation on 150 ton sample, suspend production of JMF\",IF(AND(X88=2,I54=\"Single sample deviation, resample within 150 tons. Document corrective action\"),\"Deviation on 150 ton sample, suspend production of JMF\",IF(X94=3,\"Single sample deviation, resample within 150 tons. Document corrective action\",IF(X88=2,\"Multiple sample deviation, resample within 150 tons. Document corrective action\",IF(X71=1,\"Action area, document corrective action\",\" \"))))))","v":{"$error":"#N/A"}},null,{"$f":"IF(AND(Y94=3,K54=\"Single sample deviation, resample within 150 tons. Document corrective action\"),\"Deviation on 150 ton sample, suspend production of JMF\",IF(AND(Y88=2,K54=\"Multiple sample deviation, resample within 150 tons. Document corrective action\"),\"Deviation on 150 ton sample, suspend production of JMF\",IF(AND(Y88=2,K54=\"Single sample deviation, resample within 150 tons. Document corrective action\"),\"Deviation on 150 ton sample, suspend production of JMF\",IF(Y94=3,\"Single sample deviation, resample within 150 tons. Document corrective action\",IF(Y88=2,\"Multiple sample deviation, resample within 150 tons. Document corrective action\",IF(Y71=1,\"Action area, document corrective action\",\" \"))))))","v":{"$error":"#N/A"}}]
[]
[null,null,null,null,null,null,null,null,null,null,null,null,null,null,null,null,null,null,"Action points flags"]
[null,null,null,null,null,null,null,null,null,null,null,null,null,null,null,null,null,2,{"$f":"$B$15","v":" "},{"$f":"IF(ISBLANK(C15),0,IF(OR(D39>=$S57+$J39,D39<=$S57-$K39),1,0))","v":0},{"$f":"IF(ISBLANK(E15),0,IF(OR(E39>=$S57+$J39,E39<=$S57-$K39),1,0))","v":0},{"$f":"IF(ISBLANK(G15),0,IF(OR(F39>=$S57+$J39,F39<=$S57-$K39),1,0))","v":0},{"$f":"IF(ISBLANK(I15),0,IF(OR(G39>=$S57+$J39,G39<=$S57-$K39),1,0))","v":0},{"$f":"IF(ISBLANK(K15),0,IF(OR(H39>=$S57+$J39,H39<=$S57-$K39),1,0))","v":0},{"$f":"IF(ISBLANK(M15),0,IF(OR(I39>=$S57+$J39,I39<=$S57-$K39),1,0))","v":0}]
[null,null,null,null,null,null,null,null,null,null,null,null,null,null,null,null,null,1.5,{"$f":"$B$16","v":" "},{"$f":"IF(ISBLANK(C16),0,IF(OR(D40>=$S58+$J40,D40<=$S58-$K40),1,0))","v":0},{"$f":"IF(ISBLANK(E16),0,IF(OR(E40>=$S58+$J40,E40<=$S58-$K40),1,0))","v":0},{"$f":"IF(ISBLANK(G16),0,IF(OR(F40>=$S58+$J40,F40<=$S58-$K40),1,0))","v":0},{"$f":"IF(ISBLANK(I16),0,IF(OR(G40>=$S58+$J40,G40<=$S58-$K40),1,0))","v":0},{"$f":"IF(ISBLANK(K16),0,IF(OR(H40>=$S58+$J40,H40<=$S58-$K40),1,0))","v":0},{"$f":"IF(ISBLANK(M16),0,IF(OR(I40>=$S58+$J40,I40<=$S58-$K40),1,0))","v":0}]
[null,null,null,null,null,null,null,null,null,null,null,null,null,null,null,null,null,1,{"$f":"$B$17","v":" "},{"$f":"IF(ISBLANK(C17),0,IF(OR(D41>=$S59+$J41,D41<=$S59-$K41),1,0))","v":0},{"$f":"IF(ISBLANK(E17),0,IF(OR(E41>=$S59+$J41,E41<=$S59-$K41),1,0))","v":0},{"$f":"IF(ISBLANK(G17),0,IF(OR(F41>=$S59+$J41,F41<=$S59-$K41),1,0))","v":0},{"$f":"IF(ISBLANK(I17),0,IF(OR(G41>=$S59+$J41,G41<=$S59-$K41),1,0))","v":0},{"$f":"IF(ISBLANK(K17),0,IF(OR(H41>=$S59+$J41,H41<=$S59-$K41),1,0))","v":0},{"$f":"IF(ISBLANK(M17),0,IF(OR(I41>=$S59+$J41,I41<=$S59-$K41),1,0))","v":0}]
[null,null,null,null,null,null,null,null,null,null,null,null,null,null,null,null,null,0.75,{"$f":"$B$18","v":" "},{"$f":"IF(ISBLANK(C18),0,IF(OR(D42>=$S60+$J42,D42<=$S60-$K42),1,0))","v":0},{"$f":"IF(ISBLANK(E18),0,IF(OR(E42>=$S60+$J42,E42<=$S60-$K42),1,0))","v":0},{"$f":"IF(ISBLANK(G18),0,IF(OR(F42>=$S60+$J42,F42<=$S60-$K42),1,0))","v":0},{"$f":"IF(ISBLANK(I18),0,IF(OR(G42>=$S60+$J42,G42<=$S60-$K42),1,0))","v":0},{"$f":"IF(ISBLANK(K18),0,IF(OR(H42>=$S60+$J42,H42<=$S60-$K42),1,0))","v":0},{"$f":"IF(ISBLANK(M18),0,IF(OR(I42>=$S60+$J42,I42<=$S60-$K42),1,0))","v":0}]
[null,null,null,null,null,null,null,null,null,null,null,null,null,null,null,null,null,0.5,{"$f":"$B$19","v":" "},{"$f":"IF(ISBLANK(C19),0,IF(OR(D43>=$S61+$J43,D43<=$S61-$K43),1,0))","v":0},{"$f":"IF(ISBLANK(E19),0,IF(OR(E43>=$S61+$J43,E43<=$S61-$K43),1,0))","v":0},{"$f":"IF(ISBLANK(G19),0,IF(OR(F43>=$S61+$J43,F43<=$S61-$K43),1,0))","v":0},{"$f":"IF(ISBLANK(I19),0,IF(OR(G43>=$S61+$J43,G43<=$S61-$K43),1,0))","v":0},{"$f":"IF(ISBLANK(K19),0,IF(OR(H43>=$S61+$J43,H43<=$S61-$K43),1,0))","v":0},{"$f":"IF(ISBLANK(M19),0,IF(OR(I43>=$S61+$J43,I43<=$S61-$K43),1,0))","v":0}]
[null,null,null,null,null,null,null,null,null,null,null,null,null,null,null,null,null,0.375,{"$f":"$B$20","v":" "},{"$f":"IF(OR(D44>=$S62+$J44,D44<=$S62-$K44),1,0)","v":{"$error":"#N/A"}},{"$error":"#N/A"},{"$error":"#N/A"},{"$error":"#N/A"},{"$error":"#N/A"},{"$error":"#N/A"}]
[null,null,null,null,null,null,null,null,null,null,null,null,null,null,null,null,null,4,{"$f":"$B$21","v":" "},{"$error":"#N/A"},{"$error":"#N/A"},{"$error":"#N/A"},{"$error":"#N/A"},{"$error":"#N/A"},{"$error":"#N/A"}]
[null,null,null,null,null,null,null,null,null,null,null,null,null,null,null,null,null,8,{"$f":"$B$22","v":" "},{"$error":"#N/A"},{"$error":"#N/A"},{"$error":"#N/A"},{"$error":"#N/A"},{"$error":"#N/A"},{"$error":"#N/A"}]
[null,null,null,null,null,null,null,null,null,null,null,null,null,null,null,null,null,16,{"$f":"$B$23","v":" "},{"$error":"#N/A"},{"$error":"#N/A"},{"$error":"#N/A"},{"$error":"#N/A"},{"$error":"#N/A"},{"$error":"#N/A"}]
[null,null,null,null,null,null,null,null,null,null,null,null,null,null,null,null,null,30,{"$f":"$B$24","v":" "},{"$error":"#N/A"},{"$error":"#N/A"},{"$error":"#N/A"},{"$error":"#N/A"},{"$error":"#N/A"},{"$error":"#N/A"}]
[null,null,null,null,null,null,null,null,null,null,null,null,null,null,null,null,null,50,{"$f":"$B$25","v":" "},{"$error":"#N/A"},{"$error":"#N/A"},{"$error":"#N/A"},{"$error":"#N/A"},{"$error":"#N/A"},{"$error":"#N/A"}]
[null,null,null,null,null,null,null,null,null,null,null,null,null,null,null,null,null,100,{"$f":"$B$26","v":" "},{"$error":"#N/A"},{"$error":"#N/A"},{"$error":"#N/A"},{"$error":"#N/A"},{"$error":"#N/A"},{"$error":"#N/A"}]
[null,null,null,null,null,null,null,null,null,null,null,null,null,null,null,null,null,200,{"$f":"$B$27","v":" "},{"$error":"#N/A"},{"$error":"#N/A"},{"$error":"#N/A"},{"$error":"#N/A"},{"$error":"#N/A"},{"$error":"#N/A"}]
[null,null,null,null,null,null,null,null,null,null,null,null,null,null,null,null,null,"%AC",{"$f":"$B$28","v":" "},{"$error":"#N/A"},{"$error":"#N/A"},{"$error":"#N/A"},{"$error":"#N/A"},{"$error":"#N/A"},{"$error":"#N/A"}]
[null,null,{"$f":"MAX(C15:C23)","v":0},null,{"$f":"MAX(E15:E23)","v":0},null,{"$f":"MAX(G15:G23)","v":0},null,{"$f":"MAX(I15:I23)","v":0},null,{"$f":"MAX(K15:K23)","v":0},null,{"$f":"MAX(M15:M23)","v":0},null,null,null,null,null,"Max",{"$f":"MAX(T56:T70)","v":{"$error":"#N/A"}},{"$error":"#N/A"},{"$error":"#N/A"},{"$error":"#N/A"},{"$error":"#N/A"},{"$error":"#N/A"}]
[]
[null,null,null,null,null,null,null,null,null,null,null,null,null,null,null,null,null,null,"Multiple sample flag"]
[null,null,null,null,null,null,null,null,null,null,null,null,null,null,null,null,null,2,{"$f":"$B$15","v":" "},{"$f":"IF(ISBLANK(C15),0,IF(OR(D39>$S74+AP!$E$89,D39<$S74-AP!$E$93),2,0))","v":0},{"$f":"IF(ISBLANK(E15),0,IF(OR(E39>$S74+AP!$E$89,E39<$S74-AP!$E$93),2,0))","v":0},{"$f":"IF(ISBLANK(G15),0,IF(OR(F39>$S74+AP!$E$89,F39<$S74-AP!$E$93),2,0))","v":0},{"$f":"IF(ISBLANK(I15),0,IF(OR(G39>$S74+AP!$E$89,G39<$S74-AP!$E$93),2,0))","v":0},{"$f":"IF(ISBLANK(K15),0,IF(OR(H39>$S74+AP!$E$89,H39<$S74-AP!$E$93),2,0))","v":0},{"$f":"IF(ISBLANK(M15),0,IF(OR(I39>$S74+AP!$E$89,I39<$S74-AP!$E$93),2,0))","v":0}]
[null,null,null,null,null,null,null,null,null,null,null,null,null,null,null,null,null,1.5,{"$f":"$B$16","v":" "},{"$f":"IF(ISBLANK(C16),0,IF(OR(D40>$S75+AP!$E$83,D40<$S75-AP!$E$87),2,0))","v":0},{"$f":"IF(ISBLANK(E16),0,IF(OR(E40>$S75+AP!$E$89,E40<$S75-AP!$E$93),2,0))","v":0},{"$f":"IF(ISBLANK(G16),0,IF(OR(F40>$S75+AP!$E$89,F40<$S75-AP!$E$93),2,0))","v":0},{"$f":"IF(ISBLANK(I16),0,IF(OR(G40>$S75+AP!$E$89,G40<$S75-AP!$E$93),2,0))","v":0},{"$f":"IF(ISBLANK(K16),0,IF(OR(H40>$S75+AP!$E$89,H40<$S75-AP!$E$93),2,0))","v":0},{"$f":"IF(ISBLANK(M16),0,IF(OR(I40>$S75+AP!$E$89,I40<$S75-AP!$E$93),2,0))","v":0}]
[null,null,null,null,null,null,null,null,null,null,null,null,null,null,null,null,null,1,{"$f":"$B$17","v":" "},{"$f":"IF(ISBLANK(C17),0,IF(OR(D41>$S76+AP!$E$83,D41<$S76-AP!$E$87),2,0))","v":0},{"$f":"IF(ISBLANK(E17),0,IF(OR(E41>$S76+AP!$E$89,E41<$S76-AP!$E$93),2,0))","v":0},{"$f":"IF(ISBLANK(G17),0,IF(OR(F41>$S76+AP!$E$89,F41<$S76-AP!$E$93),2,0))","v":0},{"$f":"IF(ISBLANK(I17),0,IF(OR(G41>$S76+AP!$E$89,G41<$S76-AP!$E$93),2,0))","v":0},{"$f":"IF(ISBLANK(K17),0,IF(OR(H41>$S76+AP!$E$89,H41<$S76-AP!$E$93),2,0))","v":0},{"$f":"IF(ISBLANK(M17),0,IF(OR(I41>$S76+AP!$E$89,I41<$S76-AP!$E$93),2,0))","v":0}]
[null,null,null,null,null,null,null,null,null,null,null,null,null,null,null,null,null,0.75,{"$f":"$B$18","v":" "},{"$f":"IF(ISBLANK(C18),0,IF(OR(D42>$S77+AP!$E$83,D42<$S77-AP!$E$87),2,0))","v":0},{"$f":"IF(ISBLANK(E18),0,IF(OR(E42>$S77+AP!$E$89,E42<$S77-AP!$E$93),2,0))","v":0},{"$f":"IF(ISBLANK(G18),0,IF(OR(F42>$S77+AP!$E$89,F42<$S77-AP!$E$93),2,0))","v":0},{"$f":"IF(ISBLANK(I18),0,IF(OR(G42>$S77+AP!$E$89,G42<$S77-AP!$E$93),2,0))","v":0},{"$f":"IF(ISBLANK(K18),0,IF(OR(H42>$S77+AP!$E$89,H42<$S77-AP!$E$93),2,0))","v":0},{"$f":"IF(ISBLANK(M18),0,IF(OR(I42>$S77+AP!$E$89,I42<$S77-AP!$E$93),2,0))","v":0}]
[null,null,null,null,null,null,null,null,null,null,null,null,null,null,null,null,null,0.5,{"$f":"$B$19","v":" "},{"$f":"IF(ISBLANK(C19),0,IF(OR(D43>$S78+AP!$E$83,D43<$S78-AP!$E$87),2,0))","v":0},{"$f":"IF(ISBLANK(E19),0,IF(OR(E43>$S78+AP!$E$89,E43<$S78-AP!$E$93),2,0))","v":0},{"$f":"IF(ISBLANK(G19),0,IF(OR(F43>$S78+AP!$E$89,F43<$S78-AP!$E$93),2,0))","v":0},{"$f":"IF(ISBLANK(I19),0,IF(OR(G43>$S78+AP!$E$89,G43<$S78-AP!$E$93),2,0))","v":0},{"$f":"IF(ISBLANK(K19),0,IF(OR(H43>$S78+AP!$E$89,H43<$S78-AP!$E$93),2,0))","v":0},{"$f":"IF(ISBLANK(M19),0,IF(OR(I43>$S78+AP!$E$89,I43<$S78-AP!$E$93),2,0))","v":0}]
[null,null,null,null,null,null,null,null,null,null,null,null,null,null,null,null,null,0.375,{"$f":"$B$20","v":" "},{"$f":"IF(OR(D44>$S79+AP!$E$59,D44<$S79-AP!$E$63),2,0)","v":{"$error":"#N/A"}},{"$f":"IF(OR(E44>$S79+AP!$E$59,E44<$S79-AP!$E$63),2,0)","v":{"$error":"#N/A"}},{"$f":"IF(OR(F44>$S79+AP!$E$59,F44<$S79-AP!$E$63),2,0)","v":{"$error":"#N/A"}},{"$f":"IF(OR(G44>$S79+AP!$E$59,G44<$S79-AP!$E$63),2,0)","v":{"$error":"#N/A"}},{"$f":"IF(OR(H44>$S79+AP!$E$59,H44<$S79-AP!$E$63),2,0)","v":{"$error":"#N/A"}},{"$f":"IF(OR(I44>$S79+AP!$E$59,I44<$S79-AP!$E$63),2,0)","v":{"$error":"#N/A"}}]
[null,null,null,null,null,null,null,null,null,null,null,null,null,null,null,null,null,4,{"$f":"$B$21","v":" "},{"$f":"IF(OR(D45>$S80+AP!$E$53,D45<$S80-AP!$E$57),2,0)","v":{"$error":"#N/A"}},{"$f":"IF(OR(E45>$S80+AP!$E$53,E45<$S80-AP!$E$57),2,0)","v":{"$error":"#N/A"}},{"$f":"IF(OR(F45>$S80+AP!$E$53,F45<$S80-AP!$E$57),2,0)","v":{"$error":"#N/A"}},{"$f":"IF(OR(G45>$S80+AP!$E$53,G45<$S80-AP!$E$57),2,0)","v":{"$error":"#N/A"}},{"$f":"IF(OR(H45>$S80+AP!$E$53,H45<$S80-AP!$E$57),2,0)","v":{"$error":"#N/A"}},{"$f":"IF(OR(I45>$S80+AP!$E$53,I45<$S80-AP!$E$57),2,0)","v":{"$error":"#N/A"}}]
[null,null,null,null,null,null,null,null,null,null,null,null,null,null,null,null,null,8,{"$f":"$B$22","v":" "},{"$f":"IF(OR(D46>$S81+AP!$E$46,D46<$S81-AP!$E$50),2,0)","v":{"$error":"#N/A"}},{"$f":"IF(OR(E46>$S81+AP!$E$46,E46<$S81-AP!$E$50),2,0)","v":{"$error":"#N/A"}},{"$f":"IF(OR(F46>$S81+AP!$E$46,F46<$S81-AP!$E$50),2,0)","v":{"$error":"#N/A"}},{"$f":"IF(OR(G46>$S81+AP!$E$46,G46<$S81-AP!$E$50),2,0)","v":{"$error":"#N/A"}},{"$f":"IF(OR(H46>$S81+AP!$E$46,H46<$S81-AP!$E$50),2,0)","v":{"$error":"#N/A"}},{"$f":"IF(OR(I46>$S81+AP!$E$46,I46<$S81-AP!$E$50),2,0)","v":{"$error":"#N/A"}}]
[null,null,null,null,null,null,null,null,null,null,null,null,null,null,null,null,null,16,{"$f":"$B$23","v":" "},{"$f":"IF(OR(D47>$S82+AP!$E$39,D47<$S82-AP!$E$43),2,0)","v":{"$error":"#N/A"}},{"$f":"IF(OR(E47>$S82+AP!$E$39,E47<$S82-AP!$E$43),2,0)","v":{"$error":"#N/A"}},{"$f":"IF(OR(F47>$S82+AP!$E$39,F47<$S82-AP!$E$43),2,0)","v":{"$error":"#N/A"}},{"$f":"IF(OR(G47>$S82+AP!$E$39,G47<$S82-AP!$E$43),2,0)","v":{"$error":"#N/A"}},{"$f":"IF(OR(H47>$S82+AP!$E$39,H47<$S82-AP!$E$43),2,0)","v":{"$error":"#N/A"}},{"$f":"IF(OR(I47>$S82+AP!$E$39,I47<$S82-AP!$E$43),2,0)","v":{"$error":"#N/A"}}]
[null,null,null,null,null,null,null,null,null,null,null,null,null,null,null,null,null,30,{"$f":"$B$24","v":" "},{"$f":"IF(OR(D48>$S83+AP!$E$33,D48<$S83-AP!$E$37),2,0)","v":{"$error":"#N/A"}},{"$f":"IF(OR(E48>$S83+AP!$E$33,E48<$S83-AP!$E$37),2,0)","v":{"$error":"#N/A"}},{"$f":"IF(OR(F48>$S83+AP!$E$33,F48<$S83-AP!$E$37),2,0)","v":{"$error":"#N/A"}},{"$f":"IF(OR(G48>$S83+AP!$E$33,G48<$S83-AP!$E$37),2,0)","v":{"$error":"#N/A"}},{"$f":"IF(OR(H48>$S83+AP!$E$33,H48<$S83-AP!$E$37),2,0)","v":{"$error":"#N/A"}},{"$f":"IF(OR(I48>$S83+AP!$E$33,I48<$S83-AP!$E$37),2,0)","v":{"$error":"#N/A"}}]
[null,null,null,null,null,null,null,null,null,null,null,null,null,null,null,null,null,50,{"$f":"$B$25","v":" "},{"$f":"IF(OR(D49>$S84+AP!$E$27,D49<$S84-AP!$E$31),2,0)","v":{"$error":"#N/A"}},{"$f":"IF(OR(E49>$S84+AP!$E$27,E49<$S84-AP!$E$31),2,0)","v":{"$error":"#N/A"}},{"$f":"IF(OR(F49>$S84+AP!$E$27,F49<$S84-AP!$E$31),2,0)","v":{"$error":"#N/A"}},{"$f":"IF(OR(G49>$S84+AP!$E$27,G49<$S84-AP!$E$31),2,0)","v":{"$error":"#N/A"}},{"$f":"IF(OR(H49>$S84+AP!$E$27,H49<$S84-AP!$E$31),2,0)","v":{"$error":"#N/A"}},{"$f":"IF(OR(I49>$S84+AP!$E$27,I49<$S84-AP!$E$31),2,0)","v":{"$error":"#N/A"}}]
[null,null,null,null,null,null,null,null,null,null,null,null,null,null,null,null,null,100,{"$f":"$B$26","v":" "},{"$f":"IF(OR(D50>$S85+AP!$E$21,D50<$S85-AP!$E$25),2,0)","v":{"$error":"#N/A"}},{"$f":"IF(OR(E50>$S85+AP!$E$21,E50<$S85-AP!$E$25),2,0)","v":{"$error":"#N/A"}},{"$f":"IF(OR(F50>$S85+AP!$E$21,F50<$S85-AP!$E$25),2,0)","v":{"$error":"#N/A"}},{"$f":"IF(OR(G50>$S85+AP!$E$21,G50<$S85-AP!$E$25),2,0)","v":{"$error":"#N/A"}},{"$f":"IF(OR(H50>$S85+AP!$E$21,H50<$S85-AP!$E$25),2,0)","v":{"$error":"#N/A"}},{"$f":"IF(OR(I50>$S85+AP!$E$21,I50<$S85-AP!$E$25),2,0)","v":{"$error":"#N/A"}}]
[null,null,null,null,null,null,null,null,null,null,null,null,null,null,null,null,null,200,{"$f":"$B$27","v":" "},{"$f":"IF(OR(D51>$S86+AP!$E$14,D51<$S86-AP!$E$18),2,0)","v":{"$error":"#N/A"}},{"$f":"IF(OR(E51>$S86+AP!$E$14,E51<$S86-AP!$E$18),2,0)","v":{"$error":"#N/A"}},{"$f":"IF(OR(F51>$S86+AP!$E$14,F51<$S86-AP!$E$18),2,0)","v":{"$error":"#N/A"}},{"$f":"IF(OR(G51>$S86+AP!$E$14,G51<$S86-AP!$E$18),2,0)","v":{"$error":"#N/A"}},{"$f":"IF(OR(H51>$S86+AP!$E$14,H51<$S86-AP!$E$18),2,0)","v":{"$error":"#N/A"}},{"$f":"IF(OR(I51>$S86+AP!$E$14,I51<$S86-AP!$E$18),2,0)","v":{"$error":"#N/A"}}]
[null,null,null,null,null,null,null,null,null,null,null,null,null,null,null,null,null,"%AC",{"$f":"$B$28","v":" "},{"$f":"IF(OR(D52>AP!$L$6,D52<AP!$L$10),2,0)","v":{"$error":"#N/A"}},{"$f":"IF(OR(E52>AP!$L$6,E52<AP!$L$10),2,0)","v":{"$error":"#N/A"}},{"$f":"IF(OR(F52>AP!$L$6,F52<AP!$L$10),2,0)","v":{"$error":"#N/A"}},{"$f":"IF(OR(G52>AP!$L$6,G52<AP!$L$10),2,0)","v":{"$error":"#N/A"}},{"$f":"IF(OR(H52>AP!$L$6,H52<AP!$L$10),2,0)","v":{"$error":"#N/A"}},{"$f":"IF(OR(I52>AP!$L$6,I52<AP!$L$10),2,0)","v":{"$error":"#N/A"}}]
[null,null,null,null,null,null,null,null,null,null,null,null,null,null,null,null,null,null,"Max",{"$f":"MAX(T74:T87)","v":{"$error":"#N/A"}},{"$error":"#N/A"},{"$error":"#N/A"},{"$error":"#N/A"},{"$error":"#N/A"},{"$error":"#N/A"}]
[]
[null,null,null,null,null,null,null,null,null,null,null,null,null,null,null,null,null,null,"Single sample flag"]
[null,null,null,null,null,null,null,null,null,null,null,null,null,null,null,null,null,8,{"$f":"$B$22","v":" "},{"$f":"IF(OR($D$22>$S91+AP!$E$45,$D$22<$S91-AP!$E$51),3,0)","v":{"$error":"#VALUE!"}},{"$f":"IF(OR($F$22>$S91+AP!$E$45,$F$22<$S91-AP!$E$51),3,0)","v":{"$error":"#VALUE!"}},{"$f":"IF(OR($H$22>$S91+AP!$E$45,$H$22<$S91-AP!$E$51),3,0)","v":{"$error":"#VALUE!"}},{"$f":"IF(OR($J$22>$S91+AP!$E$45,$J$22<$S91-AP!$E$51),3,0)","v":{"$error":"#VALUE!"}},{"$f":"IF(OR($L$22>$S91+AP!$E$45,$L$22<$S91-AP!$E$51),3,0)","v":{"$error":"#VALUE!"}},{"$f":"IF(OR($N$22>$S91+AP!$E$45,$N$22<$S91-AP!$E$51),3,0)","v":{"$error":"#VALUE!"}}]
[null,null,null,null,null,null,null,null,null,null,null,null,null,null,null,null,null,200,{"$f":"$B$27","v":" "},{"$f":"IF(OR($D$27>$S92+AP!$E$13,$D$27<$S92-AP!$E$19),3,0)","v":{"$error":"#VALUE!"}},{"$f":"IF(OR($F$27>$S92+AP!$E$13,$F$27<$S92-AP!$E$19),3,0)","v":{"$error":"#VALUE!"}},{"$f":"IF(OR($H$27>$S92+AP!$E$13,$H$27<$S92-AP!$E$19),3,0)","v":{"$error":"#VALUE!"}},{"$f":"IF(OR($J$27>$S92+AP!$E$13,$J$27<$S92-AP!$E$19),3,0)","v":{"$error":"#VALUE!"}},{"$f":"IF(OR($L$27>$S92+AP!$E$13,$L$27<$S92-AP!$E$19),3,0)","v":{"$error":"#VALUE!"}},{"$f":"IF(OR($N$27>$S92+AP!$E$13,$N$27<$S92-AP!$E$19),3,0)","v":{"$error":"#VALUE!"}}]
[null,null,null,null,null,null,null,null,null,null,null,null,null,null,null,null,null,"%AC",{"$f":"$B$28","v":" "},{"$f":"IF(OR($C$28>AP!$L$5,$C$28<AP!$L$11),3,0)","v":0},{"$f":"IF(OR($E$28>AP!$L$5,$E$28<AP!$L$11),3,0)","v":0},{"$f":"IF(OR($G$28>AP!$L$5,$G$28<AP!$L$11),3,0)","v":0},{"$f":"IF(OR($I$28>AP!$L$5,$I$28<AP!$L$11),3,0)","v":0},{"$f":"IF(OR($K$28>AP!$L$5,$K$28<AP!$L$11),3,0)","v":0},{"$f":"IF(OR($M$28>AP!$L$5,$M$28<AP!$L$11),3,0)","v":0}]
[null,null,null,null,null,null,null,null,null,null,null,null,null,null,null,null,null,null,"Max",{"$f":"IF(ISBLANK(C27),\" \",MAX(T91:T93))","v":" "},{"$f":"IF(ISBLANK(E27),\" \",MAX(U91:U93))","v":" "},{"$f":"IF(ISBLANK(G27),\" \",MAX(V91:V93))","v":" "},{"$f":"IF(ISBLANK(I27),\" \",MAX(W91:W93))","v":" "},{"$f":"IF(ISBLANK(K27),\" \",MAX(X91:X93))","v":" "},{"$f":"IF(ISBLANK(M27),\" \",MAX(Y91:Y93))","v":" "}]

{"sheet":"S4","index":3,"n_rows":94,"n_cols":25,"rows_kept":94,"cut":false,"hidden":true,"merged":[[89,18,89,24],[53,6,58,7],[53,8,58,9],[53,10,58,11],[53,12,58,13],[59,12,68,13],[59,10,68,11],[59,8,68,9],[31,12,31,13],[59,6,68,7],[53,0,68,1],[53,2,58,3],[53,4,58,5],[59,4,68,5],[59,2,68,3],[55,18,55,24],[72,18,72,24],[10,4,10,5],[28,6,28,7],[11,12,11,13],[11,10,11,11],[12,10,12,11],[27,4,27,5],[27,6,27,7],[52,0,52,1],[52,2,52,3],[52,4,52,5],[52,6,52,7],[52,8,52,9],[52,10,52,11],[52,12,52,13],[29,0,31,0],[30,2,30,3],[31,10,31,11],[37,0,37,2],[37,9,37,10],[37,3,37,8],[31,2,31,3],[31,4,31,5],[31,6,31,7],[31,8,31,9],[30,4,30,5],[30,6,30,7],[30,8,30,9],[30,10,30,11],[30,12,30,13],[12,6,12,7],[29,6,29,7],[28,10,28,11],[29,12,29,13],[27,10,27,11],[29,8,29,9],[29,10,29,11],[10,0,10,1],[10,2,10,3],[28,12,28,13],[27,12,27,13],[29,2,29,3],[29,4,29,5],[12,0,12,1],[27,2,27,3],[11,2,11,3],[11,0,11,1],[28,4,28,5],[28,2,28,3],[28,0,28,1],[12,2,12,3],[28,8,28,9],[27,8,27,9],[12,4,12,5],[1,12,1,13],[2,12,2,13],[1,10,1,11],[5,12,5,13],[5,10,5,11],[2,10,2,11],[6,10,6,11],[8,12,8,13],[10,6,10,7],[11,6,11,7],[11,8,11,9],[9,6,9,7],[6,12,6,13],[10,10,10,11],[10,8,10,9],[10,12,10,13],[8,10,8,11],[12,8,12,9],[12,12,12,13],[11,4,11,5],[0,0,3,1],[9,10,9,11],[9,12,9,13],[5,0,5,1],[5,5,5,8],[8,4,8,5],[7,0,7,2],[7,5,7,8],[8,6,8,7],[8,8,8,9],[9,0,9,1],[8,2,8,3],[8,0,8,1],[9,2,9,3],[9,8,9,9],[9,4,9,5]]}
[]
[null,null,null,null,"COMMONWEALTH OF PENNSYLVANIA",null,null,null,null,null,"DISTRICT",null,{"$f":"IF(ISBLANK('S1'!M2),\" \",('S1'!M2))","v":" "}]
[null,null,null,null,"DEPARTMENT OF TRANSPORTATION",null,null,null,null,null,"PLANT CODE",null,{"$f":"IF(ISBLANK('S1'!M3),\" \",('S1'!M3))","v":" "}]
[null,null,null,null,"LABORATORY TEST SECTION"]
[{"$f":"'S1'!A5","v":"ESB-16"}]
["Material Class ",null,{"$f":"IF(ISBLANK('S1'!C6),\" \",('S1'!C6))","v":9.5},"mm",null,"Burnoff Results",null,null,null,null,"Design No.",null,{"$f":"IF(ISBLANK('S1'!M6),\" \",('S1'!M6))","v":" "}]
[null,null,null,null,null,null,null,null,null,null,"Gyrations @ Ndes",null,{"$f":"IF(ISBLANK('S1'!M7),\" \",'S1'!M7)","v":" "}]
["-200 Correction Factor (+ or -)",null,null,{"$f":"IF(ISBLANK('S1'!D8),\" \",('S1'!D8))","v":" "},null,"Red values indicate action area"]
["Sample No."]
["Date"]
["St. Wt. Before Wash"]
["Dry Wt. After Wash"]
["Wt. Loss",null,{"$f":"IF(ISBLANK(C11),\" \",IF(ISBLANK(C12),\" \",C11-C12))","v":" "},null,{"$f":"IF(ISBLANK(E11),\" \",IF(ISBLANK(E12),\" \",E11-E12))","v":" "},null,{"$f":"IF(ISBLANK(G11),\" \",IF(ISBLANK(G12),\" \",G11-G12))","v":" "},null,{"$f":"IF(ISBLANK(I11),\" \",IF(ISBLANK(I12),\" \",I11-I12))","v":" "},null,{"$f":"IF(ISBLANK(K11),\" \",IF(ISBLANK(K12),\" \",K11-K12))","v":" "},null,{"$f":"IF(ISBLANK(M11),\" \",IF(ISBLANK(M12),\" \",M11-M12))","v":" "}]
["Size","JMF","Weight","%Passing","Weight","%Passing","Weight","%Passing","Weight","%Pasing","Weight","%Pasing","Weight","%Pasing"]
[2,{"$f":"IF(ISBLANK('S1'!B15),\" \",'S1'!B15)","v":" "},null,{"$f":"IF(ISBLANK(C11),\" \",IF(ISBLANK(C12),\" \",IF(ISBLANK(C15),\" \",ROUND((C15+C13)/C11*100,0))))","v":" "},null,{"$f":"IF(ISBLANK(E11),\" \",IF(ISBLANK(E12),\" \",IF(ISBLANK(E15),\" \",ROUND((E15+E13)/E11*100,0))))","v":" "},null,{"$f":"IF(ISBLANK(G11),\" \",IF(ISBLANK(G12),\" \",IF(ISBLANK(G15),\" \",ROUND((G15+G13)/G11*100,0))))","v":" "},null,{"$f":"IF(ISBLANK(I11),\" \",IF(ISBLANK(I12),\" \",IF(ISBLANK(I15),\" \",ROUND((I15+I13)/I11*100,0))))","v":" "},null,{"$f":"IF(ISBLANK(K11),\" \",IF(ISBLANK(K12),\" \",IF(ISBLANK(K15),\" \",ROUND((K15+K13)/K11*100,0))))","v":" "},null,{"$f":"IF(ISBLANK(M11),\" \",IF(ISBLANK(M12),\" \",IF(ISBLANK(M15),\" \",ROUND((M15+M13)/M11*100,0))))","v":" "}]
[1.5,{"$f":"IF(ISBLANK('S1'!B16),\" \",'S1'!B16)","v":" "},null,{"$f":"IF(ISBLANK(C11),\"  \",IF(ISBLANK(C12),\" \",IF(ISBLANK(C16),\" \",ROUND((C16+C13)/C11*100,0))))","v":"  "},null,{"$f":"IF(ISBLANK(E11),\"  \",IF(ISBLANK(E12),\" \",IF(ISBLANK(E16),\" \",ROUND((E16+E13)/E11*100,0))))","v":"  "},null,{"$f":"IF(ISBLANK(G11),\"  \",IF(ISBLANK(G12),\" \",IF(ISBLANK(G16),\" \",ROUND((G16+G13)/G11*100,0))))","v":"  "},null,{"$f":"IF(ISBLANK(I11),\"  \",IF(ISBLANK(I12),\" \",IF(ISBLANK(I16),\" \",ROUND((I16+I13)/I11*100,0))))","v":"  "},null,{"$f":"IF(ISBLANK(K11),\"  \",IF(ISBLANK(K12),\" \",IF(ISBLANK(K16),\" \",ROUND((K16+K13)/K11*100,0))))","v":"  "},null,{"$f":"IF(ISBLANK(M11),\"  \",IF(ISBLANK(M12),\" \",IF(ISBLANK(M16),\" \",ROUND((M16+M13)/M11*100,0))))","v":"  "}]
[1,{"$f":"IF(ISBLANK('S1'!B17),\" \",'S1'!B17)","v":" "},null,{"$f":"IF(ISBLANK(C11),\"  \",IF(ISBLANK(C12),\" \",IF(ISBLANK(C17),\" \",ROUND((C17+C13)/C11*100,0))))","v":"  "},null,{"$f":"IF(ISBLANK(E11),\"  \",IF(ISBLANK(E12),\" \",IF(ISBLANK(E17),\" \",ROUND((E17+E13)/E11*100,0))))","v":"  "},null,{"$f":"IF(ISBLANK(G11),\"  \",IF(ISBLANK(G12),\" \",IF(ISBLANK(G17),\" \",ROUND((G17+G13)/G11*100,0))))","v":"  "},null,{"$f":"IF(ISBLANK(I11),\"  \",IF(ISBLANK(I12),\" \",IF(ISBLANK(I17),\" \",ROUND((I17+I13)/I11*100,0))))","v":"  "},null,{"$f":"IF(ISBLANK(K11),\"  \",IF(ISBLANK(K12),\" \",IF(ISBLANK(K17),\" \",ROUND((K17+K13)/K11*100,0))))","v":"  "},null,{"$f":"IF(ISBLANK(M11),\"  \",IF(ISBLANK(M12),\" \",IF(ISBLANK(M17),\" \",ROUND((M17+M13)/M11*100,0))))","v":"  "}]
[0.75,{"$f":"IF(ISBLANK('S1'!B18),\" \",'S1'!B18)","v":" "},null,{"$f":"IF(ISBLANK(C11),\"  \",IF(ISBLANK(C12),\" \",IF(ISBLANK(C18),\" \",ROUND((C18+C13)/C11*100,0))))","v":"  "},null,{"$f":"IF(ISBLANK(E11),\"  \",IF(ISBLANK(E12),\" \",IF(ISBLANK(E18),\" \",ROUND((E18+E13)/E11*100,0))))","v":"  "},null,{"$f":"IF(ISBLANK(G11),\"  \",IF(ISBLANK(G12),\" \",IF(ISBLANK(G18),\" \",ROUND((G18+G13)/G11*100,0))))","v":"  "},null,{"$f":"IF(ISBLANK(I11),\"  \",IF(ISBLANK(I12),\" \",IF(ISBLANK(I18),\" \",ROUND((I18+I13)/I11*100,0))))","v":"  "},null,{"$f":"IF(ISBLANK(K11),\"  \",IF(ISBLANK(K12),\" \",IF(ISBLANK(K18),\" \",ROUND((K18+K13)/K11*100,0))))","v":"  "},null,{"$f":"IF(ISBLANK(M11),\"  \",IF(ISBLANK(M12),\" \",IF(ISBLANK(M18),\" \",ROUND((M18+M13)/M11*100,0))))","v":"  "}]
[0.5,{"$f":"IF(ISBLANK('S1'!B19),\" \",'S1'!B19)","v":" "},null,{"$f":"IF(ISBLANK(C11),\"  \",IF(ISBLANK(C12),\" \",IF(ISBLANK(C19),\" \",ROUND((C19+C13)/C11*100,0))))","v":"  "},null,{"$f":"IF(ISBLANK(E11),\"  \",IF(ISBLANK(E12),\" \",IF(ISBLANK(E19),\" \",ROUND((E19+E13)/E11*100,0))))","v":"  "},null,{"$f":"IF(ISBLANK(G11),\"  \",IF(ISBLANK(G12),\" \",IF(ISBLANK(G19),\" \",ROUND((G19+G13)/G11*100,0))))","v":"  "},null,{"$f":"IF(ISBLANK(I11),\"  \",IF(ISBLANK(I12),\" \",IF(ISBLANK(I19),\" \",ROUND((I19+I13)/I11*100,0))))","v":"  "},null,{"$f":"IF(ISBLANK(K11),\"  \",IF(ISBLANK(K12),\" \",IF(ISBLANK(K19),\" \",ROUND((K19+K13)/K11*100,0))))","v":"  "},null,{"$f":"IF(ISBLANK(M11),\"  \",IF(ISBLANK(M12),\" \",IF(ISBLANK(M19),\" \",ROUND((M19+M13)/M11*100,0))))","v":"  "}]
[0.375,{"$f":"IF(ISBLANK('S1'!B20),\" \",'S1'!B20)","v":" "},null,{"$f":"IF(ISBLANK(C11),\"  \",IF(ISBLANK(C12),\" \",IF(ISBLANK(C20),\" \",ROUND((C20+C13)/C11*100,0))))","v":"  "},null,{"$f":"IF(ISBLANK(E11),\"  \",IF(ISBLANK(E12),\" \",IF(ISBLANK(E20),\" \",ROUND((E20+E13)/E11*100,0))))","v":"  "},null,{"$f":"IF(ISBLANK(G11),\"  \",IF(ISBLANK(G12),\" \",IF(ISBLANK(G20),\" \",ROUND((G20+G13)/G11*100,0))))","v":"  "},null,{"$f":"IF(ISBLANK(I11),\"  \",IF(ISBLANK(I12),\" \",IF(ISBLANK(I20),\" \",ROUND((I20+I13)/I11*100,0))))","v":"  "},null,{"$f":"IF(ISBLANK(K11),\"  \",IF(ISBLANK(K12),\" \",IF(ISBLANK(K20),\" \",ROUND((K20+K13)/K11*100,0))))","v":"  "},null,{"$f":"IF(ISBLANK(M11),\"  \",IF(ISBLANK(M12),\" \",IF(ISBLANK(M20),\" \",ROUND((M20+M13)/M11*100,0))))","v":"  "}]
[4,{"$f":"IF(ISBLANK('S1'!B21),\" \",'S1'!B21)","v":" "},null,{"$f":"IF(ISBLANK(C11),\"  \",IF(ISBLANK(C12),\" \",IF(ISBLANK(C21),\" \",ROUND((C21+C13)/C11*100,0))))","v":"  "},null,{"$f":"IF(ISBLANK(E11),\"  \",IF(ISBLANK(E12),\" \",IF(ISBLANK(E21),\" \",ROUND((E21+E13)/E11*100,0))))","v":"  "},null,{"$f":"IF(ISBLANK(G11),\"  \",IF(ISBLANK(G12),\" \",IF(ISBLANK(G21),\" \",ROUND((G21+G13)/G11*100,0))))","v":"  "},null,{"$f":"IF(ISBLANK(I11),\"  \",IF(ISBLANK(I12),\" \",IF(ISBLANK(I21),\" \",ROUND((I21+I13)/I11*100,0))))","v":"  "},null,{"$f":"IF(ISBLANK(K11),\"  \",IF(ISBLANK(K12),\" \",IF(ISBLANK(K21),\" \",ROUND((K21+K13)/K11*100,0))))","v":"  "},null,{"$f":"IF(ISBLANK(M11),\"  \",IF(ISBLANK(M12),\" \",IF(ISBLANK(M21),\" \",ROUND((M21+M13)/M11*100,0))))","v":"  "}]
[8,{"$f":"IF(ISBLANK('S1'!B22),\" \",'S1'!B22)","v":" "},null,{"$f":"IF(ISBLANK(C11),\"  \",IF(ISBLANK(C12),\" \",IF(ISBLANK(C22),\" \",ROUND((C22+C13)/C11*100,0))))","v":"  "},null,{"$f":"IF(ISBLANK(E11),\"  \",IF(ISBLANK(E12),\" \",IF(ISBLANK(E22),\" \",ROUND((E22+E13)/E11*100,0))))","v":"  "},null,{"$f":"IF(ISBLANK(G11),\"  \",IF(ISBLANK(G12),\" \",IF(ISBLANK(G22),\" \",ROUND((G22+G13)/G11*100,0))))","v":"  "},null,{"$f":"IF(ISBLANK(I11),\"  \",IF(ISBLANK(I12),\" \",IF(ISBLANK(I22),\" \",ROUND((I22+I13)/I11*100,0))))","v":"  "},null,{"$f":"IF(ISBLANK(K11),\"  \",IF(ISBLANK(K12),\" \",IF(ISBLANK(K22),\" \",ROUND((K22+K13)/K11*100,0))))","v":"  "},null,{"$f":"IF(ISBLANK(M11),\"  \",IF(ISBLANK(M12),\" \",IF(ISBLANK(M22),\" \",ROUND((M22+M13)/M11*100,0))))","v":"  "}]
[16,{"$f":"IF(ISBLANK('S1'!B23),\" \",'S1'!B23)","v":" "},null,{"$f":"IF(ISBLANK(C11),\"  \",IF(ISBLANK(C12),\" \",IF(ISBLANK(C23),\" \",ROUND((C23+C13)/C11*100,0))))","v":"  "},null,{"$f":"IF(ISBLANK(E11),\"  \",IF(ISBLANK(E12),\" \",IF(ISBLANK(E23),\" \",ROUND((E23+E13)/E11*100,0))))","v":"  "},null,{"$f":"IF(ISBLANK(G11),\"  \",IF(ISBLANK(G12),\" \",IF(ISBLANK(G23),\" \",ROUND((G23+G13)/G11*100,0))))","v":"  "},null,{"$f":"IF(ISBLANK(I11),\"  \",IF(ISBLANK(I12),\" \",IF(ISBLANK(I23),\" \",ROUND((I23+I13)/I11*100,0))))","v":"  "},null,{"$f":"IF(ISBLANK(K11),\"  \",IF(ISBLANK(K12),\" \",IF(ISBLANK(K23),\" \",ROUND((K23+K13)/K11*100,0))))","v":"  "},null,{"$f":"IF(ISBLANK(M11),\"  \",IF(ISBLANK(M12),\" \",IF(ISBLANK(M23),\" \",ROUND((M23+M13)/M11*100,0))))","v":"  "}]
[30,{"$f":"IF(ISBLANK('S1'!B24),\" \",'S1'!B24)","v":" "},null,{"$f":"IF(ISBLANK(C11),\"  \",IF(ISBLANK(C12),\" \",IF(ISBLANK(C24),\" \",ROUND((C24+C13)/C11*100,0))))","v":"  "},null,{"$f":"IF(ISBLANK(E11),\"  \",IF(ISBLANK(E12),\" \",IF(ISBLANK(E24),\" \",ROUND((E24+E13)/E11*100,0))))","v":"  "},null,{"$f":"IF(ISBLANK(G11),\"  \",IF(ISBLANK(G12),\" \",IF(ISBLANK(G24),\" \",ROUND((G24+G13)/G11*100,0))))","v":"  "},null,{"$f":"IF(ISBLANK(I11),\"  \",IF(ISBLANK(I12),\" \",IF(ISBLANK(I24),\" \",ROUND((I24+I13)/I11*100,0))))","v":"  "},null,{"$f":"IF(ISBLANK(K11),\"  \",IF(ISBLANK(K12),\" \",IF(ISBLANK(K24),\" \",ROUND((K24+K13)/K11*100,0))))","v":"  "},null,{"$f":"IF(ISBLANK(M11),\"  \",IF(ISBLANK(M12),\" \",IF(ISBLANK(M24),\" \",ROUND((M24+M13)/M11*100,0))))","v":"  "}]
[50,{"$f":"IF(ISBLANK('S1'!B25),\" \",'S1'!B25)","v":" "},null,{"$f":"IF(ISBLANK(C11),\"  \",IF(ISBLANK(C12),\" \",IF(ISBLANK(C25),\" \",ROUND((C25+C13)/C11*100,0))))","v":"  "},null,{"$f":"IF(ISBLANK(E11),\"  \",IF(ISBLANK(E12),\" \",IF(ISBLANK(E25),\" \",ROUND((E25+E13)/E11*100,0))))","v":"  "},null,{"$f":"IF(ISBLANK(G11),\"  \",IF(ISBLANK(G12),\" \",IF(ISBLANK(G25),\" \",ROUND((G25+G13)/G11*100,0))))","v":"  "},null,{"$f":"IF(ISBLANK(I11),\"  \",IF(ISBLANK(I12),\" \",IF(ISBLANK(I25),\" \",ROUND((I25+I13)/I11*100,0))))","v":"  "},null,{"$f":"IF(ISBLANK(K11),\"  \",IF(ISBLANK(K12),\" \",IF(ISBLANK(K25),\" \",ROUND((K25+K13)/K11*100,0))))","v":"  "},null,{"$f":"IF(ISBLANK(M11),\"  \",IF(ISBLANK(M12),\" \",IF(ISBLANK(M25),\" \",ROUND((M25+M13)/M11*100,0))))","v":"  "}]
[100,{"$f":"IF(ISBLANK('S1'!B26),\" \",'S1'!B26)","v":" "},null,{"$f":"IF(ISBLANK(C11),\"  \",IF(ISBLANK(C12),\" \",IF(ISBLANK(C26),\" \",ROUND((C26+C13)/C11*100,0))))","v":"  "},null,{"$f":"IF(ISBLANK(E11),\"  \",IF(ISBLANK(E12),\" \",IF(ISBLANK(E26),\" \",ROUND((E26+E13)/E11*100,0))))","v":"  "},null,{"$f":"IF(ISBLANK(G11),\"  \",IF(ISBLANK(G12),\" \",IF(ISBLANK(G26),\" \",ROUND((G26+G13)/G11*100,0))))","v":"  "},null,{"$f":"IF(ISBLANK(I11),\"  \",IF(ISBLANK(I12),\" \",IF(ISBLANK(I26),\" \",ROUND((I26+I13)/I11*100,0))))","v":"  "},null,{"$f":"IF(ISBLANK(K11),\"  \",IF(ISBLANK(K12),\" \",IF(ISBLANK(K26),\" \",ROUND((K26+K13)/K11*100,0))))","v":"  "},null,{"$f":"IF(ISBLANK(M11),\"  \",IF(ISBLANK(M12),\" \",IF(ISBLANK(M26),\" \",ROUND((M26+M13)/M11*100,0))))","v":"  "}]
[200,{"$f":"IF(ISBLANK('S1'!B27),\" \",'S1'!B27)","v":" "},null,{"$f":"IF(ISBLANK(C11),\"  \",IF(ISBLANK(C12),\" \",IF(ISBLANK(C27),\" \",ROUND((C27+C13)/C11*100+$D$8,1))))","v":"  "},null,{"$f":"IF(ISBLANK(E11),\"  \",IF(ISBLANK(E12),\" \",IF(ISBLANK(E27),\" \",ROUND((E27+E13)/E11*100+$D$8,1))))","v":"  "},null,{"$f":"IF(ISBLANK(G11),\"  \",IF(ISBLANK(G12),\" \",IF(ISBLANK(G27),\" \",ROUND((G27+G13)/G11*100+$D$8,1))))","v":"  "},null,{"$f":"IF(ISBLANK(I11),\"  \",IF(ISBLANK(I12),\" \",IF(ISBLANK(I27),\" \",ROUND((I27+I13)/I11*100+$D$8,1))))","v":"  "},null,{"$f":"IF(ISBLANK(K11),\"  \",IF(ISBLANK(K12),\" \",IF(ISBLANK(K27),\" \",ROUND((K27+K13)/K11*100+$D$8,1))))","v":"  "},null,{"$f":"IF(ISBLANK(M11),\"  \",IF(ISBLANK(M12),\" \",IF(ISBLANK(M27),\" \",ROUND((M27+M13)/M11*100+$D$8,1))))","v":"  "}]
["%AC",{"$f":"IF(ISBLANK('S1'!B28),\" \",'S1'!B28)","v":" "}]
["Percent Loss / Gain",null,{"$f":"IF(ISBLANK(C12),\"\",IF(ISBLANK(C20),\"\",(C12-C71)/C12*100))","v":""},null,{"$f":"IF(ISBLANK(E12),\"\",IF(ISBLANK(E20),\"\",(E12-E71)/E12*100))","v":""},null,{"$f":"IF(ISBLANK(G12),\"\",IF(ISBLANK(G20),\"\",(G12-G71)/G12*100))","v":""},null,{"$f":"IF(ISBLANK(I12),\"\",IF(ISBLANK(I20),\"\",(I12-I71)/I12*100))","v":""},null,{"$f":"IF(ISBLANK(K12),\"\",IF(ISBLANK(K20),\"\",(K12-K71)/K12*100))","v":""},null,{"$f":"IF(ISBLANK(M12),\"\",IF(ISBLANK(M20),\"\",(M12-M71)/M12*100))","v":""}]
["Apparent Moisture","Orig Wt"]
[null,"Const Wt"]
[null,"% moisture",{"$f":"IF(ISBLANK(C30),\" \",IF(ISBLANK(C31),\" \",((C30-C31)/C31)*100))","v":" "},null,{"$f":"IF(ISBLANK(E30),\" \",IF(ISBLANK(E31),\" \",((E30-E31)/E31)*100))","v":" "},null,{"$f":"IF(ISBLANK(G30),\" \",IF(ISBLANK(G31),\" \",((G30-G31)/G31)*100))","v":" "},null,{"$f":"IF(ISBLANK(I30),\" \",IF(ISBLANK(I31),\" \",((I30-I31)/I31)*100))","v":" "},null,{"$f":"IF(ISBLANK(K30),\" \",IF(ISBLANK(K31),\" \",((K30-K31)/K31)*100))","v":" "},null,{"$f":"IF(ISBLANK(M30),\" \",IF(ISBLANK(M31),\" \",((M30-M31)/M31)*100))","v":" "}]
[]
[]
[]
[]
[]
["Sets up Min and Max for charts",null,null,"Running Avg for Conditional Format",null,null,null,null,null,"AP upper & lower Tolerances"]
["#4",{"$f":"B21-8","v":{"$error":"#VALUE!"}},{"$f":"B21+8","v":{"$error":"#VALUE!"}},{"$f":"'S17'!$AC20","v":{"$error":"#N/A"}},{"$f":"'S17'!$AC21","v":{"$error":"#N/A"}},{"$f":"'S17'!$AC22","v":{"$error":"#N/A"}},{"$f":"'S17'!$AC23","v":{"$error":"#N/A"}},{"$f":"'S17'!$AC24","v":{"$error":"#N/A"}},{"$f":"'S17'!$AC25","v":{"$error":"#N/A"}},{"$f":"AP!E90","v":5},{"$f":"AP!E92","v":5}]
["#8",{"$f":"B22-6","v":{"$error":"#VALUE!"}},{"$f":"B22+6","v":{"$error":"#VALUE!"}},{"$f":"'S17'!$AA20","v":{"$error":"#N/A"}},{"$f":"'S17'!$AA21","v":{"$error":"#N/A"}},{"$f":"'S17'!$AA22","v":{"$error":"#N/A"}},{"$f":"'S17'!$AA23","v":{"$error":"#N/A"}},{"$f":"'S17'!$AA24","v":{"$error":"#N/A"}},{"$f":"'S17'!$AA25","v":{"$error":"#N/A"}},{"$f":"AP!E84","v":5},{"$f":"AP!E86","v":5}]
["#200",{"$f":"B27-2","v":{"$error":"#VALUE!"}},{"$f":"B27+2","v":{"$error":"#VALUE!"}},{"$f":"'S17'!$Y20","v":{"$error":"#N/A"}},{"$f":"'S17'!$Y21","v":{"$error":"#N/A"}},{"$f":"'S17'!$Y22","v":{"$error":"#N/A"}},{"$f":"'S17'!$Y23","v":{"$error":"#N/A"}},{"$f":"'S17'!$Y24","v":{"$error":"#N/A"}},{"$f":"'S17'!$Y25","v":{"$error":"#N/A"}},{"$f":"AP!E78","v":5},{"$f":"AP!E80","v":5}]
["AC",{"$f":"B28-0.4","v":{"$error":"#VALUE!"}},{"$f":"B28+0.4","v":{"$error":"#VALUE!"}},{"$f":"'S17'!$W20","v":{"$error":"#N/A"}},{"$f":"'S17'!$W21","v":{"$error":"#N/A"}},{"$f":"'S17'!$W22","v":{"$error":"#N/A"}},{"$f":"'S17'!$W23","v":{"$error":"#N/A"}},{"$f":"'S17'!$W24","v":{"$error":"#N/A"}},{"$f":"'S17'!$W25","v":{"$error":"#N/A"}},{"$f":"AP!E72","v":5},{"$f":"AP!E74","v":5}]
[null,null,null,{"$f":"'S17'!$U20","v":{"$error":"#N/A"}},{"$f":"'S17'!U21","v":{"$error":"#N/A"}},{"$f":"'S17'!U22","v":{"$error":"#N/A"}},{"$f":"'S17'!U23","v":{"$error":"#N/A"}},{"$f":"'S17'!U24","v":{"$error":"#N/A"}},{"$f":"'S17'!U25","v":{"$error":"#N/A"}},{"$f":"AP!E66","v":5},{"$f":"AP!E68","v":5}]
[null,null,null,{"$f":"'S17'!$S20","v":{"$error":"#N/A"}},{"$f":"'S17'!$S21","v":{"$error":"#N/A"}},{"$f":"'S17'!$S22","v":{"$error":"#N/A"}},{"$f":"'S17'!$S23","v":{"$error":"#N/A"}},{"$f":"'S17'!$S24","v":{"$error":"#N/A"}},{"$f":"'S17'!$S25","v":{"$error":"#N/A"}},{"$f":"AP!E60","v":3},{"$f":"AP!E62","v":3}]
[null,null,null,{"$f":"'S17'!$Q20","v":{"$error":"#N/A"}},{"$f":"'S17'!Q21","v":{"$error":"#N/A"}},{"$f":"'S17'!Q22","v":{"$error":"#N/A"}},{"$f":"'S17'!Q23","v":{"$error":"#N/A"}},{"$f":"'S17'!Q24","v":{"$error":"#N/A"}},{"$f":"'S17'!Q25","v":{"$error":"#N/A"}},{"$f":"AP!E54","v":3},{"$f":"AP!E56","v":3}]
[null,null,null,{"$f":"'S17'!$O20","v":{"$error":"#N/A"}},{"$f":"'S17'!O21","v":{"$error":"#N/A"}},{"$f":"'S17'!O22","v":{"$error":"#N/A"}},{"$f":"'S17'!O23","v":{"$error":"#N/A"}},{"$f":"'S17'!O24","v":{"$error":"#N/A"}},{"$f":"'S17'!O25","v":{"$error":"#N/A"}},{"$f":"AP!E47","v":3},{"$f":"AP!E49","v":3}]
[null,null,null,{"$f":"'S17'!$M20","v":{"$error":"#N/A"}},{"$f":"'S17'!$M21","v":{"$error":"#N/A"}},{"$f":"'S17'!$M22","v":{"$error":"#N/A"}},{"$f":"'S17'!$M23","v":{"$error":"#N/A"}},{"$f":"'S17'!$M24","v":{"$error":"#N/A"}},{"$f":"'S17'!$M25","v":{"$error":"#N/A"}},{"$f":"AP!E40","v":3},{"$f":"AP!E42","v":3}]
[null,null,null,{"$f":"'S17'!$K20","v":{"$error":"#N/A"}},{"$f":"'S17'!$K21","v":{"$error":"#N/A"}},{"$f":"'S17'!$K22","v":{"$error":"#N/A"}},{"$f":"'S17'!$K23","v":{"$error":"#N/A"}},{"$f":"'S17'!$K24","v":{"$error":"#N/A"}},{"$f":"'S17'!$K25","v":{"$error":"#N/A"}},{"$f":"AP!E34","v":3},{"$f":"AP!E36","v":3}]
[null,null,null,{"$f":"'S17'!$I20","v":{"$error":"#N/A"}},{"$f":"'S17'!$I21","v":{"$error":"#N/A"}},{"$f":"'S17'!$I22","v":{"$error":"#N/A"}},{"$f":"'S17'!$I23","v":{"$error":"#N/A"}},{"$f":"'S17'!$I24","v":{"$error":"#N/A"}},{"$f":"'S17'!$I25","v":{"$error":"#N/A"}},{"$f":"AP!E28","v":3},{"$f":"AP!E30","v":3}]
[null,null,null,{"$f":"'S17'!$G20","v":{"$error":"#N/A"}},{"$f":"'S17'!$G21","v":{"$error":"#N/A"}},{"$f":"'S17'!$G22","v":{"$error":"#N/A"}},{"$f":"'S17'!$G23","v":{"$error":"#N/A"}},{"$f":"'S17'!$G24","v":{"$error":"#N/A"}},{"$f":"'S17'!$G25","v":{"$error":"#N/A"}},{"$f":"AP!E22","v":3},{"$f":"AP!E24","v":3}]
[null,null,null,{"$f":"'S17'!E20","v":{"$error":"#N/A"}},{"$f":"'S17'!E21","v":{"$error":"#N/A"}},{"$f":"'S17'!E22","v":{"$error":"#N/A"}},{"$f":"'S17'!E23","v":{"$error":"#N/A"}},{"$f":"'S17'!E24","v":{"$error":"#N/A"}},{"$f":"'S17'!E25","v":{"$error":"#N/A"}},{"$f":"AP!E15","v":1},{"$f":"AP!E17","v":1}]
[null,null,null,{"$f":"ROUND('S17'!C20,1)","v":{"$error":"#N/A"}},{"$f":"ROUND('S17'!C21,1)","v":{"$error":"#N/A"}},{"$f":"ROUND('S17'!C22,1)","v":{"$error":"#N/A"}},{"$f":"ROUND('S17'!C23,1)","v":{"$error":"#N/A"}},{"$f":"ROUND('S17'!C24,1)","v":{"$error":"#N/A"}},{"$f":"ROUND('S17'!C25,1)","v":{"$error":"#N/A"}},{"$f":"AP!E7","v":0.2},{"$f":"AP!E9","v":0.2}]
["Tested By"]
["Remarks",null,{"$f":"IF(AND(T94=3,'S3'!M54=\"Single sample deviation, resample within 150 tons. Document corrective action\"),\"Deviation on 150 ton sample, suspend production of JMF\",IF(AND(T88=2,'S3'!M54=\"Multiple sample deviation, resample within 150 tons. Document corrective action\"),\"Deviation on 150 ton sample, suspend production of JMF\",IF(AND(T88=2,'S3'!M54=\"Single sample deviation, resample within 150 tons. Document corrective action\"),\"Deviation on 150 ton sample, suspend production of JMF\",IF(T94=3,\"Single sample deviation, resample within 150 tons. Document corrective action\",IF(T88=2,\"Multiple sample deviation, resample within 150 tons. Document corrective action\",IF(T71=1,\"Action area, document corrective action\",\" \"))))))","v":{"$error":"#N/A"}},null,{"$f":"IF(AND(U94=3,C54=\"Single sample deviation, resample within 150 tons. Document corrective action\"),\"Deviation on 150 ton sample, suspend production of JMF\",IF(AND(U88=2,C54=\"Multiple sample deviation, resample within 150 tons. Document corrective action\"),\"Deviation on 150 ton sample, suspend production of JMF\",IF(AND(U88=2,C54=\"Single sample deviation, resample within 150 tons. Document corrective action\"),\"Deviation on 150 ton sample, suspend production of JMF\",IF(U94=3,\"Single sample deviation, resample within 150 tons. Document corrective action\",IF(U88=2,\"Multiple sample deviation, resample within 150 tons. Document corrective action\",IF(U71=1,\"Action area, document corrective action\",\" \"))))))","v":{"$error":"#N/A"}},null,{"$f":"IF(AND(V94=3,E54=\"Single sample deviation, resample within 150 tons. Document corrective action\"),\"Deviation on 150 ton sample, suspend production of JMF\",IF(AND(V88=2,E54=\"Multiple sample deviation, resample within 150 tons. Document corrective action\"),\"Deviation on 150 ton sample, suspend production of JMF\",IF(AND(V88=2,E54=\"Single sample deviation, resample within 150 tons. Document corrective action\"),\"Deviation on 150 ton sample, suspend production of JMF\",IF(V94=3,\"Single sample deviation, resample within 150 tons. Document corrective action\",IF(V88=2,\"Multiple sample deviation, resample within 150 tons. Document corrective action\",IF(V71=1,\"Action area, document corrective action\",\" \"))))))","v":{"$error":"#N/A"}},null,{"$f":"IF(AND(W94=3,G54=\"Single sample deviation, resample within 150 tons. Document corrective action\"),\"Deviation on 150 ton sample, suspend production of JMF\",IF(AND(W88=2,G54=\"Multiple sample deviation, resample within 150 tons. Document corrective action\"),\"Deviation on 150 ton sample, suspend production of JMF\",IF(AND(W88=2,G54=\"Single sample deviation, resample within 150 tons. Document corrective action\"),\"Deviation on 150 ton sample, suspend production of JMF\",IF(W94=3,\"Single sample deviation, resample within 150 tons. Document corrective action\",IF(W88=2,\"Multiple sample deviation, resample within 150 tons. Document corrective action\",IF(W71=1,\"Action area, document corrective action\",\" \"))))))","v":{"$error":"#N/A"}},null,{"$f":"IF(AND(X94=3,I54=\"Single sample deviation, resample within 150 tons. Document corrective action\"),\"Deviation on 150 ton sample, suspend production of JMF\",IF(AND(X88=2,I54=\"Multiple sample deviation, resample within 150 tons. Document corrective action\"),\"Deviation on 150 ton sample, suspend production of JMF\",IF(AND(X88=2,I54=\"Single sample deviation, resample within 150 tons. Document corrective action\"),\"Deviation on 150 ton sample, suspend production of JMF\",IF(X94=3,\"Single sample deviation, resample within 150 tons. Document corrective action\",IF(X88=2,\"Multiple sample deviation, resample within 150 tons. Document corrective action\",IF(X71=1,\"Action area, document corrective action\",\" \"))))))","v":{"$error":"#N/A"}},null,{"$f":"IF(AND(Y94=3,K54=\"Single sample deviation, resample within 150 tons. Document corrective action\"),\"Deviation on 150 ton sample, suspend production of JMF\",IF(AND(Y88=2,K54=\"Multiple sample deviation, resample within 150 tons. Document corrective action\"),\"Deviation on 150 ton sample, suspend production of JMF\",IF(AND(Y88=2,K54=\"Single sample deviation, resample within 150 tons. Document corrective action\"),\"Deviation on 150 ton sample, suspend production of JMF\",IF(Y94=3,\"Single sample deviation, resample within 150 tons. Document corrective action\",IF(Y88=2,\"Multiple sample deviation, resample within 150 tons. Document corrective action\",IF(Y71=1,\"Action area, document corrective action\",\" \"))))))","v":{"$error":"#N/A"}}]
[]
[null,null,null,null,null,null,null,null,null,null,null,null,null,null,null,null,null,null,"Action points flags"]
[null,null,null,null,null,null,null,null,null,null,null,null,null,null,null,null,null,2,{"$f":"$B$15","v":" "},{"$f":"IF(ISBLANK(C15),0,IF(OR(D39>=$S57+$J39,D39<=$S57-$K39),1,0))","v":0},{"$f":"IF(ISBLANK(E15),0,IF(OR(E39>=$S57+$J39,E39<=$S57-$K39),1,0))","v":0},{"$f":"IF(ISBLANK(G15),0,IF(OR(F39>=$S57+$J39,F39<=$S57-$K39),1,0))","v":0},{"$f":"IF(ISBLANK(I15),0,IF(OR(G39>=$S57+$J39,G39<=$S57-$K39),1,0))","v":0},{"$f":"IF(ISBLANK(K15),0,IF(OR(H39>=$S57+$J39,H39<=$S57-$K39),1,0))","v":0},{"$f":"IF(ISBLANK(M15),0,IF(OR(I39>=$S57+$J39,I39<=$S57-$K39),1,0))","v":0}]
[null,null,null,null,null,null,null,null,null,null,null,null,null,null,null,null,null,1.5,{"$f":"$B$16","v":" "},{"$f":"IF(ISBLANK(C16),0,IF(OR(D40>=$S58+$J40,D40<=$S58-$K40),1,0))","v":0},{"$f":"IF(ISBLANK(E16),0,IF(OR(E40>=$S58+$J40,E40<=$S58-$K40),1,0))","v":0},{"$f":"IF(ISBLANK(G16),0,IF(OR(F40>=$S58+$J40,F40<=$S58-$K40),1,0))","v":0},{"$f":"IF(ISBLANK(I16),0,IF(OR(G40>=$S58+$J40,G40<=$S58-$K40),1,0))","v":0},{"$f":"IF(ISBLANK(K16),0,IF(OR(H40>=$S58+$J40,H40<=$S58-$K40),1,0))","v":0},{"$f":"IF(ISBLANK(M16),0,IF(OR(I40>=$S58+$J40,I40<=$S58-$K40),1,0))","v":0}]
[null,null,null,null,null,null,null,null,null,null,null,null,null,null,null,null,null,1,{"$f":"$B$17","v":" "},{"$f":"IF(ISBLANK(C17),0,IF(OR(D41>=$S59+$J41,D41<=$S59-$K41),1,0))","v":0},{"$f":"IF(ISBLANK(E17),0,IF(OR(E41>=$S59+$J41,E41<=$S59-$K41),1,0))","v":0},{"$f":"IF(ISBLANK(G17),0,IF(OR(F41>=$S59+$J41,F41<=$S59-$K41),1,0))","v":0},{"$f":"IF(ISBLANK(I17),0,IF(OR(G41>=$S59+$J41,G41<=$S59-$K41),1,0))","v":0},{"$f":"IF(ISBLANK(K17),0,IF(OR(H41>=$S59+$J41,H41<=$S59-$K41),1,0))","v":0},{"$f":"IF(ISBLANK(M17),0,IF(OR(I41>=$S59+$J41,I41<=$S59-$K41),1,0))","v":0}]
[null,null,null,null,null,null,null,null,null,null,null,null,null,null,null,null,null,0.75,{"$f":"$B$18","v":" "},{"$f":"IF(ISBLANK(C18),0,IF(OR(D42>=$S60+$J42,D42<=$S60-$K42),1,0))","v":0},{"$f":"IF(ISBLANK(E18),0,IF(OR(E42>=$S60+$J42,E42<=$S60-$K42),1,0))","v":0},{"$f":"IF(ISBLANK(G18),0,IF(OR(F42>=$S60+$J42,F42<=$S60-$K42),1,0))","v":0},{"$f":"IF(ISBLANK(I18),0,IF(OR(G42>=$S60+$J42,G42<=$S60-$K42),1,0))","v":0},{"$f":"IF(ISBLANK(K18),0,IF(OR(H42>=$S60+$J42,H42<=$S60-$K42),1,0))","v":0},{"$f":"IF(ISBLANK(M18),0,IF(OR(I42>=$S60+$J42,I42<=$S60-$K42),1,0))","v":0}]
[null,null,null,null,null,null,null,null,null,null,null,null,null,null,null,null,null,0.5,{"$f":"$B$19","v":" "},{"$f":"IF(ISBLANK(C19),0,IF(OR(D43>=$S61+$J43,D43<=$S61-$K43),1,0))","v":0},{"$f":"IF(ISBLANK(E19),0,IF(OR(E43>=$S61+$J43,E43<=$S61-$K43),1,0))","v":0},{"$f":"IF(ISBLANK(G19),0,IF(OR(F43>=$S61+$J43,F43<=$S61-$K43),1,0))","v":0},{"$f":"IF(ISBLANK(I19),0,IF(OR(G43>=$S61+$J43,G43<=$S61-$K43),1,0))","v":0},{"$f":"IF(ISBLANK(K19),0,IF(OR(H43>=$S61+$J43,H43<=$S61-$K43),1,0))","v":0},{"$f":"IF(ISBLANK(M19),0,IF(OR(I43>=$S61+$J43,I43<=$S61-$K43),1,0))","v":0}]
[null,null,null,null,null,null,null,null,null,null,null,null,null,null,null,null,null,0.375,{"$f":"$B$20","v":" "},{"$f":"IF(OR(D44>=$S62+$J44,D44<=$S62-$K44),1,0)","v":{"$error":"#N/A"}},{"$error":"#N/A"},{"$error":"#N/A"},{"$error":"#N/A"},{"$error":"#N/A"},{"$error":"#N/A"}]
[null,null,null,null,null,null,null,null,null,null,null,null,null,null,null,null,null,4,{"$f":"$B$21","v":" "},{"$error":"#N/A"},{"$error":"#N/A"},{"$error":"#N/A"},{"$error":"#N/A"},{"$error":"#N/A"},{"$error":"#N/A"}]
[null,null,null,null,null,null,null,null,null,null,null,null,null,null,null,null,null,8,{"$f":"$B$22","v":" "},{"$error":"#N/A"},{"$error":"#N/A"},{"$error":"#N/A"},{"$error":"#N/A"},{"$error":"#N/A"},{"$error":"#N/A"}]
[null,null,null,null,null,null,null,null,null,null,null,null,null,null,null,null,null,16,{"$f":"$B$23","v":" "},{"$error":"#N/A"},{"$error":"#N/A"},{"$error":"#N/A"},{"$error":"#N/A"},{"$error":"#N/A"},{"$error":"#N/A"}]
[null,null,null,null,null,null,null,null,null,null,null,null,null,null,null,null,null,30,{"$f":"$B$24","v":" "},{"$error":"#N/A"},{"$error":"#N/A"},{"$error":"#N/A"},{"$error":"#N/A"},{"$error":"#N/A"},{"$error":"#N/A"}]
[null,null,null,null,null,null,null,null,null,null,null,null,null,null,null,null,null,50,{"$f":"$B$25","v":" "},{"$error":"#N/A"},{"$error":"#N/A"},{"$error":"#N/A"},{"$error":"#N/A"},{"$error":"#N/A"},{"$error":"#N/A"}]
[null,null,null,null,null,null,null,null,null,null,null,null,null,null,null,null,null,100,{"$f":"$B$26","v":" "},{"$error":"#N/A"},{"$error":"#N/A"},{"$error":"#N/A"},{"$error":"#N/A"},{"$error":"#N/A"},{"$error":"#N/A"}]
[null,null,null,null,null,null,null,null,null,null,null,null,null,null,null,null,null,200,{"$f":"$B$27","v":" "},{"$error":"#N/A"},{"$error":"#N/A"},{"$error":"#N/A"},{"$error":"#N/A"},{"$error":"#N/A"},{"$error":"#N/A"}]
[null,null,null,null,null,null,null,null,null,null,null,null,null,null,null,null,null,"%AC",{"$f":"$B$28","v":" "},{"$error":"#N/A"},{"$error":"#N/A"},{"$error":"#N/A"},{"$error":"#N/A"},{"$error":"#N/A"},{"$error":"#N/A"}]
[null,null,{"$f":"MAX(C15:C23)","v":0},null,{"$f":"MAX(E15:E23)","v":0},null,{"$f":"MAX(G15:G23)","v":0},null,{"$f":"MAX(I15:I23)","v":0},null,{"$f":"MAX(K15:K23)","v":0},null,{"$f":"MAX(M15:M23)","v":0},null,null,null,null,null,"Max",{"$f":"MAX(T56:T70)","v":{"$error":"#N/A"}},{"$error":"#N/A"},{"$error":"#N/A"},{"$error":"#N/A"},{"$error":"#N/A"},{"$error":"#N/A"}]
[]
[null,null,null,null,null,null,null,null,null,null,null,null,null,null,null,null,null,null,"Multiple sample flag"]
[null,null,null,null,null,null,null,null,null,null,null,null,null,null,null,null,null,2,{"$f":"$B$15","v":" "},{"$f":"IF(ISBLANK(C15),0,IF(OR(D39>$S74+AP!$E$89,D39<$S74-AP!$E$93),2,0))","v":0},{"$f":"IF(ISBLANK(E15),0,IF(OR(E39>$S74+AP!$E$89,E39<$S74-AP!$E$93),2,0))","v":0},{"$f":"IF(ISBLANK(G15),0,IF(OR(F39>$S74+AP!$E$89,F39<$S74-AP!$E$93),2,0))","v":0},{"$f":"IF(ISBLANK(I15),0,IF(OR(G39>$S74+AP!$E$89,G39<$S74-AP!$E$93),2,0))","v":0},{"$f":"IF(ISBLANK(K15),0,IF(OR(H39>$S74+AP!$E$89,H39<$S74-AP!$E$93),2,0))","v":0},{"$f":"IF(ISBLANK(M15),0,IF(OR(I39>$S74+AP!$E$89,I39<$S74-AP!$E$93),2,0))","v":0}]
[null,null,null,null,null,null,null,null,null,null,null,null,null,null,null,null,null,1.5,{"$f":"$B$16","v":" "},{"$f":"IF(ISBLANK(C16),0,IF(OR(D40>$S75+AP!$E$83,D40<$S75-AP!$E$87),2,0))","v":0},{"$f":"IF(ISBLANK(E16),0,IF(OR(E40>$S75+AP!$E$89,E40<$S75-AP!$E$93),2,0))","v":0},{"$f":"IF(ISBLANK(G16),0,IF(OR(F40>$S75+AP!$E$89,F40<$S75-AP!$E$93),2,0))","v":0},{"$f":"IF(ISBLANK(I16),0,IF(OR(G40>$S75+AP!$E$89,G40<$S75-AP!$E$93),2,0))","v":0},{"$f":"IF(ISBLANK(K16),0,IF(OR(H40>$S75+AP!$E$89,H40<$S75-AP!$E$93),2,0))","v":0},{"$f":"IF(ISBLANK(M16),0,IF(OR(I40>$S75+AP!$E$89,I40<$S75-AP!$E$93),2,0))","v":0}]
[null,null,null,null,null,null,null,null,null,null,null,null,null,null,null,null,null,1,{"$f":"$B$17","v":" "},{"$f":"IF(ISBLANK(C17),0,IF(OR(D41>$S76+AP!$E$83,D41<$S76-AP!$E$87),2,0))","v":0},{"$f":"IF(ISBLANK(E17),0,IF(OR(E41>$S76+AP!$E$89,E41<$S76-AP!$E$93),2,0))","v":0},{"$f":"IF(ISBLANK(G17),0,IF(OR(F41>$S76+AP!$E$89,F41<$S76-AP!$E$93),2,0))","v":0},{"$f":"IF(ISBLANK(I17),0,IF(OR(G41>$S76+AP!$E$89,G41<$S76-AP!$E$93),2,0))","v":0},{"$f":"IF(ISBLANK(K17),0,IF(OR(H41>$S76+AP!$E$89,H41<$S76-AP!$E$93),2,0))","v":0},{"$f":"IF(ISBLANK(M17),0,IF(OR(I41>$S76+AP!$E$89,I41<$S76-AP!$E$93),2,0))","v":0}]
[null,null,null,null,null,null,null,null,null,null,null,null,null,null,null,null,null,0.75,{"$f":"$B$18","v":" "},{"$f":"IF(ISBLANK(C18),0,IF(OR(D42>$S77+AP!$E$83,D42<$S77-AP!$E$87),2,0))","v":0},{"$f":"IF(ISBLANK(E18),0,IF(OR(E42>$S77+AP!$E$89,E42<$S77-AP!$E$93),2,0))","v":0},{"$f":"IF(ISBLANK(G18),0,IF(OR(F42>$S77+AP!$E$89,F42<$S77-AP!$E$93),2,0))","v":0},{"$f":"IF(ISBLANK(I18),0,IF(OR(G42>$S77+AP!$E$89,G42<$S77-AP!$E$93),2,0))","v":0},{"$f":"IF(ISBLANK(K18),0,IF(OR(H42>$S77+AP!$E$89,H42<$S77-AP!$E$93),2,0))","v":0},{"$f":"IF(ISBLANK(M18),0,IF(OR(I42>$S77+AP!$E$89,I42<$S77-AP!$E$93),2,0))","v":0}]
[null,null,null,null,null,null,null,null,null,null,null,null,null,null,null,null,null,0.5,{"$f":"$B$19","v":" "},{"$f":"IF(ISBLANK(C19),0,IF(OR(D43>$S78+AP!$E$83,D43<$S78-AP!$E$87),2,0))","v":0},{"$f":"IF(ISBLANK(E19),0,IF(OR(E43>$S78+AP!$E$89,E43<$S78-AP!$E$93),2,0))","v":0},{"$f":"IF(ISBLANK(G19),0,IF(OR(F43>$S78+AP!$E$89,F43<$S78-AP!$E$93),2,0))","v":0},{"$f":"IF(ISBLANK(I19),0,IF(OR(G43>$S78+AP!$E$89,G43<$S78-AP!$E$93),2,0))","v":0},{"$f":"IF(ISBLANK(K19),0,IF(OR(H43>$S78+AP!$E$89,H43<$S78-AP!$E$93),2,0))","v":0},{"$f":"IF(ISBLANK(M19),0,IF(OR(I43>$S78+AP!$E$89,I43<$S78-AP!$E$93),2,0))","v":0}]
[null,null,null,null,null,null,null,null,null,null,null,null,null,null,null,null,null,0.375,{"$f":"$B$20","v":" "},{"$f":"IF(OR(D44>$S79+AP!$E$59,D44<$S79-AP!$E$63),2,0)","v":{"$error":"#N/A"}},{"$f":"IF(OR(E44>$S79+AP!$E$59,E44<$S79-AP!$E$63),2,0)","v":{"$error":"#N/A"}},{"$f":"IF(OR(F44>$S79+AP!$E$59,F44<$S79-AP!$E$63),2,0)","v":{"$error":"#N/A"}},{"$f":"IF(OR(G44>$S79+AP!$E$59,G44<$S79-AP!$E$63),2,0)","v":{"$error":"#N/A"}},{"$f":"IF(OR(H44>$S79+AP!$E$59,H44<$S79-AP!$E$63),2,0)","v":{"$error":"#N/A"}},{"$f":"IF(OR(I44>$S79+AP!$E$59,I44<$S79-AP!$E$63),2,0)","v":{"$error":"#N/A"}}]
[null,null,null,null,null,null,null,null,null,null,null,null,null,null,null,null,null,4,{"$f":"$B$21","v":" "},{"$f":"IF(OR(D45>$S80+AP!$E$53,D45<$S80-AP!$E$57),2,0)","v":{"$error":"#N/A"}},{"$f":"IF(OR(E45>$S80+AP!$E$53,E45<$S80-AP!$E$57),2,0)","v":{"$error":"#N/A"}},{"$f":"IF(OR(F45>$S80+AP!$E$53,F45<$S80-AP!$E$57),2,0)","v":{"$error":"#N/A"}},{"$f":"IF(OR(G45>$S80+AP!$E$53,G45<$S80-AP!$E$57),2,0)","v":{"$error":"#N/A"}},{"$f":"IF(OR(H45>$S80+AP!$E$53,H45<$S80-AP!$E$57),2,0)","v":{"$error":"#N/A"}},{"$f":"IF(OR(I45>$S80+AP!$E$53,I45<$S80-AP!$E$57),2,0)","v":{"$error":"#N/A"}}]
[null,null,null,null,null,null,null,null,null,null,null,null,null,null,null,null,null,8,{"$f":"$B$22","v":" "},{"$f":"IF(OR(D46>$S81+AP!$E$46,D46<$S81-AP!$E$50),2,0)","v":{"$error":"#N/A"}},{"$f":"IF(OR(E46>$S81+AP!$E$46,E46<$S81-AP!$E$50),2,0)","v":{"$error":"#N/A"}},{"$f":"IF(OR(F46>$S81+AP!$E$46,F46<$S81-AP!$E$50),2,0)","v":{"$error":"#N/A"}},{"$f":"IF(OR(G46>$S81+AP!$E$46,G46<$S81-AP!$E$50),2,0)","v":{"$error":"#N/A"}},{"$f":"IF(OR(H46>$S81+AP!$E$46,H46<$S81-AP!$E$50),2,0)","v":{"$error":"#N/A"}},{"$f":"IF(OR(I46>$S81+AP!$E$46,I46<$S81-AP!$E$50),2,0)","v":{"$error":"#N/A"}}]
[null,null,null,null,null,null,null,null,null,null,null,null,null,null,null,null,null,16,{"$f":"$B$23","v":" "},{"$f":"IF(OR(D47>$S82+AP!$E$39,D47<$S82-AP!$E$43),2,0)","v":{"$error":"#N/A"}},{"$f":"IF(OR(E47>$S82+AP!$E$39,E47<$S82-AP!$E$43),2,0)","v":{"$error":"#N/A"}},{"$f":"IF(OR(F47>$S82+AP!$E$39,F47<$S82-AP!$E$43),2,0)","v":{"$error":"#N/A"}},{"$f":"IF(OR(G47>$S82+AP!$E$39,G47<$S82-AP!$E$43),2,0)","v":{"$error":"#N/A"}},{"$f":"IF(OR(H47>$S82+AP!$E$39,H47<$S82-AP!$E$43),2,0)","v":{"$error":"#N/A"}},{"$f":"IF(OR(I47>$S82+AP!$E$39,I47<$S82-AP!$E$43),2,0)","v":{"$error":"#N/A"}}]
[null,null,null,null,null,null,null,null,null,null,null,null,null,null,null,null,null,30,{"$f":"$B$24","v":" "},{"$f":"IF(OR(D48>$S83+AP!$E$33,D48<$S83-AP!$E$37),2,0)","v":{"$error":"#N/A"}},{"$f":"IF(OR(E48>$S83+AP!$E$33,E48<$S83-AP!$E$37),2,0)","v":{"$error":"#N/A"}},{"$f":"IF(OR(F48>$S83+AP!$E$33,F48<$S83-AP!$E$37),2,0)","v":{"$error":"#N/A"}},{"$f":"IF(OR(G48>$S83+AP!$E$33,G48<$S83-AP!$E$37),2,0)","v":{"$error":"#N/A"}},{"$f":"IF(OR(H48>$S83+AP!$E$33,H48<$S83-AP!$E$37),2,0)","v":{"$error":"#N/A"}},{"$f":"IF(OR(I48>$S83+AP!$E$33,I48<$S83-AP!$E$37),2,0)","v":{"$error":"#N/A"}}]
[null,null,null,null,null,null,null,null,null,null,null,null,null,null,null,null,null,50,{"$f":"$B$25","v":" "},{"$f":"IF(OR(D49>$S84+AP!$E$27,D49<$S84-AP!$E$31),2,0)","v":{"$error":"#N/A"}},{"$f":"IF(OR(E49>$S84+AP!$E$27,E49<$S84-AP!$E$31),2,0)","v":{"$error":"#N/A"}},{"$f":"IF(OR(F49>$S84+AP!$E$27,F49<$S84-AP!$E$31),2,0)","v":{"$error":"#N/A"}},{"$f":"IF(OR(G49>$S84+AP!$E$27,G49<$S84-AP!$E$31),2,0)","v":{"$error":"#N/A"}},{"$f":"IF(OR(H49>$S84+AP!$E$27,H49<$S84-AP!$E$31),2,0)","v":{"$error":"#N/A"}},{"$f":"IF(OR(I49>$S84+AP!$E$27,I49<$S84-AP!$E$31),2,0)","v":{"$error":"#N/A"}}]
[null,null,null,null,null,null,null,null,null,null,null,null,null,null,null,null,null,100,{"$f":"$B$26","v":" "},{"$f":"IF(OR(D50>$S85+AP!$E$21,D50<$S85-AP!$E$25),2,0)","v":{"$error":"#N/A"}},{"$f":"IF(OR(E50>$S85+AP!$E$21,E50<$S85-AP!$E$25),2,0)","v":{"$error":"#N/A"}},{"$f":"IF(OR(F50>$S85+AP!$E$21,F50<$S85-AP!$E$25),2,0)","v":{"$error":"#N/A"}},{"$f":"IF(OR(G50>$S85+AP!$E$21,G50<$S85-AP!$E$25),2,0)","v":{"$error":"#N/A"}},{"$f":"IF(OR(H50>$S85+AP!$E$21,H50<$S85-AP!$E$25),2,0)","v":{"$error":"#N/A"}},{"$f":"IF(OR(I50>$S85+AP!$E$21,I50<$S85-AP!$E$25),2,0)","v":{"$error":"#N/A"}}]
[null,null,null,null,null,null,null,null,null,null,null,null,null,null,null,null,null,200,{"$f":"$B$27","v":" "},{"$f":"IF(OR(D51>$S86+AP!$E$14,D51<$S86-AP!$E$18),2,0)","v":{"$error":"#N/A"}},{"$f":"IF(OR(E51>$S86+AP!$E$14,E51<$S86-AP!$E$18),2,0)","v":{"$error":"#N/A"}},{"$f":"IF(OR(F51>$S86+AP!$E$14,F51<$S86-AP!$E$18),2,0)","v":{"$error":"#N/A"}},{"$f":"IF(OR(G51>$S86+AP!$E$14,G51<$S86-AP!$E$18),2,0)","v":{"$error":"#N/A"}},{"$f":"IF(OR(H51>$S86+AP!$E$14,H51<$S86-AP!$E$18),2,0)","v":{"$error":"#N/A"}},{"$f":"IF(OR(I51>$S86+AP!$E$14,I51<$S86-AP!$E$18),2,0)","v":{"$error":"#N/A"}}]
[null,null,null,null,null,null,null,null,null,null,null,null,null,null,null,null,null,"%AC",{"$f":"$B$28","v":" "},{"$f":"IF(OR(D52>AP!$L$6,D52<AP!$L$10),2,0)","v":{"$error":"#N/A"}},{"$f":"IF(OR(E52>AP!$L$6,E52<AP!$L$10),2,0)","v":{"$error":"#N/A"}},{"$f":"IF(OR(F52>AP!$L$6,F52<AP!$L$10),2,0)","v":{"$error":"#N/A"}},{"$f":"IF(OR(G52>AP!$L$6,G52<AP!$L$10),2,0)","v":{"$error":"#N/A"}},{"$f":"IF(OR(H52>AP!$L$6,H52<AP!$L$10),2,0)","v":{"$error":"#N/A"}},{"$f":"IF(OR(I52>AP!$L$6,I52<AP!$L$10),2,0)","v":{"$error":"#N/A"}}]
[null,null,null,null,null,null,null,null,null,null,null,null,null,null,null,null,null,null,"Max",{"$f":"MAX(T74:T87)","v":{"$error":"#N/A"}},{"$error":"#N/A"},{"$error":"#N/A"},{"$error":"#N/A"},{"$error":"#N/A"},{"$error":"#N/A"}]
[]
[null,null,null,null,null,null,null,null,null,null,null,null,null,null,null,null,null,null,"Single sample flag"]
[null,null,null,null,null,null,null,null,null,null,null,null,null,null,null,null,null,8,{"$f":"$B$22","v":" "},{"$f":"IF(OR($D$22>$S91+AP!$E$45,$D$22<$S91-AP!$E$51),3,0)","v":{"$error":"#VALUE!"}},{"$f":"IF(OR($F$22>$S91+AP!$E$45,$F$22<$S91-AP!$E$51),3,0)","v":{"$error":"#VALUE!"}},{"$f":"IF(OR($H$22>$S91+AP!$E$45,$H$22<$S91-AP!$E$51),3,0)","v":{"$error":"#VALUE!"}},{"$f":"IF(OR($J$22>$S91+AP!$E$45,$J$22<$S91-AP!$E$51),3,0)","v":{"$error":"#VALUE!"}},{"$f":"IF(OR($L$22>$S91+AP!$E$45,$L$22<$S91-AP!$E$51),3,0)","v":{"$error":"#VALUE!"}},{"$f":"IF(OR($N$22>$S91+AP!$E$45,$N$22<$S91-AP!$E$51),3,0)","v":{"$error":"#VALUE!"}}]
[null,null,null,null,null,null,null,null,null,null,null,null,null,null,null,null,null,200,{"$f":"$B$27","v":" "},{"$f":"IF(OR($D$27>$S92+AP!$E$13,$D$27<$S92-AP!$E$19),3,0)","v":{"$error":"#VALUE!"}},{"$f":"IF(OR($F$27>$S92+AP!$E$13,$F$27<$S92-AP!$E$19),3,0)","v":{"$error":"#VALUE!"}},{"$f":"IF(OR($H$27>$S92+AP!$E$13,$H$27<$S92-AP!$E$19),3,0)","v":{"$error":"#VALUE!"}},{"$f":"IF(OR($J$27>$S92+AP!$E$13,$J$27<$S92-AP!$E$19),3,0)","v":{"$error":"#VALUE!"}},{"$f":"IF(OR($L$27>$S92+AP!$E$13,$L$27<$S92-AP!$E$19),3,0)","v":{"$error":"#VALUE!"}},{"$f":"IF(OR($N$27>$S92+AP!$E$13,$N$27<$S92-AP!$E$19),3,0)","v":{"$error":"#VALUE!"}}]
[null,null,null,null,null,null,null,null,null,null,null,null,null,null,null,null,null,"%AC",{"$f":"$B$28","v":" "},{"$f":"IF(OR($C$28>AP!$L$5,$C$28<AP!$L$11),3,0)","v":0},{"$f":"IF(OR($E$28>AP!$L$5,$E$28<AP!$L$11),3,0)","v":0},{"$f":"IF(OR($G$28>AP!$L$5,$G$28<AP!$L$11),3,0)","v":0},{"$f":"IF(OR($I$28>AP!$L$5,$I$28<AP!$L$11),3,0)","v":0},{"$f":"IF(OR($K$28>AP!$L$5,$K$28<AP!$L$11),3,0)","v":0},{"$f":"IF(OR($M$28>AP!$L$5,$M$28<AP!$L$11),3,0)","v":0}]
[null,null,null,null,null,null,null,null,null,null,null,null,null,null,null,null,null,null,"Max",{"$f":"IF(ISBLANK(C27),\" \",MAX(T91:T93))","v":" "},{"$f":"IF(ISBLANK(E27),\" \",MAX(U91:U93))","v":" "},{"$f":"IF(ISBLANK(G27),\" \",MAX(V91:V93))","v":" "},{"$f":"IF(ISBLANK(I27),\" \",MAX(W91:W93))","v":" "},{"$f":"IF(ISBLANK(K27),\" \",MAX(X91:X93))","v":" "},{"$f":"IF(ISBLANK(M27),\" \",MAX(Y91:Y93))","v":" "}]

{"sheet":"S5","index":4,"n_rows":94,"n_cols":25,"rows_kept":94,"cut":false,"hidden":true,"merged":[[52,0,52,1],[52,2,52,3],[59,6,68,7],[59,4,68,5],[59,2,68,3],[55,18,55,24],[72,18,72,24],[89,18,89,24],[53,0,68,1],[53,12,58,13],[53,10,58,11],[53,8,58,9],[53,6,58,7],[53,4,58,5],[53,2,58,3],[52,12,52,13],[31,12,31,13],[52,4,52,5],[52,6,52,7],[52,8,52,9],[52,10,52,11],[30,4,30,5],[59,12,68,13],[59,10,68,11],[59,8,68,9],[30,12,30,13],[37,9,37,10],[37,3,37,8],[30,10,30,11],[10,0,10,1],[12,8,12,9],[29,0,31,0],[30,2,30,3],[30,6,30,7],[30,8,30,9],[29,6,29,7],[31,2,31,3],[31,4,31,5],[31,6,31,7],[31,8,31,9],[29,12,29,13],[27,8,27,9],[28,8,28,9],[27,12,27,13],[28,10,28,11],[11,10,11,11],[27,2,27,3],[28,2,28,3],[28,6,28,7],[27,6,27,7],[29,2,29,3],[29,8,29,9],[29,10,29,11],[29,4,29,5],[11,2,11,3],[11,4,11,5],[27,4,27,5],[28,4,28,5],[12,10,12,11],[11,12,11,13],[37,0,37,2],[28,0,28,1],[31,10,31,11],[28,12,28,13],[27,10,27,11],[10,10,10,11],[12,12,12,13],[9,0,9,1],[10,6,10,7],[10,2,10,3],[9,6,9,7],[9,4,9,5],[10,4,10,5],[9,10,9,11],[9,12,9,13],[12,0,12,1],[12,2,12,3],[12,4,12,5],[12,6,12,7],[11,0,11,1],[11,8,11,9],[11,6,11,7],[10,8,10,9],[10,12,10,13],[9,8,9,9],[0,0,3,1],[8,4,8,5],[9,2,9,3],[8,6,8,7],[8,0,8,1],[7,0,7,2],[5,0,5,1],[7,5,7,8],[5,5,5,8],[8,8,8,9],[8,2,8,3],[8,12,8,13],[8,10,8,11],[2,12,2,13],[1,10,1,11],[5,10,5,11],[6,10,6,11],[6,12,6,13],[5,12,5,13],[1,12,1,13],[2,10,2,11]]}
[]
[null,null,null,null,"COMMONWEALTH OF PENNSYLVANIA",null,null,null,null,null,"DISTRICT",null,{"$f":"IF(ISBLANK('S1'!M2),\" \",('S1'!M2))","v":" "}]
[null,null,null,null,"DEPARTMENT OF TRANSPORTATION",null,null,null,null,null,"PLANT CODE",null,{"$f":"IF(ISBLANK('S1'!M3),\" \",('S1'!M3))","v":" "}]
[null,null,null,null,"LABORATORY TEST SECTION"]
[{"$f":"'S1'!A5","v":"ESB-16"}]
["Material Class ",null,{"$f":"IF(ISBLANK('S1'!C6),\" \",('S1'!C6))","v":9.5},"mm",null,"Burnoff Results",null,null,null,null,"Design No.",null,{"$f":"IF(ISBLANK('S1'!M6),\" \",('S1'!M6))","v":" "}]
[null,null,null,null,null,null,null,null,null,null,"Gyrations @ Ndes",null,{"$f":"IF(ISBLANK('S1'!M7),\" \",'S1'!M7)","v":" "}]
["-200 Correction Factor (+ or -)",null,null,{"$f":"IF(ISBLANK('S1'!D8),\" \",('S1'!D8))","v":" "},null,"Red values indicate action area"]
["Sample No."]
["Date"]
["St. Wt. Before Wash"]
["Dry Wt. After Wash"]
["Wt. Loss",null,{"$f":"IF(ISBLANK(C11),\" \",IF(ISBLANK(C12),\" \",C11-C12))","v":" "},null,{"$f":"IF(ISBLANK(E11),\" \",IF(ISBLANK(E12),\" \",E11-E12))","v":" "},null,{"$f":"IF(ISBLANK(G11),\" \",IF(ISBLANK(G12),\" \",G11-G12))","v":" "},null,{"$f":"IF(ISBLANK(I11),\" \",IF(ISBLANK(I12),\" \",I11-I12))","v":" "},null,{"$f":"IF(ISBLANK(K11),\" \",IF(ISBLANK(K12),\" \",K11-K12))","v":" "},null,{"$f":"IF(ISBLANK(M11),\" \",IF(ISBLANK(M12),\" \",M11-M12))","v":" "}]
["Size","JMF","Weight","%Passing","Weight","%Passing","Weight","%Passing","Weight","%Pasing","Weight","%Pasing","Weight","%Pasing"]
[2,{"$f":"IF(ISBLANK('S1'!B15),\" \",'S1'!B15)","v":" "},null,{"$f":"IF(ISBLANK(C11),\" \",IF(ISBLANK(C12),\" \",IF(ISBLANK(C15),\" \",ROUND((C15+C13)/C11*100,0))))","v":" "},null,{"$f":"IF(ISBLANK(E11),\" \",IF(ISBLANK(E12),\" \",IF(ISBLANK(E15),\" \",ROUND((E15+E13)/E11*100,0))))","v":" "},null,{"$f":"IF(ISBLANK(G11),\" \",IF(ISBLANK(G12),\" \",IF(ISBLANK(G15),\" \",ROUND((G15+G13)/G11*100,0))))","v":" "},null,{"$f":"IF(ISBLANK(I11),\" \",IF(ISBLANK(I12),\" \",IF(ISBLANK(I15),\" \",ROUND((I15+I13)/I11*100,0))))","v":" "},null,{"$f":"IF(ISBLANK(K11),\" \",IF(ISBLANK(K12),\" \",IF(ISBLANK(K15),\" \",ROUND((K15+K13)/K11*100,0))))","v":" "},null,{"$f":"IF(ISBLANK(M11),\" \",IF(ISBLANK(M12),\" \",IF(ISBLANK(M15),\" \",ROUND((M15+M13)/M11*100,0))))","v":" "}]
[1.5,{"$f":"IF(ISBLANK('S1'!B16),\" \",'S1'!B16)","v":" "},null,{"$f":"IF(ISBLANK(C11),\"  \",IF(ISBLANK(C12),\" \",IF(ISBLANK(C16),\" \",ROUND((C16+C13)/C11*100,0))))","v":"  "},null,{"$f":"IF(ISBLANK(E11),\"  \",IF(ISBLANK(E12),\" \",IF(ISBLANK(E16),\" \",ROUND((E16+E13)/E11*100,0))))","v":"  "},null,{"$f":"IF(ISBLANK(G11),\"  \",IF(ISBLANK(G12),\" \",IF(ISBLANK(G16),\" \",ROUND((G16+G13)/G11*100,0))))","v":"  "},null,{"$f":"IF(ISBLANK(I11),\"  \",IF(ISBLANK(I12),\" \",IF(ISBLANK(I16),\" \",ROUND((I16+I13)/I11*100,0))))","v":"  "},null,{"$f":"IF(ISBLANK(K11),\"  \",IF(ISBLANK(K12),\" \",IF(ISBLANK(K16),\" \",ROUND((K16+K13)/K11*100,0))))","v":"  "},null,{"$f":"IF(ISBLANK(M11),\"  \",IF(ISBLANK(M12),\" \",IF(ISBLANK(M16),\" \",ROUND((M16+M13)/M11*100,0))))","v":"  "}]
[1,{"$f":"IF(ISBLANK('S1'!B17),\" \",'S1'!B17)","v":" "},null,{"$f":"IF(ISBLANK(C11),\"  \",IF(ISBLANK(C12),\" \",IF(ISBLANK(C17),\" \",ROUND((C17+C13)/C11*100,0))))","v":"  "},null,{"$f":"IF(ISBLANK(E11),\"  \",IF(ISBLANK(E12),\" \",IF(ISBLANK(E17),\" \",ROUND((E17+E13)/E11*100,0))))","v":"  "},null,{"$f":"IF(ISBLANK(G11),\"  \",IF(ISBLANK(G12),\" \",IF(ISBLANK(G17),\" \",ROUND((G17+G13)/G11*100,0))))","v":"  "},null,{"$f":"IF(ISBLANK(I11),\"  \",IF(ISBLANK(I12),\" \",IF(ISBLANK(I17),\" \",ROUND((I17+I13)/I11*100,0))))","v":"  "},null,{"$f":"IF(ISBLANK(K11),\"  \",IF(ISBLANK(K12),\" \",IF(ISBLANK(K17),\" \",ROUND((K17+K13)/K11*100,0))))","v":"  "},null,{"$f":"IF(ISBLANK(M11),\"  \",IF(ISBLANK(M12),\" \",IF(ISBLANK(M17),\" \",ROUND((M17+M13)/M11*100,0))))","v":"  "}]
[0.75,{"$f":"IF(ISBLANK('S1'!B18),\" \",'S1'!B18)","v":" "},null,{"$f":"IF(ISBLANK(C11),\"  \",IF(ISBLANK(C12),\" \",IF(ISBLANK(C18),\" \",ROUND((C18+C13)/C11*100,0))))","v":"  "},null,{"$f":"IF(ISBLANK(E11),\"  \",IF(ISBLANK(E12),\" \",IF(ISBLANK(E18),\" \",ROUND((E18+E13)/E11*100,0))))","v":"  "},null,{"$f":"IF(ISBLANK(G11),\"  \",IF(ISBLANK(G12),\" \",IF(ISBLANK(G18),\" \",ROUND((G18+G13)/G11*100,0))))","v":"  "},null,{"$f":"IF(ISBLANK(I11),\"  \",IF(ISBLANK(I12),\" \",IF(ISBLANK(I18),\" \",ROUND((I18+I13)/I11*100,0))))","v":"  "},null,{"$f":"IF(ISBLANK(K11),\"  \",IF(ISBLANK(K12),\" \",IF(ISBLANK(K18),\" \",ROUND((K18+K13)/K11*100,0))))","v":"  "},null,{"$f":"IF(ISBLANK(M11),\"  \",IF(ISBLANK(M12),\" \",IF(ISBLANK(M18),\" \",ROUND((M18+M13)/M11*100,0))))","v":"  "}]
[0.5,{"$f":"IF(ISBLANK('S1'!B19),\" \",'S1'!B19)","v":" "},null,{"$f":"IF(ISBLANK(C11),\"  \",IF(ISBLANK(C12),\" \",IF(ISBLANK(C19),\" \",ROUND((C19+C13)/C11*100,0))))","v":"  "},null,{"$f":"IF(ISBLANK(E11),\"  \",IF(ISBLANK(E12),\" \",IF(ISBLANK(E19),\" \",ROUND((E19+E13)/E11*100,0))))","v":"  "},null,{"$f":"IF(ISBLANK(G11),\"  \",IF(ISBLANK(G12),\" \",IF(ISBLANK(G19),\" \",ROUND((G19+G13)/G11*100,0))))","v":"  "},null,{"$f":"IF(ISBLANK(I11),\"  \",IF(ISBLANK(I12),\" \",IF(ISBLANK(I19),\" \",ROUND((I19+I13)/I11*100,0))))","v":"  "},null,{"$f":"IF(ISBLANK(K11),\"  \",IF(ISBLANK(K12),\" \",IF(ISBLANK(K19),\" \",ROUND((K19+K13)/K11*100,0))))","v":"  "},null,{"$f":"IF(ISBLANK(M11),\"  \",IF(ISBLANK(M12),\" \",IF(ISBLANK(M19),\" \",ROUND((M19+M13)/M11*100,0))))","v":"  "}]
[0.375,{"$f":"IF(ISBLANK('S1'!B20),\" \",'S1'!B20)","v":" "},null,{"$f":"IF(ISBLANK(C11),\"  \",IF(ISBLANK(C12),\" \",IF(ISBLANK(C20),\" \",ROUND((C20+C13)/C11*100,0))))","v":"  "},null,{"$f":"IF(ISBLANK(E11),\"  \",IF(ISBLANK(E12),\" \",IF(ISBLANK(E20),\" \",ROUND((E20+E13)/E11*100,0))))","v":"  "},null,{"$f":"IF(ISBLANK(G11),\"  \",IF(ISBLANK(G12),\" \",IF(ISBLANK(G20),\" \",ROUND((G20+G13)/G11*100,0))))","v":"  "},null,{"$f":"IF(ISBLANK(I11),\"  \",IF(ISBLANK(I12),\" \",IF(ISBLANK(I20),\" \",ROUND((I20+I13)/I11*100,0))))","v":"  "},null,{"$f":"IF(ISBLANK(K11),\"  \",IF(ISBLANK(K12),\" \",IF(ISBLANK(K20),\" \",ROUND((K20+K13)/K11*100,0))))","v":"  "},null,{"$f":"IF(ISBLANK(M11),\"  \",IF(ISBLANK(M12),\" \",IF(ISBLANK(M20),\" \",ROUND((M20+M13)/M11*100,0))))","v":"  "}]
[4,{"$f":"IF(ISBLANK('S1'!B21),\" \",'S1'!B21)","v":" "},null,{"$f":"IF(ISBLANK(C11),\"  \",IF(ISBLANK(C12),\" \",IF(ISBLANK(C21),\" \",ROUND((C21+C13)/C11*100,0))))","v":"  "},null,{"$f":"IF(ISBLANK(E11),\"  \",IF(ISBLANK(E12),\" \",IF(ISBLANK(E21),\" \",ROUND((E21+E13)/E11*100,0))))","v":"  "},null,{"$f":"IF(ISBLANK(G11),\"  \",IF(ISBLANK(G12),\" \",IF(ISBLANK(G21),\" \",ROUND((G21+G13)/G11*100,0))))","v":"  "},null,{"$f":"IF(ISBLANK(I11),\"  \",IF(ISBLANK(I12),\" \",IF(ISBLANK(I21),\" \",ROUND((I21+I13)/I11*100,0))))","v":"  "},null,{"$f":"IF(ISBLANK(K11),\"  \",IF(ISBLANK(K12),\" \",IF(ISBLANK(K21),\" \",ROUND((K21+K13)/K11*100,0))))","v":"  "},null,{"$f":"IF(ISBLANK(M11),\"  \",IF(ISBLANK(M12),\" \",IF(ISBLANK(M21),\" \",ROUND((M21+M13)/M11*100,0))))","v":"  "}]
[8,{"$f":"IF(ISBLANK('S1'!B22),\" \",'S1'!B22)","v":" "},null,{"$f":"IF(ISBLANK(C11),\"  \",IF(ISBLANK(C12),\" \",IF(ISBLANK(C22),\" \",ROUND((C22+C13)/C11*100,0))))","v":"  "},null,{"$f":"IF(ISBLANK(E11),\"  \",IF(ISBLANK(E12),\" \",IF(ISBLANK(E22),\" \",ROUND((E22+E13)/E11*100,0))))","v":"  "},null,{"$f":"IF(ISBLANK(G11),\"  \",IF(ISBLANK(G12),\" \",IF(ISBLANK(G22),\" \",ROUND((G22+G13)/G11*100,0))))","v":"  "},null,{"$f":"IF(ISBLANK(I11),\"  \",IF(ISBLANK(I12),\" \",IF(ISBLANK(I22),\" \",ROUND((I22+I13)/I11*100,0))))","v":"  "},null,{"$f":"IF(ISBLANK(K11),\"  \",IF(ISBLANK(K12),\" \",IF(ISBLANK(K22),\" \",ROUND((K22+K13)/K11*100,0))))","v":"  "},null,{"$f":"IF(ISBLANK(M11),\"  \",IF(ISBLANK(M12),\" \",IF(ISBLANK(M22),\" \",ROUND((M22+M13)/M11*100,0))))","v":"  "}]
[16,{"$f":"IF(ISBLANK('S1'!B23),\" \",'S1'!B23)","v":" "},null,{"$f":"IF(ISBLANK(C11),\"  \",IF(ISBLANK(C12),\" \",IF(ISBLANK(C23),\" \",ROUND((C23+C13)/C11*100,0))))","v":"  "},null,{"$f":"IF(ISBLANK(E11),\"  \",IF(ISBLANK(E12),\" \",IF(ISBLANK(E23),\" \",ROUND((E23+E13)/E11*100,0))))","v":"  "},null,{"$f":"IF(ISBLANK(G11),\"  \",IF(ISBLANK(G12),\" \",IF(ISBLANK(G23),\" \",ROUND((G23+G13)/G11*100,0))))","v":"  "},null,{"$f":"IF(ISBLANK(I11),\"  \",IF(ISBLANK(I12),\" \",IF(ISBLANK(I23),\" \",ROUND((I23+I13)/I11*100,0))))","v":"  "},null,{"$f":"IF(ISBLANK(K11),\"  \",IF(ISBLANK(K12),\" \",IF(ISBLANK(K23),\" \",ROUND((K23+K13)/K11*100,0))))","v":"  "},null,{"$f":"IF(ISBLANK(M11),\"  \",IF(ISBLANK(M12),\" \",IF(ISBLANK(M23),\" \",ROUND((M23+M13)/M11*100,0))))","v":"  "}]
[30,{"$f":"IF(ISBLANK('S1'!B24),\" \",'S1'!B24)","v":" "},null,{"$f":"IF(ISBLANK(C11),\"  \",IF(ISBLANK(C12),\" \",IF(ISBLANK(C24),\" \",ROUND((C24+C13)/C11*100,0))))","v":"  "},null,{"$f":"IF(ISBLANK(E11),\"  \",IF(ISBLANK(E12),\" \",IF(ISBLANK(E24),\" \",ROUND((E24+E13)/E11*100,0))))","v":"  "},null,{"$f":"IF(ISBLANK(G11),\"  \",IF(ISBLANK(G12),\" \",IF(ISBLANK(G24),\" \",ROUND((G24+G13)/G11*100,0))))","v":"  "},null,{"$f":"IF(ISBLANK(I11),\"  \",IF(ISBLANK(I12),\" \",IF(ISBLANK(I24),\" \",ROUND((I24+I13)/I11*100,0))))","v":"  "},null,{"$f":"IF(ISBLANK(K11),\"  \",IF(ISBLANK(K12),\" \",IF(ISBLANK(K24),\" \",ROUND((K24+K13)/K11*100,0))))","v":"  "},null,{"$f":"IF(ISBLANK(M11),\"  \",IF(ISBLANK(M12),\" \",IF(ISBLANK(M24),\" \",ROUND((M24+M13)/M11*100,0))))","v":"  "}]
[50,{"$f":"IF(ISBLANK('S1'!B25),\" \",'S1'!B25)","v":" "},null,{"$f":"IF(ISBLANK(C11),\"  \",IF(ISBLANK(C12),\" \",IF(ISBLANK(C25),\" \",ROUND((C25+C13)/C11*100,0))))","v":"  "},null,{"$f":"IF(ISBLANK(E11),\"  \",IF(ISBLANK(E12),\" \",IF(ISBLANK(E25),\" \",ROUND((E25+E13)/E11*100,0))))","v":"  "},null,{"$f":"IF(ISBLANK(G11),\"  \",IF(ISBLANK(G12),\" \",IF(ISBLANK(G25),\" \",ROUND((G25+G13)/G11*100,0))))","v":"  "},null,{"$f":"IF(ISBLANK(I11),\"  \",IF(ISBLANK(I12),\" \",IF(ISBLANK(I25),\" \",ROUND((I25+I13)/I11*100,0))))","v":"  "},null,{"$f":"IF(ISBLANK(K11),\"  \",IF(ISBLANK(K12),\" \",IF(ISBLANK(K25),\" \",ROUND((K25+K13)/K11*100,0))))","v":"  "},null,{"$f":"IF(ISBLANK(M11),\"  \",IF(ISBLANK(M12),\" \",IF(ISBLANK(M25),\" \",ROUND((M25+M13)/M11*100,0))))","v":"  "}]
[100,{"$f":"IF(ISBLANK('S1'!B26),\" \",'S1'!B26)","v":" "},null,{"$f":"IF(ISBLANK(C11),\"  \",IF(ISBLANK(C12),\" \",IF(ISBLANK(C26),\" \",ROUND((C26+C13)/C11*100,0))))","v":"  "},null,{"$f":"IF(ISBLANK(E11),\"  \",IF(ISBLANK(E12),\" \",IF(ISBLANK(E26),\" \",ROUND((E26+E13)/E11*100,0))))","v":"  "},null,{"$f":"IF(ISBLANK(G11),\"  \",IF(ISBLANK(G12),\" \",IF(ISBLANK(G26),\" \",ROUND((G26+G13)/G11*100,0))))","v":"  "},null,{"$f":"IF(ISBLANK(I11),\"  \",IF(ISBLANK(I12),\" \",IF(ISBLANK(I26),\" \",ROUND((I26+I13)/I11*100,0))))","v":"  "},null,{"$f":"IF(ISBLANK(K11),\"  \",IF(ISBLANK(K12),\" \",IF(ISBLANK(K26),\" \",ROUND((K26+K13)/K11*100,0))))","v":"  "},null,{"$f":"IF(ISBLANK(M11),\"  \",IF(ISBLANK(M12),\" \",IF(ISBLANK(M26),\" \",ROUND((M26+M13)/M11*100,0))))","v":"  "}]
[200,{"$f":"IF(ISBLANK('S1'!B27),\" \",'S1'!B27)","v":" "},null,{"$f":"IF(ISBLANK(C11),\"  \",IF(ISBLANK(C12),\" \",IF(ISBLANK(C27),\" \",ROUND((C27+C13)/C11*100+$D$8,1))))","v":"  "},null,{"$f":"IF(ISBLANK(E11),\"  \",IF(ISBLANK(E12),\" \",IF(ISBLANK(E27),\" \",ROUND((E27+E13)/E11*100+$D$8,1))))","v":"  "},null,{"$f":"IF(ISBLANK(G11),\"  \",IF(ISBLANK(G12),\" \",IF(ISBLANK(G27),\" \",ROUND((G27+G13)/G11*100+$D$8,1))))","v":"  "},null,{"$f":"IF(ISBLANK(I11),\"  \",IF(ISBLANK(I12),\" \",IF(ISBLANK(I27),\" \",ROUND((I27+I13)/I11*100+$D$8,1))))","v":"  "},null,{"$f":"IF(ISBLANK(K11),\"  \",IF(ISBLANK(K12),\" \",IF(ISBLANK(K27),\" \",ROUND((K27+K13)/K11*100+$D$8,1))))","v":"  "},null,{"$f":"IF(ISBLANK(M11),\"  \",IF(ISBLANK(M12),\" \",IF(ISBLANK(M27),\" \",ROUND((M27+M13)/M11*100+$D$8,1))))","v":"  "}]
["%AC",{"$f":"IF(ISBLANK('S1'!B28),\" \",'S1'!B28)","v":" "}]
["Percent Loss / Gain",null,{"$f":"IF(ISBLANK(C12),\"\",IF(ISBLANK(C20),\"\",(C12-C71)/C12*100))","v":""},null,{"$f":"IF(ISBLANK(E12),\"\",IF(ISBLANK(E20),\"\",(E12-E71)/E12*100))","v":""},null,{"$f":"IF(ISBLANK(G12),\"\",IF(ISBLANK(G20),\"\",(G12-G71)/G12*100))","v":""},null,{"$f":"IF(ISBLANK(I12),\"\",IF(ISBLANK(I20),\"\",(I12-I71)/I12*100))","v":""},null,{"$f":"IF(ISBLANK(K12),\"\",IF(ISBLANK(K20),\"\",(K12-K71)/K12*100))","v":""},null,{"$f":"IF(ISBLANK(M12),\"\",IF(ISBLANK(M20),\"\",(M12-M71)/M12*100))","v":""}]
["Apparent Moisture","Orig Wt"]
[null,"Const Wt"]
[null,"% moisture",{"$f":"IF(ISBLANK(C30),\" \",IF(ISBLANK(C31),\" \",((C30-C31)/C31)*100))","v":" "},null,{"$f":"IF(ISBLANK(E30),\" \",IF(ISBLANK(E31),\" \",((E30-E31)/E31)*100))","v":" "},null,{"$f":"IF(ISBLANK(G30),\" \",IF(ISBLANK(G31),\" \",((G30-G31)/G31)*100))","v":" "},null,{"$f":"IF(ISBLANK(I30),\" \",IF(ISBLANK(I31),\" \",((I30-I31)/I31)*100))","v":" "},null,{"$f":"IF(ISBLANK(K30),\" \",IF(ISBLANK(K31),\" \",((K30-K31)/K31)*100))","v":" "},null,{"$f":"IF(ISBLANK(M30),\" \",IF(ISBLANK(M31),\" \",((M30-M31)/M31)*100))","v":" "}]
[]
[]
[]
[]
[]
["Sets up Min and Max for charts",null,null,"Running Avg for Conditional Format",null,null,null,null,null,"AP upper & lower Tolerances"]
["#4",{"$f":"B21-8","v":{"$error":"#VALUE!"}},{"$f":"B21+8","v":{"$error":"#VALUE!"}},{"$f":"'S17'!$AC27","v":{"$error":"#N/A"}},{"$f":"'S17'!$AC28","v":{"$error":"#N/A"}},{"$f":"'S17'!$AC29","v":{"$error":"#N/A"}},{"$f":"'S17'!$AC30","v":{"$error":"#N/A"}},{"$f":"'S17'!$AC31","v":{"$error":"#N/A"}},{"$f":"'S17'!$AC32","v":{"$error":"#N/A"}},{"$f":"AP!E90","v":5},{"$f":"AP!E92","v":5}]
["#8",{"$f":"B22-6","v":{"$error":"#VALUE!"}},{"$f":"B22+6","v":{"$error":"#VALUE!"}},{"$f":"'S17'!$AA27","v":{"$error":"#N/A"}},{"$f":"'S17'!$AA28","v":{"$error":"#N/A"}},{"$f":"'S17'!$AA29","v":{"$error":"#N/A"}},{"$f":"'S17'!$AA30","v":{"$error":"#N/A"}},{"$f":"'S17'!$AA31","v":{"$error":"#N/A"}},{"$f":"'S17'!$AA32","v":{"$error":"#N/A"}},{"$f":"AP!E84","v":5},{"$f":"AP!E86","v":5}]
["#200",{"$f":"B27-2","v":{"$error":"#VALUE!"}},{"$f":"B27+2","v":{"$error":"#VALUE!"}},{"$f":"'S17'!$Y27","v":{"$error":"#N/A"}},{"$f":"'S17'!$Y28","v":{"$error":"#N/A"}},{"$f":"'S17'!$Y29","v":{"$error":"#N/A"}},{"$f":"'S17'!$Y30","v":{"$error":"#N/A"}},{"$f":"'S17'!$Y31","v":{"$error":"#N/A"}},{"$f":"'S17'!$Y32","v":{"$error":"#N/A"}},{"$f":"AP!E78","v":5},{"$f":"AP!E80","v":5}]
["AC",{"$f":"B28-0.4","v":{"$error":"#VALUE!"}},{"$f":"B28+0.4","v":{"$error":"#VALUE!"}},{"$f":"'S17'!$W27","v":{"$error":"#N/A"}},{"$f":"'S17'!$W28","v":{"$error":"#N/A"}},{"$f":"'S17'!$W29","v":{"$error":"#N/A"}},{"$f":"'S17'!$W30","v":{"$error":"#N/A"}},{"$f":"'S17'!$W31","v":{"$error":"#N/A"}},{"$f":"'S17'!$W32","v":{"$error":"#N/A"}},{"$f":"AP!E72","v":5},{"$f":"AP!E74","v":5}]
[null,null,null,{"$f":"'S17'!$U27","v":{"$error":"#N/A"}},{"$f":"'S17'!U28","v":{"$error":"#N/A"}},{"$f":"'S17'!U29","v":{"$error":"#N/A"}},{"$f":"'S17'!U30","v":{"$error":"#N/A"}},{"$f":"'S17'!U31","v":{"$error":"#N/A"}},{"$f":"'S17'!U32","v":{"$error":"#N/A"}},{"$f":"AP!E66","v":5},{"$f":"AP!E68","v":5}]
[null,null,null,{"$f":"'S17'!$S27","v":{"$error":"#N/A"}},{"$f":"'S17'!$S28","v":{"$error":"#N/A"}},{"$f":"'S17'!$S29","v":{"$error":"#N/A"}},{"$f":"'S17'!$S30","v":{"$error":"#N/A"}},{"$f":"'S17'!$S31","v":{"$error":"#N/A"}},{"$f":"'S17'!$S32","v":{"$error":"#N/A"}},{"$f":"AP!E60","v":3},{"$f":"AP!E62","v":3}]
[null,null,null,{"$f":"'S17'!$Q27","v":{"$error":"#N/A"}},{"$f":"'S17'!Q28","v":{"$error":"#N/A"}},{"$f":"'S17'!Q29","v":{"$error":"#N/A"}},{"$f":"'S17'!Q30","v":{"$error":"#N/A"}},{"$f":"'S17'!Q31","v":{"$error":"#N/A"}},{"$f":"'S17'!Q32","v":{"$error":"#N/A"}},{"$f":"AP!E54","v":3},{"$f":"AP!E56","v":3}]
[null,null,null,{"$f":"'S17'!$O27","v":{"$error":"#N/A"}},{"$f":"'S17'!O28","v":{"$error":"#N/A"}},{"$f":"'S17'!O29","v":{"$error":"#N/A"}},{"$f":"'S17'!O30","v":{"$error":"#N/A"}},{"$f":"'S17'!O31","v":{"$error":"#N/A"}},{"$f":"'S17'!O32","v":{"$error":"#N/A"}},{"$f":"AP!E47","v":3},{"$f":"AP!E49","v":3}]
[null,null,null,{"$f":"'S17'!$M27","v":{"$error":"#N/A"}},{"$f":"'S17'!$M28","v":{"$error":"#N/A"}},{"$f":"'S17'!$M29","v":{"$error":"#N/A"}},{"$f":"'S17'!$M30","v":{"$error":"#N/A"}},{"$f":"'S17'!$M31","v":{"$error":"#N/A"}},{"$f":"'S17'!$M32","v":{"$error":"#N/A"}},{"$f":"AP!E40","v":3},{"$f":"AP!E42","v":3}]
[null,null,null,{"$f":"'S17'!$K27","v":{"$error":"#N/A"}},{"$f":"'S17'!$K28","v":{"$error":"#N/A"}},{"$f":"'S17'!$K29","v":{"$error":"#N/A"}},{"$f":"'S17'!$K30","v":{"$error":"#N/A"}},{"$f":"'S17'!$K31","v":{"$error":"#N/A"}},{"$f":"'S17'!$K32","v":{"$error":"#N/A"}},{"$f":"AP!E34","v":3},{"$f":"AP!E36","v":3}]
[null,null,null,{"$f":"'S17'!$I27","v":{"$error":"#N/A"}},{"$f":"'S17'!$I28","v":{"$error":"#N/A"}},{"$f":"'S17'!$I29","v":{"$error":"#N/A"}},{"$f":"'S17'!$I30","v":{"$error":"#N/A"}},{"$f":"'S17'!$I31","v":{"$error":"#N/A"}},{"$f":"'S17'!$I32","v":{"$error":"#N/A"}},{"$f":"AP!E28","v":3},{"$f":"AP!E30","v":3}]
[null,null,null,{"$f":"'S17'!$G27","v":{"$error":"#N/A"}},{"$f":"'S17'!$G28","v":{"$error":"#N/A"}},{"$f":"'S17'!$G29","v":{"$error":"#N/A"}},{"$f":"'S17'!$G30","v":{"$error":"#N/A"}},{"$f":"'S17'!$G31","v":{"$error":"#N/A"}},{"$f":"'S17'!$G32","v":{"$error":"#N/A"}},{"$f":"AP!E22","v":3},{"$f":"AP!E24","v":3}]
[null,null,null,{"$f":"'S17'!E27","v":{"$error":"#N/A"}},{"$f":"'S17'!E28","v":{"$error":"#N/A"}},{"$f":"'S17'!E29","v":{"$error":"#N/A"}},{"$f":"'S17'!E30","v":{"$error":"#N/A"}},{"$f":"'S17'!E31","v":{"$error":"#N/A"}},{"$f":"'S17'!E32","v":{"$error":"#N/A"}},{"$f":"AP!E15","v":1},{"$f":"AP!E17","v":1}]
[null,null,null,{"$f":"ROUND('S17'!C27,1)","v":{"$error":"#N/A"}},{"$f":"ROUND('S17'!C28,1)","v":{"$error":"#N/A"}},{"$f":"ROUND('S17'!C29,1)","v":{"$error":"#N/A"}},{"$f":"ROUND('S17'!C30,1)","v":{"$error":"#N/A"}},{"$f":"ROUND('S17'!C31,1)","v":{"$error":"#N/A"}},{"$f":"ROUND('S17'!C32,1)","v":{"$error":"#N/A"}},{"$f":"AP!E7","v":0.2},{"$f":"AP!E9","v":0.2}]
["Tested By"]
["Remarks",null,{"$f":"IF(AND(T94=3,'S4'!M54=\"Single sample deviation, resample within 150 tons. Document corrective action\"),\"Deviation on 150 ton sample, suspend production of JMF\",IF(AND(T88=2,'S4'!M54=\"Multiple sample deviation, resample within 150 tons. Document corrective action\"),\"Deviation on 150 ton sample, suspend production of JMF\",IF(AND(T88=2,'S4'!M54=\"Single sample deviation, resample within 150 tons. Document corrective action\"),\"Deviation on 150 ton sample, suspend production of JMF\",IF(T94=3,\"Single sample deviation, resample within 150 tons. Document corrective action\",IF(T88=2,\"Multiple sample deviation, resample within 150 tons. Document corrective action\",IF(T71=1,\"Action area, document corrective action\",\" \"))))))","v":{"$error":"#N/A"}},null,{"$f":"IF(AND(U94=3,C54=\"Single sample deviation, resample within 150 tons. Document corrective action\"),\"Deviation on 150 ton sample, suspend production of JMF\",IF(AND(U88=2,C54=\"Multiple sample deviation, resample within 150 tons. Document corrective action\"),\"Deviation on 150 ton sample, suspend production of JMF\",IF(AND(U88=2,C54=\"Single sample deviation, resample within 150 tons. Document corrective action\"),\"Deviation on 150 ton sample, suspend production of JMF\",IF(U94=3,\"Single sample deviation, resample within 150 tons. Document corrective action\",IF(U88=2,\"Multiple sample deviation, resample within 150 tons. Document corrective action\",IF(U71=1,\"Action area, document corrective action\",\" \"))))))","v":{"$error":"#N/A"}},null,{"$f":"IF(AND(V94=3,E54=\"Single sample deviation, resample within 150 tons. Document corrective action\"),\"Deviation on 150 ton sample, suspend production of JMF\",IF(AND(V88=2,E54=\"Multiple sample deviation, resample within 150 tons. Document corrective action\"),\"Deviation on 150 ton sample, suspend production of JMF\",IF(AND(V88=2,E54=\"Single sample deviation, resample within 150 tons. Document corrective action\"),\"Deviation on 150 ton sample, suspend production of JMF\",IF(V94=3,\"Single sample deviation, resample within 150 tons. Document corrective action\",IF(V88=2,\"Multiple sample deviation, resample within 150 tons. Document corrective action\",IF(V71=1,\"Action area, document corrective action\",\" \"))))))","v":{"$error":"#N/A"}},null,{"$f":"IF(AND(W94=3,G54=\"Single sample deviation, resample within 150 tons. Document corrective action\"),\"Deviation on 150 ton sample, suspend production of JMF\",IF(AND(W88=2,G54=\"Multiple sample deviation, resample within 150 tons. Document corrective action\"),\"Deviation on 150 ton sample, suspend production of JMF\",IF(AND(W88=2,G54=\"Single sample deviation, resample within 150 tons. Document corrective action\"),\"Deviation on 150 ton sample, suspend production of JMF\",IF(W94=3,\"Single sample deviation, resample within 150 tons. Document corrective action\",IF(W88=2,\"Multiple sample deviation, resample within 150 tons. Document corrective action\",IF(W71=1,\"Action area, document corrective action\",\" \"))))))","v":{"$error":"#N/A"}},null,{"$f":"IF(AND(X94=3,I54=\"Single sample deviation, resample within 150 tons. Document corrective action\"),\"Deviation on 150 ton sample, suspend production of JMF\",IF(AND(X88=2,I54=\"Multiple sample deviation, resample within 150 tons. Document corrective action\"),\"Deviation on 150 ton sample, suspend production of JMF\",IF(AND(X88=2,I54=\"Single sample deviation, resample within 150 tons. Document corrective action\"),\"Deviation on 150 ton sample, suspend production of JMF\",IF(X94=3,\"Single sample deviation, resample within 150 tons. Document corrective action\",IF(X88=2,\"Multiple sample deviation, resample within 150 tons. Document corrective action\",IF(X71=1,\"Action area, document corrective action\",\" \"))))))","v":{"$error":"#N/A"}},null,{"$f":"IF(AND(Y94=3,K54=\"Single sample deviation, resample within 150 tons. Document corrective action\"),\"Deviation on 150 ton sample, suspend production of JMF\",IF(AND(Y88=2,K54=\"Multiple sample deviation, resample within 150 tons. Document corrective action\"),\"Deviation on 150 ton sample, suspend production of JMF\",IF(AND(Y88=2,K54=\"Single sample deviation, resample within 150 tons. Document corrective action\"),\"Deviation on 150 ton sample, suspend production of JMF\",IF(Y94=3,\"Single sample deviation, resample within 150 tons. Document corrective action\",IF(Y88=2,\"Multiple sample deviation, resample within 150 tons. Document corrective action\",IF(Y71=1,\"Action area, document corrective action\",\" \"))))))","v":{"$error":"#N/A"}}]
[]
[null,null,null,null,null,null,null,null,null,null,null,null,null,null,null,null,null,null,"Action points flags"]
[null,null,null,null,null,null,null,null,null,null,null,null,null,null,null,null,null,2,{"$f":"$B$15","v":" "},{"$f":"IF(ISBLANK(C15),0,IF(OR(D39>=$S57+$J39,D39<=$S57-$K39),1,0))","v":0},{"$f":"IF(ISBLANK(E15),0,IF(OR(E39>=$S57+$J39,E39<=$S57-$K39),1,0))","v":0},{"$f":"IF(ISBLANK(G15),0,IF(OR(F39>=$S57+$J39,F39<=$S57-$K39),1,0))","v":0},{"$f":"IF(ISBLANK(I15),0,IF(OR(G39>=$S57+$J39,G39<=$S57-$K39),1,0))","v":0},{"$f":"IF(ISBLANK(K15),0,IF(OR(H39>=$S57+$J39,H39<=$S57-$K39),1,0))","v":0},{"$f":"IF(ISBLANK(M15),0,IF(OR(I39>=$S57+$J39,I39<=$S57-$K39),1,0))","v":0}]
[null,null,null,null,null,null,null,null,null,null,null,null,null,null,null,null,null,1.5,{"$f":"$B$16","v":" "},{"$f":"IF(ISBLANK(C16),0,IF(OR(D40>=$S58+$J40,D40<=$S58-$K40),1,0))","v":0},{"$f":"IF(ISBLANK(E16),0,IF(OR(E40>=$S58+$J40,E40<=$S58-$K40),1,0))","v":0},{"$f":"IF(ISBLANK(G16),0,IF(OR(F40>=$S58+$J40,F40<=$S58-$K40),1,0))","v":0},{"$f":"IF(ISBLANK(I16),0,IF(OR(G40>=$S58+$J40,G40<=$S58-$K40),1,0))","v":0},{"$f":"IF(ISBLANK(K16),0,IF(OR(H40>=$S58+$J40,H40<=$S58-$K40),1,0))","v":0},{"$f":"IF(ISBLANK(M16),0,IF(OR(I40>=$S58+$J40,I40<=$S58-$K40),1,0))","v":0}]
[null,null,null,null,null,null,null,null,null,null,null,null,null,null,null,null,null,1,{"$f":"$B$17","v":" "},{"$f":"IF(ISBLANK(C17),0,IF(OR(D41>=$S59+$J41,D41<=$S59-$K41),1,0))","v":0},{"$f":"IF(ISBLANK(E17),0,IF(OR(E41>=$S59+$J41,E41<=$S59-$K41),1,0))","v":0},{"$f":"IF(ISBLANK(G17),0,IF(OR(F41>=$S59+$J41,F41<=$S59-$K41),1,0))","v":0},{"$f":"IF(ISBLANK(I17),0,IF(OR(G41>=$S59+$J41,G41<=$S59-$K41),1,0))","v":0},{"$f":"IF(ISBLANK(K17),0,IF(OR(H41>=$S59+$J41,H41<=$S59-$K41),1,0))","v":0},{"$f":"IF(ISBLANK(M17),0,IF(OR(I41>=$S59+$J41,I41<=$S59-$K41),1,0))","v":0}]
[null,null,null,null,null,null,null,null,null,null,null,null,null,null,null,null,null,0.75,{"$f":"$B$18","v":" "},{"$f":"IF(ISBLANK(C18),0,IF(OR(D42>=$S60+$J42,D42<=$S60-$K42),1,0))","v":0},{"$f":"IF(ISBLANK(E18),0,IF(OR(E42>=$S60+$J42,E42<=$S60-$K42),1,0))","v":0},{"$f":"IF(ISBLANK(G18),0,IF(OR(F42>=$S60+$J42,F42<=$S60-$K42),1,0))","v":0},{"$f":"IF(ISBLANK(I18),0,IF(OR(G42>=$S60+$J42,G42<=$S60-$K42),1,0))","v":0},{"$f":"IF(ISBLANK(K18),0,IF(OR(H42>=$S60+$J42,H42<=$S60-$K42),1,0))","v":0},{"$f":"IF(ISBLANK(M18),0,IF(OR(I42>=$S60+$J42,I42<=$S60-$K42),1,0))","v":0}]
[null,null,null,null,null,null,null,null,null,null,null,null,null,null,null,null,null,0.5,{"$f":"$B$19","v":" "},{"$f":"IF(ISBLANK(C19),0,IF(OR(D43>=$S61+$J43,D43<=$S61-$K43),1,0))","v":0},{"$f":"IF(ISBLANK(E19),0,IF(OR(E43>=$S61+$J43,E43<=$S61-$K43),1,0))","v":0},{"$f":"IF(ISBLANK(G19),0,IF(OR(F43>=$S61+$J43,F43<=$S61-$K43),1,0))","v":0},{"$f":"IF(ISBLANK(I19),0,IF(OR(G43>=$S61+$J43,G43<=$S61-$K43),1,0))","v":0},{"$f":"IF(ISBLANK(K19),0,IF(OR(H43>=$S61+$J43,H43<=$S61-$K43),1,0))","v":0},{"$f":"IF(ISBLANK(M19),0,IF(OR(I43>=$S61+$J43,I43<=$S61-$K43),1,0))","v":0}]
[null,null,null,null,null,null,null,null,null,null,null,null,null,null,null,null,null,0.375,{"$f":"$B$20","v":" "},{"$f":"IF(OR(D44>=$S62+$J44,D44<=$S62-$K44),1,0)","v":{"$error":"#N/A"}},{"$error":"#N/A"},{"$error":"#N/A"},{"$error":"#N/A"},{"$error":"#N/A"},{"$error":"#N/A"}]
[null,null,null,null,null,null,null,null,null,null,null,null,null,null,null,null,null,4,{"$f":"$B$21","v":" "},{"$error":"#N/A"},{"$error":"#N/A"},{"$error":"#N/A"},{"$error":"#N/A"},{"$error":"#N/A"},{"$error":"#N/A"}]
[null,null,null,null,null,null,null,null,null,null,null,null,null,null,null,null,null,8,{"$f":"$B$22","v":" "},{"$error":"#N/A"},{"$error":"#N/A"},{"$error":"#N/A"},{"$error":"#N/A"},{"$error":"#N/A"},{"$error":"#N/A"}]
[null,null,null,null,null,null,null,null,null,null,null,null,null,null,null,null,null,16,{"$f":"$B$23","v":" "},{"$error":"#N/A"},{"$error":"#N/A"},{"$error":"#N/A"},{"$error":"#N/A"},{"$error":"#N/A"},{"$error":"#N/A"}]
[null,null,null,null,null,null,null,null,null,null,null,null,null,null,null,null,null,30,{"$f":"$B$24","v":" "},{"$error":"#N/A"},{"$error":"#N/A"},{"$error":"#N/A"},{"$error":"#N/A"},{"$error":"#N/A"},{"$error":"#N/A"}]
[null,null,null,null,null,null,null,null,null,null,null,null,null,null,null,null,null,50,{"$f":"$B$25","v":" "},{"$error":"#N/A"},{"$error":"#N/A"},{"$error":"#N/A"},{"$error":"#N/A"},{"$error":"#N/A"},{"$error":"#N/A"}]
[null,null,null,null,null,null,null,null,null,null,null,null,null,null,null,null,null,100,{"$f":"$B$26","v":" "},{"$error":"#N/A"},{"$error":"#N/A"},{"$error":"#N/A"},{"$error":"#N/A"},{"$error":"#N/A"},{"$error":"#N/A"}]
[null,null,null,null,null,null,null,null,null,null,null,null,null,null,null,null,null,200,{"$f":"$B$27","v":" "},{"$error":"#N/A"},{"$error":"#N/A"},{"$error":"#N/A"},{"$error":"#N/A"},{"$error":"#N/A"},{"$error":"#N/A"}]
[null,null,null,null,null,null,null,null,null,null,null,null,null,null,null,null,null,"%AC",{"$f":"$B$28","v":" "},{"$error":"#N/A"},{"$error":"#N/A"},{"$error":"#N/A"},{"$error":"#N/A"},{"$error":"#N/A"},{"$error":"#N/A"}]
[null,null,{"$f":"MAX(C15:C23)","v":0},null,{"$f":"MAX(E15:E23)","v":0},null,{"$f":"MAX(G15:G23)","v":0},null,{"$f":"MAX(I15:I23)","v":0},null,{"$f":"MAX(K15:K23)","v":0},null,{"$f":"MAX(M15:M23)","v":0},null,null,null,null,null,"Max",{"$f":"MAX(T56:T70)","v":{"$error":"#N/A"}},{"$error":"#N/A"},{"$error":"#N/A"},{"$error":"#N/A"},{"$error":"#N/A"},{"$error":"#N/A"}]
[]
[null,null,null,null,null,null,null,null,null,null,null,null,null,null,null,null,null,null,"Multiple sample flag"]
[null,null,null,null,null,null,null,null,null,null,null,null,null,null,null,null,null,2,{"$f":"$B$15","v":" "},{"$f":"IF(ISBLANK(C15),0,IF(OR(D39>$S74+AP!$E$89,D39<$S74-AP!$E$93),2,0))","v":0},{"$f":"IF(ISBLANK(E15),0,IF(OR(E39>$S74+AP!$E$89,E39<$S74-AP!$E$93),2,0))","v":0},{"$f":"IF(ISBLANK(G15),0,IF(OR(F39>$S74+AP!$E$89,F39<$S74-AP!$E$93),2,0))","v":0},{"$f":"IF(ISBLANK(I15),0,IF(OR(G39>$S74+AP!$E$89,G39<$S74-AP!$E$93),2,0))","v":0},{"$f":"IF(ISBLANK(K15),0,IF(OR(H39>$S74+AP!$E$89,H39<$S74-AP!$E$93),2,0))","v":0},{"$f":"IF(ISBLANK(M15),0,IF(OR(I39>$S74+AP!$E$89,I39<$S74-AP!$E$93),2,0))","v":0}]
[null,null,null,null,null,null,null,null,null,null,null,null,null,null,null,null,null,1.5,{"$f":"$B$16","v":" "},{"$f":"IF(ISBLANK(C16),0,IF(OR(D40>$S75+AP!$E$83,D40<$S75-AP!$E$87),2,0))","v":0},{"$f":"IF(ISBLANK(E16),0,IF(OR(E40>$S75+AP!$E$89,E40<$S75-AP!$E$93),2,0))","v":0},{"$f":"IF(ISBLANK(G16),0,IF(OR(F40>$S75+AP!$E$89,F40<$S75-AP!$E$93),2,0))","v":0},{"$f":"IF(ISBLANK(I16),0,IF(OR(G40>$S75+AP!$E$89,G40<$S75-AP!$E$93),2,0))","v":0},{"$f":"IF(ISBLANK(K16),0,IF(OR(H40>$S75+AP!$E$89,H40<$S75-AP!$E$93),2,0))","v":0},{"$f":"IF(ISBLANK(M16),0,IF(OR(I40>$S75+AP!$E$89,I40<$S75-AP!$E$93),2,0))","v":0}]
[null,null,null,null,null,null,null,null,null,null,null,null,null,null,null,null,null,1,{"$f":"$B$17","v":" "},{"$f":"IF(ISBLANK(C17),0,IF(OR(D41>$S76+AP!$E$83,D41<$S76-AP!$E$87),2,0))","v":0},{"$f":"IF(ISBLANK(E17),0,IF(OR(E41>$S76+AP!$E$89,E41<$S76-AP!$E$93),2,0))","v":0},{"$f":"IF(ISBLANK(G17),0,IF(OR(F41>$S76+AP!$E$89,F41<$S76-AP!$E$93),2,0))","v":0},{"$f":"IF(ISBLANK(I17),0,IF(OR(G41>$S76+AP!$E$89,G41<$S76-AP!$E$93),2,0))","v":0},{"$f":"IF(ISBLANK(K17),0,IF(OR(H41>$S76+AP!$E$89,H41<$S76-AP!$E$93),2,0))","v":0},{"$f":"IF(ISBLANK(M17),0,IF(OR(I41>$S76+AP!$E$89,I41<$S76-AP!$E$93),2,0))","v":0}]
[null,null,null,null,null,null,null,null,null,null,null,null,null,null,null,null,null,0.75,{"$f":"$B$18","v":" "},{"$f":"IF(ISBLANK(C18),0,IF(OR(D42>$S77+AP!$E$83,D42<$S77-AP!$E$87),2,0))","v":0},{"$f":"IF(ISBLANK(E18),0,IF(OR(E42>$S77+AP!$E$89,E42<$S77-AP!$E$93),2,0))","v":0},{"$f":"IF(ISBLANK(G18),0,IF(OR(F42>$S77+AP!$E$89,F42<$S77-AP!$E$93),2,0))","v":0},{"$f":"IF(ISBLANK(I18),0,IF(OR(G42>$S77+AP!$E$89,G42<$S77-AP!$E$93),2,0))","v":0},{"$f":"IF(ISBLANK(K18),0,IF(OR(H42>$S77+AP!$E$89,H42<$S77-AP!$E$93),2,0))","v":0},{"$f":"IF(ISBLANK(M18),0,IF(OR(I42>$S77+AP!$E$89,I42<$S77-AP!$E$93),2,0))","v":0}]
[null,null,null,null,null,null,null,null,null,null,null,null,null,null,null,null,null,0.5,{"$f":"$B$19","v":" "},{"$f":"IF(ISBLANK(C19),0,IF(OR(D43>$S78+AP!$E$83,D43<$S78-AP!$E$87),2,0))","v":0},{"$f":"IF(ISBLANK(E19),0,IF(OR(E43>$S78+AP!$E$89,E43<$S78-AP!$E$93),2,0))","v":0},{"$f":"IF(ISBLANK(G19),0,IF(OR(F43>$S78+AP!$E$89,F43<$S78-AP!$E$93),2,0))","v":0},{"$f":"IF(ISBLANK(I19),0,IF(OR(G43>$S78+AP!$E$89,G43<$S78-AP!$E$93),2,0))","v":0},{"$f":"IF(ISBLANK(K19),0,IF(OR(H43>$S78+AP!$E$89,H43<$S78-AP!$E$93),2,0))","v":0},{"$f":"IF(ISBLANK(M19),0,IF(OR(I43>$S78+AP!$E$89,I43<$S78-AP!$E$93),2,0))","v":0}]
[null,null,null,null,null,null,null,null,null,null,null,null,null,null,null,null,null,0.375,{"$f":"$B$20","v":" "},{"$f":"IF(OR(D44>$S79+AP!$E$59,D44<$S79-AP!$E$63),2,0)","v":{"$error":"#N/A"}},{"$f":"IF(OR(E44>$S79+AP!$E$59,E44<$S79-AP!$E$63),2,0)","v":{"$error":"#N/A"}},{"$f":"IF(OR(F44>$S79+AP!$E$59,F44<$S79-AP!$E$63),2,0)","v":{"$error":"#N/A"}},{"$f":"IF(OR(G44>$S79+AP!$E$59,G44<$S79-AP!$E$63),2,0)","v":{"$error":"#N/A"}},{"$f":"IF(OR(H44>$S79+AP!$E$59,H44<$S79-AP!$E$63),2,0)","v":{"$error":"#N/A"}},{"$f":"IF(OR(I44>$S79+AP!$E$59,I44<$S79-AP!$E$63),2,0)","v":{"$error":"#N/A"}}]
[null,null,null,null,null,null,null,null,null,null,null,null,null,null,null,null,null,4,{"$f":"$B$21","v":" "},{"$f":"IF(OR(D45>$S80+AP!$E$53,D45<$S80-AP!$E$57),2,0)","v":{"$error":"#N/A"}},{"$f":"IF(OR(E45>$S80+AP!$E$53,E45<$S80-AP!$E$57),2,0)","v":{"$error":"#N/A"}},{"$f":"IF(OR(F45>$S80+AP!$E$53,F45<$S80-AP!$E$57),2,0)","v":{"$error":"#N/A"}},{"$f":"IF(OR(G45>$S80+AP!$E$53,G45<$S80-AP!$E$57),2,0)","v":{"$error":"#N/A"}},{"$f":"IF(OR(H45>$S80+AP!$E$53,H45<$S80-AP!$E$57),2,0)","v":{"$error":"#N/A"}},{"$f":"IF(OR(I45>$S80+AP!$E$53,I45<$S80-AP!$E$57),2,0)","v":{"$error":"#N/A"}}]
[null,null,null,null,null,null,null,null,null,null,null,null,null,null,null,null,null,8,{"$f":"$B$22","v":" "},{"$f":"IF(OR(D46>$S81+AP!$E$46,D46<$S81-AP!$E$50),2,0)","v":{"$error":"#N/A"}},{"$f":"IF(OR(E46>$S81+AP!$E$46,E46<$S81-AP!$E$50),2,0)","v":{"$error":"#N/A"}},{"$f":"IF(OR(F46>$S81+AP!$E$46,F46<$S81-AP!$E$50),2,0)","v":{"$error":"#N/A"}},{"$f":"IF(OR(G46>$S81+AP!$E$46,G46<$S81-AP!$E$50),2,0)","v":{"$error":"#N/A"}},{"$f":"IF(OR(H46>$S81+AP!$E$46,H46<$S81-AP!$E$50),2,0)","v":{"$error":"#N/A"}},{"$f":"IF(OR(I46>$S81+AP!$E$46,I46<$S81-AP!$E$50),2,0)","v":{"$error":"#N/A"}}]
[null,null,null,null,null,null,null,null,null,null,null,null,null,null,null,null,null,16,{"$f":"$B$23","v":" "},{"$f":"IF(OR(D47>$S82+AP!$E$39,D47<$S82-AP!$E$43),2,0)","v":{"$error":"#N/A"}},{"$f":"IF(OR(E47>$S82+AP!$E$39,E47<$S82-AP!$E$43),2,0)","v":{"$error":"#N/A"}},{"$f":"IF(OR(F47>$S82+AP!$E$39,F47<$S82-AP!$E$43),2,0)","v":{"$error":"#N/A"}},{"$f":"IF(OR(G47>$S82+AP!$E$39,G47<$S82-AP!$E$43),2,0)","v":{"$error":"#N/A"}},{"$f":"IF(OR(H47>$S82+AP!$E$39,H47<$S82-AP!$E$43),2,0)","v":{"$error":"#N/A"}},{"$f":"IF(OR(I47>$S82+AP!$E$39,I47<$S82-AP!$E$43),2,0)","v":{"$error":"#N/A"}}]
[null,null,null,null,null,null,null,null,null,null,null,null,null,null,null,null,null,30,{"$f":"$B$24","v":" "},{"$f":"IF(OR(D48>$S83+AP!$E$33,D48<$S83-AP!$E$37),2,0)","v":{"$error":"#N/A"}},{"$f":"IF(OR(E48>$S83+AP!$E$33,E48<$S83-AP!$E$37),2,0)","v":{"$error":"#N/A"}},{"$f":"IF(OR(F48>$S83+AP!$E$33,F48<$S83-AP!$E$37),2,0)","v":{"$error":"#N/A"}},{"$f":"IF(OR(G48>$S83+AP!$E$33,G48<$S83-AP!$E$37),2,0)","v":{"$error":"#N/A"}},{"$f":"IF(OR(H48>$S83+AP!$E$33,H48<$S83-AP!$E$37),2,0)","v":{"$error":"#N/A"}},{"$f":"IF(OR(I48>$S83+AP!$E$33,I48<$S83-AP!$E$37),2,0)","v":{"$error":"#N/A"}}]
[null,null,null,null,null,null,null,null,null,null,null,null,null,null,null,null,null,50,{"$f":"$B$25","v":" "},{"$f":"IF(OR(D49>$S84+AP!$E$27,D49<$S84-AP!$E$31),2,0)","v":{"$error":"#N/A"}},{"$f":"IF(OR(E49>$S84+AP!$E$27,E49<$S84-AP!$E$31),2,0)","v":{"$error":"#N/A"}},{"$f":"IF(OR(F49>$S84+AP!$E$27,F49<$S84-AP!$E$31),2,0)","v":{"$error":"#N/A"}},{"$f":"IF(OR(G49>$S84+AP!$E$27,G49<$S84-AP!$E$31),2,0)","v":{"$error":"#N/A"}},{"$f":"IF(OR(H49>$S84+AP!$E$27,H49<$S84-AP!$E$31),2,0)","v":{"$error":"#N/A"}},{"$f":"IF(OR(I49>$S84+AP!$E$27,I49<$S84-AP!$E$31),2,0)","v":{"$error":"#N/A"}}]
[null,null,null,null,null,null,null,null,null,null,null,null,null,null,null,null,null,100,{"$f":"$B$26","v":" "},{"$f":"IF(OR(D50>$S85+AP!$E$21,D50<$S85-AP!$E$25),2,0)","v":{"$error":"#N/A"}},{"$f":"IF(OR(E50>$S85+AP!$E$21,E50<$S85-AP!$E$25),2,0)","v":{"$error":"#N/A"}},{"$f":"IF(OR(F50>$S85+AP!$E$21,F50<$S85-AP!$E$25),2,0)","v":{"$error":"#N/A"}},{"$f":"IF(OR(G50>$S85+AP!$E$21,G50<$S85-AP!$E$25),2,0)","v":{"$error":"#N/A"}},{"$f":"IF(OR(H50>$S85+AP!$E$21,H50<$S85-AP!$E$25),2,0)","v":{"$error":"#N/A"}},{"$f":"IF(OR(I50>$S85+AP!$E$21,I50<$S85-AP!$E$25),2,0)","v":{"$error":"#N/A"}}]
[null,null,null,null,null,null,null,null,null,null,null,null,null,null,null,null,null,200,{"$f":"$B$27","v":" "},{"$f":"IF(OR(D51>$S86+AP!$E$14,D51<$S86-AP!$E$18),2,0)","v":{"$error":"#N/A"}},{"$f":"IF(OR(E51>$S86+AP!$E$14,E51<$S86-AP!$E$18),2,0)","v":{"$error":"#N/A"}},{"$f":"IF(OR(F51>$S86+AP!$E$14,F51<$S86-AP!$E$18),2,0)","v":{"$error":"#N/A"}},{"$f":"IF(OR(G51>$S86+AP!$E$14,G51<$S86-AP!$E$18),2,0)","v":{"$error":"#N/A"}},{"$f":"IF(OR(H51>$S86+AP!$E$14,H51<$S86-AP!$E$18),2,0)","v":{"$error":"#N/A"}},{"$f":"IF(OR(I51>$S86+AP!$E$14,I51<$S86-AP!$E$18),2,0)","v":{"$error":"#N/A"}}]
[null,null,null,null,null,null,null,null,null,null,null,null,null,null,null,null,null,"%AC",{"$f":"$B$28","v":" "},{"$f":"IF(OR(D52>AP!$L$6,D52<AP!$L$10),2,0)","v":{"$error":"#N/A"}},{"$f":"IF(OR(E52>AP!$L$6,E52<AP!$L$10),2,0)","v":{"$error":"#N/A"}},{"$f":"IF(OR(F52>AP!$L$6,F52<AP!$L$10),2,0)","v":{"$error":"#N/A"}},{"$f":"IF(OR(G52>AP!$L$6,G52<AP!$L$10),2,0)","v":{"$error":"#N/A"}},{"$f":"IF(OR(H52>AP!$L$6,H52<AP!$L$10),2,0)","v":{"$error":"#N/A"}},{"$f":"IF(OR(I52>AP!$L$6,I52<AP!$L$10),2,0)","v":{"$error":"#N/A"}}]
[null,null,null,null,null,null,null,null,null,null,null,null,null,null,null,null,null,null,"Max",{"$f":"MAX(T74:T87)","v":{"$error":"#N/A"}},{"$error":"#N/A"},{"$error":"#N/A"},{"$error":"#N/A"},{"$error":"#N/A"},{"$error":"#N/A"}]
[]
[null,null,null,null,null,null,null,null,null,null,null,null,null,null,null,null,null,null,"Single sample flag"]
[null,null,null,null,null,null,null,null,null,null,null,null,null,null,null,null,null,8,{"$f":"$B$22","v":" "},{"$f":"IF(OR($D$22>$S91+AP!$E$45,$D$22<$S91-AP!$E$51),3,0)","v":{"$error":"#VALUE!"}},{"$f":"IF(OR($F$22>$S91+AP!$E$45,$F$22<$S91-AP!$E$51),3,0)","v":{"$error":"#VALUE!"}},{"$f":"IF(OR($H$22>$S91+AP!$E$45,$H$22<$S91-AP!$E$51),3,0)","v":{"$error":"#VALUE!"}},{"$f":"IF(OR($J$22>$S91+AP!$E$45,$J$22<$S91-AP!$E$51),3,0)","v":{"$error":"#VALUE!"}},{"$f":"IF(OR($L$22>$S91+AP!$E$45,$L$22<$S91-AP!$E$51),3,0)","v":{"$error":"#VALUE!"}},{"$f":"IF(OR($N$22>$S91+AP!$E$45,$N$22<$S91-AP!$E$51),3,0)","v":{"$error":"#VALUE!"}}]
[null,null,null,null,null,null,null,null,null,null,null,null,null,null,null,null,null,200,{"$f":"$B$27","v":" "},{"$f":"IF(OR($D$27>$S92+AP!$E$13,$D$27<$S92-AP!$E$19),3,0)","v":{"$error":"#VALUE!"}},{"$f":"IF(OR($F$27>$S92+AP!$E$13,$F$27<$S92-AP!$E$19),3,0)","v":{"$error":"#VALUE!"}},{"$f":"IF(OR($H$27>$S92+AP!$E$13,$H$27<$S92-AP!$E$19),3,0)","v":{"$error":"#VALUE!"}},{"$f":"IF(OR($J$27>$S92+AP!$E$13,$J$27<$S92-AP!$E$19),3,0)","v":{"$error":"#VALUE!"}},{"$f":"IF(OR($L$27>$S92+AP!$E$13,$L$27<$S92-AP!$E$19),3,0)","v":{"$error":"#VALUE!"}},{"$f":"IF(OR($N$27>$S92+AP!$E$13,$N$27<$S92-AP!$E$19),3,0)","v":{"$error":"#VALUE!"}}]
[null,null,null,null,null,null,null,null,null,null,null,null,null,null,null,null,null,"%AC",{"$f":"$B$28","v":" "},{"$f":"IF(OR($C$28>AP!$L$5,$C$28<AP!$L$11),3,0)","v":0},{"$f":"IF(OR($E$28>AP!$L$5,$E$28<AP!$L$11),3,0)","v":0},{"$f":"IF(OR($G$28>AP!$L$5,$G$28<AP!$L$11),3,0)","v":0},{"$f":"IF(OR($I$28>AP!$L$5,$I$28<AP!$L$11),3,0)","v":0},{"$f":"IF(OR($K$28>AP!$L$5,$K$28<AP!$L$11),3,0)","v":0},{"$f":"IF(OR($M$28>AP!$L$5,$M$28<AP!$L$11),3,0)","v":0}]
[null,null,null,null,null,null,null,null,null,null,null,null,null,null,null,null,null,null,"Max",{"$f":"IF(ISBLANK(C27),\" \",MAX(T91:T93))","v":" "},{"$f":"IF(ISBLANK(E27),\" \",MAX(U91:U93))","v":" "},{"$f":"IF(ISBLANK(G27),\" \",MAX(V91:V93))","v":" "},{"$f":"IF(ISBLANK(I27),\" \",MAX(W91:W93))","v":" "},{"$f":"IF(ISBLANK(K27),\" \",MAX(X91:X93))","v":" "},{"$f":"IF(ISBLANK(M27),\" \",MAX(Y91:Y93))","v":" "}]

{"sheet":"S6","index":5,"n_rows":94,"n_cols":25,"rows_kept":94,"cut":false,"hidden":true,"merged":[[52,0,52,1],[52,2,52,3],[59,6,68,7],[59,4,68,5],[59,2,68,3],[55,18,55,24],[72,18,72,24],[89,18,89,24],[53,0,68,1],[53,12,58,13],[53,10,58,11],[53,8,58,9],[53,6,58,7],[53,4,58,5],[53,2,58,3],[52,12,52,13],[31,12,31,13],[52,4,52,5],[52,6,52,7],[52,8,52,9],[52,10,52,11],[30,4,30,5],[59,12,68,13],[59,10,68,11],[59,8,68,9],[30,12,30,13],[37,9,37,10],[37,3,37,8],[30,10,30,11],[10,0,10,1],[12,8,12,9],[29,0,31,0],[30,2,30,3],[30,6,30,7],[30,8,30,9],[29,6,29,7],[31,2,31,3],[31,4,31,5],[31,6,31,7],[31,8,31,9],[29,12,29,13],[27,8,27,9],[28,8,28,9],[27,12,27,13],[28,10,28,11],[11,10,11,11],[27,2,27,3],[28,2,28,3],[28,6,28,7],[27,6,27,7],[29,2,29,3],[29,8,29,9],[29,10,29,11],[29,4,29,5],[11,2,11,3],[11,4,11,5],[27,4,27,5],[28,4,28,5],[12,10,12,11],[11,12,11,13],[37,0,37,2],[28,0,28,1],[31,10,31,11],[28,12,28,13],[27,10,27,11],[10,10,10,11],[12,12,12,13],[9,0,9,1],[10,6,10,7],[10,2,10,3],[9,6,9,7],[9,4,9,5],[10,4,10,5],[9,10,9,11],[9,12,9,13],[12,0,12,1],[12,2,12,3],[12,4,12,5],[12,6,12,7],[11,0,11,1],[11,8,11,9],[11,6,11,7],[10,8,10,9],[10,12,10,13],[9,8,9,9],[0,0,3,1],[8,4,8,5],[9,2,9,3],[8,6,8,7],[8,0,8,1],[7,0,7,2],[5,0,5,1],[7,5,7,8],[5,5,5,8],[8,8,8,9],[8,2,8,3],[8,12,8,13],[8,10,8,11],[2,12,2,13],[1,10,1,11],[5,10,5,11],[6,10,6,11],[6,12,6,13],[5,12,5,13],[1,12,1,13],[2,10,2,11]]}
[]
[null,null,null,null,"COMMONWEALTH OF PENNSYLVANIA",null,null,null,null,null,"DISTRICT",null,{"$f":"IF(ISBLANK('S1'!M2),\" \",('S1'!M2))","v":" "}]
[null,null,null,null,"DEPARTMENT OF TRANSPORTATION",null,null,null,null,null,"PLANT CODE",null,{"$f":"IF(ISBLANK('S1'!M3),\" \",('S1'!M3))","v":" "}]
[null,null,null,null,"LABORATORY TEST SECTION"]
[{"$f":"'S1'!A5","v":"ESB-16"}]
["Material Class ",null,{"$f":"IF(ISBLANK('S1'!C6),\" \",('S1'!C6))","v":9.5},"mm",null,"Burnoff Results",null,null,null,null,"Design No.",null,{"$f":"IF(ISBLANK('S1'!M6),\" \",('S1'!M6))","v":" "}]
[null,null,null,null,null,null,null,null,null,null,"Gyrations @ Ndes",null,{"$f":"IF(ISBLANK('S1'!M7),\" \",'S1'!M7)","v":" "}]
["-200 Correction Factor (+ or -)",null,null,{"$f":"IF(ISBLANK('S1'!D8),\" \",('S1'!D8))","v":" "},null,"Red values indicate action area"]
["Sample No."]
["Date"]
["St. Wt. Before Wash"]
["Dry Wt. After Wash"]
["Wt. Loss",null,{"$f":"IF(ISBLANK(C11),\" \",IF(ISBLANK(C12),\" \",C11-C12))","v":" "},null,{"$f":"IF(ISBLANK(E11),\" \",IF(ISBLANK(E12),\" \",E11-E12))","v":" "},null,{"$f":"IF(ISBLANK(G11),\" \",IF(ISBLANK(G12),\" \",G11-G12))","v":" "},null,{"$f":"IF(ISBLANK(I11),\" \",IF(ISBLANK(I12),\" \",I11-I12))","v":" "},null,{"$f":"IF(ISBLANK(K11),\" \",IF(ISBLANK(K12),\" \",K11-K12))","v":" "},null,{"$f":"IF(ISBLANK(M11),\" \",IF(ISBLANK(M12),\" \",M11-M12))","v":" "}]
["Size","JMF","Weight","%Passing","Weight","%Passing","Weight","%Passing","Weight","%Pasing","Weight","%Pasing","Weight","%Pasing"]
[2,{"$f":"IF(ISBLANK('S1'!B15),\" \",'S1'!B15)","v":" "},null,{"$f":"IF(ISBLANK(C11),\" \",IF(ISBLANK(C12),\" \",IF(ISBLANK(C15),\" \",ROUND((C15+C13)/C11*100,0))))","v":" "},null,{"$f":"IF(ISBLANK(E11),\" \",IF(ISBLANK(E12),\" \",IF(ISBLANK(E15),\" \",ROUND((E15+E13)/E11*100,0))))","v":" "},null,{"$f":"IF(ISBLANK(G11),\" \",IF(ISBLANK(G12),\" \",IF(ISBLANK(G15),\" \",ROUND((G15+G13)/G11*100,0))))","v":" "},null,{"$f":"IF(ISBLANK(I11),\" \",IF(ISBLANK(I12),\" \",IF(ISBLANK(I15),\" \",ROUND((I15+I13)/I11*100,0))))","v":" "},null,{"$f":"IF(ISBLANK(K11),\" \",IF(ISBLANK(K12),\" \",IF(ISBLANK(K15),\" \",ROUND((K15+K13)/K11*100,0))))","v":" "},null,{"$f":"IF(ISBLANK(M11),\" \",IF(ISBLANK(M12),\" \",IF(ISBLANK(M15),\" \",ROUND((M15+M13)/M11*100,0))))","v":" "}]
[1.5,{"$f":"IF(ISBLANK('S1'!B16),\" \",'S1'!B16)","v":" "},null,{"$f":"IF(ISBLANK(C11),\"  \",IF(ISBLANK(C12),\" \",IF(ISBLANK(C16),\" \",ROUND((C16+C13)/C11*100,0))))","v":"  "},null,{"$f":"IF(ISBLANK(E11),\"  \",IF(ISBLANK(E12),\" \",IF(ISBLANK(E16),\" \",ROUND((E16+E13)/E11*100,0))))","v":"  "},null,{"$f":"IF(ISBLANK(G11),\"  \",IF(ISBLANK(G12),\" \",IF(ISBLANK(G16),\" \",ROUND((G16+G13)/G11*100,0))))","v":"  "},null,{"$f":"IF(ISBLANK(I11),\"  \",IF(ISBLANK(I12),\" \",IF(ISBLANK(I16),\" \",ROUND((I16+I13)/I11*100,0))))","v":"  "},null,{"$f":"IF(ISBLANK(K11),\"  \",IF(ISBLANK(K12),\" \",IF(ISBLANK(K16),\" \",ROUND((K16+K13)/K11*100,0))))","v":"  "},null,{"$f":"IF(ISBLANK(M11),\"  \",IF(ISBLANK(M12),\" \",IF(ISBLANK(M16),\" \",ROUND((M16+M13)/M11*100,0))))","v":"  "}]
[1,{"$f":"IF(ISBLANK('S1'!B17),\" \",'S1'!B17)","v":" "},null,{"$f":"IF(ISBLANK(C11),\"  \",IF(ISBLANK(C12),\" \",IF(ISBLANK(C17),\" \",ROUND((C17+C13)/C11*100,0))))","v":"  "},null,{"$f":"IF(ISBLANK(E11),\"  \",IF(ISBLANK(E12),\" \",IF(ISBLANK(E17),\" \",ROUND((E17+E13)/E11*100,0))))","v":"  "},null,{"$f":"IF(ISBLANK(G11),\"  \",IF(ISBLANK(G12),\" \",IF(ISBLANK(G17),\" \",ROUND((G17+G13)/G11*100,0))))","v":"  "},null,{"$f":"IF(ISBLANK(I11),\"  \",IF(ISBLANK(I12),\" \",IF(ISBLANK(I17),\" \",ROUND((I17+I13)/I11*100,0))))","v":"  "},null,{"$f":"IF(ISBLANK(K11),\"  \",IF(ISBLANK(K12),\" \",IF(ISBLANK(K17),\" \",ROUND((K17+K13)/K11*100,0))))","v":"  "},null,{"$f":"IF(ISBLANK(M11),\"  \",IF(ISBLANK(M12),\" \",IF(ISBLANK(M17),\" \",ROUND((M17+M13)/M11*100,0))))","v":"  "}]
[0.75,{"$f":"IF(ISBLANK('S1'!B18),\" \",'S1'!B18)","v":" "},null,{"$f":"IF(ISBLANK(C11),\"  \",IF(ISBLANK(C12),\" \",IF(ISBLANK(C18),\" \",ROUND((C18+C13)/C11*100,0))))","v":"  "},null,{"$f":"IF(ISBLANK(E11),\"  \",IF(ISBLANK(E12),\" \",IF(ISBLANK(E18),\" \",ROUND((E18+E13)/E11*100,0))))","v":"  "},null,{"$f":"IF(ISBLANK(G11),\"  \",IF(ISBLANK(G12),\" \",IF(ISBLANK(G18),\" \",ROUND((G18+G13)/G11*100,0))))","v":"  "},null,{"$f":"IF(ISBLANK(I11),\"  \",IF(ISBLANK(I12),\" \",IF(ISBLANK(I18),\" \",ROUND((I18+I13)/I11*100,0))))","v":"  "},null,{"$f":"IF(ISBLANK(K11),\"  \",IF(ISBLANK(K12),\" \",IF(ISBLANK(K18),\" \",ROUND((K18+K13)/K11*100,0))))","v":"  "},null,{"$f":"IF(ISBLANK(M11),\"  \",IF(ISBLANK(M12),\" \",IF(ISBLANK(M18),\" \",ROUND((M18+M13)/M11*100,0))))","v":"  "}]
[0.5,{"$f":"IF(ISBLANK('S1'!B19),\" \",'S1'!B19)","v":" "},null,{"$f":"IF(ISBLANK(C11),\"  \",IF(ISBLANK(C12),\" \",IF(ISBLANK(C19),\" \",ROUND((C19+C13)/C11*100,0))))","v":"  "},null,{"$f":"IF(ISBLANK(E11),\"  \",IF(ISBLANK(E12),\" \",IF(ISBLANK(E19),\" \",ROUND((E19+E13)/E11*100,0))))","v":"  "},null,{"$f":"IF(ISBLANK(G11),\"  \",IF(ISBLANK(G12),\" \",IF(ISBLANK(G19),\" \",ROUND((G19+G13)/G11*100,0))))","v":"  "},null,{"$f":"IF(ISBLANK(I11),\"  \",IF(ISBLANK(I12),\" \",IF(ISBLANK(I19),\" \",ROUND((I19+I13)/I11*100,0))))","v":"  "},null,{"$f":"IF(ISBLANK(K11),\"  \",IF(ISBLANK(K12),\" \",IF(ISBLANK(K19),\" \",ROUND((K19+K13)/K11*100,0))))","v":"  "},null,{"$f":"IF(ISBLANK(M11),\"  \",IF(ISBLANK(M12),\" \",IF(ISBLANK(M19),\" \",ROUND((M19+M13)/M11*100,0))))","v":"  "}]
[0.375,{"$f":"IF(ISBLANK('S1'!B20),\" \",'S1'!B20)","v":" "},null,{"$f":"IF(ISBLANK(C11),\"  \",IF(ISBLANK(C12),\" \",IF(ISBLANK(C20),\" \",ROUND((C20+C13)/C11*100,0))))","v":"  "},null,{"$f":"IF(ISBLANK(E11),\"  \",IF(ISBLANK(E12),\" \",IF(ISBLANK(E20),\" \",ROUND((E20+E13)/E11*100,0))))","v":"  "},null,{"$f":"IF(ISBLANK(G11),\"  \",IF(ISBLANK(G12),\" \",IF(ISBLANK(G20),\" \",ROUND((G20+G13)/G11*100,0))))","v":"  "},null,{"$f":"IF(ISBLANK(I11),\"  \",IF(ISBLANK(I12),\" \",IF(ISBLANK(I20),\" \",ROUND((I20+I13)/I11*100,0))))","v":"  "},null,{"$f":"IF(ISBLANK(K11),\"  \",IF(ISBLANK(K12),\" \",IF(ISBLANK(K20),\" \",ROUND((K20+K13)/K11*100,0))))","v":"  "},null,{"$f":"IF(ISBLANK(M11),\"  \",IF(ISBLANK(M12),\" \",IF(ISBLANK(M20),\" \",ROUND((M20+M13)/M11*100,0))))","v":"  "}]
[4,{"$f":"IF(ISBLANK('S1'!B21),\" \",'S1'!B21)","v":" "},null,{"$f":"IF(ISBLANK(C11),\"  \",IF(ISBLANK(C12),\" \",IF(ISBLANK(C21),\" \",ROUND((C21+C13)/C11*100,0))))","v":"  "},null,{"$f":"IF(ISBLANK(E11),\"  \",IF(ISBLANK(E12),\" \",IF(ISBLANK(E21),\" \",ROUND((E21+E13)/E11*100,0))))","v":"  "},null,{"$f":"IF(ISBLANK(G11),\"  \",IF(ISBLANK(G12),\" \",IF(ISBLANK(G21),\" \",ROUND((G21+G13)/G11*100,0))))","v":"  "},null,{"$f":"IF(ISBLANK(I11),\"  \",IF(ISBLANK(I12),\" \",IF(ISBLANK(I21),\" \",ROUND((I21+I13)/I11*100,0))))","v":"  "},null,{"$f":"IF(ISBLANK(K11),\"  \",IF(ISBLANK(K12),\" \",IF(ISBLANK(K21),\" \",ROUND((K21+K13)/K11*100,0))))","v":"  "},null,{"$f":"IF(ISBLANK(M11),\"  \",IF(ISBLANK(M12),\" \",IF(ISBLANK(M21),\" \",ROUND((M21+M13)/M11*100,0))))","v":"  "}]
[8,{"$f":"IF(ISBLANK('S1'!B22),\" \",'S1'!B22)","v":" "},null,{"$f":"IF(ISBLANK(C11),\"  \",IF(ISBLANK(C12),\" \",IF(ISBLANK(C22),\" \",ROUND((C22+C13)/C11*100,0))))","v":"  "},null,{"$f":"IF(ISBLANK(E11),\"  \",IF(ISBLANK(E12),\" \",IF(ISBLANK(E22),\" \",ROUND((E22+E13)/E11*100,0))))","v":"  "},null,{"$f":"IF(ISBLANK(G11),\"  \",IF(ISBLANK(G12),\" \",IF(ISBLANK(G22),\" \",ROUND((G22+G13)/G11*100,0))))","v":"  "},null,{"$f":"IF(ISBLANK(I11),\"  \",IF(ISBLANK(I12),\" \",IF(ISBLANK(I22),\" \",ROUND((I22+I13)/I11*100,0))))","v":"  "},null,{"$f":"IF(ISBLANK(K11),\"  \",IF(ISBLANK(K12),\" \",IF(ISBLANK(K22),\" \",ROUND((K22+K13)/K11*100,0))))","v":"  "},null,{"$f":"IF(ISBLANK(M11),\"  \",IF(ISBLANK(M12),\" \",IF(ISBLANK(M22),\" \",ROUND((M22+M13)/M11*100,0))))","v":"  "}]
[16,{"$f":"IF(ISBLANK('S1'!B23),\" \",'S1'!B23)","v":" "},null,{"$f":"IF(ISBLANK(C11),\"  \",IF(ISBLANK(C12),\" \",IF(ISBLANK(C23),\" \",ROUND((C23+C13)/C11*100,0))))","v":"  "},null,{"$f":"IF(ISBLANK(E11),\"  \",IF(ISBLANK(E12),\" \",IF(ISBLANK(E23),\" \",ROUND((E23+E13)/E11*100,0))))","v":"  "},null,{"$f":"IF(ISBLANK(G11),\"  \",IF(ISBLANK(G12),\" \",IF(ISBLANK(G23),\" \",ROUND((G23+G13)/G11*100,0))))","v":"  "},null,{"$f":"IF(ISBLANK(I11),\"  \",IF(ISBLANK(I12),\" \",IF(ISBLANK(I23),\" \",ROUND((I23+I13)/I11*100,0))))","v":"  "},null,{"$f":"IF(ISBLANK(K11),\"  \",IF(ISBLANK(K12),\" \",IF(ISBLANK(K23),\" \",ROUND((K23+K13)/K11*100,0))))","v":"  "},null,{"$f":"IF(ISBLANK(M11),\"  \",IF(ISBLANK(M12),\" \",IF(ISBLANK(M23),\" \",ROUND((M23+M13)/M11*100,0))))","v":"  "}]
[30,{"$f":"IF(ISBLANK('S1'!B24),\" \",'S1'!B24)","v":" "},null,{"$f":"IF(ISBLANK(C11),\"  \",IF(ISBLANK(C12),\" \",IF(ISBLANK(C24),\" \",ROUND((C24+C13)/C11*100,0))))","v":"  "},null,{"$f":"IF(ISBLANK(E11),\"  \",IF(ISBLANK(E12),\" \",IF(ISBLANK(E24),\" \",ROUND((E24+E13)/E11*100,0))))","v":"  "},null,{"$f":"IF(ISBLANK(G11),\"  \",IF(ISBLANK(G12),\" \",IF(ISBLANK(G24),\" \",ROUND((G24+G13)/G11*100,0))))","v":"  "},null,{"$f":"IF(ISBLANK(I11),\"  \",IF(ISBLANK(I12),\" \",IF(ISBLANK(I24),\" \",ROUND((I24+I13)/I11*100,0))))","v":"  "},null,{"$f":"IF(ISBLANK(K11),\"  \",IF(ISBLANK(K12),\" \",IF(ISBLANK(K24),\" \",ROUND((K24+K13)/K11*100,0))))","v":"  "},null,{"$f":"IF(ISBLANK(M11),\"  \",IF(ISBLANK(M12),\" \",IF(ISBLANK(M24),\" \",ROUND((M24+M13)/M11*100,0))))","v":"  "}]
[50,{"$f":"IF(ISBLANK('S1'!B25),\" \",'S1'!B25)","v":" "},null,{"$f":"IF(ISBLANK(C11),\"  \",IF(ISBLANK(C12),\" \",IF(ISBLANK(C25),\" \",ROUND((C25+C13)/C11*100,0))))","v":"  "},null,{"$f":"IF(ISBLANK(E11),\"  \",IF(ISBLANK(E12),\" \",IF(ISBLANK(E25),\" \",ROUND((E25+E13)/E11*100,0))))","v":"  "},null,{"$f":"IF(ISBLANK(G11),\"  \",IF(ISBLANK(G12),\" \",IF(ISBLANK(G25),\" \",ROUND((G25+G13)/G11*100,0))))","v":"  "},null,{"$f":"IF(ISBLANK(I11),\"  \",IF(ISBLANK(I12),\" \",IF(ISBLANK(I25),\" \",ROUND((I25+I13)/I11*100,0))))","v":"  "},null,{"$f":"IF(ISBLANK(K11),\"  \",IF(ISBLANK(K12),\" \",IF(ISBLANK(K25),\" \",ROUND((K25+K13)/K11*100,0))))","v":"  "},null,{"$f":"IF(ISBLANK(M11),\"  \",IF(ISBLANK(M12),\" \",IF(ISBLANK(M25),\" \",ROUND((M25+M13)/M11*100,0))))","v":"  "}]
[100,{"$f":"IF(ISBLANK('S1'!B26),\" \",'S1'!B26)","v":" "},null,{"$f":"IF(ISBLANK(C11),\"  \",IF(ISBLANK(C12),\" \",IF(ISBLANK(C26),\" \",ROUND((C26+C13)/C11*100,0))))","v":"  "},null,{"$f":"IF(ISBLANK(E11),\"  \",IF(ISBLANK(E12),\" \",IF(ISBLANK(E26),\" \",ROUND((E26+E13)/E11*100,0))))","v":"  "},null,{"$f":"IF(ISBLANK(G11),\"  \",IF(ISBLANK(G12),\" \",IF(ISBLANK(G26),\" \",ROUND((G26+G13)/G11*100,0))))","v":"  "},null,{"$f":"IF(ISBLANK(I11),\"  \",IF(ISBLANK(I12),\" \",IF(ISBLANK(I26),\" \",ROUND((I26+I13)/I11*100,0))))","v":"  "},null,{"$f":"IF(ISBLANK(K11),\"  \",IF(ISBLANK(K12),\" \",IF(ISBLANK(K26),\" \",ROUND((K26+K13)/K11*100,0))))","v":"  "},null,{"$f":"IF(ISBLANK(M11),\"  \",IF(ISBLANK(M12),\" \",IF(ISBLANK(M26),\" \",ROUND((M26+M13)/M11*100,0))))","v":"  "}]
[200,{"$f":"IF(ISBLANK('S1'!B27),\" \",'S1'!B27)","v":" "},null,{"$f":"IF(ISBLANK(C11),\"  \",IF(ISBLANK(C12),\" \",IF(ISBLANK(C27),\" \",ROUND((C27+C13)/C11*100+$D$8,1))))","v":"  "},null,{"$f":"IF(ISBLANK(E11),\"  \",IF(ISBLANK(E12),\" \",IF(ISBLANK(E27),\" \",ROUND((E27+E13)/E11*100+$D$8,1))))","v":"  "},null,{"$f":"IF(ISBLANK(G11),\"  \",IF(ISBLANK(G12),\" \",IF(ISBLANK(G27),\" \",ROUND((G27+G13)/G11*100+$D$8,1))))","v":"  "},null,{"$f":"IF(ISBLANK(I11),\"  \",IF(ISBLANK(I12),\" \",IF(ISBLANK(I27),\" \",ROUND((I27+I13)/I11*100+$D$8,1))))","v":"  "},null,{"$f":"IF(ISBLANK(K11),\"  \",IF(ISBLANK(K12),\" \",IF(ISBLANK(K27),\" \",ROUND((K27+K13)/K11*100+$D$8,1))))","v":"  "},null,{"$f":"IF(ISBLANK(M11),\"  \",IF(ISBLANK(M12),\" \",IF(ISBLANK(M27),\" \",ROUND((M27+M13)/M11*100+$D$8,1))))","v":"  "}]
["%AC",{"$f":"IF(ISBLANK('S1'!B28),\" \",'S1'!B28)","v":" "}]
["Percent Loss / Gain",null,{"$f":"IF(ISBLANK(C12),\"\",IF(ISBLANK(C20),\"\",(C12-C71)/C12*100))","v":""},null,{"$f":"IF(ISBLANK(E12),\"\",IF(ISBLANK(E20),\"\",(E12-E71)/E12*100))","v":""},null,{"$f":"IF(ISBLANK(G12),\"\",IF(ISBLANK(G20),\"\",(G12-G71)/G12*100))","v":""},null,{"$f":"IF(ISBLANK(I12),\"\",IF(ISBLANK(I20),\"\",(I12-I71)/I12*100))","v":""},null,{"$f":"IF(ISBLANK(K12),\"\",IF(ISBLANK(K20),\"\",(K12-K71)/K12*100))","v":""},null,{"$f":"IF(ISBLANK(M12),\"\",IF(ISBLANK(M20),\"\",(M12-M71)/M12*100))","v":""}]
["Apparent Moisture","Orig Wt"]
[null,"Const Wt"]
[null,"% moisture",{"$f":"IF(ISBLANK(C30),\" \",IF(ISBLANK(C31),\" \",((C30-C31)/C31)*100))","v":" "},null,{"$f":"IF(ISBLANK(E30),\" \",IF(ISBLANK(E31),\" \",((E30-E31)/E31)*100))","v":" "},null,{"$f":"IF(ISBLANK(G30),\" \",IF(ISBLANK(G31),\" \",((G30-G31)/G31)*100))","v":" "},null,{"$f":"IF(ISBLANK(I30),\" \",IF(ISBLANK(I31),\" \",((I30-I31)/I31)*100))","v":" "},null,{"$f":"IF(ISBLANK(K30),\" \",IF(ISBLANK(K31),\" \",((K30-K31)/K31)*100))","v":" "},null,{"$f":"IF(ISBLANK(M30),\" \",IF(ISBLANK(M31),\" \",((M30-M31)/M31)*100))","v":" "}]
[]
[]
[]
[]
[]
["Sets up Min and Max for charts",null,null,"Running Avg for Conditional Format",null,null,null,null,null,"AP upper & lower Tolerances"]
["#4",{"$f":"B21-8","v":{"$error":"#VALUE!"}},{"$f":"B21+8","v":{"$error":"#VALUE!"}},{"$f":"'S17'!$AC33","v":{"$error":"#N/A"}},{"$f":"'S17'!$AC34","v":{"$error":"#N/A"}},{"$f":"'S17'!$AC35","v":{"$error":"#N/A"}},{"$f":"'S17'!$AC36","v":{"$error":"#N/A"}},{"$f":"'S17'!$AC37","v":{"$error":"#N/A"}},{"$f":"'S17'!$AC38","v":{"$error":"#N/A"}},{"$f":"AP!E90","v":5},{"$f":"AP!E92","v":5}]
["#8",{"$f":"B22-6","v":{"$error":"#VALUE!"}},{"$f":"B22+6","v":{"$error":"#VALUE!"}},{"$f":"'S17'!$AA33","v":{"$error":"#N/A"}},{"$f":"'S17'!$AA34","v":{"$error":"#N/A"}},{"$f":"'S17'!$AA35","v":{"$error":"#N/A"}},{"$f":"'S17'!$AA36","v":{"$error":"#N/A"}},{"$f":"'S17'!$AA37","v":{"$error":"#N/A"}},{"$f":"'S17'!$AA38","v":{"$error":"#N/A"}},{"$f":"AP!E84","v":5},{"$f":"AP!E86","v":5}]
["#200",{"$f":"B27-2","v":{"$error":"#VALUE!"}},{"$f":"B27+2","v":{"$error":"#VALUE!"}},{"$f":"'S17'!$Y33","v":{"$error":"#N/A"}},{"$f":"'S17'!$Y34","v":{"$error":"#N/A"}},{"$f":"'S17'!$Y35","v":{"$error":"#N/A"}},{"$f":"'S17'!$Y36","v":{"$error":"#N/A"}},{"$f":"'S17'!$Y37","v":{"$error":"#N/A"}},{"$f":"'S17'!$Y38","v":{"$error":"#N/A"}},{"$f":"AP!E78","v":5},{"$f":"AP!E80","v":5}]
["AC",{"$f":"B28-0.4","v":{"$error":"#VALUE!"}},{"$f":"B28+0.4","v":{"$error":"#VALUE!"}},{"$f":"'S17'!$W33","v":{"$error":"#N/A"}},{"$f":"'S17'!$W34","v":{"$error":"#N/A"}},{"$f":"'S17'!$W35","v":{"$error":"#N/A"}},{"$f":"'S17'!$W36","v":{"$error":"#N/A"}},{"$f":"'S17'!$W37","v":{"$error":"#N/A"}},{"$f":"'S17'!$W38","v":{"$error":"#N/A"}},{"$f":"AP!E72","v":5},{"$f":"AP!E74","v":5}]
[null,null,null,{"$f":"'S17'!$U33","v":{"$error":"#N/A"}},{"$f":"'S17'!U34","v":{"$error":"#N/A"}},{"$f":"'S17'!U35","v":{"$error":"#N/A"}},{"$f":"'S17'!U36","v":{"$error":"#N/A"}},{"$f":"'S17'!U37","v":{"$error":"#N/A"}},{"$f":"'S17'!U38","v":{"$error":"#N/A"}},{"$f":"AP!E66","v":5},{"$f":"AP!E68","v":5}]
[null,null,null,{"$f":"'S17'!$S33","v":{"$error":"#N/A"}},{"$f":"'S17'!$S34","v":{"$error":"#N/A"}},{"$f":"'S17'!$S35","v":{"$error":"#N/A"}},{"$f":"'S17'!$S36","v":{"$error":"#N/A"}},{"$f":"'S17'!$S37","v":{"$error":"#N/A"}},{"$f":"'S17'!$S38","v":{"$error":"#N/A"}},{"$f":"AP!E60","v":3},{"$f":"AP!E62","v":3}]
[null,null,null,{"$f":"'S17'!$Q33","v":{"$error":"#N/A"}},{"$f":"'S17'!Q34","v":{"$error":"#N/A"}},{"$f":"'S17'!Q35","v":{"$error":"#N/A"}},{"$f":"'S17'!Q36","v":{"$error":"#N/A"}},{"$f":"'S17'!Q37","v":{"$error":"#N/A"}},{"$f":"'S17'!Q38","v":{"$error":"#N/A"}},{"$f":"AP!E54","v":3},{"$f":"AP!E56","v":3}]
[null,null,null,{"$f":"'S17'!$O33","v":{"$error":"#N/A"}},{"$f":"'S17'!O34","v":{"$error":"#N/A"}},{"$f":"'S17'!O35","v":{"$error":"#N/A"}},{"$f":"'S17'!O36","v":{"$error":"#N/A"}},{"$f":"'S17'!O37","v":{"$error":"#N/A"}},{"$f":"'S17'!O38","v":{"$error":"#N/A"}},{"$f":"AP!E47","v":3},{"$f":"AP!E49","v":3}]
[null,null,null,{"$f":"'S17'!$M33","v":{"$error":"#N/A"}},{"$f":"'S17'!$M34","v":{"$error":"#N/A"}},{"$f":"'S17'!$M35","v":{"$error":"#N/A"}},{"$f":"'S17'!$M36","v":{"$error":"#N/A"}},{"$f":"'S17'!$M37","v":{"$error":"#N/A"}},{"$f":"'S17'!$M38","v":{"$error":"#N/A"}},{"$f":"AP!E40","v":3},{"$f":"AP!E42","v":3}]
[null,null,null,{"$f":"'S17'!$K33","v":{"$error":"#N/A"}},{"$f":"'S17'!$K34","v":{"$error":"#N/A"}},{"$f":"'S17'!$K35","v":{"$error":"#N/A"}},{"$f":"'S17'!$K36","v":{"$error":"#N/A"}},{"$f":"'S17'!$K37","v":{"$error":"#N/A"}},{"$f":"'S17'!$K38","v":{"$error":"#N/A"}},{"$f":"AP!E34","v":3},{"$f":"AP!E36","v":3}]
[null,null,null,{"$f":"'S17'!$I33","v":{"$error":"#N/A"}},{"$f":"'S17'!$I34","v":{"$error":"#N/A"}},{"$f":"'S17'!$I35","v":{"$error":"#N/A"}},{"$f":"'S17'!$I36","v":{"$error":"#N/A"}},{"$f":"'S17'!$I37","v":{"$error":"#N/A"}},{"$f":"'S17'!$I38","v":{"$error":"#N/A"}},{"$f":"AP!E28","v":3},{"$f":"AP!E30","v":3}]
[null,null,null,{"$f":"'S17'!$G33","v":{"$error":"#N/A"}},{"$f":"'S17'!$G34","v":{"$error":"#N/A"}},{"$f":"'S17'!$G35","v":{"$error":"#N/A"}},{"$f":"'S17'!$G36","v":{"$error":"#N/A"}},{"$f":"'S17'!$G37","v":{"$error":"#N/A"}},{"$f":"'S17'!$G38","v":{"$error":"#N/A"}},{"$f":"AP!E22","v":3},{"$f":"AP!E24","v":3}]
[null,null,null,{"$f":"'S17'!E33","v":{"$error":"#N/A"}},{"$f":"'S17'!E34","v":{"$error":"#N/A"}},{"$f":"'S17'!E35","v":{"$error":"#N/A"}},{"$f":"'S17'!E36","v":{"$error":"#N/A"}},{"$f":"'S17'!E37","v":{"$error":"#N/A"}},{"$f":"'S17'!E38","v":{"$error":"#N/A"}},{"$f":"AP!E15","v":1},{"$f":"AP!E17","v":1}]
[null,null,null,{"$f":"ROUND('S17'!C33,1)","v":{"$error":"#N/A"}},{"$f":"ROUND('S17'!C34,1)","v":{"$error":"#N/A"}},{"$f":"ROUND('S17'!C35,1)","v":{"$error":"#N/A"}},{"$f":"ROUND('S17'!C36,1)","v":{"$error":"#N/A"}},{"$f":"ROUND('S17'!C37,1)","v":{"$error":"#N/A"}},{"$f":"ROUND('S17'!C38,1)","v":{"$error":"#N/A"}},{"$f":"AP!E7","v":0.2},{"$f":"AP!E9","v":0.2}]
["Tested By"]
["Remarks",null,{"$f":"IF(AND(T94=3,'S5'!M54=\"Single sample deviation, resample within 150 tons. Document corrective action\"),\"Deviation on 150 ton sample, suspend production of JMF\",IF(AND(T88=2,'S5'!M54=\"Multiple sample deviation, resample within 150 tons. Document corrective action\"),\"Deviation on 150 ton sample, suspend production of JMF\",IF(AND(T88=2,'S5'!M54=\"Single sample deviation, resample within 150 tons. Document corrective action\"),\"Deviation on 150 ton sample, suspend production of JMF\",IF(T94=3,\"Single sample deviation, resample within 150 tons. Document corrective action\",IF(T88=2,\"Multiple sample deviation, resample within 150 tons. Document corrective action\",IF(T71=1,\"Action area, document corrective action\",\" \"))))))","v":{"$error":"#N/A"}},null,{"$f":"IF(AND(U94=3,C54=\"Single sample deviation, resample within 150 tons. Document corrective action\"),\"Deviation on 150 ton sample, suspend production of JMF\",IF(AND(U88=2,C54=\"Multiple sample deviation, resample within 150 tons. Document corrective action\"),\"Deviation on 150 ton sample, suspend production of JMF\",IF(AND(U88=2,C54=\"Single sample deviation, resample within 150 tons. Document corrective action\"),\"Deviation on 150 ton sample, suspend production of JMF\",IF(U94=3,\"Single sample deviation, resample within 150 tons. Document corrective action\",IF(U88=2,\"Multiple sample deviation, resample within 150 tons. Document corrective action\",IF(U71=1,\"Action area, document corrective action\",\" \"))))))","v":{"$error":"#N/A"}},null,{"$f":"IF(AND(V94=3,E54=\"Single sample deviation, resample within 150 tons. Document corrective action\"),\"Deviation on 150 ton sample, suspend production of JMF\",IF(AND(V88=2,E54=\"Multiple sample deviation, resample within 150 tons. Document corrective action\"),\"Deviation on 150 ton sample, suspend production of JMF\",IF(AND(V88=2,E54=\"Single sample deviation, resample within 150 tons. Document corrective action\"),\"Deviation on 150 ton sample, suspend production of JMF\",IF(V94=3,\"Single sample deviation, resample within 150 tons. Document corrective action\",IF(V88=2,\"Multiple sample deviation, resample within 150 tons. Document corrective action\",IF(V71=1,\"Action area, document corrective action\",\" \"))))))","v":{"$error":"#N/A"}},null,{"$f":"IF(AND(W94=3,G54=\"Single sample deviation, resample within 150 tons. Document corrective action\"),\"Deviation on 150 ton sample, suspend production of JMF\",IF(AND(W88=2,G54=\"Multiple sample deviation, resample within 150 tons. Document corrective action\"),\"Deviation on 150 ton sample, suspend production of JMF\",IF(AND(W88=2,G54=\"Single sample deviation, resample within 150 tons. Document corrective action\"),\"Deviation on 150 ton sample, suspend production of JMF\",IF(W94=3,\"Single sample deviation, resample within 150 tons. Document corrective action\",IF(W88=2,\"Multiple sample deviation, resample within 150 tons. Document corrective action\",IF(W71=1,\"Action area, document corrective action\",\" \"))))))","v":{"$error":"#N/A"}},null,{"$f":"IF(AND(X94=3,I54=\"Single sample deviation, resample within 150 tons. Document corrective action\"),\"Deviation on 150 ton sample, suspend production of JMF\",IF(AND(X88=2,I54=\"Multiple sample deviation, resample within 150 tons. Document corrective action\"),\"Deviation on 150 ton sample, suspend production of JMF\",IF(AND(X88=2,I54=\"Single sample deviation, resample within 150 tons. Document corrective action\"),\"Deviation on 150 ton sample, suspend production of JMF\",IF(X94=3,\"Single sample deviation, resample within 150 tons. Document corrective action\",IF(X88=2,\"Multiple sample deviation, resample within 150 tons. Document corrective action\",IF(X71=1,\"Action area, document corrective action\",\" \"))))))","v":{"$error":"#N/A"}},null,{"$f":"IF(AND(Y94=3,K54=\"Single sample deviation, resample within 150 tons. Document corrective action\"),\"Deviation on 150 ton sample, suspend production of JMF\",IF(AND(Y88=2,K54=\"Multiple sample deviation, resample within 150 tons. Document corrective action\"),\"Deviation on 150 ton sample, suspend production of JMF\",IF(AND(Y88=2,K54=\"Single sample deviation, resample within 150 tons. Document corrective action\"),\"Deviation on 150 ton sample, suspend production of JMF\",IF(Y94=3,\"Single sample deviation, resample within 150 tons. Document corrective action\",IF(Y88=2,\"Multiple sample deviation, resample within 150 tons. Document corrective action\",IF(Y71=1,\"Action area, document corrective action\",\" \"))))))","v":{"$error":"#N/A"}}]
[]
[null,null,null,null,null,null,null,null,null,null,null,null,null,null,null,null,null,null,"Action points flags"]
[null,null,null,null,null,null,null,null,null,null,null,null,null,null,null,null,null,2,{"$f":"$B$15","v":" "},{"$f":"IF(ISBLANK(C15),0,IF(OR(D39>=$S57+$J39,D39<=$S57-$K39),1,0))","v":0},{"$f":"IF(ISBLANK(E15),0,IF(OR(E39>=$S57+$J39,E39<=$S57-$K39),1,0))","v":0},{"$f":"IF(ISBLANK(G15),0,IF(OR(F39>=$S57+$J39,F39<=$S57-$K39),1,0))","v":0},{"$f":"IF(ISBLANK(I15),0,IF(OR(G39>=$S57+$J39,G39<=$S57-$K39),1,0))","v":0},{"$f":"IF(ISBLANK(K15),0,IF(OR(H39>=$S57+$J39,H39<=$S57-$K39),1,0))","v":0},{"$f":"IF(ISBLANK(M15),0,IF(OR(I39>=$S57+$J39,I39<=$S57-$K39),1,0))","v":0}]
[null,null,null,null,null,null,null,null,null,null,null,null,null,null,null,null,null,1.5,{"$f":"$B$16","v":" "},{"$f":"IF(ISBLANK(C16),0,IF(OR(D40>=$S58+$J40,D40<=$S58-$K40),1,0))","v":0},{"$f":"IF(ISBLANK(E16),0,IF(OR(E40>=$S58+$J40,E40<=$S58-$K40),1,0))","v":0},{"$f":"IF(ISBLANK(G16),0,IF(OR(F40>=$S58+$J40,F40<=$S58-$K40),1,0))","v":0},{"$f":"IF(ISBLANK(I16),0,IF(OR(G40>=$S58+$J40,G40<=$S58-$K40),1,0))","v":0},{"$f":"IF(ISBLANK(K16),0,IF(OR(H40>=$S58+$J40,H40<=$S58-$K40),1,0))","v":0},{"$f":"IF(ISBLANK(M16),0,IF(OR(I40>=$S58+$J40,I40<=$S58-$K40),1,0))","v":0}]
[null,null,null,null,null,null,null,null,null,null,null,null,null,null,null,null,null,1,{"$f":"$B$17","v":" "},{"$f":"IF(ISBLANK(C17),0,IF(OR(D41>=$S59+$J41,D41<=$S59-$K41),1,0))","v":0},{"$f":"IF(ISBLANK(E17),0,IF(OR(E41>=$S59+$J41,E41<=$S59-$K41),1,0))","v":0},{"$f":"IF(ISBLANK(G17),0,IF(OR(F41>=$S59+$J41,F41<=$S59-$K41),1,0))","v":0},{"$f":"IF(ISBLANK(I17),0,IF(OR(G41>=$S59+$J41,G41<=$S59-$K41),1,0))","v":0},{"$f":"IF(ISBLANK(K17),0,IF(OR(H41>=$S59+$J41,H41<=$S59-$K41),1,0))","v":0},{"$f":"IF(ISBLANK(M17),0,IF(OR(I41>=$S59+$J41,I41<=$S59-$K41),1,0))","v":0}]
[null,null,null,null,null,null,null,null,null,null,null,null,null,null,null,null,null,0.75,{"$f":"$B$18","v":" "},{"$f":"IF(ISBLANK(C18),0,IF(OR(D42>=$S60+$J42,D42<=$S60-$K42),1,0))","v":0},{"$f":"IF(ISBLANK(E18),0,IF(OR(E42>=$S60+$J42,E42<=$S60-$K42),1,0))","v":0},{"$f":"IF(ISBLANK(G18),0,IF(OR(F42>=$S60+$J42,F42<=$S60-$K42),1,0))","v":0},{"$f":"IF(ISBLANK(I18),0,IF(OR(G42>=$S60+$J42,G42<=$S60-$K42),1,0))","v":0},{"$f":"IF(ISBLANK(K18),0,IF(OR(H42>=$S60+$J42,H42<=$S60-$K42),1,0))","v":0},{"$f":"IF(ISBLANK(M18),0,IF(OR(I42>=$S60+$J42,I42<=$S60-$K42),1,0))","v":0}]
[null,null,null,null,null,null,null,null,null,null,null,null,null,null,null,null,null,0.5,{"$f":"$B$19","v":" "},{"$f":"IF(ISBLANK(C19),0,IF(OR(D43>=$S61+$J43,D43<=$S61-$K43),1,0))","v":0},{"$f":"IF(ISBLANK(E19),0,IF(OR(E43>=$S61+$J43,E43<=$S61-$K43),1,0))","v":0},{"$f":"IF(ISBLANK(G19),0,IF(OR(F43>=$S61+$J43,F43<=$S61-$K43),1,0))","v":0},{"$f":"IF(ISBLANK(I19),0,IF(OR(G43>=$S61+$J43,G43<=$S61-$K43),1,0))","v":0},{"$f":"IF(ISBLANK(K19),0,IF(OR(H43>=$S61+$J43,H43<=$S61-$K43),1,0))","v":0},{"$f":"IF(ISBLANK(M19),0,IF(OR(I43>=$S61+$J43,I43<=$S61-$K43),1,0))","v":0}]
[null,null,null,null,null,null,null,null,null,null,null,null,null,null,null,null,null,0.375,{"$f":"$B$20","v":" "},{"$f":"IF(OR(D44>=$S62+$J44,D44<=$S62-$K44),1,0)","v":{"$error":"#N/A"}},{"$error":"#N/A"},{"$error":"#N/A"},{"$error":"#N/A"},{"$error":"#N/A"},{"$error":"#N/A"}]
[null,null,null,null,null,null,null,null,null,null,null,null,null,null,null,null,null,4,{"$f":"$B$21","v":" "},{"$error":"#N/A"},{"$error":"#N/A"},{"$error":"#N/A"},{"$error":"#N/A"},{"$error":"#N/A"},{"$error":"#N/A"}]
[null,null,null,null,null,null,null,null,null,null,null,null,null,null,null,null,null,8,{"$f":"$B$22","v":" "},{"$error":"#N/A"},{"$error":"#N/A"},{"$error":"#N/A"},{"$error":"#N/A"},{"$error":"#N/A"},{"$error":"#N/A"}]
[null,null,null,null,null,null,null,null,null,null,null,null,null,null,null,null,null,16,{"$f":"$B$23","v":" "},{"$error":"#N/A"},{"$error":"#N/A"},{"$error":"#N/A"},{"$error":"#N/A"},{"$error":"#N/A"},{"$error":"#N/A"}]
[null,null,null,null,null,null,null,null,null,null,null,null,null,null,null,null,null,30,{"$f":"$B$24","v":" "},{"$error":"#N/A"},{"$error":"#N/A"},{"$error":"#N/A"},{"$error":"#N/A"},{"$error":"#N/A"},{"$error":"#N/A"}]
[null,null,null,null,null,null,null,null,null,null,null,null,null,null,null,null,null,50,{"$f":"$B$25","v":" "},{"$error":"#N/A"},{"$error":"#N/A"},{"$error":"#N/A"},{"$error":"#N/A"},{"$error":"#N/A"},{"$error":"#N/A"}]
[null,null,null,null,null,null,null,null,null,null,null,null,null,null,null,null,null,100,{"$f":"$B$26","v":" "},{"$error":"#N/A"},{"$error":"#N/A"},{"$error":"#N/A"},{"$error":"#N/A"},{"$error":"#N/A"},{"$error":"#N/A"}]
[null,null,null,null,null,null,null,null,null,null,null,null,null,null,null,null,null,200,{"$f":"$B$27","v":" "},{"$error":"#N/A"},{"$error":"#N/A"},{"$error":"#N/A"},{"$error":"#N/A"},{"$error":"#N/A"},{"$error":"#N/A"}]
[null,null,null,null,null,null,null,null,null,null,null,null,null,null,null,null,null,"%AC",{"$f":"$B$28","v":" "},{"$error":"#N/A"},{"$error":"#N/A"},{"$error":"#N/A"},{"$error":"#N/A"},{"$error":"#N/A"},{"$error":"#N/A"}]
[null,null,{"$f":"MAX(C15:C23)","v":0},null,{"$f":"MAX(E15:E23)","v":0},null,{"$f":"MAX(G15:G23)","v":0},null,{"$f":"MAX(I15:I23)","v":0},null,{"$f":"MAX(K15:K23)","v":0},null,{"$f":"MAX(M15:M23)","v":0},null,null,null,null,null,"Max",{"$f":"MAX(T56:T70)","v":{"$error":"#N/A"}},{"$error":"#N/A"},{"$error":"#N/A"},{"$error":"#N/A"},{"$error":"#N/A"},{"$error":"#N/A"}]
[]
[null,null,null,null,null,null,null,null,null,null,null,null,null,null,null,null,null,null,"Multiple sample flag"]
[null,null,null,null,null,null,null,null,null,null,null,null,null,null,null,null,null,2,{"$f":"$B$15","v":" "},{"$f":"IF(ISBLANK(C15),0,IF(OR(D39>$S74+AP!$E$89,D39<$S74-AP!$E$93),2,0))","v":0},{"$f":"IF(ISBLANK(E15),0,IF(OR(E39>$S74+AP!$E$89,E39<$S74-AP!$E$93),2,0))","v":0},{"$f":"IF(ISBLANK(G15),0,IF(OR(F39>$S74+AP!$E$89,F39<$S74-AP!$E$93),2,0))","v":0},{"$f":"IF(ISBLANK(I15),0,IF(OR(G39>$S74+AP!$E$89,G39<$S74-AP!$E$93),2,0))","v":0},{"$f":"IF(ISBLANK(K15),0,IF(OR(H39>$S74+AP!$E$89,H39<$S74-AP!$E$93),2,0))","v":0},{"$f":"IF(ISBLANK(M15),0,IF(OR(I39>$S74+AP!$E$89,I39<$S74-AP!$E$93),2,0))","v":0}]
[null,null,null,null,null,null,null,null,null,null,null,null,null,null,null,null,null,1.5,{"$f":"$B$16","v":" "},{"$f":"IF(ISBLANK(C16),0,IF(OR(D40>$S75+AP!$E$83,D40<$S75-AP!$E$87),2,0))","v":0},{"$f":"IF(ISBLANK(E16),0,IF(OR(E40>$S75+AP!$E$89,E40<$S75-AP!$E$93),2,0))","v":0},{"$f":"IF(ISBLANK(G16),0,IF(OR(F40>$S75+AP!$E$89,F40<$S75-AP!$E$93),2,0))","v":0},{"$f":"IF(ISBLANK(I16),0,IF(OR(G40>$S75+AP!$E$89,G40<$S75-AP!$E$93),2,0))","v":0},{"$f":"IF(ISBLANK(K16),0,IF(OR(H40>$S75+AP!$E$89,H40<$S75-AP!$E$93),2,0))","v":0},{"$f":"IF(ISBLANK(M16),0,IF(OR(I40>$S75+AP!$E$89,I40<$S75-AP!$E$93),2,0))","v":0}]
[null,null,null,null,null,null,null,null,null,null,null,null,null,null,null,null,null,1,{"$f":"$B$17","v":" "},{"$f":"IF(ISBLANK(C17),0,IF(OR(D41>$S76+AP!$E$83,D41<$S76-AP!$E$87),2,0))","v":0},{"$f":"IF(ISBLANK(E17),0,IF(OR(E41>$S76+AP!$E$89,E41<$S76-AP!$E$93),2,0))","v":0},{"$f":"IF(ISBLANK(G17),0,IF(OR(F41>$S76+AP!$E$89,F41<$S76-AP!$E$93),2,0))","v":0},{"$f":"IF(ISBLANK(I17),0,IF(OR(G41>$S76+AP!$E$89,G41<$S76-AP!$E$93),2,0))","v":0},{"$f":"IF(ISBLANK(K17),0,IF(OR(H41>$S76+AP!$E$89,H41<$S76-AP!$E$93),2,0))","v":0},{"$f":"IF(ISBLANK(M17),0,IF(OR(I41>$S76+AP!$E$89,I41<$S76-AP!$E$93),2,0))","v":0}]
[null,null,null,null,null,null,null,null,null,null,null,null,null,null,null,null,null,0.75,{"$f":"$B$18","v":" "},{"$f":"IF(ISBLANK(C18),0,IF(OR(D42>$S77+AP!$E$83,D42<$S77-AP!$E$87),2,0))","v":0},{"$f":"IF(ISBLANK(E18),0,IF(OR(E42>$S77+AP!$E$89,E42<$S77-AP!$E$93),2,0))","v":0},{"$f":"IF(ISBLANK(G18),0,IF(OR(F42>$S77+AP!$E$89,F42<$S77-AP!$E$93),2,0))","v":0},{"$f":"IF(ISBLANK(I18),0,IF(OR(G42>$S77+AP!$E$89,G42<$S77-AP!$E$93),2,0))","v":0},{"$f":"IF(ISBLANK(K18),0,IF(OR(H42>$S77+AP!$E$89,H42<$S77-AP!$E$93),2,0))","v":0},{"$f":"IF(ISBLANK(M18),0,IF(OR(I42>$S77+AP!$E$89,I42<$S77-AP!$E$93),2,0))","v":0}]
[null,null,null,null,null,null,null,null,null,null,null,null,null,null,null,null,null,0.5,{"$f":"$B$19","v":" "},{"$f":"IF(ISBLANK(C19),0,IF(OR(D43>$S78+AP!$E$83,D43<$S78-AP!$E$87),2,0))","v":0},{"$f":"IF(ISBLANK(E19),0,IF(OR(E43>$S78+AP!$E$89,E43<$S78-AP!$E$93),2,0))","v":0},{"$f":"IF(ISBLANK(G19),0,IF(OR(F43>$S78+AP!$E$89,F43<$S78-AP!$E$93),2,0))","v":0},{"$f":"IF(ISBLANK(I19),0,IF(OR(G43>$S78+AP!$E$89,G43<$S78-AP!$E$93),2,0))","v":0},{"$f":"IF(ISBLANK(K19),0,IF(OR(H43>$S78+AP!$E$89,H43<$S78-AP!$E$93),2,0))","v":0},{"$f":"IF(ISBLANK(M19),0,IF(OR(I43>$S78+AP!$E$89,I43<$S78-AP!$E$93),2,0))","v":0}]
[null,null,null,null,null,null,null,null,null,null,null,null,null,null,null,null,null,0.375,{"$f":"$B$20","v":" "},{"$f":"IF(OR(D44>$S79+AP!$E$59,D44<$S79-AP!$E$63),2,0)","v":{"$error":"#N/A"}},{"$f":"IF(OR(E44>$S79+AP!$E$59,E44<$S79-AP!$E$63),2,0)","v":{"$error":"#N/A"}},{"$f":"IF(OR(F44>$S79+AP!$E$59,F44<$S79-AP!$E$63),2,0)","v":{"$error":"#N/A"}},{"$f":"IF(OR(G44>$S79+AP!$E$59,G44<$S79-AP!$E$63),2,0)","v":{"$error":"#N/A"}},{"$f":"IF(OR(H44>$S79+AP!$E$59,H44<$S79-AP!$E$63),2,0)","v":{"$error":"#N/A"}},{"$f":"IF(OR(I44>$S79+AP!$E$59,I44<$S79-AP!$E$63),2,0)","v":{"$error":"#N/A"}}]
[null,null,null,null,null,null,null,null,null,null,null,null,null,null,null,null,null,4,{"$f":"$B$21","v":" "},{"$f":"IF(OR(D45>$S80+AP!$E$53,D45<$S80-AP!$E$57),2,0)","v":{"$error":"#N/A"}},{"$f":"IF(OR(E45>$S80+AP!$E$53,E45<$S80-AP!$E$57),2,0)","v":{"$error":"#N/A"}},{"$f":"IF(OR(F45>$S80+AP!$E$53,F45<$S80-AP!$E$57),2,0)","v":{"$error":"#N/A"}},{"$f":"IF(OR(G45>$S80+AP!$E$53,G45<$S80-AP!$E$57),2,0)","v":{"$error":"#N/A"}},{"$f":"IF(OR(H45>$S80+AP!$E$53,H45<$S80-AP!$E$57),2,0)","v":{"$error":"#N/A"}},{"$f":"IF(OR(I45>$S80+AP!$E$53,I45<$S80-AP!$E$57),2,0)","v":{"$error":"#N/A"}}]
[null,null,null,null,null,null,null,null,null,null,null,null,null,null,null,null,null,8,{"$f":"$B$22","v":" "},{"$f":"IF(OR(D46>$S81+AP!$E$46,D46<$S81-AP!$E$50),2,0)","v":{"$error":"#N/A"}},{"$f":"IF(OR(E46>$S81+AP!$E$46,E46<$S81-AP!$E$50),2,0)","v":{"$error":"#N/A"}},{"$f":"IF(OR(F46>$S81+AP!$E$46,F46<$S81-AP!$E$50),2,0)","v":{"$error":"#N/A"}},{"$f":"IF(OR(G46>$S81+AP!$E$46,G46<$S81-AP!$E$50),2,0)","v":{"$error":"#N/A"}},{"$f":"IF(OR(H46>$S81+AP!$E$46,H46<$S81-AP!$E$50),2,0)","v":{"$error":"#N/A"}},{"$f":"IF(OR(I46>$S81+AP!$E$46,I46<$S81-AP!$E$50),2,0)","v":{"$error":"#N/A"}}]
[null,null,null,null,null,null,null,null,null,null,null,null,null,null,null,null,null,16,{"$f":"$B$23","v":" "},{"$f":"IF(OR(D47>$S82+AP!$E$39,D47<$S82-AP!$E$43),2,0)","v":{"$error":"#N/A"}},{"$f":"IF(OR(E47>$S82+AP!$E$39,E47<$S82-AP!$E$43),2,0)","v":{"$error":"#N/A"}},{"$f":"IF(OR(F47>$S82+AP!$E$39,F47<$S82-AP!$E$43),2,0)","v":{"$error":"#N/A"}},{"$f":"IF(OR(G47>$S82+AP!$E$39,G47<$S82-AP!$E$43),2,0)","v":{"$error":"#N/A"}},{"$f":"IF(OR(H47>$S82+AP!$E$39,H47<$S82-AP!$E$43),2,0)","v":{"$error":"#N/A"}},{"$f":"IF(OR(I47>$S82+AP!$E$39,I47<$S82-AP!$E$43),2,0)","v":{"$error":"#N/A"}}]
[null,null,null,null,null,null,null,null,null,null,null,null,null,null,null,null,null,30,{"$f":"$B$24","v":" "},{"$f":"IF(OR(D48>$S83+AP!$E$33,D48<$S83-AP!$E$37),2,0)","v":{"$error":"#N/A"}},{"$f":"IF(OR(E48>$S83+AP!$E$33,E48<$S83-AP!$E$37),2,0)","v":{"$error":"#N/A"}},{"$f":"IF(OR(F48>$S83+AP!$E$33,F48<$S83-AP!$E$37),2,0)","v":{"$error":"#N/A"}},{"$f":"IF(OR(G48>$S83+AP!$E$33,G48<$S83-AP!$E$37),2,0)","v":{"$error":"#N/A"}},{"$f":"IF(OR(H48>$S83+AP!$E$33,H48<$S83-AP!$E$37),2,0)","v":{"$error":"#N/A"}},{"$f":"IF(OR(I48>$S83+AP!$E$33,I48<$S83-AP!$E$37),2,0)","v":{"$error":"#N/A"}}]
[null,null,null,null,null,null,null,null,null,null,null,null,null,null,null,null,null,50,{"$f":"$B$25","v":" "},{"$f":"IF(OR(D49>$S84+AP!$E$27,D49<$S84-AP!$E$31),2,0)","v":{"$error":"#N/A"}},{"$f":"IF(OR(E49>$S84+AP!$E$27,E49<$S84-AP!$E$31),2,0)","v":{"$error":"#N/A"}},{"$f":"IF(OR(F49>$S84+AP!$E$27,F49<$S84-AP!$E$31),2,0)","v":{"$error":"#N/A"}},{"$f":"IF(OR(G49>$S84+AP!$E$27,G49<$S84-AP!$E$31),2,0)","v":{"$error":"#N/A"}},{"$f":"IF(OR(H49>$S84+AP!$E$27,H49<$S84-AP!$E$31),2,0)","v":{"$error":"#N/A"}},{"$f":"IF(OR(I49>$S84+AP!$E$27,I49<$S84-AP!$E$31),2,0)","v":{"$error":"#N/A"}}]
[null,null,null,null,null,null,null,null,null,null,null,null,null,null,null,null,null,100,{"$f":"$B$26","v":" "},{"$f":"IF(OR(D50>$S85+AP!$E$21,D50<$S85-AP!$E$25),2,0)","v":{"$error":"#N/A"}},{"$f":"IF(OR(E50>$S85+AP!$E$21,E50<$S85-AP!$E$25),2,0)","v":{"$error":"#N/A"}},{"$f":"IF(OR(F50>$S85+AP!$E$21,F50<$S85-AP!$E$25),2,0)","v":{"$error":"#N/A"}},{"$f":"IF(OR(G50>$S85+AP!$E$21,G50<$S85-AP!$E$25),2,0)","v":{"$error":"#N/A"}},{"$f":"IF(OR(H50>$S85+AP!$E$21,H50<$S85-AP!$E$25),2,0)","v":{"$error":"#N/A"}},{"$f":"IF(OR(I50>$S85+AP!$E$21,I50<$S85-AP!$E$25),2,0)","v":{"$error":"#N/A"}}]
[null,null,null,null,null,null,null,null,null,null,null,null,null,null,null,null,null,200,{"$f":"$B$27","v":" "},{"$f":"IF(OR(D51>$S86+AP!$E$14,D51<$S86-AP!$E$18),2,0)","v":{"$error":"#N/A"}},{"$f":"IF(OR(E51>$S86+AP!$E$14,E51<$S86-AP!$E$18),2,0)","v":{"$error":"#N/A"}},{"$f":"IF(OR(F51>$S86+AP!$E$14,F51<$S86-AP!$E$18),2,0)","v":{"$error":"#N/A"}},{"$f":"IF(OR(G51>$S86+AP!$E$14,G51<$S86-AP!$E$18),2,0)","v":{"$error":"#N/A"}},{"$f":"IF(OR(H51>$S86+AP!$E$14,H51<$S86-AP!$E$18),2,0)","v":{"$error":"#N/A"}},{"$f":"IF(OR(I51>$S86+AP!$E$14,I51<$S86-AP!$E$18),2,0)","v":{"$error":"#N/A"}}]
[null,null,null,null,null,null,null,null,null,null,null,null,null,null,null,null,null,"%AC",{"$f":"$B$28","v":" "},{"$f":"IF(OR(D52>AP!$L$6,D52<AP!$L$10),2,0)","v":{"$error":"#N/A"}},{"$f":"IF(OR(E52>AP!$L$6,E52<AP!$L$10),2,0)","v":{"$error":"#N/A"}},{"$f":"IF(OR(F52>AP!$L$6,F52<AP!$L$10),2,0)","v":{"$error":"#N/A"}},{"$f":"IF(OR(G52>AP!$L$6,G52<AP!$L$10),2,0)","v":{"$error":"#N/A"}},{"$f":"IF(OR(H52>AP!$L$6,H52<AP!$L$10),2,0)","v":{"$error":"#N/A"}},{"$f":"IF(OR(I52>AP!$L$6,I52<AP!$L$10),2,0)","v":{"$error":"#N/A"}}]
[null,null,null,null,null,null,null,null,null,null,null,null,null,null,null,null,null,null,"Max",{"$f":"MAX(T74:T87)","v":{"$error":"#N/A"}},{"$error":"#N/A"},{"$error":"#N/A"},{"$error":"#N/A"},{"$error":"#N/A"},{"$error":"#N/A"}]
[]
[null,null,null,null,null,null,null,null,null,null,null,null,null,null,null,null,null,null,"Single sample flag"]
[null,null,null,null,null,null,null,null,null,null,null,null,null,null,null,null,null,8,{"$f":"$B$22","v":" "},{"$f":"IF(OR($D$22>$S91+AP!$E$45,$D$22<$S91-AP!$E$51),3,0)","v":{"$error":"#VALUE!"}},{"$f":"IF(OR($F$22>$S91+AP!$E$45,$F$22<$S91-AP!$E$51),3,0)","v":{"$error":"#VALUE!"}},{"$f":"IF(OR($H$22>$S91+AP!$E$45,$H$22<$S91-AP!$E$51),3,0)","v":{"$error":"#VALUE!"}},{"$f":"IF(OR($J$22>$S91+AP!$E$45,$J$22<$S91-AP!$E$51),3,0)","v":{"$error":"#VALUE!"}},{"$f":"IF(OR($L$22>$S91+AP!$E$45,$L$22<$S91-AP!$E$51),3,0)","v":{"$error":"#VALUE!"}},{"$f":"IF(OR($N$22>$S91+AP!$E$45,$N$22<$S91-AP!$E$51),3,0)","v":{"$error":"#VALUE!"}}]
[null,null,null,null,null,null,null,null,null,null,null,null,null,null,null,null,null,200,{"$f":"$B$27","v":" "},{"$f":"IF(OR($D$27>$S92+AP!$E$13,$D$27<$S92-AP!$E$19),3,0)","v":{"$error":"#VALUE!"}},{"$f":"IF(OR($F$27>$S92+AP!$E$13,$F$27<$S92-AP!$E$19),3,0)","v":{"$error":"#VALUE!"}},{"$f":"IF(OR($H$27>$S92+AP!$E$13,$H$27<$S92-AP!$E$19),3,0)","v":{"$error":"#VALUE!"}},{"$f":"IF(OR($J$27>$S92+AP!$E$13,$J$27<$S92-AP!$E$19),3,0)","v":{"$error":"#VALUE!"}},{"$f":"IF(OR($L$27>$S92+AP!$E$13,$L$27<$S92-AP!$E$19),3,0)","v":{"$error":"#VALUE!"}},{"$f":"IF(OR($N$27>$S92+AP!$E$13,$N$27<$S92-AP!$E$19),3,0)","v":{"$error":"#VALUE!"}}]
[null,null,null,null,null,null,null,null,null,null,null,null,null,null,null,null,null,"%AC",{"$f":"$B$28","v":" "},{"$f":"IF(OR($C$28>AP!$L$5,$C$28<AP!$L$11),3,0)","v":0},{"$f":"IF(OR($E$28>AP!$L$5,$E$28<AP!$L$11),3,0)","v":0},{"$f":"IF(OR($G$28>AP!$L$5,$G$28<AP!$L$11),3,0)","v":0},{"$f":"IF(OR($I$28>AP!$L$5,$I$28<AP!$L$11),3,0)","v":0},{"$f":"IF(OR($K$28>AP!$L$5,$K$28<AP!$L$11),3,0)","v":0},{"$f":"IF(OR($M$28>AP!$L$5,$M$28<AP!$L$11),3,0)","v":0}]
[null,null,null,null,null,null,null,null,null,null,null,null,null,null,null,null,null,null,"Max",{"$f":"IF(ISBLANK(C27),\" \",MAX(T91:T93))","v":" "},{"$f":"IF(ISBLANK(E27),\" \",MAX(U91:U93))","v":" "},{"$f":"IF(ISBLANK(G27),\" \",MAX(V91:V93))","v":" "},{"$f":"IF(ISBLANK(I27),\" \",MAX(W91:W93))","v":" "},{"$f":"IF(ISBLANK(K27),\" \",MAX(X91:X93))","v":" "},{"$f":"IF(ISBLANK(M27),\" \",MAX(Y91:Y93))","v":" "}]

{"sheet":"S7","index":6,"n_rows":94,"n_cols":25,"rows_kept":94,"cut":false,"hidden":true,"merged":[[52,0,52,1],[52,2,52,3],[59,6,68,7],[59,4,68,5],[59,2,68,3],[55,18,55,24],[72,18,72,24],[89,18,89,24],[53,0,68,1],[53,12,58,13],[53,10,58,11],[53,8,58,9],[53,6,58,7],[53,4,58,5],[53,2,58,3],[52,12,52,13],[31,12,31,13],[52,4,52,5],[52,6,52,7],[52,8,52,9],[52,10,52,11],[30,4,30,5],[59,12,68,13],[59,10,68,11],[59,8,68,9],[30,12,30,13],[37,9,37,10],[37,3,37,8],[30,10,30,11],[10,0,10,1],[12,8,12,9],[29,0,31,0],[30,2,30,3],[30,6,30,7],[30,8,30,9],[29,6,29,7],[31,2,31,3],[31,4,31,5],[31,6,31,7],[31,8,31,9],[29,12,29,13],[27,8,27,9],[28,8,28,9],[27,12,27,13],[28,10,28,11],[11,10,11,11],[27,2,27,3],[28,2,28,3],[28,6,28,7],[27,6,27,7],[29,2,29,3],[29,8,29,9],[29,10,29,11],[29,4,29,5],[11,2,11,3],[11,4,11,5],[27,4,27,5],[28,4,28,5],[12,10,12,11],[11,12,11,13],[37,0,37,2],[28,0,28,1],[31,10,31,11],[28,12,28,13],[27,10,27,11],[10,10,10,11],[12,12,12,13],[9,0,9,1],[10,6,10,7],[10,2,10,3],[9,6,9,7],[9,4,9,5],[10,4,10,5],[9,10,9,11],[9,12,9,13],[12,0,12,1],[12,2,12,3],[12,4,12,5],[12,6,12,7],[11,0,11,1],[11,8,11,9],[11,6,11,7],[10,8,10,9],[10,12,10,13],[9,8,9,9],[0,0,3,1],[8,4,8,5],[9,2,9,3],[8,6,8,7],[8,0,8,1],[7,0,7,2],[5,0,5,1],[7,5,7,8],[5,5,5,8],[8,8,8,9],[8,2,8,3],[8,12,8,13],[8,10,8,11],[2,12,2,13],[1,10,1,11],[5,10,5,11],[6,10,6,11],[6,12,6,13],[5,12,5,13],[1,12,1,13],[2,10,2,11]]}
[]
[null,null,null,null,"COMMONWEALTH OF PENNSYLVANIA",null,null,null,null,null,"DISTRICT",null,{"$f":"IF(ISBLANK('S1'!M2),\" \",('S1'!M2))","v":" "}]
[null,null,null,null,"DEPARTMENT OF TRANSPORTATION",null,null,null,null,null,"PLANT CODE",null,{"$f":"IF(ISBLANK('S1'!M3),\" \",('S1'!M3))","v":" "}]
[null,null,null,null,"LABORATORY TEST SECTION"]
[{"$f":"'S1'!A5","v":"ESB-16"}]
["Material Class ",null,{"$f":"IF(ISBLANK('S1'!C6),\" \",('S1'!C6))","v":9.5},"mm",null,"Burnoff Results",null,null,null,null,"Design No.",null,{"$f":"IF(ISBLANK('S1'!M6),\" \",('S1'!M6))","v":" "}]
[null,null,null,null,null,null,null,null,null,null,"Gyrations @ Ndes",null,{"$f":"IF(ISBLANK('S1'!M7),\" \",'S1'!M7)","v":" "}]
["-200 Correction Factor (+ or -)",null,null,{"$f":"IF(ISBLANK('S1'!D8),\" \",('S1'!D8))","v":" "},null,"Red values indicate action area"]
["Sample No."]
["Date"]
["St. Wt. Before Wash"]
["Dry Wt. After Wash"]
["Wt. Loss",null,{"$f":"IF(ISBLANK(C11),\" \",IF(ISBLANK(C12),\" \",C11-C12))","v":" "},null,{"$f":"IF(ISBLANK(E11),\" \",IF(ISBLANK(E12),\" \",E11-E12))","v":" "},null,{"$f":"IF(ISBLANK(G11),\" \",IF(ISBLANK(G12),\" \",G11-G12))","v":" "},null,{"$f":"IF(ISBLANK(I11),\" \",IF(ISBLANK(I12),\" \",I11-I12))","v":" "},null,{"$f":"IF(ISBLANK(K11),\" \",IF(ISBLANK(K12),\" \",K11-K12))","v":" "},null,{"$f":"IF(ISBLANK(M11),\" \",IF(ISBLANK(M12),\" \",M11-M12))","v":" "}]
["Size","JMF","Weight","%Passing","Weight","%Passing","Weight","%Passing","Weight","%Pasing","Weight","%Pasing","Weight","%Pasing"]
[2,{"$f":"IF(ISBLANK('S1'!B15),\" \",'S1'!B15)","v":" "},null,{"$f":"IF(ISBLANK(C11),\" \",IF(ISBLANK(C12),\" \",IF(ISBLANK(C15),\" \",ROUND((C15+C13)/C11*100,0))))","v":" "},null,{"$f":"IF(ISBLANK(E11),\" \",IF(ISBLANK(E12),\" \",IF(ISBLANK(E15),\" \",ROUND((E15+E13)/E11*100,0))))","v":" "},null,{"$f":"IF(ISBLANK(G11),\" \",IF(ISBLANK(G12),\" \",IF(ISBLANK(G15),\" \",ROUND((G15+G13)/G11*100,0))))","v":" "},null,{"$f":"IF(ISBLANK(I11),\" \",IF(ISBLANK(I12),\" \",IF(ISBLANK(I15),\" \",ROUND((I15+I13)/I11*100,0))))","v":" "},null,{"$f":"IF(ISBLANK(K11),\" \",IF(ISBLANK(K12),\" \",IF(ISBLANK(K15),\" \",ROUND((K15+K13)/K11*100,0))))","v":" "},null,{"$f":"IF(ISBLANK(M11),\" \",IF(ISBLANK(M12),\" \",IF(ISBLANK(M15),\" \",ROUND((M15+M13)/M11*100,0))))","v":" "}]
[1.5,{"$f":"IF(ISBLANK('S1'!B16),\" \",'S1'!B16)","v":" "},null,{"$f":"IF(ISBLANK(C11),\"  \",IF(ISBLANK(C12),\" \",IF(ISBLANK(C16),\" \",ROUND((C16+C13)/C11*100,0))))","v":"  "},null,{"$f":"IF(ISBLANK(E11),\"  \",IF(ISBLANK(E12),\" \",IF(ISBLANK(E16),\" \",ROUND((E16+E13)/E11*100,0))))","v":"  "},null,{"$f":"IF(ISBLANK(G11),\"  \",IF(ISBLANK(G12),\" \",IF(ISBLANK(G16),\" \",ROUND((G16+G13)/G11*100,0))))","v":"  "},null,{"$f":"IF(ISBLANK(I11),\"  \",IF(ISBLANK(I12),\" \",IF(ISBLANK(I16),\" \",ROUND((I16+I13)/I11*100,0))))","v":"  "},null,{"$f":"IF(ISBLANK(K11),\"  \",IF(ISBLANK(K12),\" \",IF(ISBLANK(K16),\" \",ROUND((K16+K13)/K11*100,0))))","v":"  "},null,{"$f":"IF(ISBLANK(M11),\"  \",IF(ISBLANK(M12),\" \",IF(ISBLANK(M16),\" \",ROUND((M16+M13)/M11*100,0))))","v":"  "}]
[1,{"$f":"IF(ISBLANK('S1'!B17),\" \",'S1'!B17)","v":" "},null,{"$f":"IF(ISBLANK(C11),\"  \",IF(ISBLANK(C12),\" \",IF(ISBLANK(C17),\" \",ROUND((C17+C13)/C11*100,0))))","v":"  "},null,{"$f":"IF(ISBLANK(E11),\"  \",IF(ISBLANK(E12),\" \",IF(ISBLANK(E17),\" \",ROUND((E17+E13)/E11*100,0))))","v":"  "},null,{"$f":"IF(ISBLANK(G11),\"  \",IF(ISBLANK(G12),\" \",IF(ISBLANK(G17),\" \",ROUND((G17+G13)/G11*100,0))))","v":"  "},null,{"$f":"IF(ISBLANK(I11),\"  \",IF(ISBLANK(I12),\" \",IF(ISBLANK(I17),\" \",ROUND((I17+I13)/I11*100,0))))","v":"  "},null,{"$f":"IF(ISBLANK(K11),\"  \",IF(ISBLANK(K12),\" \",IF(ISBLANK(K17),\" \",ROUND((K17+K13)/K11*100,0))))","v":"  "},null,{"$f":"IF(ISBLANK(M11),\"  \",IF(ISBLANK(M12),\" \",IF(ISBLANK(M17),\" \",ROUND((M17+M13)/M11*100,0))))","v":"  "}]
[0.75,{"$f":"IF(ISBLANK('S1'!B18),\" \",'S1'!B18)","v":" "},null,{"$f":"IF(ISBLANK(C11),\"  \",IF(ISBLANK(C12),\" \",IF(ISBLANK(C18),\" \",ROUND((C18+C13)/C11*100,0))))","v":"  "},null,{"$f":"IF(ISBLANK(E11),\"  \",IF(ISBLANK(E12),\" \",IF(ISBLANK(E18),\" \",ROUND((E18+E13)/E11*100,0))))","v":"  "},null,{"$f":"IF(ISBLANK(G11),\"  \",IF(ISBLANK(G12),\" \",IF(ISBLANK(G18),\" \",ROUND((G18+G13)/G11*100,0))))","v":"  "},null,{"$f":"IF(ISBLANK(I11),\"  \",IF(ISBLANK(I12),\" \",IF(ISBLANK(I18),\" \",ROUND((I18+I13)/I11*100,0))))","v":"  "},null,{"$f":"IF(ISBLANK(K11),\"  \",IF(ISBLANK(K12),\" \",IF(ISBLANK(K18),\" \",ROUND((K18+K13)/K11*100,0))))","v":"  "},null,{"$f":"IF(ISBLANK(M11),\"  \",IF(ISBLANK(M12),\" \",IF(ISBLANK(M18),\" \",ROUND((M18+M13)/M11*100,0))))","v":"  "}]
[0.5,{"$f":"IF(ISBLANK('S1'!B19),\" \",'S1'!B19)","v":" "},null,{"$f":"IF(ISBLANK(C11),\"  \",IF(ISBLANK(C12),\" \",IF(ISBLANK(C19),\" \",ROUND((C19+C13)/C11*100,0))))","v":"  "},null,{"$f":"IF(ISBLANK(E11),\"  \",IF(ISBLANK(E12),\" \",IF(ISBLANK(E19),\" \",ROUND((E19+E13)/E11*100,0))))","v":"  "},null,{"$f":"IF(ISBLANK(G11),\"  \",IF(ISBLANK(G12),\" \",IF(ISBLANK(G19),\" \",ROUND((G19+G13)/G11*100,0))))","v":"  "},null,{"$f":"IF(ISBLANK(I11),\"  \",IF(ISBLANK(I12),\" \",IF(ISBLANK(I19),\" \",ROUND((I19+I13)/I11*100,0))))","v":"  "},null,{"$f":"IF(ISBLANK(K11),\"  \",IF(ISBLANK(K12),\" \",IF(ISBLANK(K19),\" \",ROUND((K19+K13)/K11*100,0))))","v":"  "},null,{"$f":"IF(ISBLANK(M11),\"  \",IF(ISBLANK(M12),\" \",IF(ISBLANK(M19),\" \",ROUND((M19+M13)/M11*100,0))))","v":"  "}]
[0.375,{"$f":"IF(ISBLANK('S1'!B20),\" \",'S1'!B20)","v":" "},null,{"$f":"IF(ISBLANK(C11),\"  \",IF(ISBLANK(C12),\" \",IF(ISBLANK(C20),\" \",ROUND((C20+C13)/C11*100,0))))","v":"  "},null,{"$f":"IF(ISBLANK(E11),\"  \",IF(ISBLANK(E12),\" \",IF(ISBLANK(E20),\" \",ROUND((E20+E13)/E11*100,0))))","v":"  "},null,{"$f":"IF(ISBLANK(G11),\"  \",IF(ISBLANK(G12),\" \",IF(ISBLANK(G20),\" \",ROUND((G20+G13)/G11*100,0))))","v":"  "},null,{"$f":"IF(ISBLANK(I11),\"  \",IF(ISBLANK(I12),\" \",IF(ISBLANK(I20),\" \",ROUND((I20+I13)/I11*100,0))))","v":"  "},null,{"$f":"IF(ISBLANK(K11),\"  \",IF(ISBLANK(K12),\" \",IF(ISBLANK(K20),\" \",ROUND((K20+K13)/K11*100,0))))","v":"  "},null,{"$f":"IF(ISBLANK(M11),\"  \",IF(ISBLANK(M12),\" \",IF(ISBLANK(M20),\" \",ROUND((M20+M13)/M11*100,0))))","v":"  "}]
[4,{"$f":"IF(ISBLANK('S1'!B21),\" \",'S1'!B21)","v":" "},null,{"$f":"IF(ISBLANK(C11),\"  \",IF(ISBLANK(C12),\" \",IF(ISBLANK(C21),\" \",ROUND((C21+C13)/C11*100,0))))","v":"  "},null,{"$f":"IF(ISBLANK(E11),\"  \",IF(ISBLANK(E12),\" \",IF(ISBLANK(E21),\" \",ROUND((E21+E13)/E11*100,0))))","v":"  "},null,{"$f":"IF(ISBLANK(G11),\"  \",IF(ISBLANK(G12),\" \",IF(ISBLANK(G21),\" \",ROUND((G21+G13)/G11*100,0))))","v":"  "},null,{"$f":"IF(ISBLANK(I11),\"  \",IF(ISBLANK(I12),\" \",IF(ISBLANK(I21),\" \",ROUND((I21+I13)/I11*100,0))))","v":"  "},null,{"$f":"IF(ISBLANK(K11),\"  \",IF(ISBLANK(K12),\" \",IF(ISBLANK(K21),\" \",ROUND((K21+K13)/K11*100,0))))","v":"  "},null,{"$f":"IF(ISBLANK(M11),\"  \",IF(ISBLANK(M12),\" \",IF(ISBLANK(M21),\" \",ROUND((M21+M13)/M11*100,0))))","v":"  "}]
[8,{"$f":"IF(ISBLANK('S1'!B22),\" \",'S1'!B22)","v":" "},null,{"$f":"IF(ISBLANK(C11),\"  \",IF(ISBLANK(C12),\" \",IF(ISBLANK(C22),\" \",ROUND((C22+C13)/C11*100,0))))","v":"  "},null,{"$f":"IF(ISBLANK(E11),\"  \",IF(ISBLANK(E12),\" \",IF(ISBLANK(E22),\" \",ROUND((E22+E13)/E11*100,0))))","v":"  "},null,{"$f":"IF(ISBLANK(G11),\"  \",IF(ISBLANK(G12),\" \",IF(ISBLANK(G22),\" \",ROUND((G22+G13)/G11*100,0))))","v":"  "},null,{"$f":"IF(ISBLANK(I11),\"  \",IF(ISBLANK(I12),\" \",IF(ISBLANK(I22),\" \",ROUND((I22+I13)/I11*100,0))))","v":"  "},null,{"$f":"IF(ISBLANK(K11),\"  \",IF(ISBLANK(K12),\" \",IF(ISBLANK(K22),\" \",ROUND((K22+K13)/K11*100,0))))","v":"  "},null,{"$f":"IF(ISBLANK(M11),\"  \",IF(ISBLANK(M12),\" \",IF(ISBLANK(M22),\" \",ROUND((M22+M13)/M11*100,0))))","v":"  "}]
[16,{"$f":"IF(ISBLANK('S1'!B23),\" \",'S1'!B23)","v":" "},null,{"$f":"IF(ISBLANK(C11),\"  \",IF(ISBLANK(C12),\" \",IF(ISBLANK(C23),\" \",ROUND((C23+C13)/C11*100,0))))","v":"  "},null,{"$f":"IF(ISBLANK(E11),\"  \",IF(ISBLANK(E12),\" \",IF(ISBLANK(E23),\" \",ROUND((E23+E13)/E11*100,0))))","v":"  "},null,{"$f":"IF(ISBLANK(G11),\"  \",IF(ISBLANK(G12),\" \",IF(ISBLANK(G23),\" \",ROUND((G23+G13)/G11*100,0))))","v":"  "},null,{"$f":"IF(ISBLANK(I11),\"  \",IF(ISBLANK(I12),\" \",IF(ISBLANK(I23),\" \",ROUND((I23+I13)/I11*100,0))))","v":"  "},null,{"$f":"IF(ISBLANK(K11),\"  \",IF(ISBLANK(K12),\" \",IF(ISBLANK(K23),\" \",ROUND((K23+K13)/K11*100,0))))","v":"  "},null,{"$f":"IF(ISBLANK(M11),\"  \",IF(ISBLANK(M12),\" \",IF(ISBLANK(M23),\" \",ROUND((M23+M13)/M11*100,0))))","v":"  "}]
[30,{"$f":"IF(ISBLANK('S1'!B24),\" \",'S1'!B24)","v":" "},null,{"$f":"IF(ISBLANK(C11),\"  \",IF(ISBLANK(C12),\" \",IF(ISBLANK(C24),\" \",ROUND((C24+C13)/C11*100,0))))","v":"  "},null,{"$f":"IF(ISBLANK(E11),\"  \",IF(ISBLANK(E12),\" \",IF(ISBLANK(E24),\" \",ROUND((E24+E13)/E11*100,0))))","v":"  "},null,{"$f":"IF(ISBLANK(G11),\"  \",IF(ISBLANK(G12),\" \",IF(ISBLANK(G24),\" \",ROUND((G24+G13)/G11*100,0))))","v":"  "},null,{"$f":"IF(ISBLANK(I11),\"  \",IF(ISBLANK(I12),\" \",IF(ISBLANK(I24),\" \",ROUND((I24+I13)/I11*100,0))))","v":"  "},null,{"$f":"IF(ISBLANK(K11),\"  \",IF(ISBLANK(K12),\" \",IF(ISBLANK(K24),\" \",ROUND((K24+K13)/K11*100,0))))","v":"  "},null,{"$f":"IF(ISBLANK(M11),\"  \",IF(ISBLANK(M12),\" \",IF(ISBLANK(M24),\" \",ROUND((M24+M13)/M11*100,0))))","v":"  "}]
[50,{"$f":"IF(ISBLANK('S1'!B25),\" \",'S1'!B25)","v":" "},null,{"$f":"IF(ISBLANK(C11),\"  \",IF(ISBLANK(C12),\" \",IF(ISBLANK(C25),\" \",ROUND((C25+C13)/C11*100,0))))","v":"  "},null,{"$f":"IF(ISBLANK(E11),\"  \",IF(ISBLANK(E12),\" \",IF(ISBLANK(E25),\" \",ROUND((E25+E13)/E11*100,0))))","v":"  "},null,{"$f":"IF(ISBLANK(G11),\"  \",IF(ISBLANK(G12),\" \",IF(ISBLANK(G25),\" \",ROUND((G25+G13)/G11*100,0))))","v":"  "},null,{"$f":"IF(ISBLANK(I11),\"  \",IF(ISBLANK(I12),\" \",IF(ISBLANK(I25),\" \",ROUND((I25+I13)/I11*100,0))))","v":"  "},null,{"$f":"IF(ISBLANK(K11),\"  \",IF(ISBLANK(K12),\" \",IF(ISBLANK(K25),\" \",ROUND((K25+K13)/K11*100,0))))","v":"  "},null,{"$f":"IF(ISBLANK(M11),\"  \",IF(ISBLANK(M12),\" \",IF(ISBLANK(M25),\" \",ROUND((M25+M13)/M11*100,0))))","v":"  "}]
[100,{"$f":"IF(ISBLANK('S1'!B26),\" \",'S1'!B26)","v":" "},null,{"$f":"IF(ISBLANK(C11),\"  \",IF(ISBLANK(C12),\" \",IF(ISBLANK(C26),\" \",ROUND((C26+C13)/C11*100,0))))","v":"  "},null,{"$f":"IF(ISBLANK(E11),\"  \",IF(ISBLANK(E12),\" \",IF(ISBLANK(E26),\" \",ROUND((E26+E13)/E11*100,0))))","v":"  "},null,{"$f":"IF(ISBLANK(G11),\"  \",IF(ISBLANK(G12),\" \",IF(ISBLANK(G26),\" \",ROUND((G26+G13)/G11*100,0))))","v":"  "},null,{"$f":"IF(ISBLANK(I11),\"  \",IF(ISBLANK(I12),\" \",IF(ISBLANK(I26),\" \",ROUND((I26+I13)/I11*100,0))))","v":"  "},null,{"$f":"IF(ISBLANK(K11),\"  \",IF(ISBLANK(K12),\" \",IF(ISBLANK(K26),\" \",ROUND((K26+K13)/K11*100,0))))","v":"  "},null,{"$f":"IF(ISBLANK(M11),\"  \",IF(ISBLANK(M12),\" \",IF(ISBLANK(M26),\" \",ROUND((M26+M13)/M11*100,0))))","v":"  "}]
[200,{"$f":"IF(ISBLANK('S1'!B27),\" \",'S1'!B27)","v":" "},null,{"$f":"IF(ISBLANK(C11),\"  \",IF(ISBLANK(C12),\" \",IF(ISBLANK(C27),\" \",ROUND((C27+C13)/C11*100+$D$8,1))))","v":"  "},null,{"$f":"IF(ISBLANK(E11),\"  \",IF(ISBLANK(E12),\" \",IF(ISBLANK(E27),\" \",ROUND((E27+E13)/E11*100+$D$8,1))))","v":"  "},null,{"$f":"IF(ISBLANK(G11),\"  \",IF(ISBLANK(G12),\" \",IF(ISBLANK(G27),\" \",ROUND((G27+G13)/G11*100+$D$8,1))))","v":"  "},null,{"$f":"IF(ISBLANK(I11),\"  \",IF(ISBLANK(I12),\" \",IF(ISBLANK(I27),\" \",ROUND((I27+I13)/I11*100+$D$8,1))))","v":"  "},null,{"$f":"IF(ISBLANK(K11),\"  \",IF(ISBLANK(K12),\" \",IF(ISBLANK(K27),\" \",ROUND((K27+K13)/K11*100+$D$8,1))))","v":"  "},null,{"$f":"IF(ISBLANK(M11),\"  \",IF(ISBLANK(M12),\" \",IF(ISBLANK(M27),\" \",ROUND((M27+M13)/M11*100+$D$8,1))))","v":"  "}]
["%AC",{"$f":"IF(ISBLANK('S1'!B28),\" \",'S1'!B28)","v":" "}]
["Percent Loss / Gain",null,{"$f":"IF(ISBLANK(C12),\"\",IF(ISBLANK(C20),\"\",(C12-C71)/C12*100))","v":""},null,{"$f":"IF(ISBLANK(E12),\"\",IF(ISBLANK(E20),\"\",(E12-E71)/E12*100))","v":""},null,{"$f":"IF(ISBLANK(G12),\"\",IF(ISBLANK(G20),\"\",(G12-G71)/G12*100))","v":""},null,{"$f":"IF(ISBLANK(I12),\"\",IF(ISBLANK(I20),\"\",(I12-I71)/I12*100))","v":""},null,{"$f":"IF(ISBLANK(K12),\"\",IF(ISBLANK(K20),\"\",(K12-K71)/K12*100))","v":""},null,{"$f":"IF(ISBLANK(M12),\"\",IF(ISBLANK(M20),\"\",(M12-M71)/M12*100))","v":""}]
["Apparent Moisture","Orig Wt"]
[null,"Const Wt"]
[null,"% moisture",{"$f":"IF(ISBLANK(C30),\" \",IF(ISBLANK(C31),\" \",((C30-C31)/C31)*100))","v":" "},null,{"$f":"IF(ISBLANK(E30),\" \",IF(ISBLANK(E31),\" \",((E30-E31)/E31)*100))","v":" "},null,{"$f":"IF(ISBLANK(G30),\" \",IF(ISBLANK(G31),\" \",((G30-G31)/G31)*100))","v":" "},null,{"$f":"IF(ISBLANK(I30),\" \",IF(ISBLANK(I31),\" \",((I30-I31)/I31)*100))","v":" "},null,{"$f":"IF(ISBLANK(K30),\" \",IF(ISBLANK(K31),\" \",((K30-K31)/K31)*100))","v":" "},null,{"$f":"IF(ISBLANK(M30),\" \",IF(ISBLANK(M31),\" \",((M30-M31)/M31)*100))","v":" "}]
[]
[]
[]
[]
[]
["Sets up Min and Max for charts",null,null,"Running Avg for Conditional Format",null,null,null,null,null,"AP upper & lower Tolerances"]
["#4",{"$f":"B21-8","v":{"$error":"#VALUE!"}},{"$f":"B21+8","v":{"$error":"#VALUE!"}},{"$f":"'S17'!$AC39","v":{"$error":"#N/A"}},{"$f":"'S17'!$AC40","v":{"$error":"#N/A"}},{"$f":"'S17'!$AC41","v":{"$error":"#N/A"}},{"$f":"'S17'!$AC42","v":{"$error":"#N/A"}},{"$f":"'S17'!$AC43","v":{"$error":"#N/A"}},{"$f":"'S17'!$AC44","v":{"$error":"#N/A"}},{"$f":"AP!E90","v":5},{"$f":"AP!E92","v":5}]
["#8",{"$f":"B22-6","v":{"$error":"#VALUE!"}},{"$f":"B22+6","v":{"$error":"#VALUE!"}},{"$f":"'S17'!$AA39","v":{"$error":"#N/A"}},{"$f":"'S17'!$AA40","v":{"$error":"#N/A"}},{"$f":"'S17'!$AA41","v":{"$error":"#N/A"}},{"$f":"'S17'!$AA42","v":{"$error":"#N/A"}},{"$f":"'S17'!$AA43","v":{"$error":"#N/A"}},{"$f":"'S17'!$AA44","v":{"$error":"#N/A"}},{"$f":"AP!E84","v":5},{"$f":"AP!E86","v":5}]
["#200",{"$f":"B27-2","v":{"$error":"#VALUE!"}},{"$f":"B27+2","v":{"$error":"#VALUE!"}},{"$f":"'S17'!$Y39","v":{"$error":"#N/A"}},{"$f":"'S17'!$Y40","v":{"$error":"#N/A"}},{"$f":"'S17'!$Y41","v":{"$error":"#N/A"}},{"$f":"'S17'!$Y42","v":{"$error":"#N/A"}},{"$f":"'S17'!$Y43","v":{"$error":"#N/A"}},{"$f":"'S17'!$Y44","v":{"$error":"#N/A"}},{"$f":"AP!E78","v":5},{"$f":"AP!E80","v":5}]
["AC",{"$f":"B28-0.4","v":{"$error":"#VALUE!"}},{"$f":"B28+0.4","v":{"$error":"#VALUE!"}},{"$f":"'S17'!$W39","v":{"$error":"#N/A"}},{"$f":"'S17'!$W40","v":{"$error":"#N/A"}},{"$f":"'S17'!$W41","v":{"$error":"#N/A"}},{"$f":"'S17'!$W42","v":{"$error":"#N/A"}},{"$f":"'S17'!$W43","v":{"$error":"#N/A"}},{"$f":"'S17'!$W44","v":{"$error":"#N/A"}},{"$f":"AP!E72","v":5},{"$f":"AP!E74","v":5}]
[null,null,null,{"$f":"'S17'!$U39","v":{"$error":"#N/A"}},{"$f":"'S17'!U40","v":{"$error":"#N/A"}},{"$f":"'S17'!U41","v":{"$error":"#N/A"}},{"$f":"'S17'!U42","v":{"$error":"#N/A"}},{"$f":"'S17'!U43","v":{"$error":"#N/A"}},{"$f":"'S17'!U44","v":{"$error":"#N/A"}},{"$f":"AP!E66","v":5},{"$f":"AP!E68","v":5}]
[null,null,null,{"$f":"'S17'!$S39","v":{"$error":"#N/A"}},{"$f":"'S17'!$S40","v":{"$error":"#N/A"}},{"$f":"'S17'!$S41","v":{"$error":"#N/A"}},{"$f":"'S17'!$S42","v":{"$error":"#N/A"}},{"$f":"'S17'!$S43","v":{"$error":"#N/A"}},{"$f":"'S17'!$S44","v":{"$error":"#N/A"}},{"$f":"AP!E60","v":3},{"$f":"AP!E62","v":3}]
[null,null,null,{"$f":"'S17'!$Q39","v":{"$error":"#N/A"}},{"$f":"'S17'!Q40","v":{"$error":"#N/A"}},{"$f":"'S17'!Q41","v":{"$error":"#N/A"}},{"$f":"'S17'!Q42","v":{"$error":"#N/A"}},{"$f":"'S17'!Q43","v":{"$error":"#N/A"}},{"$f":"'S17'!Q44","v":{"$error":"#N/A"}},{"$f":"AP!E54","v":3},{"$f":"AP!E56","v":3}]
[null,null,null,{"$f":"'S17'!$O39","v":{"$error":"#N/A"}},{"$f":"'S17'!O40","v":{"$error":"#N/A"}},{"$f":"'S17'!O41","v":{"$error":"#N/A"}},{"$f":"'S17'!O42","v":{"$error":"#N/A"}},{"$f":"'S17'!O43","v":{"$error":"#N/A"}},{"$f":"'S17'!O44","v":{"$error":"#N/A"}},{"$f":"AP!E47","v":3},{"$f":"AP!E49","v":3}]
[null,null,null,{"$f":"'S17'!$M39","v":{"$error":"#N/A"}},{"$f":"'S17'!$M40","v":{"$error":"#N/A"}},{"$f":"'S17'!$M41","v":{"$error":"#N/A"}},{"$f":"'S17'!$M42","v":{"$error":"#N/A"}},{"$f":"'S17'!$M43","v":{"$error":"#N/A"}},{"$f":"'S17'!$M44","v":{"$error":"#N/A"}},{"$f":"AP!E40","v":3},{"$f":"AP!E42","v":3}]
[null,null,null,{"$f":"'S17'!$K39","v":{"$error":"#N/A"}},{"$f":"'S17'!$K40","v":{"$error":"#N/A"}},{"$f":"'S17'!$K41","v":{"$error":"#N/A"}},{"$f":"'S17'!$K42","v":{"$error":"#N/A"}},{"$f":"'S17'!$K43","v":{"$error":"#N/A"}},{"$f":"'S17'!$K44","v":{"$error":"#N/A"}},{"$f":"AP!E34","v":3},{"$f":"AP!E36","v":3}]
[null,null,null,{"$f":"'S17'!$I39","v":{"$error":"#N/A"}},{"$f":"'S17'!$I40","v":{"$error":"#N/A"}},{"$f":"'S17'!$I41","v":{"$error":"#N/A"}},{"$f":"'S17'!$I42","v":{"$error":"#N/A"}},{"$f":"'S17'!$I43","v":{"$error":"#N/A"}},{"$f":"'S17'!$I44","v":{"$error":"#N/A"}},{"$f":"AP!E28","v":3},{"$f":"AP!E30","v":3}]
[null,null,null,{"$f":"'S17'!$G39","v":{"$error":"#N/A"}},{"$f":"'S17'!$G40","v":{"$error":"#N/A"}},{"$f":"'S17'!$G41","v":{"$error":"#N/A"}},{"$f":"'S17'!$G42","v":{"$error":"#N/A"}},{"$f":"'S17'!$G43","v":{"$error":"#N/A"}},{"$f":"'S17'!$G44","v":{"$error":"#N/A"}},{"$f":"AP!E22","v":3},{"$f":"AP!E24","v":3}]
[null,null,null,{"$f":"'S17'!E39","v":{"$error":"#N/A"}},{"$f":"'S17'!E40","v":{"$error":"#N/A"}},{"$f":"'S17'!E41","v":{"$error":"#N/A"}},{"$f":"'S17'!E42","v":{"$error":"#N/A"}},{"$f":"'S17'!E43","v":{"$error":"#N/A"}},{"$f":"'S17'!E44","v":{"$error":"#N/A"}},{"$f":"AP!E15","v":1},{"$f":"AP!E17","v":1}]
[null,null,null,{"$f":"ROUND('S17'!C39,1)","v":{"$error":"#N/A"}},{"$f":"ROUND('S17'!C40,1)","v":{"$error":"#N/A"}},{"$f":"ROUND('S17'!C41,1)","v":{"$error":"#N/A"}},{"$f":"ROUND('S17'!C42,1)","v":{"$error":"#N/A"}},{"$f":"ROUND('S17'!C43,1)","v":{"$error":"#N/A"}},{"$f":"ROUND('S17'!C44,1)","v":{"$error":"#N/A"}},{"$f":"AP!E7","v":0.2},{"$f":"AP!E9","v":0.2}]
["Tested By"]
["Remarks",null,{"$f":"IF(AND(T94=3,'S6'!M54=\"Single sample deviation, resample within 150 tons. Document corrective action\"),\"Deviation on 150 ton sample, suspend production of JMF\",IF(AND(T88=2,'S6'!M54=\"Multiple sample deviation, resample within 150 tons. Document corrective action\"),\"Deviation on 150 ton sample, suspend production of JMF\",IF(AND(T88=2,'S6'!M54=\"Single sample deviation, resample within 150 tons. Document corrective action\"),\"Deviation on 150 ton sample, suspend production of JMF\",IF(T94=3,\"Single sample deviation, resample within 150 tons. Document corrective action\",IF(T88=2,\"Multiple sample deviation, resample within 150 tons. Document corrective action\",IF(T71=1,\"Action area, document corrective action\",\" \"))))))","v":{"$error":"#N/A"}},null,{"$f":"IF(AND(U94=3,C54=\"Single sample deviation, resample within 150 tons. Document corrective action\"),\"Deviation on 150 ton sample, suspend production of JMF\",IF(AND(U88=2,C54=\"Multiple sample deviation, resample within 150 tons. Document corrective action\"),\"Deviation on 150 ton sample, suspend production of JMF\",IF(AND(U88=2,C54=\"Single sample deviation, resample within 150 tons. Document corrective action\"),\"Deviation on 150 ton sample, suspend production of JMF\",IF(U94=3,\"Single sample deviation, resample within 150 tons. Document corrective action\",IF(U88=2,\"Multiple sample deviation, resample within 150 tons. Document corrective action\",IF(U71=1,\"Action area, document corrective action\",\" \"))))))","v":{"$error":"#N/A"}},null,{"$f":"IF(AND(V94=3,E54=\"Single sample deviation, resample within 150 tons. Document corrective action\"),\"Deviation on 150 ton sample, suspend production of JMF\",IF(AND(V88=2,E54=\"Multiple sample deviation, resample within 150 tons. Document corrective action\"),\"Deviation on 150 ton sample, suspend production of JMF\",IF(AND(V88=2,E54=\"Single sample deviation, resample within 150 tons. Document corrective action\"),\"Deviation on 150 ton sample, suspend production of JMF\",IF(V94=3,\"Single sample deviation, resample within 150 tons. Document corrective action\",IF(V88=2,\"Multiple sample deviation, resample within 150 tons. Document corrective action\",IF(V71=1,\"Action area, document corrective action\",\" \"))))))","v":{"$error":"#N/A"}},null,{"$f":"IF(AND(W94=3,G54=\"Single sample deviation, resample within 150 tons. Document corrective action\"),\"Deviation on 150 ton sample, suspend production of JMF\",IF(AND(W88=2,G54=\"Multiple sample deviation, resample within 150 tons. Document corrective action\"),\"Deviation on 150 ton sample, suspend production of JMF\",IF(AND(W88=2,G54=\"Single sample deviation, resample within 150 tons. Document corrective action\"),\"Deviation on 150 ton sample, suspend production of JMF\",IF(W94=3,\"Single sample deviation, resample within 150 tons. Document corrective action\",IF(W88=2,\"Multiple sample deviation, resample within 150 tons. Document corrective action\",IF(W71=1,\"Action area, document corrective action\",\" \"))))))","v":{"$error":"#N/A"}},null,{"$f":"IF(AND(X94=3,I54=\"Single sample deviation, resample within 150 tons. Document corrective action\"),\"Deviation on 150 ton sample, suspend production of JMF\",IF(AND(X88=2,I54=\"Multiple sample deviation, resample within 150 tons. Document corrective action\"),\"Deviation on 150 ton sample, suspend production of JMF\",IF(AND(X88=2,I54=\"Single sample deviation, resample within 150 tons. Document corrective action\"),\"Deviation on 150 ton sample, suspend production of JMF\",IF(X94=3,\"Single sample deviation, resample within 150 tons. Document corrective action\",IF(X88=2,\"Multiple sample deviation, resample within 150 tons. Document corrective action\",IF(X71=1,\"Action area, document corrective action\",\" \"))))))","v":{"$error":"#N/A"}},null,{"$f":"IF(AND(Y94=3,K54=\"Single sample deviation, resample within 150 tons. Document corrective action\"),\"Deviation on 150 ton sample, suspend production of JMF\",IF(AND(Y88=2,K54=\"Multiple sample deviation, resample within 150 tons. Document corrective action\"),\"Deviation on 150 ton sample, suspend production of JMF\",IF(AND(Y88=2,K54=\"Single sample deviation, resample within 150 tons. Document corrective action\"),\"Deviation on 150 ton sample, suspend production of JMF\",IF(Y94=3,\"Single sample deviation, resample within 150 tons. Document corrective action\",IF(Y88=2,\"Multiple sample deviation, resample within 150 tons. Document corrective action\",IF(Y71=1,\"Action area, document corrective action\",\" \"))))))","v":{"$error":"#N/A"}}]
[]
[null,null,null,null,null,null,null,null,null,null,null,null,null,null,null,null,null,null,"Action points flags"]
[null,null,null,null,null,null,null,null,null,null,null,null,null,null,null,null,null,2,{"$f":"$B$15","v":" "},{"$f":"IF(ISBLANK(C15),0,IF(OR(D39>=$S57+$J39,D39<=$S57-$K39),1,0))","v":0},{"$f":"IF(ISBLANK(E15),0,IF(OR(E39>=$S57+$J39,E39<=$S57-$K39),1,0))","v":0},{"$f":"IF(ISBLANK(G15),0,IF(OR(F39>=$S57+$J39,F39<=$S57-$K39),1,0))","v":0},{"$f":"IF(ISBLANK(I15),0,IF(OR(G39>=$S57+$J39,G39<=$S57-$K39),1,0))","v":0},{"$f":"IF(ISBLANK(K15),0,IF(OR(H39>=$S57+$J39,H39<=$S57-$K39),1,0))","v":0},{"$f":"IF(ISBLANK(M15),0,IF(OR(I39>=$S57+$J39,I39<=$S57-$K39),1,0))","v":0}]
[null,null,null,null,null,null,null,null,null,null,null,null,null,null,null,null,null,1.5,{"$f":"$B$16","v":" "},{"$f":"IF(ISBLANK(C16),0,IF(OR(D40>=$S58+$J40,D40<=$S58-$K40),1,0))","v":0},{"$f":"IF(ISBLANK(E16),0,IF(OR(E40>=$S58+$J40,E40<=$S58-$K40),1,0))","v":0},{"$f":"IF(ISBLANK(G16),0,IF(OR(F40>=$S58+$J40,F40<=$S58-$K40),1,0))","v":0},{"$f":"IF(ISBLANK(I16),0,IF(OR(G40>=$S58+$J40,G40<=$S58-$K40),1,0))","v":0},{"$f":"IF(ISBLANK(K16),0,IF(OR(H40>=$S58+$J40,H40<=$S58-$K40),1,0))","v":0},{"$f":"IF(ISBLANK(M16),0,IF(OR(I40>=$S58+$J40,I40<=$S58-$K40),1,0))","v":0}]
[null,null,null,null,null,null,null,null,null,null,null,null,null,null,null,null,null,1,{"$f":"$B$17","v":" "},{"$f":"IF(ISBLANK(C17),0,IF(OR(D41>=$S59+$J41,D41<=$S59-$K41),1,0))","v":0},{"$f":"IF(ISBLANK(E17),0,IF(OR(E41>=$S59+$J41,E41<=$S59-$K41),1,0))","v":0},{"$f":"IF(ISBLANK(G17),0,IF(OR(F41>=$S59+$J41,F41<=$S59-$K41),1,0))","v":0},{"$f":"IF(ISBLANK(I17),0,IF(OR(G41>=$S59+$J41,G41<=$S59-$K41),1,0))","v":0},{"$f":"IF(ISBLANK(K17),0,IF(OR(H41>=$S59+$J41,H41<=$S59-$K41),1,0))","v":0},{"$f":"IF(ISBLANK(M17),0,IF(OR(I41>=$S59+$J41,I41<=$S59-$K41),1,0))","v":0}]
[null,null,null,null,null,null,null,null,null,null,null,null,null,null,null,null,null,0.75,{"$f":"$B$18","v":" "},{"$f":"IF(ISBLANK(C18),0,IF(OR(D42>=$S60+$J42,D42<=$S60-$K42),1,0))","v":0},{"$f":"IF(ISBLANK(E18),0,IF(OR(E42>=$S60+$J42,E42<=$S60-$K42),1,0))","v":0},{"$f":"IF(ISBLANK(G18),0,IF(OR(F42>=$S60+$J42,F42<=$S60-$K42),1,0))","v":0},{"$f":"IF(ISBLANK(I18),0,IF(OR(G42>=$S60+$J42,G42<=$S60-$K42),1,0))","v":0},{"$f":"IF(ISBLANK(K18),0,IF(OR(H42>=$S60+$J42,H42<=$S60-$K42),1,0))","v":0},{"$f":"IF(ISBLANK(M18),0,IF(OR(I42>=$S60+$J42,I42<=$S60-$K42),1,0))","v":0}]
[null,null,null,null,null,null,null,null,null,null,null,null,null,null,null,null,null,0.5,{"$f":"$B$19","v":" "},{"$f":"IF(ISBLANK(C19),0,IF(OR(D43>=$S61+$J43,D43<=$S61-$K43),1,0))","v":0},{"$f":"IF(ISBLANK(E19),0,IF(OR(E43>=$S61+$J43,E43<=$S61-$K43),1,0))","v":0},{"$f":"IF(ISBLANK(G19),0,IF(OR(F43>=$S61+$J43,F43<=$S61-$K43),1,0))","v":0},{"$f":"IF(ISBLANK(I19),0,IF(OR(G43>=$S61+$J43,G43<=$S61-$K43),1,0))","v":0},{"$f":"IF(ISBLANK(K19),0,IF(OR(H43>=$S61+$J43,H43<=$S61-$K43),1,0))","v":0},{"$f":"IF(ISBLANK(M19),0,IF(OR(I43>=$S61+$J43,I43<=$S61-$K43),1,0))","v":0}]
[null,null,null,null,null,null,null,null,null,null,null,null,null,null,null,null,null,0.375,{"$f":"$B$20","v":" "},{"$f":"IF(OR(D44>=$S62+$J44,D44<=$S62-$K44),1,0)","v":{"$error":"#N/A"}},{"$error":"#N/A"},{"$error":"#N/A"},{"$error":"#N/A"},{"$error":"#N/A"},{"$error":"#N/A"}]
[null,null,null,null,null,null,null,null,null,null,null,null,null,null,null,null,null,4,{"$f":"$B$21","v":" "},{"$error":"#N/A"},{"$error":"#N/A"},{"$error":"#N/A"},{"$error":"#N/A"},{"$error":"#N/A"},{"$error":"#N/A"}]
[null,null,null,null,null,null,null,null,null,null,null,null,null,null,null,null,null,8,{"$f":"$B$22","v":" "},{"$error":"#N/A"},{"$error":"#N/A"},{"$error":"#N/A"},{"$error":"#N/A"},{"$error":"#N/A"},{"$error":"#N/A"}]
[null,null,null,null,null,null,null,null,null,null,null,null,null,null,null,null,null,16,{"$f":"$B$23","v":" "},{"$error":"#N/A"},{"$error":"#N/A"},{"$error":"#N/A"},{"$error":"#N/A"},{"$error":"#N/A"},{"$error":"#N/A"}]
[null,null,null,null,null,null,null,null,null,null,null,null,null,null,null,null,null,30,{"$f":"$B$24","v":" "},{"$error":"#N/A"},{"$error":"#N/A"},{"$error":"#N/A"},{"$error":"#N/A"},{"$error":"#N/A"},{"$error":"#N/A"}]
[null,null,null,null,null,null,null,null,null,null,null,null,null,null,null,null,null,50,{"$f":"$B$25","v":" "},{"$error":"#N/A"},{"$error":"#N/A"},{"$error":"#N/A"},{"$error":"#N/A"},{"$error":"#N/A"},{"$error":"#N/A"}]
[null,null,null,null,null,null,null,null,null,null,null,null,null,null,null,null,null,100,{"$f":"$B$26","v":" "},{"$error":"#N/A"},{"$error":"#N/A"},{"$error":"#N/A"},{"$error":"#N/A"},{"$error":"#N/A"},{"$error":"#N/A"}]
[null,null,null,null,null,null,null,null,null,null,null,null,null,null,null,null,null,200,{"$f":"$B$27","v":" "},{"$error":"#N/A"},{"$error":"#N/A"},{"$error":"#N/A"},{"$error":"#N/A"},{"$error":"#N/A"},{"$error":"#N/A"}]
[null,null,null,null,null,null,null,null,null,null,null,null,null,null,null,null,null,"%AC",{"$f":"$B$28","v":" "},{"$error":"#N/A"},{"$error":"#N/A"},{"$error":"#N/A"},{"$error":"#N/A"},{"$error":"#N/A"},{"$error":"#N/A"}]
[null,null,{"$f":"MAX(C15:C23)","v":0},null,{"$f":"MAX(E15:E23)","v":0},null,{"$f":"MAX(G15:G23)","v":0},null,{"$f":"MAX(I15:I23)","v":0},null,{"$f":"MAX(K15:K23)","v":0},null,{"$f":"MAX(M15:M23)","v":0},null,null,null,null,null,"Max",{"$f":"MAX(T56:T70)","v":{"$error":"#N/A"}},{"$error":"#N/A"},{"$error":"#N/A"},{"$error":"#N/A"},{"$error":"#N/A"},{"$error":"#N/A"}]
[]
[null,null,null,null,null,null,null,null,null,null,null,null,null,null,null,null,null,null,"Multiple sample flag"]
[null,null,null,null,null,null,null,null,null,null,null,null,null,null,null,null,null,2,{"$f":"$B$15","v":" "},{"$f":"IF(ISBLANK(C15),0,IF(OR(D39>$S74+AP!$E$89,D39<$S74-AP!$E$93),2,0))","v":0},{"$f":"IF(ISBLANK(E15),0,IF(OR(E39>$S74+AP!$E$89,E39<$S74-AP!$E$93),2,0))","v":0},{"$f":"IF(ISBLANK(G15),0,IF(OR(F39>$S74+AP!$E$89,F39<$S74-AP!$E$93),2,0))","v":0},{"$f":"IF(ISBLANK(I15),0,IF(OR(G39>$S74+AP!$E$89,G39<$S74-AP!$E$93),2,0))","v":0},{"$f":"IF(ISBLANK(K15),0,IF(OR(H39>$S74+AP!$E$89,H39<$S74-AP!$E$93),2,0))","v":0},{"$f":"IF(ISBLANK(M15),0,IF(OR(I39>$S74+AP!$E$89,I39<$S74-AP!$E$93),2,0))","v":0}]
[null,null,null,null,null,null,null,null,null,null,null,null,null,null,null,null,null,1.5,{"$f":"$B$16","v":" "},{"$f":"IF(ISBLANK(C16),0,IF(OR(D40>$S75+AP!$E$83,D40<$S75-AP!$E$87),2,0))","v":0},{"$f":"IF(ISBLANK(E16),0,IF(OR(E40>$S75+AP!$E$89,E40<$S75-AP!$E$93),2,0))","v":0},{"$f":"IF(ISBLANK(G16),0,IF(OR(F40>$S75+AP!$E$89,F40<$S75-AP!$E$93),2,0))","v":0},{"$f":"IF(ISBLANK(I16),0,IF(OR(G40>$S75+AP!$E$89,G40<$S75-AP!$E$93),2,0))","v":0},{"$f":"IF(ISBLANK(K16),0,IF(OR(H40>$S75+AP!$E$89,H40<$S75-AP!$E$93),2,0))","v":0},{"$f":"IF(ISBLANK(M16),0,IF(OR(I40>$S75+AP!$E$89,I40<$S75-AP!$E$93),2,0))","v":0}]
[null,null,null,null,null,null,null,null,null,null,null,null,null,null,null,null,null,1,{"$f":"$B$17","v":" "},{"$f":"IF(ISBLANK(C17),0,IF(OR(D41>$S76+AP!$E$83,D41<$S76-AP!$E$87),2,0))","v":0},{"$f":"IF(ISBLANK(E17),0,IF(OR(E41>$S76+AP!$E$89,E41<$S76-AP!$E$93),2,0))","v":0},{"$f":"IF(ISBLANK(G17),0,IF(OR(F41>$S76+AP!$E$89,F41<$S76-AP!$E$93),2,0))","v":0},{"$f":"IF(ISBLANK(I17),0,IF(OR(G41>$S76+AP!$E$89,G41<$S76-AP!$E$93),2,0))","v":0},{"$f":"IF(ISBLANK(K17),0,IF(OR(H41>$S76+AP!$E$89,H41<$S76-AP!$E$93),2,0))","v":0},{"$f":"IF(ISBLANK(M17),0,IF(OR(I41>$S76+AP!$E$89,I41<$S76-AP!$E$93),2,0))","v":0}]
[null,null,null,null,null,null,null,null,null,null,null,null,null,null,null,null,null,0.75,{"$f":"$B$18","v":" "},{"$f":"IF(ISBLANK(C18),0,IF(OR(D42>$S77+AP!$E$83,D42<$S77-AP!$E$87),2,0))","v":0},{"$f":"IF(ISBLANK(E18),0,IF(OR(E42>$S77+AP!$E$89,E42<$S77-AP!$E$93),2,0))","v":0},{"$f":"IF(ISBLANK(G18),0,IF(OR(F42>$S77+AP!$E$89,F42<$S77-AP!$E$93),2,0))","v":0},{"$f":"IF(ISBLANK(I18),0,IF(OR(G42>$S77+AP!$E$89,G42<$S77-AP!$E$93),2,0))","v":0},{"$f":"IF(ISBLANK(K18),0,IF(OR(H42>$S77+AP!$E$89,H42<$S77-AP!$E$93),2,0))","v":0},{"$f":"IF(ISBLANK(M18),0,IF(OR(I42>$S77+AP!$E$89,I42<$S77-AP!$E$93),2,0))","v":0}]
[null,null,null,null,null,null,null,null,null,null,null,null,null,null,null,null,null,0.5,{"$f":"$B$19","v":" "},{"$f":"IF(ISBLANK(C19),0,IF(OR(D43>$S78+AP!$E$83,D43<$S78-AP!$E$87),2,0))","v":0},{"$f":"IF(ISBLANK(E19),0,IF(OR(E43>$S78+AP!$E$89,E43<$S78-AP!$E$93),2,0))","v":0},{"$f":"IF(ISBLANK(G19),0,IF(OR(F43>$S78+AP!$E$89,F43<$S78-AP!$E$93),2,0))","v":0},{"$f":"IF(ISBLANK(I19),0,IF(OR(G43>$S78+AP!$E$89,G43<$S78-AP!$E$93),2,0))","v":0},{"$f":"IF(ISBLANK(K19),0,IF(OR(H43>$S78+AP!$E$89,H43<$S78-AP!$E$93),2,0))","v":0},{"$f":"IF(ISBLANK(M19),0,IF(OR(I43>$S78+AP!$E$89,I43<$S78-AP!$E$93),2,0))","v":0}]
[null,null,null,null,null,null,null,null,null,null,null,null,null,null,null,null,null,0.375,{"$f":"$B$20","v":" "},{"$f":"IF(OR(D44>$S79+AP!$E$59,D44<$S79-AP!$E$63),2,0)","v":{"$error":"#N/A"}},{"$f":"IF(OR(E44>$S79+AP!$E$59,E44<$S79-AP!$E$63),2,0)","v":{"$error":"#N/A"}},{"$f":"IF(OR(F44>$S79+AP!$E$59,F44<$S79-AP!$E$63),2,0)","v":{"$error":"#N/A"}},{"$f":"IF(OR(G44>$S79+AP!$E$59,G44<$S79-AP!$E$63),2,0)","v":{"$error":"#N/A"}},{"$f":"IF(OR(H44>$S79+AP!$E$59,H44<$S79-AP!$E$63),2,0)","v":{"$error":"#N/A"}},{"$f":"IF(OR(I44>$S79+AP!$E$59,I44<$S79-AP!$E$63),2,0)","v":{"$error":"#N/A"}}]
[null,null,null,null,null,null,null,null,null,null,null,null,null,null,null,null,null,4,{"$f":"$B$21","v":" "},{"$f":"IF(OR(D45>$S80+AP!$E$53,D45<$S80-AP!$E$57),2,0)","v":{"$error":"#N/A"}},{"$f":"IF(OR(E45>$S80+AP!$E$53,E45<$S80-AP!$E$57),2,0)","v":{"$error":"#N/A"}},{"$f":"IF(OR(F45>$S80+AP!$E$53,F45<$S80-AP!$E$57),2,0)","v":{"$error":"#N/A"}},{"$f":"IF(OR(G45>$S80+AP!$E$53,G45<$S80-AP!$E$57),2,0)","v":{"$error":"#N/A"}},{"$f":"IF(OR(H45>$S80+AP!$E$53,H45<$S80-AP!$E$57),2,0)","v":{"$error":"#N/A"}},{"$f":"IF(OR(I45>$S80+AP!$E$53,I45<$S80-AP!$E$57),2,0)","v":{"$error":"#N/A"}}]
[null,null,null,null,null,null,null,null,null,null,null,null,null,null,null,null,null,8,{"$f":"$B$22","v":" "},{"$f":"IF(OR(D46>$S81+AP!$E$46,D46<$S81-AP!$E$50),2,0)","v":{"$error":"#N/A"}},{"$f":"IF(OR(E46>$S81+AP!$E$46,E46<$S81-AP!$E$50),2,0)","v":{"$error":"#N/A"}},{"$f":"IF(OR(F46>$S81+AP!$E$46,F46<$S81-AP!$E$50),2,0)","v":{"$error":"#N/A"}},{"$f":"IF(OR(G46>$S81+AP!$E$46,G46<$S81-AP!$E$50),2,0)","v":{"$error":"#N/A"}},{"$f":"IF(OR(H46>$S81+AP!$E$46,H46<$S81-AP!$E$50),2,0)","v":{"$error":"#N/A"}},{"$f":"IF(OR(I46>$S81+AP!$E$46,I46<$S81-AP!$E$50),2,0)","v":{"$error":"#N/A"}}]
[null,null,null,null,null,null,null,null,null,null,null,null,null,null,null,null,null,16,{"$f":"$B$23","v":" "},{"$f":"IF(OR(D47>$S82+AP!$E$39,D47<$S82-AP!$E$43),2,0)","v":{"$error":"#N/A"}},{"$f":"IF(OR(E47>$S82+AP!$E$39,E47<$S82-AP!$E$43),2,0)","v":{"$error":"#N/A"}},{"$f":"IF(OR(F47>$S82+AP!$E$39,F47<$S82-AP!$E$43),2,0)","v":{"$error":"#N/A"}},{"$f":"IF(OR(G47>$S82+AP!$E$39,G47<$S82-AP!$E$43),2,0)","v":{"$error":"#N/A"}},{"$f":"IF(OR(H47>$S82+AP!$E$39,H47<$S82-AP!$E$43),2,0)","v":{"$error":"#N/A"}},{"$f":"IF(OR(I47>$S82+AP!$E$39,I47<$S82-AP!$E$43),2,0)","v":{"$error":"#N/A"}}]
[null,null,null,null,null,null,null,null,null,null,null,null,null,null,null,null,null,30,{"$f":"$B$24","v":" "},{"$f":"IF(OR(D48>$S83+AP!$E$33,D48<$S83-AP!$E$37),2,0)","v":{"$error":"#N/A"}},{"$f":"IF(OR(E48>$S83+AP!$E$33,E48<$S83-AP!$E$37),2,0)","v":{"$error":"#N/A"}},{"$f":"IF(OR(F48>$S83+AP!$E$33,F48<$S83-AP!$E$37),2,0)","v":{"$error":"#N/A"}},{"$f":"IF(OR(G48>$S83+AP!$E$33,G48<$S83-AP!$E$37),2,0)","v":{"$error":"#N/A"}},{"$f":"IF(OR(H48>$S83+AP!$E$33,H48<$S83-AP!$E$37),2,0)","v":{"$error":"#N/A"}},{"$f":"IF(OR(I48>$S83+AP!$E$33,I48<$S83-AP!$E$37),2,0)","v":{"$error":"#N/A"}}]
[null,null,null,null,null,null,null,null,null,null,null,null,null,null,null,null,null,50,{"$f":"$B$25","v":" "},{"$f":"IF(OR(D49>$S84+AP!$E$27,D49<$S84-AP!$E$31),2,0)","v":{"$error":"#N/A"}},{"$f":"IF(OR(E49>$S84+AP!$E$27,E49<$S84-AP!$E$31),2,0)","v":{"$error":"#N/A"}},{"$f":"IF(OR(F49>$S84+AP!$E$27,F49<$S84-AP!$E$31),2,0)","v":{"$error":"#N/A"}},{"$f":"IF(OR(G49>$S84+AP!$E$27,G49<$S84-AP!$E$31),2,0)","v":{"$error":"#N/A"}},{"$f":"IF(OR(H49>$S84+AP!$E$27,H49<$S84-AP!$E$31),2,0)","v":{"$error":"#N/A"}},{"$f":"IF(OR(I49>$S84+AP!$E$27,I49<$S84-AP!$E$31),2,0)","v":{"$error":"#N/A"}}]
[null,null,null,null,null,null,null,null,null,null,null,null,null,null,null,null,null,100,{"$f":"$B$26","v":" "},{"$f":"IF(OR(D50>$S85+AP!$E$21,D50<$S85-AP!$E$25),2,0)","v":{"$error":"#N/A"}},{"$f":"IF(OR(E50>$S85+AP!$E$21,E50<$S85-AP!$E$25),2,0)","v":{"$error":"#N/A"}},{"$f":"IF(OR(F50>$S85+AP!$E$21,F50<$S85-AP!$E$25),2,0)","v":{"$error":"#N/A"}},{"$f":"IF(OR(G50>$S85+AP!$E$21,G50<$S85-AP!$E$25),2,0)","v":{"$error":"#N/A"}},{"$f":"IF(OR(H50>$S85+AP!$E$21,H50<$S85-AP!$E$25),2,0)","v":{"$error":"#N/A"}},{"$f":"IF(OR(I50>$S85+AP!$E$21,I50<$S85-AP!$E$25),2,0)","v":{"$error":"#N/A"}}]
[null,null,null,null,null,null,null,null,null,null,null,null,null,null,null,null,null,200,{"$f":"$B$27","v":" "},{"$f":"IF(OR(D51>$S86+AP!$E$14,D51<$S86-AP!$E$18),2,0)","v":{"$error":"#N/A"}},{"$f":"IF(OR(E51>$S86+AP!$E$14,E51<$S86-AP!$E$18),2,0)","v":{"$error":"#N/A"}},{"$f":"IF(OR(F51>$S86+AP!$E$14,F51<$S86-AP!$E$18),2,0)","v":{"$error":"#N/A"}},{"$f":"IF(OR(G51>$S86+AP!$E$14,G51<$S86-AP!$E$18),2,0)","v":{"$error":"#N/A"}},{"$f":"IF(OR(H51>$S86+AP!$E$14,H51<$S86-AP!$E$18),2,0)","v":{"$error":"#N/A"}},{"$f":"IF(OR(I51>$S86+AP!$E$14,I51<$S86-AP!$E$18),2,0)","v":{"$error":"#N/A"}}]
[null,null,null,null,null,null,null,null,null,null,null,null,null,null,null,null,null,"%AC",{"$f":"$B$28","v":" "},{"$f":"IF(OR(D52>AP!$L$6,D52<AP!$L$10),2,0)","v":{"$error":"#N/A"}},{"$f":"IF(OR(E52>AP!$L$6,E52<AP!$L$10),2,0)","v":{"$error":"#N/A"}},{"$f":"IF(OR(F52>AP!$L$6,F52<AP!$L$10),2,0)","v":{"$error":"#N/A"}},{"$f":"IF(OR(G52>AP!$L$6,G52<AP!$L$10),2,0)","v":{"$error":"#N/A"}},{"$f":"IF(OR(H52>AP!$L$6,H52<AP!$L$10),2,0)","v":{"$error":"#N/A"}},{"$f":"IF(OR(I52>AP!$L$6,I52<AP!$L$10),2,0)","v":{"$error":"#N/A"}}]
[null,null,null,null,null,null,null,null,null,null,null,null,null,null,null,null,null,null,"Max",{"$f":"MAX(T74:T87)","v":{"$error":"#N/A"}},{"$error":"#N/A"},{"$error":"#N/A"},{"$error":"#N/A"},{"$error":"#N/A"},{"$error":"#N/A"}]
[]
[null,null,null,null,null,null,null,null,null,null,null,null,null,null,null,null,null,null,"Single sample flag"]
[null,null,null,null,null,null,null,null,null,null,null,null,null,null,null,null,null,8,{"$f":"$B$22","v":" "},{"$f":"IF(OR($D$22>$S91+AP!$E$45,$D$22<$S91-AP!$E$51),3,0)","v":{"$error":"#VALUE!"}},{"$f":"IF(OR($F$22>$S91+AP!$E$45,$F$22<$S91-AP!$E$51),3,0)","v":{"$error":"#VALUE!"}},{"$f":"IF(OR($H$22>$S91+AP!$E$45,$H$22<$S91-AP!$E$51),3,0)","v":{"$error":"#VALUE!"}},{"$f":"IF(OR($J$22>$S91+AP!$E$45,$J$22<$S91-AP!$E$51),3,0)","v":{"$error":"#VALUE!"}},{"$f":"IF(OR($L$22>$S91+AP!$E$45,$L$22<$S91-AP!$E$51),3,0)","v":{"$error":"#VALUE!"}},{"$f":"IF(OR($N$22>$S91+AP!$E$45,$N$22<$S91-AP!$E$51),3,0)","v":{"$error":"#VALUE!"}}]
[null,null,null,null,null,null,null,null,null,null,null,null,null,null,null,null,null,200,{"$f":"$B$27","v":" "},{"$f":"IF(OR($D$27>$S92+AP!$E$13,$D$27<$S92-AP!$E$19),3,0)","v":{"$error":"#VALUE!"}},{"$f":"IF(OR($F$27>$S92+AP!$E$13,$F$27<$S92-AP!$E$19),3,0)","v":{"$error":"#VALUE!"}},{"$f":"IF(OR($H$27>$S92+AP!$E$13,$H$27<$S92-AP!$E$19),3,0)","v":{"$error":"#VALUE!"}},{"$f":"IF(OR($J$27>$S92+AP!$E$13,$J$27<$S92-AP!$E$19),3,0)","v":{"$error":"#VALUE!"}},{"$f":"IF(OR($L$27>$S92+AP!$E$13,$L$27<$S92-AP!$E$19),3,0)","v":{"$error":"#VALUE!"}},{"$f":"IF(OR($N$27>$S92+AP!$E$13,$N$27<$S92-AP!$E$19),3,0)","v":{"$error":"#VALUE!"}}]
[null,null,null,null,null,null,null,null,null,null,null,null,null,null,null,null,null,"%AC",{"$f":"$B$28","v":" "},{"$f":"IF(OR($C$28>AP!$L$5,$C$28<AP!$L$11),3,0)","v":0},{"$f":"IF(OR($E$28>AP!$L$5,$E$28<AP!$L$11),3,0)","v":0},{"$f":"IF(OR($G$28>AP!$L$5,$G$28<AP!$L$11),3,0)","v":0},{"$f":"IF(OR($I$28>AP!$L$5,$I$28<AP!$L$11),3,0)","v":0},{"$f":"IF(OR($K$28>AP!$L$5,$K$28<AP!$L$11),3,0)","v":0},{"$f":"IF(OR($M$28>AP!$L$5,$M$28<AP!$L$11),3,0)","v":0}]
[null,null,null,null,null,null,null,null,null,null,null,null,null,null,null,null,null,null,"Max",{"$f":"IF(ISBLANK(C27),\" \",MAX(T91:T93))","v":" "},{"$f":"IF(ISBLANK(E27),\" \",MAX(U91:U93))","v":" "},{"$f":"IF(ISBLANK(G27),\" \",MAX(V91:V93))","v":" "},{"$f":"IF(ISBLANK(I27),\" \",MAX(W91:W93))","v":" "},{"$f":"IF(ISBLANK(K27),\" \",MAX(X91:X93))","v":" "},{"$f":"IF(ISBLANK(M27),\" \",MAX(Y91:Y93))","v":" "}]

{"sheet":"S8","index":7,"n_rows":94,"n_cols":25,"rows_kept":94,"cut":false,"hidden":true,"merged":[[52,0,52,1],[52,2,52,3],[59,6,68,7],[59,4,68,5],[59,2,68,3],[55,18,55,24],[72,18,72,24],[89,18,89,24],[53,0,68,1],[53,12,58,13],[53,10,58,11],[53,8,58,9],[53,6,58,7],[53,4,58,5],[53,2,58,3],[52,12,52,13],[31,12,31,13],[52,4,52,5],[52,6,52,7],[52,8,52,9],[52,10,52,11],[30,4,30,5],[59,12,68,13],[59,10,68,11],[59,8,68,9],[30,12,30,13],[37,9,37,10],[37,3,37,8],[30,10,30,11],[10,0,10,1],[12,8,12,9],[29,0,31,0],[30,2,30,3],[30,6,30,7],[30,8,30,9],[29,6,29,7],[31,2,31,3],[31,4,31,5],[31,6,31,7],[31,8,31,9],[29,12,29,13],[27,8,27,9],[28,8,28,9],[27,12,27,13],[28,10,28,11],[11,10,11,11],[27,2,27,3],[28,2,28,3],[28,6,28,7],[27,6,27,7],[29,2,29,3],[29,8,29,9],[29,10,29,11],[29,4,29,5],[11,2,11,3],[11,4,11,5],[27,4,27,5],[28,4,28,5],[12,10,12,11],[11,12,11,13],[37,0,37,2],[28,0,28,1],[31,10,31,11],[28,12,28,13],[27,10,27,11],[10,10,10,11],[12,12,12,13],[9,0,9,1],[10,6,10,7],[10,2,10,3],[9,6,9,7],[9,4,9,5],[10,4,10,5],[9,10,9,11],[9,12,9,13],[12,0,12,1],[12,2,12,3],[12,4,12,5],[12,6,12,7],[11,0,11,1],[11,8,11,9],[11,6,11,7],[10,8,10,9],[10,12,10,13],[9,8,9,9],[0,0,3,1],[8,4,8,5],[9,2,9,3],[8,6,8,7],[8,0,8,1],[7,0,7,2],[5,0,5,1],[7,5,7,8],[5,5,5,8],[8,8,8,9],[8,2,8,3],[8,12,8,13],[8,10,8,11],[2,12,2,13],[1,10,1,11],[5,10,5,11],[6,10,6,11],[6,12,6,13],[5,12,5,13],[1,12,1,13],[2,10,2,11]]}
[]
[null,null,null,null,"COMMONWEALTH OF PENNSYLVANIA",null,null,null,null,null,"DISTRICT",null,{"$f":"IF(ISBLANK('S1'!M2),\" \",('S1'!M2))","v":" "}]
[null,null,null,null,"DEPARTMENT OF TRANSPORTATION",null,null,null,null,null,"PLANT CODE",null,{"$f":"IF(ISBLANK('S1'!M3),\" \",('S1'!M3))","v":" "}]
[null,null,null,null,"LABORATORY TEST SECTION"]
[{"$f":"'S1'!A5","v":"ESB-16"}]
["Material Class ",null,{"$f":"IF(ISBLANK('S1'!C6),\" \",('S1'!C6))","v":9.5},"mm",null,"Burnoff Results",null,null,null,null,"Design No.",null,{"$f":"IF(ISBLANK('S1'!M6),\" \",('S1'!M6))","v":" "}]
[null,null,null,null,null,null,null,null,null,null,"Gyrations @ Ndes",null,{"$f":"IF(ISBLANK('S1'!M7),\" \",'S1'!M7)","v":" "}]
["-200 Correction Factor (+ or -)",null,null,{"$f":"IF(ISBLANK('S1'!D8),\" \",('S1'!D8))","v":" "},null,"Red values indicate action area"]
["Sample No."]
["Date"]
["St. Wt. Before Wash"]
["Dry Wt. After Wash"]
["Wt. Loss",null,{"$f":"IF(ISBLANK(C11),\" \",IF(ISBLANK(C12),\" \",C11-C12))","v":" "},null,{"$f":"IF(ISBLANK(E11),\" \",IF(ISBLANK(E12),\" \",E11-E12))","v":" "},null,{"$f":"IF(ISBLANK(G11),\" \",IF(ISBLANK(G12),\" \",G11-G12))","v":" "},null,{"$f":"IF(ISBLANK(I11),\" \",IF(ISBLANK(I12),\" \",I11-I12))","v":" "},null,{"$f":"IF(ISBLANK(K11),\" \",IF(ISBLANK(K12),\" \",K11-K12))","v":" "},null,{"$f":"IF(ISBLANK(M11),\" \",IF(ISBLANK(M12),\" \",M11-M12))","v":" "}]
["Size","JMF","Weight","%Passing","Weight","%Passing","Weight","%Passing","Weight","%Pasing","Weight","%Pasing","Weight","%Pasing"]
[2,{"$f":"IF(ISBLANK('S1'!B15),\" \",'S1'!B15)","v":" "},null,{"$f":"IF(ISBLANK(C11),\" \",IF(ISBLANK(C12),\" \",IF(ISBLANK(C15),\" \",ROUND((C15+C13)/C11*100,0))))","v":" "},null,{"$f":"IF(ISBLANK(E11),\" \",IF(ISBLANK(E12),\" \",IF(ISBLANK(E15),\" \",ROUND((E15+E13)/E11*100,0))))","v":" "},null,{"$f":"IF(ISBLANK(G11),\" \",IF(ISBLANK(G12),\" \",IF(ISBLANK(G15),\" \",ROUND((G15+G13)/G11*100,0))))","v":" "},null,{"$f":"IF(ISBLANK(I11),\" \",IF(ISBLANK(I12),\" \",IF(ISBLANK(I15),\" \",ROUND((I15+I13)/I11*100,0))))","v":" "},null,{"$f":"IF(ISBLANK(K11),\" \",IF(ISBLANK(K12),\" \",IF(ISBLANK(K15),\" \",ROUND((K15+K13)/K11*100,0))))","v":" "},null,{"$f":"IF(ISBLANK(M11),\" \",IF(ISBLANK(M12),\" \",IF(ISBLANK(M15),\" \",ROUND((M15+M13)/M11*100,0))))","v":" "}]
[1.5,{"$f":"IF(ISBLANK('S1'!B16),\" \",'S1'!B16)","v":" "},null,{"$f":"IF(ISBLANK(C11),\"  \",IF(ISBLANK(C12),\" \",IF(ISBLANK(C16),\" \",ROUND((C16+C13)/C11*100,0))))","v":"  "},null,{"$f":"IF(ISBLANK(E11),\"  \",IF(ISBLANK(E12),\" \",IF(ISBLANK(E16),\" \",ROUND((E16+E13)/E11*100,0))))","v":"  "},null,{"$f":"IF(ISBLANK(G11),\"  \",IF(ISBLANK(G12),\" \",IF(ISBLANK(G16),\" \",ROUND((G16+G13)/G11*100,0))))","v":"  "},null,{"$f":"IF(ISBLANK(I11),\"  \",IF(ISBLANK(I12),\" \",IF(ISBLANK(I16),\" \",ROUND((I16+I13)/I11*100,0))))","v":"  "},null,{"$f":"IF(ISBLANK(K11),\"  \",IF(ISBLANK(K12),\" \",IF(ISBLANK(K16),\" \",ROUND((K16+K13)/K11*100,0))))","v":"  "},null,{"$f":"IF(ISBLANK(M11),\"  \",IF(ISBLANK(M12),\" \",IF(ISBLANK(M16),\" \",ROUND((M16+M13)/M11*100,0))))","v":"  "}]
[1,{"$f":"IF(ISBLANK('S1'!B17),\" \",'S1'!B17)","v":" "},null,{"$f":"IF(ISBLANK(C11),\"  \",IF(ISBLANK(C12),\" \",IF(ISBLANK(C17),\" \",ROUND((C17+C13)/C11*100,0))))","v":"  "},null,{"$f":"IF(ISBLANK(E11),\"  \",IF(ISBLANK(E12),\" \",IF(ISBLANK(E17),\" \",ROUND((E17+E13)/E11*100,0))))","v":"  "},null,{"$f":"IF(ISBLANK(G11),\"  \",IF(ISBLANK(G12),\" \",IF(ISBLANK(G17),\" \",ROUND((G17+G13)/G11*100,0))))","v":"  "},null,{"$f":"IF(ISBLANK(I11),\"  \",IF(ISBLANK(I12),\" \",IF(ISBLANK(I17),\" \",ROUND((I17+I13)/I11*100,0))))","v":"  "},null,{"$f":"IF(ISBLANK(K11),\"  \",IF(ISBLANK(K12),\" \",IF(ISBLANK(K17),\" \",ROUND((K17+K13)/K11*100,0))))","v":"  "},null,{"$f":"IF(ISBLANK(M11),\"  \",IF(ISBLANK(M12),\" \",IF(ISBLANK(M17),\" \",ROUND((M17+M13)/M11*100,0))))","v":"  "}]
[0.75,{"$f":"IF(ISBLANK('S1'!B18),\" \",'S1'!B18)","v":" "},null,{"$f":"IF(ISBLANK(C11),\"  \",IF(ISBLANK(C12),\" \",IF(ISBLANK(C18),\" \",ROUND((C18+C13)/C11*100,0))))","v":"  "},null,{"$f":"IF(ISBLANK(E11),\"  \",IF(ISBLANK(E12),\" \",IF(ISBLANK(E18),\" \",ROUND((E18+E13)/E11*100,0))))","v":"  "},null,{"$f":"IF(ISBLANK(G11),\"  \",IF(ISBLANK(G12),\" \",IF(ISBLANK(G18),\" \",ROUND((G18+G13)/G11*100,0))))","v":"  "},null,{"$f":"IF(ISBLANK(I11),\"  \",IF(ISBLANK(I12),\" \",IF(ISBLANK(I18),\" \",ROUND((I18+I13)/I11*100,0))))","v":"  "},null,{"$f":"IF(ISBLANK(K11),\"  \",IF(ISBLANK(K12),\" \",IF(ISBLANK(K18),\" \",ROUND((K18+K13)/K11*100,0))))","v":"  "},null,{"$f":"IF(ISBLANK(M11),\"  \",IF(ISBLANK(M12),\" \",IF(ISBLANK(M18),\" \",ROUND((M18+M13)/M11*100,0))))","v":"  "}]
[0.5,{"$f":"IF(ISBLANK('S1'!B19),\" \",'S1'!B19)","v":" "},null,{"$f":"IF(ISBLANK(C11),\"  \",IF(ISBLANK(C12),\" \",IF(ISBLANK(C19),\" \",ROUND((C19+C13)/C11*100,0))))","v":"  "},null,{"$f":"IF(ISBLANK(E11),\"  \",IF(ISBLANK(E12),\" \",IF(ISBLANK(E19),\" \",ROUND((E19+E13)/E11*100,0))))","v":"  "},null,{"$f":"IF(ISBLANK(G11),\"  \",IF(ISBLANK(G12),\" \",IF(ISBLANK(G19),\" \",ROUND((G19+G13)/G11*100,0))))","v":"  "},null,{"$f":"IF(ISBLANK(I11),\"  \",IF(ISBLANK(I12),\" \",IF(ISBLANK(I19),\" \",ROUND((I19+I13)/I11*100,0))))","v":"  "},null,{"$f":"IF(ISBLANK(K11),\"  \",IF(ISBLANK(K12),\" \",IF(ISBLANK(K19),\" \",ROUND((K19+K13)/K11*100,0))))","v":"  "},null,{"$f":"IF(ISBLANK(M11),\"  \",IF(ISBLANK(M12),\" \",IF(ISBLANK(M19),\" \",ROUND((M19+M13)/M11*100,0))))","v":"  "}]
[0.375,{"$f":"IF(ISBLANK('S1'!B20),\" \",'S1'!B20)","v":" "},null,{"$f":"IF(ISBLANK(C11),\"  \",IF(ISBLANK(C12),\" \",IF(ISBLANK(C20),\" \",ROUND((C20+C13)/C11*100,0))))","v":"  "},null,{"$f":"IF(ISBLANK(E11),\"  \",IF(ISBLANK(E12),\" \",IF(ISBLANK(E20),\" \",ROUND((E20+E13)/E11*100,0))))","v":"  "},null,{"$f":"IF(ISBLANK(G11),\"  \",IF(ISBLANK(G12),\" \",IF(ISBLANK(G20),\" \",ROUND((G20+G13)/G11*100,0))))","v":"  "},null,{"$f":"IF(ISBLANK(I11),\"  \",IF(ISBLANK(I12),\" \",IF(ISBLANK(I20),\" \",ROUND((I20+I13)/I11*100,0))))","v":"  "},null,{"$f":"IF(ISBLANK(K11),\"  \",IF(ISBLANK(K12),\" \",IF(ISBLANK(K20),\" \",ROUND((K20+K13)/K11*100,0))))","v":"  "},null,{"$f":"IF(ISBLANK(M11),\"  \",IF(ISBLANK(M12),\" \",IF(ISBLANK(M20),\" \",ROUND((M20+M13)/M11*100,0))))","v":"  "}]
[4,{"$f":"IF(ISBLANK('S1'!B21),\" \",'S1'!B21)","v":" "},null,{"$f":"IF(ISBLANK(C11),\"  \",IF(ISBLANK(C12),\" \",IF(ISBLANK(C21),\" \",ROUND((C21+C13)/C11*100,0))))","v":"  "},null,{"$f":"IF(ISBLANK(E11),\"  \",IF(ISBLANK(E12),\" \",IF(ISBLANK(E21),\" \",ROUND((E21+E13)/E11*100,0))))","v":"  "},null,{"$f":"IF(ISBLANK(G11),\"  \",IF(ISBLANK(G12),\" \",IF(ISBLANK(G21),\" \",ROUND((G21+G13)/G11*100,0))))","v":"  "},null,{"$f":"IF(ISBLANK(I11),\"  \",IF(ISBLANK(I12),\" \",IF(ISBLANK(I21),\" \",ROUND((I21+I13)/I11*100,0))))","v":"  "},null,{"$f":"IF(ISBLANK(K11),\"  \",IF(ISBLANK(K12),\" \",IF(ISBLANK(K21),\" \",ROUND((K21+K13)/K11*100,0))))","v":"  "},null,{"$f":"IF(ISBLANK(M11),\"  \",IF(ISBLANK(M12),\" \",IF(ISBLANK(M21),\" \",ROUND((M21+M13)/M11*100,0))))","v":"  "}]
[8,{"$f":"IF(ISBLANK('S1'!B22),\" \",'S1'!B22)","v":" "},null,{"$f":"IF(ISBLANK(C11),\"  \",IF(ISBLANK(C12),\" \",IF(ISBLANK(C22),\" \",ROUND((C22+C13)/C11*100,0))))","v":"  "},null,{"$f":"IF(ISBLANK(E11),\"  \",IF(ISBLANK(E12),\" \",IF(ISBLANK(E22),\" \",ROUND((E22+E13)/E11*100,0))))","v":"  "},null,{"$f":"IF(ISBLANK(G11),\"  \",IF(ISBLANK(G12),\" \",IF(ISBLANK(G22),\" \",ROUND((G22+G13)/G11*100,0))))","v":"  "},null,{"$f":"IF(ISBLANK(I11),\"  \",IF(ISBLANK(I12),\" \",IF(ISBLANK(I22),\" \",ROUND((I22+I13)/I11*100,0))))","v":"  "},null,{"$f":"IF(ISBLANK(K11),\"  \",IF(ISBLANK(K12),\" \",IF(ISBLANK(K22),\" \",ROUND((K22+K13)/K11*100,0))))","v":"  "},null,{"$f":"IF(ISBLANK(M11),\"  \",IF(ISBLANK(M12),\" \",IF(ISBLANK(M22),\" \",ROUND((M22+M13)/M11*100,0))))","v":"  "}]
[16,{"$f":"IF(ISBLANK('S1'!B23),\" \",'S1'!B23)","v":" "},null,{"$f":"IF(ISBLANK(C11),\"  \",IF(ISBLANK(C12),\" \",IF(ISBLANK(C23),\" \",ROUND((C23+C13)/C11*100,0))))","v":"  "},null,{"$f":"IF(ISBLANK(E11),\"  \",IF(ISBLANK(E12),\" \",IF(ISBLANK(E23),\" \",ROUND((E23+E13)/E11*100,0))))","v":"  "},null,{"$f":"IF(ISBLANK(G11),\"  \",IF(ISBLANK(G12),\" \",IF(ISBLANK(G23),\" \",ROUND((G23+G13)/G11*100,0))))","v":"  "},null,{"$f":"IF(ISBLANK(I11),\"  \",IF(ISBLANK(I12),\" \",IF(ISBLANK(I23),\" \",ROUND((I23+I13)/I11*100,0))))","v":"  "},null,{"$f":"IF(ISBLANK(K11),\"  \",IF(ISBLANK(K12),\" \",IF(ISBLANK(K23),\" \",ROUND((K23+K13)/K11*100,0))))","v":"  "},null,{"$f":"IF(ISBLANK(M11),\"  \",IF(ISBLANK(M12),\" \",IF(ISBLANK(M23),\" \",ROUND((M23+M13)/M11*100,0))))","v":"  "}]
[30,{"$f":"IF(ISBLANK('S1'!B24),\" \",'S1'!B24)","v":" "},null,{"$f":"IF(ISBLANK(C11),\"  \",IF(ISBLANK(C12),\" \",IF(ISBLANK(C24),\" \",ROUND((C24+C13)/C11*100,0))))","v":"  "},null,{"$f":"IF(ISBLANK(E11),\"  \",IF(ISBLANK(E12),\" \",IF(ISBLANK(E24),\" \",ROUND((E24+E13)/E11*100,0))))","v":"  "},null,{"$f":"IF(ISBLANK(G11),\"  \",IF(ISBLANK(G12),\" \",IF(ISBLANK(G24),\" \",ROUND((G24+G13)/G11*100,0))))","v":"  "},null,{"$f":"IF(ISBLANK(I11),\"  \",IF(ISBLANK(I12),\" \",IF(ISBLANK(I24),\" \",ROUND((I24+I13)/I11*100,0))))","v":"  "},null,{"$f":"IF(ISBLANK(K11),\"  \",IF(ISBLANK(K12),\" \",IF(ISBLANK(K24),\" \",ROUND((K24+K13)/K11*100,0))))","v":"  "},null,{"$f":"IF(ISBLANK(M11),\"  \",IF(ISBLANK(M12),\" \",IF(ISBLANK(M24),\" \",ROUND((M24+M13)/M11*100,0))))","v":"  "}]
[50,{"$f":"IF(ISBLANK('S1'!B25),\" \",'S1'!B25)","v":" "},null,{"$f":"IF(ISBLANK(C11),\"  \",IF(ISBLANK(C12),\" \",IF(ISBLANK(C25),\" \",ROUND((C25+C13)/C11*100,0))))","v":"  "},null,{"$f":"IF(ISBLANK(E11),\"  \",IF(ISBLANK(E12),\" \",IF(ISBLANK(E25),\" \",ROUND((E25+E13)/E11*100,0))))","v":"  "},null,{"$f":"IF(ISBLANK(G11),\"  \",IF(ISBLANK(G12),\" \",IF(ISBLANK(G25),\" \",ROUND((G25+G13)/G11*100,0))))","v":"  "},null,{"$f":"IF(ISBLANK(I11),\"  \",IF(ISBLANK(I12),\" \",IF(ISBLANK(I25),\" \",ROUND((I25+I13)/I11*100,0))))","v":"  "},null,{"$f":"IF(ISBLANK(K11),\"  \",IF(ISBLANK(K12),\" \",IF(ISBLANK(K25),\" \",ROUND((K25+K13)/K11*100,0))))","v":"  "},null,{"$f":"IF(ISBLANK(M11),\"  \",IF(ISBLANK(M12),\" \",IF(ISBLANK(M25),\" \",ROUND((M25+M13)/M11*100,0))))","v":"  "}]
[100,{"$f":"IF(ISBLANK('S1'!B26),\" \",'S1'!B26)","v":" "},null,{"$f":"IF(ISBLANK(C11),\"  \",IF(ISBLANK(C12),\" \",IF(ISBLANK(C26),\" \",ROUND((C26+C13)/C11*100,0))))","v":"  "},null,{"$f":"IF(ISBLANK(E11),\"  \",IF(ISBLANK(E12),\" \",IF(ISBLANK(E26),\" \",ROUND((E26+E13)/E11*100,0))))","v":"  "},null,{"$f":"IF(ISBLANK(G11),\"  \",IF(ISBLANK(G12),\" \",IF(ISBLANK(G26),\" \",ROUND((G26+G13)/G11*100,0))))","v":"  "},null,{"$f":"IF(ISBLANK(I11),\"  \",IF(ISBLANK(I12),\" \",IF(ISBLANK(I26),\" \",ROUND((I26+I13)/I11*100,0))))","v":"  "},null,{"$f":"IF(ISBLANK(K11),\"  \",IF(ISBLANK(K12),\" \",IF(ISBLANK(K26),\" \",ROUND((K26+K13)/K11*100,0))))","v":"  "},null,{"$f":"IF(ISBLANK(M11),\"  \",IF(ISBLANK(M12),\" \",IF(ISBLANK(M26),\" \",ROUND((M26+M13)/M11*100,0))))","v":"  "}]
[200,{"$f":"IF(ISBLANK('S1'!B27),\" \",'S1'!B27)","v":" "},null,{"$f":"IF(ISBLANK(C11),\"  \",IF(ISBLANK(C12),\" \",IF(ISBLANK(C27),\" \",ROUND((C27+C13)/C11*100+$D$8,1))))","v":"  "},null,{"$f":"IF(ISBLANK(E11),\"  \",IF(ISBLANK(E12),\" \",IF(ISBLANK(E27),\" \",ROUND((E27+E13)/E11*100+$D$8,1))))","v":"  "},null,{"$f":"IF(ISBLANK(G11),\"  \",IF(ISBLANK(G12),\" \",IF(ISBLANK(G27),\" \",ROUND((G27+G13)/G11*100+$D$8,1))))","v":"  "},null,{"$f":"IF(ISBLANK(I11),\"  \",IF(ISBLANK(I12),\" \",IF(ISBLANK(I27),\" \",ROUND((I27+I13)/I11*100+$D$8,1))))","v":"  "},null,{"$f":"IF(ISBLANK(K11),\"  \",IF(ISBLANK(K12),\" \",IF(ISBLANK(K27),\" \",ROUND((K27+K13)/K11*100+$D$8,1))))","v":"  "},null,{"$f":"IF(ISBLANK(M11),\"  \",IF(ISBLANK(M12),\" \",IF(ISBLANK(M27),\" \",ROUND((M27+M13)/M11*100+$D$8,1))))","v":"  "}]
["%AC",{"$f":"IF(ISBLANK('S1'!B28),\" \",'S1'!B28)","v":" "}]
["Percent Loss / Gain",null,{"$f":"IF(ISBLANK(C12),\"\",IF(ISBLANK(C20),\"\",(C12-C71)/C12*100))","v":""},null,{"$f":"IF(ISBLANK(E12),\"\",IF(ISBLANK(E20),\"\",(E12-E71)/E12*100))","v":""},null,{"$f":"IF(ISBLANK(G12),\"\",IF(ISBLANK(G20),\"\",(G12-G71)/G12*100))","v":""},null,{"$f":"IF(ISBLANK(I12),\"\",IF(ISBLANK(I20),\"\",(I12-I71)/I12*100))","v":""},null,{"$f":"IF(ISBLANK(K12),\"\",IF(ISBLANK(K20),\"\",(K12-K71)/K12*100))","v":""},null,{"$f":"IF(ISBLANK(M12),\"\",IF(ISBLANK(M20),\"\",(M12-M71)/M12*100))","v":""}]
["Apparent Moisture","Orig Wt"]
[null,"Const Wt"]
[null,"% moisture",{"$f":"IF(ISBLANK(C30),\" \",IF(ISBLANK(C31),\" \",((C30-C31)/C31)*100))","v":" "},null,{"$f":"IF(ISBLANK(E30),\" \",IF(ISBLANK(E31),\" \",((E30-E31)/E31)*100))","v":" "},null,{"$f":"IF(ISBLANK(G30),\" \",IF(ISBLANK(G31),\" \",((G30-G31)/G31)*100))","v":" "},null,{"$f":"IF(ISBLANK(I30),\" \",IF(ISBLANK(I31),\" \",((I30-I31)/I31)*100))","v":" "},null,{"$f":"IF(ISBLANK(K30),\" \",IF(ISBLANK(K31),\" \",((K30-K31)/K31)*100))","v":" "},null,{"$f":"IF(ISBLANK(M30),\" \",IF(ISBLANK(M31),\" \",((M30-M31)/M31)*100))","v":" "}]
[]
[]
[]
[]
[]
["Sets up Min and Max for charts",null,null,"Running Avg for Conditional Format",null,null,null,null,null,"AP upper & lower Tolerances"]
["#4",{"$f":"B21-8","v":{"$error":"#VALUE!"}},{"$f":"B21+8","v":{"$error":"#VALUE!"}},{"$f":"'S17'!$AC45","v":{"$error":"#N/A"}},{"$f":"'S17'!$AC46","v":{"$error":"#N/A"}},{"$f":"'S17'!$AC47","v":{"$error":"#N/A"}},{"$f":"'S17'!$AC48","v":{"$error":"#N/A"}},{"$f":"'S17'!$AC49","v":{"$error":"#N/A"}},{"$f":"'S17'!$AC50","v":{"$error":"#N/A"}},{"$f":"AP!E90","v":5},{"$f":"AP!E92","v":5}]
["#8",{"$f":"B22-6","v":{"$error":"#VALUE!"}},{"$f":"B22+6","v":{"$error":"#VALUE!"}},{"$f":"'S17'!$AA45","v":{"$error":"#N/A"}},{"$f":"'S17'!$AA46","v":{"$error":"#N/A"}},{"$f":"'S17'!$AA47","v":{"$error":"#N/A"}},{"$f":"'S17'!$AA48","v":{"$error":"#N/A"}},{"$f":"'S17'!$AA49","v":{"$error":"#N/A"}},{"$f":"'S17'!$AA50","v":{"$error":"#N/A"}},{"$f":"AP!E84","v":5},{"$f":"AP!E86","v":5}]
["#200",{"$f":"B27-2","v":{"$error":"#VALUE!"}},{"$f":"B27+2","v":{"$error":"#VALUE!"}},{"$f":"'S17'!$Y45","v":{"$error":"#N/A"}},{"$f":"'S17'!$Y46","v":{"$error":"#N/A"}},{"$f":"'S17'!$Y47","v":{"$error":"#N/A"}},{"$f":"'S17'!$Y48","v":{"$error":"#N/A"}},{"$f":"'S17'!$Y49","v":{"$error":"#N/A"}},{"$f":"'S17'!$Y50","v":{"$error":"#N/A"}},{"$f":"AP!E78","v":5},{"$f":"AP!E80","v":5}]
["AC",{"$f":"B28-0.4","v":{"$error":"#VALUE!"}},{"$f":"B28+0.4","v":{"$error":"#VALUE!"}},{"$f":"'S17'!$W45","v":{"$error":"#N/A"}},{"$f":"'S17'!$W46","v":{"$error":"#N/A"}},{"$f":"'S17'!$W47","v":{"$error":"#N/A"}},{"$f":"'S17'!$W48","v":{"$error":"#N/A"}},{"$f":"'S17'!$W49","v":{"$error":"#N/A"}},{"$f":"'S17'!$W50","v":{"$error":"#N/A"}},{"$f":"AP!E72","v":5},{"$f":"AP!E74","v":5}]
[null,null,null,{"$f":"'S17'!$U45","v":{"$error":"#N/A"}},{"$f":"'S17'!U46","v":{"$error":"#N/A"}},{"$f":"'S17'!U47","v":{"$error":"#N/A"}},{"$f":"'S17'!U48","v":{"$error":"#N/A"}},{"$f":"'S17'!U49","v":{"$error":"#N/A"}},{"$f":"'S17'!U50","v":{"$error":"#N/A"}},{"$f":"AP!E66","v":5},{"$f":"AP!E68","v":5}]
[null,null,null,{"$f":"'S17'!$S45","v":{"$error":"#N/A"}},{"$f":"'S17'!$S46","v":{"$error":"#N/A"}},{"$f":"'S17'!$S47","v":{"$error":"#N/A"}},{"$f":"'S17'!$S48","v":{"$error":"#N/A"}},{"$f":"'S17'!$S49","v":{"$error":"#N/A"}},{"$f":"'S17'!$S50","v":{"$error":"#N/A"}},{"$f":"AP!E60","v":3},{"$f":"AP!E62","v":3}]
[null,null,null,{"$f":"'S17'!$Q45","v":{"$error":"#N/A"}},{"$f":"'S17'!Q46","v":{"$error":"#N/A"}},{"$f":"'S17'!Q47","v":{"$error":"#N/A"}},{"$f":"'S17'!Q48","v":{"$error":"#N/A"}},{"$f":"'S17'!Q49","v":{"$error":"#N/A"}},{"$f":"'S17'!Q50","v":{"$error":"#N/A"}},{"$f":"AP!E54","v":3},{"$f":"AP!E56","v":3}]
[null,null,null,{"$f":"'S17'!$O45","v":{"$error":"#N/A"}},{"$f":"'S17'!O46","v":{"$error":"#N/A"}},{"$f":"'S17'!O47","v":{"$error":"#N/A"}},{"$f":"'S17'!O48","v":{"$error":"#N/A"}},{"$f":"'S17'!O49","v":{"$error":"#N/A"}},{"$f":"'S17'!O50","v":{"$error":"#N/A"}},{"$f":"AP!E47","v":3},{"$f":"AP!E49","v":3}]
[null,null,null,{"$f":"'S17'!$M45","v":{"$error":"#N/A"}},{"$f":"'S17'!$M46","v":{"$error":"#N/A"}},{"$f":"'S17'!$M47","v":{"$error":"#N/A"}},{"$f":"'S17'!$M48","v":{"$error":"#N/A"}},{"$f":"'S17'!$M49","v":{"$error":"#N/A"}},{"$f":"'S17'!$M50","v":{"$error":"#N/A"}},{"$f":"AP!E40","v":3},{"$f":"AP!E42","v":3}]
[null,null,null,{"$f":"'S17'!$K45","v":{"$error":"#N/A"}},{"$f":"'S17'!$K46","v":{"$error":"#N/A"}},{"$f":"'S17'!$K47","v":{"$error":"#N/A"}},{"$f":"'S17'!$K48","v":{"$error":"#N/A"}},{"$f":"'S17'!$K49","v":{"$error":"#N/A"}},{"$f":"'S17'!$K50","v":{"$error":"#N/A"}},{"$f":"AP!E34","v":3},{"$f":"AP!E36","v":3}]
[null,null,null,{"$f":"'S17'!$I45","v":{"$error":"#N/A"}},{"$f":"'S17'!$I46","v":{"$error":"#N/A"}},{"$f":"'S17'!$I47","v":{"$error":"#N/A"}},{"$f":"'S17'!$I48","v":{"$error":"#N/A"}},{"$f":"'S17'!$I49","v":{"$error":"#N/A"}},{"$f":"'S17'!$I50","v":{"$error":"#N/A"}},{"$f":"AP!E28","v":3},{"$f":"AP!E30","v":3}]
[null,null,null,{"$f":"'S17'!$G45","v":{"$error":"#N/A"}},{"$f":"'S17'!$G46","v":{"$error":"#N/A"}},{"$f":"'S17'!$G47","v":{"$error":"#N/A"}},{"$f":"'S17'!$G48","v":{"$error":"#N/A"}},{"$f":"'S17'!$G49","v":{"$error":"#N/A"}},{"$f":"'S17'!$G50","v":{"$error":"#N/A"}},{"$f":"AP!E22","v":3},{"$f":"AP!E24","v":3}]
[null,null,null,{"$f":"'S17'!E45","v":{"$error":"#N/A"}},{"$f":"'S17'!E46","v":{"$error":"#N/A"}},{"$f":"'S17'!E47","v":{"$error":"#N/A"}},{"$f":"'S17'!E48","v":{"$error":"#N/A"}},{"$f":"'S17'!E49","v":{"$error":"#N/A"}},{"$f":"'S17'!E50","v":{"$error":"#N/A"}},{"$f":"AP!E15","v":1},{"$f":"AP!E17","v":1}]
[null,null,null,{"$f":"ROUND('S17'!C45,1)","v":{"$error":"#N/A"}},{"$f":"ROUND('S17'!C46,1)","v":{"$error":"#N/A"}},{"$f":"ROUND('S17'!C47,1)","v":{"$error":"#N/A"}},{"$f":"ROUND('S17'!C48,1)","v":{"$error":"#N/A"}},{"$f":"ROUND('S17'!C49,1)","v":{"$error":"#N/A"}},{"$f":"ROUND('S17'!C50,1)","v":{"$error":"#N/A"}},{"$f":"AP!E7","v":0.2},{"$f":"AP!E9","v":0.2}]
["Tested By"]
["Remarks",null,{"$f":"IF(AND(T94=3,'S7'!M54=\"Single sample deviation, resample within 150 tons. Document corrective action\"),\"Deviation on 150 ton sample, suspend production of JMF\",IF(AND(T88=2,'S7'!M54=\"Multiple sample deviation, resample within 150 tons. Document corrective action\"),\"Deviation on 150 ton sample, suspend production of JMF\",IF(AND(T88=2,'S7'!M54=\"Single sample deviation, resample within 150 tons. Document corrective action\"),\"Deviation on 150 ton sample, suspend production of JMF\",IF(T94=3,\"Single sample deviation, resample within 150 tons. Document corrective action\",IF(T88=2,\"Multiple sample deviation, resample within 150 tons. Document corrective action\",IF(T71=1,\"Action area, document corrective action\",\" \"))))))","v":{"$error":"#N/A"}},null,{"$f":"IF(AND(U94=3,C54=\"Single sample deviation, resample within 150 tons. Document corrective action\"),\"Deviation on 150 ton sample, suspend production of JMF\",IF(AND(U88=2,C54=\"Multiple sample deviation, resample within 150 tons. Document corrective action\"),\"Deviation on 150 ton sample, suspend production of JMF\",IF(AND(U88=2,C54=\"Single sample deviation, resample within 150 tons. Document corrective action\"),\"Deviation on 150 ton sample, suspend production of JMF\",IF(U94=3,\"Single sample deviation, resample within 150 tons. Document corrective action\",IF(U88=2,\"Multiple sample deviation, resample within 150 tons. Document corrective action\",IF(U71=1,\"Action area, document corrective action\",\" \"))))))","v":{"$error":"#N/A"}},null,{"$f":"IF(AND(V94=3,E54=\"Single sample deviation, resample within 150 tons. Document corrective action\"),\"Deviation on 150 ton sample, suspend production of JMF\",IF(AND(V88=2,E54=\"Multiple sample deviation, resample within 150 tons. Document corrective action\"),\"Deviation on 150 ton sample, suspend production of JMF\",IF(AND(V88=2,E54=\"Single sample deviation, resample within 150 tons. Document corrective action\"),\"Deviation on 150 ton sample, suspend production of JMF\",IF(V94=3,\"Single sample deviation, resample within 150 tons. Document corrective action\",IF(V88=2,\"Multiple sample deviation, resample within 150 tons. Document corrective action\",IF(V71=1,\"Action area, document corrective action\",\" \"))))))","v":{"$error":"#N/A"}},null,{"$f":"IF(AND(W94=3,G54=\"Single sample deviation, resample within 150 tons. Document corrective action\"),\"Deviation on 150 ton sample, suspend production of JMF\",IF(AND(W88=2,G54=\"Multiple sample deviation, resample within 150 tons. Document corrective action\"),\"Deviation on 150 ton sample, suspend production of JMF\",IF(AND(W88=2,G54=\"Single sample deviation, resample within 150 tons. Document corrective action\"),\"Deviation on 150 ton sample, suspend production of JMF\",IF(W94=3,\"Single sample deviation, resample within 150 tons. Document corrective action\",IF(W88=2,\"Multiple sample deviation, resample within 150 tons. Document corrective action\",IF(W71=1,\"Action area, document corrective action\",\" \"))))))","v":{"$error":"#N/A"}},null,{"$f":"IF(AND(X94=3,I54=\"Single sample deviation, resample within 150 tons. Document corrective action\"),\"Deviation on 150 ton sample, suspend production of JMF\",IF(AND(X88=2,I54=\"Multiple sample deviation, resample within 150 tons. Document corrective action\"),\"Deviation on 150 ton sample, suspend production of JMF\",IF(AND(X88=2,I54=\"Single sample deviation, resample within 150 tons. Document corrective action\"),\"Deviation on 150 ton sample, suspend production of JMF\",IF(X94=3,\"Single sample deviation, resample within 150 tons. Document corrective action\",IF(X88=2,\"Multiple sample deviation, resample within 150 tons. Document corrective action\",IF(X71=1,\"Action area, document corrective action\",\" \"))))))","v":{"$error":"#N/A"}},null,{"$f":"IF(AND(Y94=3,K54=\"Single sample deviation, resample within 150 tons. Document corrective action\"),\"Deviation on 150 ton sample, suspend production of JMF\",IF(AND(Y88=2,K54=\"Multiple sample deviation, resample within 150 tons. Document corrective action\"),\"Deviation on 150 ton sample, suspend production of JMF\",IF(AND(Y88=2,K54=\"Single sample deviation, resample within 150 tons. Document corrective action\"),\"Deviation on 150 ton sample, suspend production of JMF\",IF(Y94=3,\"Single sample deviation, resample within 150 tons. Document corrective action\",IF(Y88=2,\"Multiple sample deviation, resample within 150 tons. Document corrective action\",IF(Y71=1,\"Action area, document corrective action\",\" \"))))))","v":{"$error":"#N/A"}}]
[]
[null,null,null,null,null,null,null,null,null,null,null,null,null,null,null,null,null,null,"Action points flags"]
[null,null,null,null,null,null,null,null,null,null,null,null,null,null,null,null,null,2,{"$f":"$B$15","v":" "},{"$f":"IF(ISBLANK(C15),0,IF(OR(D39>=$S57+$J39,D39<=$S57-$K39),1,0))","v":0},{"$f":"IF(ISBLANK(E15),0,IF(OR(E39>=$S57+$J39,E39<=$S57-$K39),1,0))","v":0},{"$f":"IF(ISBLANK(G15),0,IF(OR(F39>=$S57+$J39,F39<=$S57-$K39),1,0))","v":0},{"$f":"IF(ISBLANK(I15),0,IF(OR(G39>=$S57+$J39,G39<=$S57-$K39),1,0))","v":0},{"$f":"IF(ISBLANK(K15),0,IF(OR(H39>=$S57+$J39,H39<=$S57-$K39),1,0))","v":0},{"$f":"IF(ISBLANK(M15),0,IF(OR(I39>=$S57+$J39,I39<=$S57-$K39),1,0))","v":0}]
[null,null,null,null,null,null,null,null,null,null,null,null,null,null,null,null,null,1.5,{"$f":"$B$16","v":" "},{"$f":"IF(ISBLANK(C16),0,IF(OR(D40>=$S58+$J40,D40<=$S58-$K40),1,0))","v":0},{"$f":"IF(ISBLANK(E16),0,IF(OR(E40>=$S58+$J40,E40<=$S58-$K40),1,0))","v":0},{"$f":"IF(ISBLANK(G16),0,IF(OR(F40>=$S58+$J40,F40<=$S58-$K40),1,0))","v":0},{"$f":"IF(ISBLANK(I16),0,IF(OR(G40>=$S58+$J40,G40<=$S58-$K40),1,0))","v":0},{"$f":"IF(ISBLANK(K16),0,IF(OR(H40>=$S58+$J40,H40<=$S58-$K40),1,0))","v":0},{"$f":"IF(ISBLANK(M16),0,IF(OR(I40>=$S58+$J40,I40<=$S58-$K40),1,0))","v":0}]
[null,null,null,null,null,null,null,null,null,null,null,null,null,null,null,null,null,1,{"$f":"$B$17","v":" "},{"$f":"IF(ISBLANK(C17),0,IF(OR(D41>=$S59+$J41,D41<=$S59-$K41),1,0))","v":0},{"$f":"IF(ISBLANK(E17),0,IF(OR(E41>=$S59+$J41,E41<=$S59-$K41),1,0))","v":0},{"$f":"IF(ISBLANK(G17),0,IF(OR(F41>=$S59+$J41,F41<=$S59-$K41),1,0))","v":0},{"$f":"IF(ISBLANK(I17),0,IF(OR(G41>=$S59+$J41,G41<=$S59-$K41),1,0))","v":0},{"$f":"IF(ISBLANK(K17),0,IF(OR(H41>=$S59+$J41,H41<=$S59-$K41),1,0))","v":0},{"$f":"IF(ISBLANK(M17),0,IF(OR(I41>=$S59+$J41,I41<=$S59-$K41),1,0))","v":0}]
[null,null,null,null,null,null,null,null,null,null,null,null,null,null,null,null,null,0.75,{"$f":"$B$18","v":" "},{"$f":"IF(ISBLANK(C18),0,IF(OR(D42>=$S60+$J42,D42<=$S60-$K42),1,0))","v":0},{"$f":"IF(ISBLANK(E18),0,IF(OR(E42>=$S60+$J42,E42<=$S60-$K42),1,0))","v":0},{"$f":"IF(ISBLANK(G18),0,IF(OR(F42>=$S60+$J42,F42<=$S60-$K42),1,0))","v":0},{"$f":"IF(ISBLANK(I18),0,IF(OR(G42>=$S60+$J42,G42<=$S60-$K42),1,0))","v":0},{"$f":"IF(ISBLANK(K18),0,IF(OR(H42>=$S60+$J42,H42<=$S60-$K42),1,0))","v":0},{"$f":"IF(ISBLANK(M18),0,IF(OR(I42>=$S60+$J42,I42<=$S60-$K42),1,0))","v":0}]
[null,null,null,null,null,null,null,null,null,null,null,null,null,null,null,null,null,0.5,{"$f":"$B$19","v":" "},{"$f":"IF(ISBLANK(C19),0,IF(OR(D43>=$S61+$J43,D43<=$S61-$K43),1,0))","v":0},{"$f":"IF(ISBLANK(E19),0,IF(OR(E43>=$S61+$J43,E43<=$S61-$K43),1,0))","v":0},{"$f":"IF(ISBLANK(G19),0,IF(OR(F43>=$S61+$J43,F43<=$S61-$K43),1,0))","v":0},{"$f":"IF(ISBLANK(I19),0,IF(OR(G43>=$S61+$J43,G43<=$S61-$K43),1,0))","v":0},{"$f":"IF(ISBLANK(K19),0,IF(OR(H43>=$S61+$J43,H43<=$S61-$K43),1,0))","v":0},{"$f":"IF(ISBLANK(M19),0,IF(OR(I43>=$S61+$J43,I43<=$S61-$K43),1,0))","v":0}]
[null,null,null,null,null,null,null,null,null,null,null,null,null,null,null,null,null,0.375,{"$f":"$B$20","v":" "},{"$f":"IF(OR(D44>=$S62+$J44,D44<=$S62-$K44),1,0)","v":{"$error":"#N/A"}},{"$error":"#N/A"},{"$error":"#N/A"},{"$error":"#N/A"},{"$error":"#N/A"},{"$error":"#N/A"}]
[null,null,null,null,null,null,null,null,null,null,null,null,null,null,null,null,null,4,{"$f":"$B$21","v":" "},{"$error":"#N/A"},{"$error":"#N/A"},{"$error":"#N/A"},{"$error":"#N/A"},{"$error":"#N/A"},{"$error":"#N/A"}]
[null,null,null,null,null,null,null,null,null,null,null,null,null,null,null,null,null,8,{"$f":"$B$22","v":" "},{"$error":"#N/A"},{"$error":"#N/A"},{"$error":"#N/A"},{"$error":"#N/A"},{"$error":"#N/A"},{"$error":"#N/A"}]
[null,null,null,null,null,null,null,null,null,null,null,null,null,null,null,null,null,16,{"$f":"$B$23","v":" "},{"$error":"#N/A"},{"$error":"#N/A"},{"$error":"#N/A"},{"$error":"#N/A"},{"$error":"#N/A"},{"$error":"#N/A"}]
[null,null,null,null,null,null,null,null,null,null,null,null,null,null,null,null,null,30,{"$f":"$B$24","v":" "},{"$error":"#N/A"},{"$error":"#N/A"},{"$error":"#N/A"},{"$error":"#N/A"},{"$error":"#N/A"},{"$error":"#N/A"}]
[null,null,null,null,null,null,null,null,null,null,null,null,null,null,null,null,null,50,{"$f":"$B$25","v":" "},{"$error":"#N/A"},{"$error":"#N/A"},{"$error":"#N/A"},{"$error":"#N/A"},{"$error":"#N/A"},{"$error":"#N/A"}]
[null,null,null,null,null,null,null,null,null,null,null,null,null,null,null,null,null,100,{"$f":"$B$26","v":" "},{"$error":"#N/A"},{"$error":"#N/A"},{"$error":"#N/A"},{"$error":"#N/A"},{"$error":"#N/A"},{"$error":"#N/A"}]
[null,null,null,null,null,null,null,null,null,null,null,null,null,null,null,null,null,200,{"$f":"$B$27","v":" "},{"$error":"#N/A"},{"$error":"#N/A"},{"$error":"#N/A"},{"$error":"#N/A"},{"$error":"#N/A"},{"$error":"#N/A"}]
[null,null,null,null,null,null,null,null,null,null,null,null,null,null,null,null,null,"%AC",{"$f":"$B$28","v":" "},{"$error":"#N/A"},{"$error":"#N/A"},{"$error":"#N/A"},{"$error":"#N/A"},{"$error":"#N/A"},{"$error":"#N/A"}]
[null,null,{"$f":"MAX(C15:C23)","v":0},null,{"$f":"MAX(E15:E23)","v":0},null,{"$f":"MAX(G15:G23)","v":0},null,{"$f":"MAX(I15:I23)","v":0},null,{"$f":"MAX(K15:K23)","v":0},null,{"$f":"MAX(M15:M23)","v":0},null,null,null,null,null,"Max",{"$f":"MAX(T56:T70)","v":{"$error":"#N/A"}},{"$error":"#N/A"},{"$error":"#N/A"},{"$error":"#N/A"},{"$error":"#N/A"},{"$error":"#N/A"}]
[]
[null,null,null,null,null,null,null,null,null,null,null,null,null,null,null,null,null,null,"Multiple sample flag"]
[null,null,null,null,null,null,null,null,null,null,null,null,null,null,null,null,null,2,{"$f":"$B$15","v":" "},{"$f":"IF(ISBLANK(C15),0,IF(OR(D39>$S74+AP!$E$89,D39<$S74-AP!$E$93),2,0))","v":0},{"$f":"IF(ISBLANK(E15),0,IF(OR(E39>$S74+AP!$E$89,E39<$S74-AP!$E$93),2,0))","v":0},{"$f":"IF(ISBLANK(G15),0,IF(OR(F39>$S74+AP!$E$89,F39<$S74-AP!$E$93),2,0))","v":0},{"$f":"IF(ISBLANK(I15),0,IF(OR(G39>$S74+AP!$E$89,G39<$S74-AP!$E$93),2,0))","v":0},{"$f":"IF(ISBLANK(K15),0,IF(OR(H39>$S74+AP!$E$89,H39<$S74-AP!$E$93),2,0))","v":0},{"$f":"IF(ISBLANK(M15),0,IF(OR(I39>$S74+AP!$E$89,I39<$S74-AP!$E$93),2,0))","v":0}]
[null,null,null,null,null,null,null,null,null,null,null,null,null,null,null,null,null,1.5,{"$f":"$B$16","v":" "},{"$f":"IF(ISBLANK(C16),0,IF(OR(D40>$S75+AP!$E$83,D40<$S75-AP!$E$87),2,0))","v":0},{"$f":"IF(ISBLANK(E16),0,IF(OR(E40>$S75+AP!$E$89,E40<$S75-AP!$E$93),2,0))","v":0},{"$f":"IF(ISBLANK(G16),0,IF(OR(F40>$S75+AP!$E$89,F40<$S75-AP!$E$93),2,0))","v":0},{"$f":"IF(ISBLANK(I16),0,IF(OR(G40>$S75+AP!$E$89,G40<$S75-AP!$E$93),2,0))","v":0},{"$f":"IF(ISBLANK(K16),0,IF(OR(H40>$S75+AP!$E$89,H40<$S75-AP!$E$93),2,0))","v":0},{"$f":"IF(ISBLANK(M16),0,IF(OR(I40>$S75+AP!$E$89,I40<$S75-AP!$E$93),2,0))","v":0}]
[null,null,null,null,null,null,null,null,null,null,null,null,null,null,null,null,null,1,{"$f":"$B$17","v":" "},{"$f":"IF(ISBLANK(C17),0,IF(OR(D41>$S76+AP!$E$83,D41<$S76-AP!$E$87),2,0))","v":0},{"$f":"IF(ISBLANK(E17),0,IF(OR(E41>$S76+AP!$E$89,E41<$S76-AP!$E$93),2,0))","v":0},{"$f":"IF(ISBLANK(G17),0,IF(OR(F41>$S76+AP!$E$89,F41<$S76-AP!$E$93),2,0))","v":0},{"$f":"IF(ISBLANK(I17),0,IF(OR(G41>$S76+AP!$E$89,G41<$S76-AP!$E$93),2,0))","v":0},{"$f":"IF(ISBLANK(K17),0,IF(OR(H41>$S76+AP!$E$89,H41<$S76-AP!$E$93),2,0))","v":0},{"$f":"IF(ISBLANK(M17),0,IF(OR(I41>$S76+AP!$E$89,I41<$S76-AP!$E$93),2,0))","v":0}]
[null,null,null,null,null,null,null,null,null,null,null,null,null,null,null,null,null,0.75,{"$f":"$B$18","v":" "},{"$f":"IF(ISBLANK(C18),0,IF(OR(D42>$S77+AP!$E$83,D42<$S77-AP!$E$87),2,0))","v":0},{"$f":"IF(ISBLANK(E18),0,IF(OR(E42>$S77+AP!$E$89,E42<$S77-AP!$E$93),2,0))","v":0},{"$f":"IF(ISBLANK(G18),0,IF(OR(F42>$S77+AP!$E$89,F42<$S77-AP!$E$93),2,0))","v":0},{"$f":"IF(ISBLANK(I18),0,IF(OR(G42>$S77+AP!$E$89,G42<$S77-AP!$E$93),2,0))","v":0},{"$f":"IF(ISBLANK(K18),0,IF(OR(H42>$S77+AP!$E$89,H42<$S77-AP!$E$93),2,0))","v":0},{"$f":"IF(ISBLANK(M18),0,IF(OR(I42>$S77+AP!$E$89,I42<$S77-AP!$E$93),2,0))","v":0}]
[null,null,null,null,null,null,null,null,null,null,null,null,null,null,null,null,null,0.5,{"$f":"$B$19","v":" "},{"$f":"IF(ISBLANK(C19),0,IF(OR(D43>$S78+AP!$E$83,D43<$S78-AP!$E$87),2,0))","v":0},{"$f":"IF(ISBLANK(E19),0,IF(OR(E43>$S78+AP!$E$89,E43<$S78-AP!$E$93),2,0))","v":0},{"$f":"IF(ISBLANK(G19),0,IF(OR(F43>$S78+AP!$E$89,F43<$S78-AP!$E$93),2,0))","v":0},{"$f":"IF(ISBLANK(I19),0,IF(OR(G43>$S78+AP!$E$89,G43<$S78-AP!$E$93),2,0))","v":0},{"$f":"IF(ISBLANK(K19),0,IF(OR(H43>$S78+AP!$E$89,H43<$S78-AP!$E$93),2,0))","v":0},{"$f":"IF(ISBLANK(M19),0,IF(OR(I43>$S78+AP!$E$89,I43<$S78-AP!$E$93),2,0))","v":0}]
[null,null,null,null,null,null,null,null,null,null,null,null,null,null,null,null,null,0.375,{"$f":"$B$20","v":" "},{"$f":"IF(OR(D44>$S79+AP!$E$59,D44<$S79-AP!$E$63),2,0)","v":{"$error":"#N/A"}},{"$f":"IF(OR(E44>$S79+AP!$E$59,E44<$S79-AP!$E$63),2,0)","v":{"$error":"#N/A"}},{"$f":"IF(OR(F44>$S79+AP!$E$59,F44<$S79-AP!$E$63),2,0)","v":{"$error":"#N/A"}},{"$f":"IF(OR(G44>$S79+AP!$E$59,G44<$S79-AP!$E$63),2,0)","v":{"$error":"#N/A"}},{"$f":"IF(OR(H44>$S79+AP!$E$59,H44<$S79-AP!$E$63),2,0)","v":{"$error":"#N/A"}},{"$f":"IF(OR(I44>$S79+AP!$E$59,I44<$S79-AP!$E$63),2,0)","v":{"$error":"#N/A"}}]
[null,null,null,null,null,null,null,null,null,null,null,null,null,null,null,null,null,4,{"$f":"$B$21","v":" "},{"$f":"IF(OR(D45>$S80+AP!$E$53,D45<$S80-AP!$E$57),2,0)","v":{"$error":"#N/A"}},{"$f":"IF(OR(E45>$S80+AP!$E$53,E45<$S80-AP!$E$57),2,0)","v":{"$error":"#N/A"}},{"$f":"IF(OR(F45>$S80+AP!$E$53,F45<$S80-AP!$E$57),2,0)","v":{"$error":"#N/A"}},{"$f":"IF(OR(G45>$S80+AP!$E$53,G45<$S80-AP!$E$57),2,0)","v":{"$error":"#N/A"}},{"$f":"IF(OR(H45>$S80+AP!$E$53,H45<$S80-AP!$E$57),2,0)","v":{"$error":"#N/A"}},{"$f":"IF(OR(I45>$S80+AP!$E$53,I45<$S80-AP!$E$57),2,0)","v":{"$error":"#N/A"}}]
[null,null,null,null,null,null,null,null,null,null,null,null,null,null,null,null,null,8,{"$f":"$B$22","v":" "},{"$f":"IF(OR(D46>$S81+AP!$E$46,D46<$S81-AP!$E$50),2,0)","v":{"$error":"#N/A"}},{"$f":"IF(OR(E46>$S81+AP!$E$46,E46<$S81-AP!$E$50),2,0)","v":{"$error":"#N/A"}},{"$f":"IF(OR(F46>$S81+AP!$E$46,F46<$S81-AP!$E$50),2,0)","v":{"$error":"#N/A"}},{"$f":"IF(OR(G46>$S81+AP!$E$46,G46<$S81-AP!$E$50),2,0)","v":{"$error":"#N/A"}},{"$f":"IF(OR(H46>$S81+AP!$E$46,H46<$S81-AP!$E$50),2,0)","v":{"$error":"#N/A"}},{"$f":"IF(OR(I46>$S81+AP!$E$46,I46<$S81-AP!$E$50),2,0)","v":{"$error":"#N/A"}}]
[null,null,null,null,null,null,null,null,null,null,null,null,null,null,null,null,null,16,{"$f":"$B$23","v":" "},{"$f":"IF(OR(D47>$S82+AP!$E$39,D47<$S82-AP!$E$43),2,0)","v":{"$error":"#N/A"}},{"$f":"IF(OR(E47>$S82+AP!$E$39,E47<$S82-AP!$E$43),2,0)","v":{"$error":"#N/A"}},{"$f":"IF(OR(F47>$S82+AP!$E$39,F47<$S82-AP!$E$43),2,0)","v":{"$error":"#N/A"}},{"$f":"IF(OR(G47>$S82+AP!$E$39,G47<$S82-AP!$E$43),2,0)","v":{"$error":"#N/A"}},{"$f":"IF(OR(H47>$S82+AP!$E$39,H47<$S82-AP!$E$43),2,0)","v":{"$error":"#N/A"}},{"$f":"IF(OR(I47>$S82+AP!$E$39,I47<$S82-AP!$E$43),2,0)","v":{"$error":"#N/A"}}]
[null,null,null,null,null,null,null,null,null,null,null,null,null,null,null,null,null,30,{"$f":"$B$24","v":" "},{"$f":"IF(OR(D48>$S83+AP!$E$33,D48<$S83-AP!$E$37),2,0)","v":{"$error":"#N/A"}},{"$f":"IF(OR(E48>$S83+AP!$E$33,E48<$S83-AP!$E$37),2,0)","v":{"$error":"#N/A"}},{"$f":"IF(OR(F48>$S83+AP!$E$33,F48<$S83-AP!$E$37),2,0)","v":{"$error":"#N/A"}},{"$f":"IF(OR(G48>$S83+AP!$E$33,G48<$S83-AP!$E$37),2,0)","v":{"$error":"#N/A"}},{"$f":"IF(OR(H48>$S83+AP!$E$33,H48<$S83-AP!$E$37),2,0)","v":{"$error":"#N/A"}},{"$f":"IF(OR(I48>$S83+AP!$E$33,I48<$S83-AP!$E$37),2,0)","v":{"$error":"#N/A"}}]
[null,null,null,null,null,null,null,null,null,null,null,null,null,null,null,null,null,50,{"$f":"$B$25","v":" "},{"$f":"IF(OR(D49>$S84+AP!$E$27,D49<$S84-AP!$E$31),2,0)","v":{"$error":"#N/A"}},{"$f":"IF(OR(E49>$S84+AP!$E$27,E49<$S84-AP!$E$31),2,0)","v":{"$error":"#N/A"}},{"$f":"IF(OR(F49>$S84+AP!$E$27,F49<$S84-AP!$E$31),2,0)","v":{"$error":"#N/A"}},{"$f":"IF(OR(G49>$S84+AP!$E$27,G49<$S84-AP!$E$31),2,0)","v":{"$error":"#N/A"}},{"$f":"IF(OR(H49>$S84+AP!$E$27,H49<$S84-AP!$E$31),2,0)","v":{"$error":"#N/A"}},{"$f":"IF(OR(I49>$S84+AP!$E$27,I49<$S84-AP!$E$31),2,0)","v":{"$error":"#N/A"}}]
[null,null,null,null,null,null,null,null,null,null,null,null,null,null,null,null,null,100,{"$f":"$B$26","v":" "},{"$f":"IF(OR(D50>$S85+AP!$E$21,D50<$S85-AP!$E$25),2,0)","v":{"$error":"#N/A"}},{"$f":"IF(OR(E50>$S85+AP!$E$21,E50<$S85-AP!$E$25),2,0)","v":{"$error":"#N/A"}},{"$f":"IF(OR(F50>$S85+AP!$E$21,F50<$S85-AP!$E$25),2,0)","v":{"$error":"#N/A"}},{"$f":"IF(OR(G50>$S85+AP!$E$21,G50<$S85-AP!$E$25),2,0)","v":{"$error":"#N/A"}},{"$f":"IF(OR(H50>$S85+AP!$E$21,H50<$S85-AP!$E$25),2,0)","v":{"$error":"#N/A"}},{"$f":"IF(OR(I50>$S85+AP!$E$21,I50<$S85-AP!$E$25),2,0)","v":{"$error":"#N/A"}}]
[null,null,null,null,null,null,null,null,null,null,null,null,null,null,null,null,null,200,{"$f":"$B$27","v":" "},{"$f":"IF(OR(D51>$S86+AP!$E$14,D51<$S86-AP!$E$18),2,0)","v":{"$error":"#N/A"}},{"$f":"IF(OR(E51>$S86+AP!$E$14,E51<$S86-AP!$E$18),2,0)","v":{"$error":"#N/A"}},{"$f":"IF(OR(F51>$S86+AP!$E$14,F51<$S86-AP!$E$18),2,0)","v":{"$error":"#N/A"}},{"$f":"IF(OR(G51>$S86+AP!$E$14,G51<$S86-AP!$E$18),2,0)","v":{"$error":"#N/A"}},{"$f":"IF(OR(H51>$S86+AP!$E$14,H51<$S86-AP!$E$18),2,0)","v":{"$error":"#N/A"}},{"$f":"IF(OR(I51>$S86+AP!$E$14,I51<$S86-AP!$E$18),2,0)","v":{"$error":"#N/A"}}]
[null,null,null,null,null,null,null,null,null,null,null,null,null,null,null,null,null,"%AC",{"$f":"$B$28","v":" "},{"$f":"IF(OR(D52>AP!$L$6,D52<AP!$L$10),2,0)","v":{"$error":"#N/A"}},{"$f":"IF(OR(E52>AP!$L$6,E52<AP!$L$10),2,0)","v":{"$error":"#N/A"}},{"$f":"IF(OR(F52>AP!$L$6,F52<AP!$L$10),2,0)","v":{"$error":"#N/A"}},{"$f":"IF(OR(G52>AP!$L$6,G52<AP!$L$10),2,0)","v":{"$error":"#N/A"}},{"$f":"IF(OR(H52>AP!$L$6,H52<AP!$L$10),2,0)","v":{"$error":"#N/A"}},{"$f":"IF(OR(I52>AP!$L$6,I52<AP!$L$10),2,0)","v":{"$error":"#N/A"}}]
[null,null,null,null,null,null,null,null,null,null,null,null,null,null,null,null,null,null,"Max",{"$f":"MAX(T74:T87)","v":{"$error":"#N/A"}},{"$error":"#N/A"},{"$error":"#N/A"},{"$error":"#N/A"},{"$error":"#N/A"},{"$error":"#N/A"}]
[]
[null,null,null,null,null,null,null,null,null,null,null,null,null,null,null,null,null,null,"Single sample flag"]
[null,null,null,null,null,null,null,null,null,null,null,null,null,null,null,null,null,8,{"$f":"$B$22","v":" "},{"$f":"IF(OR($D$22>$S91+AP!$E$45,$D$22<$S91-AP!$E$51),3,0)","v":{"$error":"#VALUE!"}},{"$f":"IF(OR($F$22>$S91+AP!$E$45,$F$22<$S91-AP!$E$51),3,0)","v":{"$error":"#VALUE!"}},{"$f":"IF(OR($H$22>$S91+AP!$E$45,$H$22<$S91-AP!$E$51),3,0)","v":{"$error":"#VALUE!"}},{"$f":"IF(OR($J$22>$S91+AP!$E$45,$J$22<$S91-AP!$E$51),3,0)","v":{"$error":"#VALUE!"}},{"$f":"IF(OR($L$22>$S91+AP!$E$45,$L$22<$S91-AP!$E$51),3,0)","v":{"$error":"#VALUE!"}},{"$f":"IF(OR($N$22>$S91+AP!$E$45,$N$22<$S91-AP!$E$51),3,0)","v":{"$error":"#VALUE!"}}]
[null,null,null,null,null,null,null,null,null,null,null,null,null,null,null,null,null,200,{"$f":"$B$27","v":" "},{"$f":"IF(OR($D$27>$S92+AP!$E$13,$D$27<$S92-AP!$E$19),3,0)","v":{"$error":"#VALUE!"}},{"$f":"IF(OR($F$27>$S92+AP!$E$13,$F$27<$S92-AP!$E$19),3,0)","v":{"$error":"#VALUE!"}},{"$f":"IF(OR($H$27>$S92+AP!$E$13,$H$27<$S92-AP!$E$19),3,0)","v":{"$error":"#VALUE!"}},{"$f":"IF(OR($J$27>$S92+AP!$E$13,$J$27<$S92-AP!$E$19),3,0)","v":{"$error":"#VALUE!"}},{"$f":"IF(OR($L$27>$S92+AP!$E$13,$L$27<$S92-AP!$E$19),3,0)","v":{"$error":"#VALUE!"}},{"$f":"IF(OR($N$27>$S92+AP!$E$13,$N$27<$S92-AP!$E$19),3,0)","v":{"$error":"#VALUE!"}}]
[null,null,null,null,null,null,null,null,null,null,null,null,null,null,null,null,null,"%AC",{"$f":"$B$28","v":" "},{"$f":"IF(OR($C$28>AP!$L$5,$C$28<AP!$L$11),3,0)","v":0},{"$f":"IF(OR($E$28>AP!$L$5,$E$28<AP!$L$11),3,0)","v":0},{"$f":"IF(OR($G$28>AP!$L$5,$G$28<AP!$L$11),3,0)","v":0},{"$f":"IF(OR($I$28>AP!$L$5,$I$28<AP!$L$11),3,0)","v":0},{"$f":"IF(OR($K$28>AP!$L$5,$K$28<AP!$L$11),3,0)","v":0},{"$f":"IF(OR($M$28>AP!$L$5,$M$28<AP!$L$11),3,0)","v":0}]
[null,null,null,null,null,null,null,null,null,null,null,null,null,null,null,null,null,null,"Max",{"$f":"IF(ISBLANK(C27),\" \",MAX(T91:T93))","v":" "},{"$f":"IF(ISBLANK(E27),\" \",MAX(U91:U93))","v":" "},{"$f":"IF(ISBLANK(G27),\" \",MAX(V91:V93))","v":" "},{"$f":"IF(ISBLANK(I27),\" \",MAX(W91:W93))","v":" "},{"$f":"IF(ISBLANK(K27),\" \",MAX(X91:X93))","v":" "},{"$f":"IF(ISBLANK(M27),\" \",MAX(Y91:Y93))","v":" "}]

{"sheet":"S9","index":8,"n_rows":94,"n_cols":25,"rows_kept":94,"cut":false,"hidden":true,"merged":[[52,0,52,1],[52,2,52,3],[59,6,68,7],[59,4,68,5],[59,2,68,3],[55,18,55,24],[72,18,72,24],[89,18,89,24],[53,0,68,1],[53,12,58,13],[53,10,58,11],[53,8,58,9],[53,6,58,7],[53,4,58,5],[53,2,58,3],[52,12,52,13],[31,12,31,13],[52,4,52,5],[52,6,52,7],[52,8,52,9],[52,10,52,11],[30,4,30,5],[59,12,68,13],[59,10,68,11],[59,8,68,9],[30,12,30,13],[37,9,37,10],[37,3,37,8],[30,10,30,11],[10,0,10,1],[12,8,12,9],[29,0,31,0],[30,2,30,3],[30,6,30,7],[30,8,30,9],[29,6,29,7],[31,2,31,3],[31,4,31,5],[31,6,31,7],[31,8,31,9],[29,12,29,13],[27,8,27,9],[28,8,28,9],[27,12,27,13],[28,10,28,11],[11,10,11,11],[27,2,27,3],[28,2,28,3],[28,6,28,7],[27,6,27,7],[29,2,29,3],[29,8,29,9],[29,10,29,11],[29,4,29,5],[11,2,11,3],[11,4,11,5],[27,4,27,5],[28,4,28,5],[12,10,12,11],[11,12,11,13],[37,0,37,2],[28,0,28,1],[31,10,31,11],[28,12,28,13],[27,10,27,11],[10,10,10,11],[12,12,12,13],[9,0,9,1],[10,6,10,7],[10,2,10,3],[9,6,9,7],[9,4,9,5],[10,4,10,5],[9,10,9,11],[9,12,9,13],[12,0,12,1],[12,2,12,3],[12,4,12,5],[12,6,12,7],[11,0,11,1],[11,8,11,9],[11,6,11,7],[10,8,10,9],[10,12,10,13],[9,8,9,9],[0,0,3,1],[8,4,8,5],[9,2,9,3],[8,6,8,7],[8,0,8,1],[7,0,7,2],[5,0,5,1],[7,5,7,8],[5,5,5,8],[8,8,8,9],[8,2,8,3],[8,12,8,13],[8,10,8,11],[2,12,2,13],[1,10,1,11],[5,10,5,11],[6,10,6,11],[6,12,6,13],[5,12,5,13],[1,12,1,13],[2,10,2,11]]}
[]
[null,null,null,null,"COMMONWEALTH OF PENNSYLVANIA",null,null,null,null,null,"DISTRICT",null,{"$f":"IF(ISBLANK('S1'!M2),\" \",('S1'!M2))","v":" "}]
[null,null,null,null,"DEPARTMENT OF TRANSPORTATION",null,null,null,null,null,"PLANT CODE",null,{"$f":"IF(ISBLANK('S1'!M3),\" \",('S1'!M3))","v":" "}]
[null,null,null,null,"LABORATORY TEST SECTION"]
[{"$f":"'S1'!A5","v":"ESB-16"}]
["Material Class ",null,{"$f":"IF(ISBLANK('S1'!C6),\" \",('S1'!C6))","v":9.5},"mm",null,"Burnoff Results",null,null,null,null,"Design No.",null,{"$f":"IF(ISBLANK('S1'!M6),\" \",('S1'!M6))","v":" "}]
[null,null,null,null,null,null,null,null,null,null,"Gyrations @ Ndes",null,{"$f":"IF(ISBLANK('S1'!M7),\" \",'S1'!M7)","v":" "}]
["-200 Correction Factor (+ or -)",null,null,{"$f":"IF(ISBLANK('S1'!D8),\" \",('S1'!D8))","v":" "},null,"Red values indicate action area"]
["Sample No."]
["Date"]
["St. Wt. Before Wash"]
["Dry Wt. After Wash"]
["Wt. Loss",null,{"$f":"IF(ISBLANK(C11),\" \",IF(ISBLANK(C12),\" \",C11-C12))","v":" "},null,{"$f":"IF(ISBLANK(E11),\" \",IF(ISBLANK(E12),\" \",E11-E12))","v":" "},null,{"$f":"IF(ISBLANK(G11),\" \",IF(ISBLANK(G12),\" \",G11-G12))","v":" "},null,{"$f":"IF(ISBLANK(I11),\" \",IF(ISBLANK(I12),\" \",I11-I12))","v":" "},null,{"$f":"IF(ISBLANK(K11),\" \",IF(ISBLANK(K12),\" \",K11-K12))","v":" "},null,{"$f":"IF(ISBLANK(M11),\" \",IF(ISBLANK(M12),\" \",M11-M12))","v":" "}]
["Size","JMF","Weight","%Passing","Weight","%Passing","Weight","%Passing","Weight","%Pasing","Weight","%Pasing","Weight","%Pasing"]
[2,{"$f":"IF(ISBLANK('S1'!B15),\" \",'S1'!B15)","v":" "},null,{"$f":"IF(ISBLANK(C11),\" \",IF(ISBLANK(C12),\" \",IF(ISBLANK(C15),\" \",ROUND((C15+C13)/C11*100,0))))","v":" "},null,{"$f":"IF(ISBLANK(E11),\" \",IF(ISBLANK(E12),\" \",IF(ISBLANK(E15),\" \",ROUND((E15+E13)/E11*100,0))))","v":" "},null,{"$f":"IF(ISBLANK(G11),\" \",IF(ISBLANK(G12),\" \",IF(ISBLANK(G15),\" \",ROUND((G15+G13)/G11*100,0))))","v":" "},null,{"$f":"IF(ISBLANK(I11),\" \",IF(ISBLANK(I12),\" \",IF(ISBLANK(I15),\" \",ROUND((I15+I13)/I11*100,0))))","v":" "},null,{"$f":"IF(ISBLANK(K11),\" \",IF(ISBLANK(K12),\" \",IF(ISBLANK(K15),\" \",ROUND((K15+K13)/K11*100,0))))","v":" "},null,{"$f":"IF(ISBLANK(M11),\" \",IF(ISBLANK(M12),\" \",IF(ISBLANK(M15),\" \",ROUND((M15+M13)/M11*100,0))))","v":" "}]
[1.5,{"$f":"IF(ISBLANK('S1'!B16),\" \",'S1'!B16)","v":" "},null,{"$f":"IF(ISBLANK(C11),\"  \",IF(ISBLANK(C12),\" \",IF(ISBLANK(C16),\" \",ROUND((C16+C13)/C11*100,0))))","v":"  "},null,{"$f":"IF(ISBLANK(E11),\"  \",IF(ISBLANK(E12),\" \",IF(ISBLANK(E16),\" \",ROUND((E16+E13)/E11*100,0))))","v":"  "},null,{"$f":"IF(ISBLANK(G11),\"  \",IF(ISBLANK(G12),\" \",IF(ISBLANK(G16),\" \",ROUND((G16+G13)/G11*100,0))))","v":"  "},null,{"$f":"IF(ISBLANK(I11),\"  \",IF(ISBLANK(I12),\" \",IF(ISBLANK(I16),\" \",ROUND((I16+I13)/I11*100,0))))","v":"  "},null,{"$f":"IF(ISBLANK(K11),\"  \",IF(ISBLANK(K12),\" \",IF(ISBLANK(K16),\" \",ROUND((K16+K13)/K11*100,0))))","v":"  "},null,{"$f":"IF(ISBLANK(M11),\"  \",IF(ISBLANK(M12),\" \",IF(ISBLANK(M16),\" \",ROUND((M16+M13)/M11*100,0))))","v":"  "}]
[1,{"$f":"IF(ISBLANK('S1'!B17),\" \",'S1'!B17)","v":" "},null,{"$f":"IF(ISBLANK(C11),\"  \",IF(ISBLANK(C12),\" \",IF(ISBLANK(C17),\" \",ROUND((C17+C13)/C11*100,0))))","v":"  "},null,{"$f":"IF(ISBLANK(E11),\"  \",IF(ISBLANK(E12),\" \",IF(ISBLANK(E17),\" \",ROUND((E17+E13)/E11*100,0))))","v":"  "},null,{"$f":"IF(ISBLANK(G11),\"  \",IF(ISBLANK(G12),\" \",IF(ISBLANK(G17),\" \",ROUND((G17+G13)/G11*100,0))))","v":"  "},null,{"$f":"IF(ISBLANK(I11),\"  \",IF(ISBLANK(I12),\" \",IF(ISBLANK(I17),\" \",ROUND((I17+I13)/I11*100,0))))","v":"  "},null,{"$f":"IF(ISBLANK(K11),\"  \",IF(ISBLANK(K12),\" \",IF(ISBLANK(K17),\" \",ROUND((K17+K13)/K11*100,0))))","v":"  "},null,{"$f":"IF(ISBLANK(M11),\"  \",IF(ISBLANK(M12),\" \",IF(ISBLANK(M17),\" \",ROUND((M17+M13)/M11*100,0))))","v":"  "}]
[0.75,{"$f":"IF(ISBLANK('S1'!B18),\" \",'S1'!B18)","v":" "},null,{"$f":"IF(ISBLANK(C11),\"  \",IF(ISBLANK(C12),\" \",IF(ISBLANK(C18),\" \",ROUND((C18+C13)/C11*100,0))))","v":"  "},null,{"$f":"IF(ISBLANK(E11),\"  \",IF(ISBLANK(E12),\" \",IF(ISBLANK(E18),\" \",ROUND((E18+E13)/E11*100,0))))","v":"  "},null,{"$f":"IF(ISBLANK(G11),\"  \",IF(ISBLANK(G12),\" \",IF(ISBLANK(G18),\" \",ROUND((G18+G13)/G11*100,0))))","v":"  "},null,{"$f":"IF(ISBLANK(I11),\"  \",IF(ISBLANK(I12),\" \",IF(ISBLANK(I18),\" \",ROUND((I18+I13)/I11*100,0))))","v":"  "},null,{"$f":"IF(ISBLANK(K11),\"  \",IF(ISBLANK(K12),\" \",IF(ISBLANK(K18),\" \",ROUND((K18+K13)/K11*100,0))))","v":"  "},null,{"$f":"IF(ISBLANK(M11),\"  \",IF(ISBLANK(M12),\" \",IF(ISBLANK(M18),\" \",ROUND((M18+M13)/M11*100,0))))","v":"  "}]
[0.5,{"$f":"IF(ISBLANK('S1'!B19),\" \",'S1'!B19)","v":" "},null,{"$f":"IF(ISBLANK(C11),\"  \",IF(ISBLANK(C12),\" \",IF(ISBLANK(C19),\" \",ROUND((C19+C13)/C11*100,0))))","v":"  "},null,{"$f":"IF(ISBLANK(E11),\"  \",IF(ISBLANK(E12),\" \",IF(ISBLANK(E19),\" \",ROUND((E19+E13)/E11*100,0))))","v":"  "},null,{"$f":"IF(ISBLANK(G11),\"  \",IF(ISBLANK(G12),\" \",IF(ISBLANK(G19),\" \",ROUND((G19+G13)/G11*100,0))))","v":"  "},null,{"$f":"IF(ISBLANK(I11),\"  \",IF(ISBLANK(I12),\" \",IF(ISBLANK(I19),\" \",ROUND((I19+I13)/I11*100,0))))","v":"  "},null,{"$f":"IF(ISBLANK(K11),\"  \",IF(ISBLANK(K12),\" \",IF(ISBLANK(K19),\" \",ROUND((K19+K13)/K11*100,0))))","v":"  "},null,{"$f":"IF(ISBLANK(M11),\"  \",IF(ISBLANK(M12),\" \",IF(ISBLANK(M19),\" \",ROUND((M19+M13)/M11*100,0))))","v":"  "}]
[0.375,{"$f":"IF(ISBLANK('S1'!B20),\" \",'S1'!B20)","v":" "},null,{"$f":"IF(ISBLANK(C11),\"  \",IF(ISBLANK(C12),\" \",IF(ISBLANK(C20),\" \",ROUND((C20+C13)/C11*100,0))))","v":"  "},null,{"$f":"IF(ISBLANK(E11),\"  \",IF(ISBLANK(E12),\" \",IF(ISBLANK(E20),\" \",ROUND((E20+E13)/E11*100,0))))","v":"  "},null,{"$f":"IF(ISBLANK(G11),\"  \",IF(ISBLANK(G12),\" \",IF(ISBLANK(G20),\" \",ROUND((G20+G13)/G11*100,0))))","v":"  "},null,{"$f":"IF(ISBLANK(I11),\"  \",IF(ISBLANK(I12),\" \",IF(ISBLANK(I20),\" \",ROUND((I20+I13)/I11*100,0))))","v":"  "},null,{"$f":"IF(ISBLANK(K11),\"  \",IF(ISBLANK(K12),\" \",IF(ISBLANK(K20),\" \",ROUND((K20+K13)/K11*100,0))))","v":"  "},null,{"$f":"IF(ISBLANK(M11),\"  \",IF(ISBLANK(M12),\" \",IF(ISBLANK(M20),\" \",ROUND((M20+M13)/M11*100,0))))","v":"  "}]
[4,{"$f":"IF(ISBLANK('S1'!B21),\" \",'S1'!B21)","v":" "},null,{"$f":"IF(ISBLANK(C11),\"  \",IF(ISBLANK(C12),\" \",IF(ISBLANK(C21),\" \",ROUND((C21+C13)/C11*100,0))))","v":"  "},null,{"$f":"IF(ISBLANK(E11),\"  \",IF(ISBLANK(E12),\" \",IF(ISBLANK(E21),\" \",ROUND((E21+E13)/E11*100,0))))","v":"  "},null,{"$f":"IF(ISBLANK(G11),\"  \",IF(ISBLANK(G12),\" \",IF(ISBLANK(G21),\" \",ROUND((G21+G13)/G11*100,0))))","v":"  "},null,{"$f":"IF(ISBLANK(I11),\"  \",IF(ISBLANK(I12),\" \",IF(ISBLANK(I21),\" \",ROUND((I21+I13)/I11*100,0))))","v":"  "},null,{"$f":"IF(ISBLANK(K11),\"  \",IF(ISBLANK(K12),\" \",IF(ISBLANK(K21),\" \",ROUND((K21+K13)/K11*100,0))))","v":"  "},null,{"$f":"IF(ISBLANK(M11),\"  \",IF(ISBLANK(M12),\" \",IF(ISBLANK(M21),\" \",ROUND((M21+M13)/M11*100,0))))","v":"  "}]
[8,{"$f":"IF(ISBLANK('S1'!B22),\" \",'S1'!B22)","v":" "},null,{"$f":"IF(ISBLANK(C11),\"  \",IF(ISBLANK(C12),\" \",IF(ISBLANK(C22),\" \",ROUND((C22+C13)/C11*100,0))))","v":"  "},null,{"$f":"IF(ISBLANK(E11),\"  \",IF(ISBLANK(E12),\" \",IF(ISBLANK(E22),\" \",ROUND((E22+E13)/E11*100,0))))","v":"  "},null,{"$f":"IF(ISBLANK(G11),\"  \",IF(ISBLANK(G12),\" \",IF(ISBLANK(G22),\" \",ROUND((G22+G13)/G11*100,0))))","v":"  "},null,{"$f":"IF(ISBLANK(I11),\"  \",IF(ISBLANK(I12),\" \",IF(ISBLANK(I22),\" \",ROUND((I22+I13)/I11*100,0))))","v":"  "},null,{"$f":"IF(ISBLANK(K11),\"  \",IF(ISBLANK(K12),\" \",IF(ISBLANK(K22),\" \",ROUND((K22+K13)/K11*100,0))))","v":"  "},null,{"$f":"IF(ISBLANK(M11),\"  \",IF(ISBLANK(M12),\" \",IF(ISBLANK(M22),\" \",ROUND((M22+M13)/M11*100,0))))","v":"  "}]
[16,{"$f":"IF(ISBLANK('S1'!B23),\" \",'S1'!B23)","v":" "},null,{"$f":"IF(ISBLANK(C11),\"  \",IF(ISBLANK(C12),\" \",IF(ISBLANK(C23),\" \",ROUND((C23+C13)/C11*100,0))))","v":"  "},null,{"$f":"IF(ISBLANK(E11),\"  \",IF(ISBLANK(E12),\" \",IF(ISBLANK(E23),\" \",ROUND((E23+E13)/E11*100,0))))","v":"  "},null,{"$f":"IF(ISBLANK(G11),\"  \",IF(ISBLANK(G12),\" \",IF(ISBLANK(G23),\" \",ROUND((G23+G13)/G11*100,0))))","v":"  "},null,{"$f":"IF(ISBLANK(I11),\"  \",IF(ISBLANK(I12),\" \",IF(ISBLANK(I23),\" \",ROUND((I23+I13)/I11*100,0))))","v":"  "},null,{"$f":"IF(ISBLANK(K11),\"  \",IF(ISBLANK(K12),\" \",IF(ISBLANK(K23),\" \",ROUND((K23+K13)/K11*100,0))))","v":"  "},null,{"$f":"IF(ISBLANK(M11),\"  \",IF(ISBLANK(M12),\" \",IF(ISBLANK(M23),\" \",ROUND((M23+M13)/M11*100,0))))","v":"  "}]
[30,{"$f":"IF(ISBLANK('S1'!B24),\" \",'S1'!B24)","v":" "},null,{"$f":"IF(ISBLANK(C11),\"  \",IF(ISBLANK(C12),\" \",IF(ISBLANK(C24),\" \",ROUND((C24+C13)/C11*100,0))))","v":"  "},null,{"$f":"IF(ISBLANK(E11),\"  \",IF(ISBLANK(E12),\" \",IF(ISBLANK(E24),\" \",ROUND((E24+E13)/E11*100,0))))","v":"  "},null,{"$f":"IF(ISBLANK(G11),\"  \",IF(ISBLANK(G12),\" \",IF(ISBLANK(G24),\" \",ROUND((G24+G13)/G11*100,0))))","v":"  "},null,{"$f":"IF(ISBLANK(I11),\"  \",IF(ISBLANK(I12),\" \",IF(ISBLANK(I24),\" \",ROUND((I24+I13)/I11*100,0))))","v":"  "},null,{"$f":"IF(ISBLANK(K11),\"  \",IF(ISBLANK(K12),\" \",IF(ISBLANK(K24),\" \",ROUND((K24+K13)/K11*100,0))))","v":"  "},null,{"$f":"IF(ISBLANK(M11),\"  \",IF(ISBLANK(M12),\" \",IF(ISBLANK(M24),\" \",ROUND((M24+M13)/M11*100,0))))","v":"  "}]
[50,{"$f":"IF(ISBLANK('S1'!B25),\" \",'S1'!B25)","v":" "},null,{"$f":"IF(ISBLANK(C11),\"  \",IF(ISBLANK(C12),\" \",IF(ISBLANK(C25),\" \",ROUND((C25+C13)/C11*100,0))))","v":"  "},null,{"$f":"IF(ISBLANK(E11),\"  \",IF(ISBLANK(E12),\" \",IF(ISBLANK(E25),\" \",ROUND((E25+E13)/E11*100,0))))","v":"  "},null,{"$f":"IF(ISBLANK(G11),\"  \",IF(ISBLANK(G12),\" \",IF(ISBLANK(G25),\" \",ROUND((G25+G13)/G11*100,0))))","v":"  "},null,{"$f":"IF(ISBLANK(I11),\"  \",IF(ISBLANK(I12),\" \",IF(ISBLANK(I25),\" \",ROUND((I25+I13)/I11*100,0))))","v":"  "},null,{"$f":"IF(ISBLANK(K11),\"  \",IF(ISBLANK(K12),\" \",IF(ISBLANK(K25),\" \",ROUND((K25+K13)/K11*100,0))))","v":"  "},null,{"$f":"IF(ISBLANK(M11),\"  \",IF(ISBLANK(M12),\" \",IF(ISBLANK(M25),\" \",ROUND((M25+M13)/M11*100,0))))","v":"  "}]
[100,{"$f":"IF(ISBLANK('S1'!B26),\" \",'S1'!B26)","v":" "},null,{"$f":"IF(ISBLANK(C11),\"  \",IF(ISBLANK(C12),\" \",IF(ISBLANK(C26),\" \",ROUND((C26+C13)/C11*100,0))))","v":"  "},null,{"$f":"IF(ISBLANK(E11),\"  \",IF(ISBLANK(E12),\" \",IF(ISBLANK(E26),\" \",ROUND((E26+E13)/E11*100,0))))","v":"  "},null,{"$f":"IF(ISBLANK(G11),\"  \",IF(ISBLANK(G12),\" \",IF(ISBLANK(G26),\" \",ROUND((G26+G13)/G11*100,0))))","v":"  "},null,{"$f":"IF(ISBLANK(I11),\"  \",IF(ISBLANK(I12),\" \",IF(ISBLANK(I26),\" \",ROUND((I26+I13)/I11*100,0))))","v":"  "},null,{"$f":"IF(ISBLANK(K11),\"  \",IF(ISBLANK(K12),\" \",IF(ISBLANK(K26),\" \",ROUND((K26+K13)/K11*100,0))))","v":"  "},null,{"$f":"IF(ISBLANK(M11),\"  \",IF(ISBLANK(M12),\" \",IF(ISBLANK(M26),\" \",ROUND((M26+M13)/M11*100,0))))","v":"  "}]
[200,{"$f":"IF(ISBLANK('S1'!B27),\" \",'S1'!B27)","v":" "},null,{"$f":"IF(ISBLANK(C11),\"  \",IF(ISBLANK(C12),\" \",IF(ISBLANK(C27),\" \",ROUND((C27+C13)/C11*100+$D$8,1))))","v":"  "},null,{"$f":"IF(ISBLANK(E11),\"  \",IF(ISBLANK(E12),\" \",IF(ISBLANK(E27),\" \",ROUND((E27+E13)/E11*100+$D$8,1))))","v":"  "},null,{"$f":"IF(ISBLANK(G11),\"  \",IF(ISBLANK(G12),\" \",IF(ISBLANK(G27),\" \",ROUND((G27+G13)/G11*100+$D$8,1))))","v":"  "},null,{"$f":"IF(ISBLANK(I11),\"  \",IF(ISBLANK(I12),\" \",IF(ISBLANK(I27),\" \",ROUND((I27+I13)/I11*100+$D$8,1))))","v":"  "},null,{"$f":"IF(ISBLANK(K11),\"  \",IF(ISBLANK(K12),\" \",IF(ISBLANK(K27),\" \",ROUND((K27+K13)/K11*100+$D$8,1))))","v":"  "},null,{"$f":"IF(ISBLANK(M11),\"  \",IF(ISBLANK(M12),\" \",IF(ISBLANK(M27),\" \",ROUND((M27+M13)/M11*100+$D$8,1))))","v":"  "}]
["%AC",{"$f":"IF(ISBLANK('S1'!B28),\" \",'S1'!B28)","v":" "}]
["Percent Loss / Gain",null,{"$f":"IF(ISBLANK(C12),\"\",IF(ISBLANK(C20),\"\",(C12-C71)/C12*100))","v":""},null,{"$f":"IF(ISBLANK(E12),\"\",IF(ISBLANK(E20),\"\",(E12-E71)/E12*100))","v":""},null,{"$f":"IF(ISBLANK(G12),\"\",IF(ISBLANK(G20),\"\",(G12-G71)/G12*100))","v":""},null,{"$f":"IF(ISBLANK(I12),\"\",IF(ISBLANK(I20),\"\",(I12-I71)/I12*100))","v":""},null,{"$f":"IF(ISBLANK(K12),\"\",IF(ISBLANK(K20),\"\",(K12-K71)/K12*100))","v":""},null,{"$f":"IF(ISBLANK(M12),\"\",IF(ISBLANK(M20),\"\",(M12-M71)/M12*100))","v":""}]
["Apparent Moisture","Orig Wt"]
[null,"Const Wt"]
[null,"% moisture",{"$f":"IF(ISBLANK(C30),\" \",IF(ISBLANK(C31),\" \",((C30-C31)/C31)*100))","v":" "},null,{"$f":"IF(ISBLANK(E30),\" \",IF(ISBLANK(E31),\" \",((E30-E31)/E31)*100))","v":" "},null,{"$f":"IF(ISBLANK(G30),\" \",IF(ISBLANK(G31),\" \",((G30-G31)/G31)*100))","v":" "},null,{"$f":"IF(ISBLANK(I30),\" \",IF(ISBLANK(I31),\" \",((I30-I31)/I31)*100))","v":" "},null,{"$f":"IF(ISBLANK(K30),\" \",IF(ISBLANK(K31),\" \",((K30-K31)/K31)*100))","v":" "},null,{"$f":"IF(ISBLANK(M30),\" \",IF(ISBLANK(M31),\" \",((M30-M31)/M31)*100))","v":" "}]
[]
[]
[]
[]
[]
["Sets up Min and Max for charts",null,null,"Running Avg for Conditional Format",null,null,null,null,null,"AP upper & lower Tolerances"]
["#4",{"$f":"B21-8","v":{"$error":"#VALUE!"}},{"$f":"B21+8","v":{"$error":"#VALUE!"}},{"$f":"'S17'!$AC52","v":{"$error":"#N/A"}},{"$f":"'S17'!$AC53","v":{"$error":"#N/A"}},{"$f":"'S17'!$AC54","v":{"$error":"#N/A"}},{"$f":"'S17'!$AC55","v":{"$error":"#N/A"}},{"$f":"'S17'!$AC56","v":{"$error":"#N/A"}},{"$f":"'S17'!$AC57","v":{"$error":"#N/A"}},{"$f":"AP!E90","v":5},{"$f":"AP!E92","v":5}]
["#8",{"$f":"B22-6","v":{"$error":"#VALUE!"}},{"$f":"B22+6","v":{"$error":"#VALUE!"}},{"$f":"'S17'!$AA52","v":{"$error":"#N/A"}},{"$f":"'S17'!$AA53","v":{"$error":"#N/A"}},{"$f":"'S17'!$AA54","v":{"$error":"#N/A"}},{"$f":"'S17'!$AA55","v":{"$error":"#N/A"}},{"$f":"'S17'!$AA56","v":{"$error":"#N/A"}},{"$f":"'S17'!$AA57","v":{"$error":"#N/A"}},{"$f":"AP!E84","v":5},{"$f":"AP!E86","v":5}]
["#200",{"$f":"B27-2","v":{"$error":"#VALUE!"}},{"$f":"B27+2","v":{"$error":"#VALUE!"}},{"$f":"'S17'!$Y52","v":{"$error":"#N/A"}},{"$f":"'S17'!$Y53","v":{"$error":"#N/A"}},{"$f":"'S17'!$Y54","v":{"$error":"#N/A"}},{"$f":"'S17'!$Y55","v":{"$error":"#N/A"}},{"$f":"'S17'!$Y56","v":{"$error":"#N/A"}},{"$f":"'S17'!$Y57","v":{"$error":"#N/A"}},{"$f":"AP!E78","v":5},{"$f":"AP!E80","v":5}]
["AC",{"$f":"B28-0.4","v":{"$error":"#VALUE!"}},{"$f":"B28+0.4","v":{"$error":"#VALUE!"}},{"$f":"'S17'!$W52","v":{"$error":"#N/A"}},{"$f":"'S17'!$W53","v":{"$error":"#N/A"}},{"$f":"'S17'!$W54","v":{"$error":"#N/A"}},{"$f":"'S17'!$W55","v":{"$error":"#N/A"}},{"$f":"'S17'!$W56","v":{"$error":"#N/A"}},{"$f":"'S17'!$W57","v":{"$error":"#N/A"}},{"$f":"AP!E72","v":5},{"$f":"AP!E74","v":5}]
[null,null,null,{"$f":"'S17'!$U52","v":{"$error":"#N/A"}},{"$f":"'S17'!U53","v":{"$error":"#N/A"}},{"$f":"'S17'!U54","v":{"$error":"#N/A"}},{"$f":"'S17'!U55","v":{"$error":"#N/A"}},{"$f":"'S17'!U56","v":{"$error":"#N/A"}},{"$f":"'S17'!U57","v":{"$error":"#N/A"}},{"$f":"AP!E66","v":5},{"$f":"AP!E68","v":5}]
[null,null,null,{"$f":"'S17'!$S52","v":{"$error":"#N/A"}},{"$f":"'S17'!$S53","v":{"$error":"#N/A"}},{"$f":"'S17'!$S54","v":{"$error":"#N/A"}},{"$f":"'S17'!$S55","v":{"$error":"#N/A"}},{"$f":"'S17'!$S56","v":{"$error":"#N/A"}},{"$f":"'S17'!$S57","v":{"$error":"#N/A"}},{"$f":"AP!E60","v":3},{"$f":"AP!E62","v":3}]
[null,null,null,{"$f":"'S17'!$Q52","v":{"$error":"#N/A"}},{"$f":"'S17'!Q53","v":{"$error":"#N/A"}},{"$f":"'S17'!Q54","v":{"$error":"#N/A"}},{"$f":"'S17'!Q55","v":{"$error":"#N/A"}},{"$f":"'S17'!Q56","v":{"$error":"#N/A"}},{"$f":"'S17'!Q57","v":{"$error":"#N/A"}},{"$f":"AP!E54","v":3},{"$f":"AP!E56","v":3}]
[null,null,null,{"$f":"'S17'!$O52","v":{"$error":"#N/A"}},{"$f":"'S17'!O53","v":{"$error":"#N/A"}},{"$f":"'S17'!O54","v":{"$error":"#N/A"}},{"$f":"'S17'!O55","v":{"$error":"#N/A"}},{"$f":"'S17'!O56","v":{"$error":"#N/A"}},{"$f":"'S17'!O57","v":{"$error":"#N/A"}},{"$f":"AP!E47","v":3},{"$f":"AP!E49","v":3}]
[null,null,null,{"$f":"'S17'!$M52","v":{"$error":"#N/A"}},{"$f":"'S17'!$M53","v":{"$error":"#N/A"}},{"$f":"'S17'!$M54","v":{"$error":"#N/A"}},{"$f":"'S17'!$M55","v":{"$error":"#N/A"}},{"$f":"'S17'!$M56","v":{"$error":"#N/A"}},{"$f":"'S17'!$M57","v":{"$error":"#N/A"}},{"$f":"AP!E40","v":3},{"$f":"AP!E42","v":3}]
[null,null,null,{"$f":"'S17'!$K52","v":{"$error":"#N/A"}},{"$f":"'S17'!$K53","v":{"$error":"#N/A"}},{"$f":"'S17'!$K54","v":{"$error":"#N/A"}},{"$f":"'S17'!$K55","v":{"$error":"#N/A"}},{"$f":"'S17'!$K56","v":{"$error":"#N/A"}},{"$f":"'S17'!$K57","v":{"$error":"#N/A"}},{"$f":"AP!E34","v":3},{"$f":"AP!E36","v":3}]
[null,null,null,{"$f":"'S17'!$I52","v":{"$error":"#N/A"}},{"$f":"'S17'!$I53","v":{"$error":"#N/A"}},{"$f":"'S17'!$I54","v":{"$error":"#N/A"}},{"$f":"'S17'!$I55","v":{"$error":"#N/A"}},{"$f":"'S17'!$I56","v":{"$error":"#N/A"}},{"$f":"'S17'!$I57","v":{"$error":"#N/A"}},{"$f":"AP!E28","v":3},{"$f":"AP!E30","v":3}]
[null,null,null,{"$f":"'S17'!$G52","v":{"$error":"#N/A"}},{"$f":"'S17'!$G53","v":{"$error":"#N/A"}},{"$f":"'S17'!$G54","v":{"$error":"#N/A"}},{"$f":"'S17'!$G55","v":{"$error":"#N/A"}},{"$f":"'S17'!$G56","v":{"$error":"#N/A"}},{"$f":"'S17'!$G57","v":{"$error":"#N/A"}},{"$f":"AP!E22","v":3},{"$f":"AP!E24","v":3}]
[null,null,null,{"$f":"'S17'!E52","v":{"$error":"#N/A"}},{"$f":"'S17'!E53","v":{"$error":"#N/A"}},{"$f":"'S17'!E54","v":{"$error":"#N/A"}},{"$f":"'S17'!E55","v":{"$error":"#N/A"}},{"$f":"'S17'!E56","v":{"$error":"#N/A"}},{"$f":"'S17'!E57","v":{"$error":"#N/A"}},{"$f":"AP!E15","v":1},{"$f":"AP!E17","v":1}]
[null,null,null,{"$f":"ROUND('S17'!C52,1)","v":{"$error":"#N/A"}},{"$f":"ROUND('S17'!C53,1)","v":{"$error":"#N/A"}},{"$f":"ROUND('S17'!C54,1)","v":{"$error":"#N/A"}},{"$f":"ROUND('S17'!C55,1)","v":{"$error":"#N/A"}},{"$f":"ROUND('S17'!C56,1)","v":{"$error":"#N/A"}},{"$f":"ROUND('S17'!C57,1)","v":{"$error":"#N/A"}},{"$f":"AP!E7","v":0.2},{"$f":"AP!E9","v":0.2}]
["Tested By"]
["Remarks",null,{"$f":"IF(AND(T94=3,'S8'!M54=\"Single sample deviation, resample within 150 tons. Document corrective action\"),\"Deviation on 150 ton sample, suspend production of JMF\",IF(AND(T88=2,'S8'!M54=\"Multiple sample deviation, resample within 150 tons. Document corrective action\"),\"Deviation on 150 ton sample, suspend production of JMF\",IF(AND(T88=2,'S8'!M54=\"Single sample deviation, resample within 150 tons. Document corrective action\"),\"Deviation on 150 ton sample, suspend production of JMF\",IF(T94=3,\"Single sample deviation, resample within 150 tons. Document corrective action\",IF(T88=2,\"Multiple sample deviation, resample within 150 tons. Document corrective action\",IF(T71=1,\"Action area, document corrective action\",\" \"))))))","v":{"$error":"#N/A"}},null,{"$f":"IF(AND(U94=3,C54=\"Single sample deviation, resample within 150 tons. Document corrective action\"),\"Deviation on 150 ton sample, suspend production of JMF\",IF(AND(U88=2,C54=\"Multiple sample deviation, resample within 150 tons. Document corrective action\"),\"Deviation on 150 ton sample, suspend production of JMF\",IF(AND(U88=2,C54=\"Single sample deviation, resample within 150 tons. Document corrective action\"),\"Deviation on 150 ton sample, suspend production of JMF\",IF(U94=3,\"Single sample deviation, resample within 150 tons. Document corrective action\",IF(U88=2,\"Multiple sample deviation, resample within 150 tons. Document corrective action\",IF(U71=1,\"Action area, document corrective action\",\" \"))))))","v":{"$error":"#N/A"}},null,{"$f":"IF(AND(V94=3,E54=\"Single sample deviation, resample within 150 tons. Document corrective action\"),\"Deviation on 150 ton sample, suspend production of JMF\",IF(AND(V88=2,E54=\"Multiple sample deviation, resample within 150 tons. Document corrective action\"),\"Deviation on 150 ton sample, suspend production of JMF\",IF(AND(V88=2,E54=\"Single sample deviation, resample within 150 tons. Document corrective action\"),\"Deviation on 150 ton sample, suspend production of JMF\",IF(V94=3,\"Single sample deviation, resample within 150 tons. Document corrective action\",IF(V88=2,\"Multiple sample deviation, resample within 150 tons. Document corrective action\",IF(V71=1,\"Action area, document corrective action\",\" \"))))))","v":{"$error":"#N/A"}},null,{"$f":"IF(AND(W94=3,G54=\"Single sample deviation, resample within 150 tons. Document corrective action\"),\"Deviation on 150 ton sample, suspend production of JMF\",IF(AND(W88=2,G54=\"Multiple sample deviation, resample within 150 tons. Document corrective action\"),\"Deviation on 150 ton sample, suspend production of JMF\",IF(AND(W88=2,G54=\"Single sample deviation, resample within 150 tons. Document corrective action\"),\"Deviation on 150 ton sample, suspend production of JMF\",IF(W94=3,\"Single sample deviation, resample within 150 tons. Document corrective action\",IF(W88=2,\"Multiple sample deviation, resample within 150 tons. Document corrective action\",IF(W71=1,\"Action area, document corrective action\",\" \"))))))","v":{"$error":"#N/A"}},null,{"$f":"IF(AND(X94=3,I54=\"Single sample deviation, resample within 150 tons. Document corrective action\"),\"Deviation on 150 ton sample, suspend production of JMF\",IF(AND(X88=2,I54=\"Multiple sample deviation, resample within 150 tons. Document corrective action\"),\"Deviation on 150 ton sample, suspend production of JMF\",IF(AND(X88=2,I54=\"Single sample deviation, resample within 150 tons. Document corrective action\"),\"Deviation on 150 ton sample, suspend production of JMF\",IF(X94=3,\"Single sample deviation, resample within 150 tons. Document corrective action\",IF(X88=2,\"Multiple sample deviation, resample within 150 tons. Document corrective action\",IF(X71=1,\"Action area, document corrective action\",\" \"))))))","v":{"$error":"#N/A"}},null,{"$f":"IF(AND(Y94=3,K54=\"Single sample deviation, resample within 150 tons. Document corrective action\"),\"Deviation on 150 ton sample, suspend production of JMF\",IF(AND(Y88=2,K54=\"Multiple sample deviation, resample within 150 tons. Document corrective action\"),\"Deviation on 150 ton sample, suspend production of JMF\",IF(AND(Y88=2,K54=\"Single sample deviation, resample within 150 tons. Document corrective action\"),\"Deviation on 150 ton sample, suspend production of JMF\",IF(Y94=3,\"Single sample deviation, resample within 150 tons. Document corrective action\",IF(Y88=2,\"Multiple sample deviation, resample within 150 tons. Document corrective action\",IF(Y71=1,\"Action area, document corrective action\",\" \"))))))","v":{"$error":"#N/A"}}]
[]
[null,null,null,null,null,null,null,null,null,null,null,null,null,null,null,null,null,null,"Action points flags"]
[null,null,null,null,null,null,null,null,null,null,null,null,null,null,null,null,null,2,{"$f":"$B$15","v":" "},{"$f":"IF(ISBLANK(C15),0,IF(OR(D39>=$S57+$J39,D39<=$S57-$K39),1,0))","v":0},{"$f":"IF(ISBLANK(E15),0,IF(OR(E39>=$S57+$J39,E39<=$S57-$K39),1,0))","v":0},{"$f":"IF(ISBLANK(G15),0,IF(OR(F39>=$S57+$J39,F39<=$S57-$K39),1,0))","v":0},{"$f":"IF(ISBLANK(I15),0,IF(OR(G39>=$S57+$J39,G39<=$S57-$K39),1,0))","v":0},{"$f":"IF(ISBLANK(K15),0,IF(OR(H39>=$S57+$J39,H39<=$S57-$K39),1,0))","v":0},{"$f":"IF(ISBLANK(M15),0,IF(OR(I39>=$S57+$J39,I39<=$S57-$K39),1,0))","v":0}]
[null,null,null,null,null,null,null,null,null,null,null,null,null,null,null,null,null,1.5,{"$f":"$B$16","v":" "},{"$f":"IF(ISBLANK(C16),0,IF(OR(D40>=$S58+$J40,D40<=$S58-$K40),1,0))","v":0},{"$f":"IF(ISBLANK(E16),0,IF(OR(E40>=$S58+$J40,E40<=$S58-$K40),1,0))","v":0},{"$f":"IF(ISBLANK(G16),0,IF(OR(F40>=$S58+$J40,F40<=$S58-$K40),1,0))","v":0},{"$f":"IF(ISBLANK(I16),0,IF(OR(G40>=$S58+$J40,G40<=$S58-$K40),1,0))","v":0},{"$f":"IF(ISBLANK(K16),0,IF(OR(H40>=$S58+$J40,H40<=$S58-$K40),1,0))","v":0},{"$f":"IF(ISBLANK(M16),0,IF(OR(I40>=$S58+$J40,I40<=$S58-$K40),1,0))","v":0}]
[null,null,null,null,null,null,null,null,null,null,null,null,null,null,null,null,null,1,{"$f":"$B$17","v":" "},{"$f":"IF(ISBLANK(C17),0,IF(OR(D41>=$S59+$J41,D41<=$S59-$K41),1,0))","v":0},{"$f":"IF(ISBLANK(E17),0,IF(OR(E41>=$S59+$J41,E41<=$S59-$K41),1,0))","v":0},{"$f":"IF(ISBLANK(G17),0,IF(OR(F41>=$S59+$J41,F41<=$S59-$K41),1,0))","v":0},{"$f":"IF(ISBLANK(I17),0,IF(OR(G41>=$S59+$J41,G41<=$S59-$K41),1,0))","v":0},{"$f":"IF(ISBLANK(K17),0,IF(OR(H41>=$S59+$J41,H41<=$S59-$K41),1,0))","v":0},{"$f":"IF(ISBLANK(M17),0,IF(OR(I41>=$S59+$J41,I41<=$S59-$K41),1,0))","v":0}]
[null,null,null,null,null,null,null,null,null,null,null,null,null,null,null,null,null,0.75,{"$f":"$B$18","v":" "},{"$f":"IF(ISBLANK(C18),0,IF(OR(D42>=$S60+$J42,D42<=$S60-$K42),1,0))","v":0},{"$f":"IF(ISBLANK(E18),0,IF(OR(E42>=$S60+$J42,E42<=$S60-$K42),1,0))","v":0},{"$f":"IF(ISBLANK(G18),0,IF(OR(F42>=$S60+$J42,F42<=$S60-$K42),1,0))","v":0},{"$f":"IF(ISBLANK(I18),0,IF(OR(G42>=$S60+$J42,G42<=$S60-$K42),1,0))","v":0},{"$f":"IF(ISBLANK(K18),0,IF(OR(H42>=$S60+$J42,H42<=$S60-$K42),1,0))","v":0},{"$f":"IF(ISBLANK(M18),0,IF(OR(I42>=$S60+$J42,I42<=$S60-$K42),1,0))","v":0}]
[null,null,null,null,null,null,null,null,null,null,null,null,null,null,null,null,null,0.5,{"$f":"$B$19","v":" "},{"$f":"IF(ISBLANK(C19),0,IF(OR(D43>=$S61+$J43,D43<=$S61-$K43),1,0))","v":0},{"$f":"IF(ISBLANK(E19),0,IF(OR(E43>=$S61+$J43,E43<=$S61-$K43),1,0))","v":0},{"$f":"IF(ISBLANK(G19),0,IF(OR(F43>=$S61+$J43,F43<=$S61-$K43),1,0))","v":0},{"$f":"IF(ISBLANK(I19),0,IF(OR(G43>=$S61+$J43,G43<=$S61-$K43),1,0))","v":0},{"$f":"IF(ISBLANK(K19),0,IF(OR(H43>=$S61+$J43,H43<=$S61-$K43),1,0))","v":0},{"$f":"IF(ISBLANK(M19),0,IF(OR(I43>=$S61+$J43,I43<=$S61-$K43),1,0))","v":0}]
[null,null,null,null,null,null,null,null,null,null,null,null,null,null,null,null,null,0.375,{"$f":"$B$20","v":" "},{"$f":"IF(OR(D44>=$S62+$J44,D44<=$S62-$K44),1,0)","v":{"$error":"#N/A"}},{"$error":"#N/A"},{"$error":"#N/A"},{"$error":"#N/A"},{"$error":"#N/A"},{"$error":"#N/A"}]
[null,null,null,null,null,null,null,null,null,null,null,null,null,null,null,null,null,4,{"$f":"$B$21","v":" "},{"$error":"#N/A"},{"$error":"#N/A"},{"$error":"#N/A"},{"$error":"#N/A"},{"$error":"#N/A"},{"$error":"#N/A"}]
[null,null,null,null,null,null,null,null,null,null,null,null,null,null,null,null,null,8,{"$f":"$B$22","v":" "},{"$error":"#N/A"},{"$error":"#N/A"},{"$error":"#N/A"},{"$error":"#N/A"},{"$error":"#N/A"},{"$error":"#N/A"}]
[null,null,null,null,null,null,null,null,null,null,null,null,null,null,null,null,null,16,{"$f":"$B$23","v":" "},{"$error":"#N/A"},{"$error":"#N/A"},{"$error":"#N/A"},{"$error":"#N/A"},{"$error":"#N/A"},{"$error":"#N/A"}]
[null,null,null,null,null,null,null,null,null,null,null,null,null,null,null,null,null,30,{"$f":"$B$24","v":" "},{"$error":"#N/A"},{"$error":"#N/A"},{"$error":"#N/A"},{"$error":"#N/A"},{"$error":"#N/A"},{"$error":"#N/A"}]
[null,null,null,null,null,null,null,null,null,null,null,null,null,null,null,null,null,50,{"$f":"$B$25","v":" "},{"$error":"#N/A"},{"$error":"#N/A"},{"$error":"#N/A"},{"$error":"#N/A"},{"$error":"#N/A"},{"$error":"#N/A"}]
[null,null,null,null,null,null,null,null,null,null,null,null,null,null,null,null,null,100,{"$f":"$B$26","v":" "},{"$error":"#N/A"},{"$error":"#N/A"},{"$error":"#N/A"},{"$error":"#N/A"},{"$error":"#N/A"},{"$error":"#N/A"}]
[null,null,null,null,null,null,null,null,null,null,null,null,null,null,null,null,null,200,{"$f":"$B$27","v":" "},{"$error":"#N/A"},{"$error":"#N/A"},{"$error":"#N/A"},{"$error":"#N/A"},{"$error":"#N/A"},{"$error":"#N/A"}]
[null,null,null,null,null,null,null,null,null,null,null,null,null,null,null,null,null,"%AC",{"$f":"$B$28","v":" "},{"$error":"#N/A"},{"$error":"#N/A"},{"$error":"#N/A"},{"$error":"#N/A"},{"$error":"#N/A"},{"$error":"#N/A"}]
[null,null,{"$f":"MAX(C15:C23)","v":0},null,{"$f":"MAX(E15:E23)","v":0},null,{"$f":"MAX(G15:G23)","v":0},null,{"$f":"MAX(I15:I23)","v":0},null,{"$f":"MAX(K15:K23)","v":0},null,{"$f":"MAX(M15:M23)","v":0},null,null,null,null,null,"Max",{"$f":"MAX(T56:T70)","v":{"$error":"#N/A"}},{"$error":"#N/A"},{"$error":"#N/A"},{"$error":"#N/A"},{"$error":"#N/A"},{"$error":"#N/A"}]
[]
[null,null,null,null,null,null,null,null,null,null,null,null,null,null,null,null,null,null,"Multiple sample flag"]
[null,null,null,null,null,null,null,null,null,null,null,null,null,null,null,null,null,2,{"$f":"$B$15","v":" "},{"$f":"IF(ISBLANK(C15),0,IF(OR(D39>$S74+AP!$E$89,D39<$S74-AP!$E$93),2,0))","v":0},{"$f":"IF(ISBLANK(E15),0,IF(OR(E39>$S74+AP!$E$89,E39<$S74-AP!$E$93),2,0))","v":0},{"$f":"IF(ISBLANK(G15),0,IF(OR(F39>$S74+AP!$E$89,F39<$S74-AP!$E$93),2,0))","v":0},{"$f":"IF(ISBLANK(I15),0,IF(OR(G39>$S74+AP!$E$89,G39<$S74-AP!$E$93),2,0))","v":0},{"$f":"IF(ISBLANK(K15),0,IF(OR(H39>$S74+AP!$E$89,H39<$S74-AP!$E$93),2,0))","v":0},{"$f":"IF(ISBLANK(M15),0,IF(OR(I39>$S74+AP!$E$89,I39<$S74-AP!$E$93),2,0))","v":0}]
[null,null,null,null,null,null,null,null,null,null,null,null,null,null,null,null,null,1.5,{"$f":"$B$16","v":" "},{"$f":"IF(ISBLANK(C16),0,IF(OR(D40>$S75+AP!$E$83,D40<$S75-AP!$E$87),2,0))","v":0},{"$f":"IF(ISBLANK(E16),0,IF(OR(E40>$S75+AP!$E$89,E40<$S75-AP!$E$93),2,0))","v":0},{"$f":"IF(ISBLANK(G16),0,IF(OR(F40>$S75+AP!$E$89,F40<$S75-AP!$E$93),2,0))","v":0},{"$f":"IF(ISBLANK(I16),0,IF(OR(G40>$S75+AP!$E$89,G40<$S75-AP!$E$93),2,0))","v":0},{"$f":"IF(ISBLANK(K16),0,IF(OR(H40>$S75+AP!$E$89,H40<$S75-AP!$E$93),2,0))","v":0},{"$f":"IF(ISBLANK(M16),0,IF(OR(I40>$S75+AP!$E$89,I40<$S75-AP!$E$93),2,0))","v":0}]
[null,null,null,null,null,null,null,null,null,null,null,null,null,null,null,null,null,1,{"$f":"$B$17","v":" "},{"$f":"IF(ISBLANK(C17),0,IF(OR(D41>$S76+AP!$E$83,D41<$S76-AP!$E$87),2,0))","v":0},{"$f":"IF(ISBLANK(E17),0,IF(OR(E41>$S76+AP!$E$89,E41<$S76-AP!$E$93),2,0))","v":0},{"$f":"IF(ISBLANK(G17),0,IF(OR(F41>$S76+AP!$E$89,F41<$S76-AP!$E$93),2,0))","v":0},{"$f":"IF(ISBLANK(I17),0,IF(OR(G41>$S76+AP!$E$89,G41<$S76-AP!$E$93),2,0))","v":0},{"$f":"IF(ISBLANK(K17),0,IF(OR(H41>$S76+AP!$E$89,H41<$S76-AP!$E$93),2,0))","v":0},{"$f":"IF(ISBLANK(M17),0,IF(OR(I41>$S76+AP!$E$89,I41<$S76-AP!$E$93),2,0))","v":0}]
[null,null,null,null,null,null,null,null,null,null,null,null,null,null,null,null,null,0.75,{"$f":"$B$18","v":" "},{"$f":"IF(ISBLANK(C18),0,IF(OR(D42>$S77+AP!$E$83,D42<$S77-AP!$E$87),2,0))","v":0},{"$f":"IF(ISBLANK(E18),0,IF(OR(E42>$S77+AP!$E$89,E42<$S77-AP!$E$93),2,0))","v":0},{"$f":"IF(ISBLANK(G18),0,IF(OR(F42>$S77+AP!$E$89,F42<$S77-AP!$E$93),2,0))","v":0},{"$f":"IF(ISBLANK(I18),0,IF(OR(G42>$S77+AP!$E$89,G42<$S77-AP!$E$93),2,0))","v":0},{"$f":"IF(ISBLANK(K18),0,IF(OR(H42>$S77+AP!$E$89,H42<$S77-AP!$E$93),2,0))","v":0},{"$f":"IF(ISBLANK(M18),0,IF(OR(I42>$S77+AP!$E$89,I42<$S77-AP!$E$93),2,0))","v":0}]
[null,null,null,null,null,null,null,null,null,null,null,null,null,null,null,null,null,0.5,{"$f":"$B$19","v":" "},{"$f":"IF(ISBLANK(C19),0,IF(OR(D43>$S78+AP!$E$83,D43<$S78-AP!$E$87),2,0))","v":0},{"$f":"IF(ISBLANK(E19),0,IF(OR(E43>$S78+AP!$E$89,E43<$S78-AP!$E$93),2,0))","v":0},{"$f":"IF(ISBLANK(G19),0,IF(OR(F43>$S78+AP!$E$89,F43<$S78-AP!$E$93),2,0))","v":0},{"$f":"IF(ISBLANK(I19),0,IF(OR(G43>$S78+AP!$E$89,G43<$S78-AP!$E$93),2,0))","v":0},{"$f":"IF(ISBLANK(K19),0,IF(OR(H43>$S78+AP!$E$89,H43<$S78-AP!$E$93),2,0))","v":0},{"$f":"IF(ISBLANK(M19),0,IF(OR(I43>$S78+AP!$E$89,I43<$S78-AP!$E$93),2,0))","v":0}]
[null,null,null,null,null,null,null,null,null,null,null,null,null,null,null,null,null,0.375,{"$f":"$B$20","v":" "},{"$f":"IF(OR(D44>$S79+AP!$E$59,D44<$S79-AP!$E$63),2,0)","v":{"$error":"#N/A"}},{"$f":"IF(OR(E44>$S79+AP!$E$59,E44<$S79-AP!$E$63),2,0)","v":{"$error":"#N/A"}},{"$f":"IF(OR(F44>$S79+AP!$E$59,F44<$S79-AP!$E$63),2,0)","v":{"$error":"#N/A"}},{"$f":"IF(OR(G44>$S79+AP!$E$59,G44<$S79-AP!$E$63),2,0)","v":{"$error":"#N/A"}},{"$f":"IF(OR(H44>$S79+AP!$E$59,H44<$S79-AP!$E$63),2,0)","v":{"$error":"#N/A"}},{"$f":"IF(OR(I44>$S79+AP!$E$59,I44<$S79-AP!$E$63),2,0)","v":{"$error":"#N/A"}}]
[null,null,null,null,null,null,null,null,null,null,null,null,null,null,null,null,null,4,{"$f":"$B$21","v":" "},{"$f":"IF(OR(D45>$S80+AP!$E$53,D45<$S80-AP!$E$57),2,0)","v":{"$error":"#N/A"}},{"$f":"IF(OR(E45>$S80+AP!$E$53,E45<$S80-AP!$E$57),2,0)","v":{"$error":"#N/A"}},{"$f":"IF(OR(F45>$S80+AP!$E$53,F45<$S80-AP!$E$57),2,0)","v":{"$error":"#N/A"}},{"$f":"IF(OR(G45>$S80+AP!$E$53,G45<$S80-AP!$E$57),2,0)","v":{"$error":"#N/A"}},{"$f":"IF(OR(H45>$S80+AP!$E$53,H45<$S80-AP!$E$57),2,0)","v":{"$error":"#N/A"}},{"$f":"IF(OR(I45>$S80+AP!$E$53,I45<$S80-AP!$E$57),2,0)","v":{"$error":"#N/A"}}]
[null,null,null,null,null,null,null,null,null,null,null,null,null,null,null,null,null,8,{"$f":"$B$22","v":" "},{"$f":"IF(OR(D46>$S81+AP!$E$46,D46<$S81-AP!$E$50),2,0)","v":{"$error":"#N/A"}},{"$f":"IF(OR(E46>$S81+AP!$E$46,E46<$S81-AP!$E$50),2,0)","v":{"$error":"#N/A"}},{"$f":"IF(OR(F46>$S81+AP!$E$46,F46<$S81-AP!$E$50),2,0)","v":{"$error":"#N/A"}},{"$f":"IF(OR(G46>$S81+AP!$E$46,G46<$S81-AP!$E$50),2,0)","v":{"$error":"#N/A"}},{"$f":"IF(OR(H46>$S81+AP!$E$46,H46<$S81-AP!$E$50),2,0)","v":{"$error":"#N/A"}},{"$f":"IF(OR(I46>$S81+AP!$E$46,I46<$S81-AP!$E$50),2,0)","v":{"$error":"#N/A"}}]
[null,null,null,null,null,null,null,null,null,null,null,null,null,null,null,null,null,16,{"$f":"$B$23","v":" "},{"$f":"IF(OR(D47>$S82+AP!$E$39,D47<$S82-AP!$E$43),2,0)","v":{"$error":"#N/A"}},{"$f":"IF(OR(E47>$S82+AP!$E$39,E47<$S82-AP!$E$43),2,0)","v":{"$error":"#N/A"}},{"$f":"IF(OR(F47>$S82+AP!$E$39,F47<$S82-AP!$E$43),2,0)","v":{"$error":"#N/A"}},{"$f":"IF(OR(G47>$S82+AP!$E$39,G47<$S82-AP!$E$43),2,0)","v":{"$error":"#N/A"}},{"$f":"IF(OR(H47>$S82+AP!$E$39,H47<$S82-AP!$E$43),2,0)","v":{"$error":"#N/A"}},{"$f":"IF(OR(I47>$S82+AP!$E$39,I47<$S82-AP!$E$43),2,0)","v":{"$error":"#N/A"}}]
[null,null,null,null,null,null,null,null,null,null,null,null,null,null,null,null,null,30,{"$f":"$B$24","v":" "},{"$f":"IF(OR(D48>$S83+AP!$E$33,D48<$S83-AP!$E$37),2,0)","v":{"$error":"#N/A"}},{"$f":"IF(OR(E48>$S83+AP!$E$33,E48<$S83-AP!$E$37),2,0)","v":{"$error":"#N/A"}},{"$f":"IF(OR(F48>$S83+AP!$E$33,F48<$S83-AP!$E$37),2,0)","v":{"$error":"#N/A"}},{"$f":"IF(OR(G48>$S83+AP!$E$33,G48<$S83-AP!$E$37),2,0)","v":{"$error":"#N/A"}},{"$f":"IF(OR(H48>$S83+AP!$E$33,H48<$S83-AP!$E$37),2,0)","v":{"$error":"#N/A"}},{"$f":"IF(OR(I48>$S83+AP!$E$33,I48<$S83-AP!$E$37),2,0)","v":{"$error":"#N/A"}}]
[null,null,null,null,null,null,null,null,null,null,null,null,null,null,null,null,null,50,{"$f":"$B$25","v":" "},{"$f":"IF(OR(D49>$S84+AP!$E$27,D49<$S84-AP!$E$31),2,0)","v":{"$error":"#N/A"}},{"$f":"IF(OR(E49>$S84+AP!$E$27,E49<$S84-AP!$E$31),2,0)","v":{"$error":"#N/A"}},{"$f":"IF(OR(F49>$S84+AP!$E$27,F49<$S84-AP!$E$31),2,0)","v":{"$error":"#N/A"}},{"$f":"IF(OR(G49>$S84+AP!$E$27,G49<$S84-AP!$E$31),2,0)","v":{"$error":"#N/A"}},{"$f":"IF(OR(H49>$S84+AP!$E$27,H49<$S84-AP!$E$31),2,0)","v":{"$error":"#N/A"}},{"$f":"IF(OR(I49>$S84+AP!$E$27,I49<$S84-AP!$E$31),2,0)","v":{"$error":"#N/A"}}]
[null,null,null,null,null,null,null,null,null,null,null,null,null,null,null,null,null,100,{"$f":"$B$26","v":" "},{"$f":"IF(OR(D50>$S85+AP!$E$21,D50<$S85-AP!$E$25),2,0)","v":{"$error":"#N/A"}},{"$f":"IF(OR(E50>$S85+AP!$E$21,E50<$S85-AP!$E$25),2,0)","v":{"$error":"#N/A"}},{"$f":"IF(OR(F50>$S85+AP!$E$21,F50<$S85-AP!$E$25),2,0)","v":{"$error":"#N/A"}},{"$f":"IF(OR(G50>$S85+AP!$E$21,G50<$S85-AP!$E$25),2,0)","v":{"$error":"#N/A"}},{"$f":"IF(OR(H50>$S85+AP!$E$21,H50<$S85-AP!$E$25),2,0)","v":{"$error":"#N/A"}},{"$f":"IF(OR(I50>$S85+AP!$E$21,I50<$S85-AP!$E$25),2,0)","v":{"$error":"#N/A"}}]
[null,null,null,null,null,null,null,null,null,null,null,null,null,null,null,null,null,200,{"$f":"$B$27","v":" "},{"$f":"IF(OR(D51>$S86+AP!$E$14,D51<$S86-AP!$E$18),2,0)","v":{"$error":"#N/A"}},{"$f":"IF(OR(E51>$S86+AP!$E$14,E51<$S86-AP!$E$18),2,0)","v":{"$error":"#N/A"}},{"$f":"IF(OR(F51>$S86+AP!$E$14,F51<$S86-AP!$E$18),2,0)","v":{"$error":"#N/A"}},{"$f":"IF(OR(G51>$S86+AP!$E$14,G51<$S86-AP!$E$18),2,0)","v":{"$error":"#N/A"}},{"$f":"IF(OR(H51>$S86+AP!$E$14,H51<$S86-AP!$E$18),2,0)","v":{"$error":"#N/A"}},{"$f":"IF(OR(I51>$S86+AP!$E$14,I51<$S86-AP!$E$18),2,0)","v":{"$error":"#N/A"}}]
[null,null,null,null,null,null,null,null,null,null,null,null,null,null,null,null,null,"%AC",{"$f":"$B$28","v":" "},{"$f":"IF(OR(D52>AP!$L$6,D52<AP!$L$10),2,0)","v":{"$error":"#N/A"}},{"$f":"IF(OR(E52>AP!$L$6,E52<AP!$L$10),2,0)","v":{"$error":"#N/A"}},{"$f":"IF(OR(F52>AP!$L$6,F52<AP!$L$10),2,0)","v":{"$error":"#N/A"}},{"$f":"IF(OR(G52>AP!$L$6,G52<AP!$L$10),2,0)","v":{"$error":"#N/A"}},{"$f":"IF(OR(H52>AP!$L$6,H52<AP!$L$10),2,0)","v":{"$error":"#N/A"}},{"$f":"IF(OR(I52>AP!$L$6,I52<AP!$L$10),2,0)","v":{"$error":"#N/A"}}]
[null,null,null,null,null,null,null,null,null,null,null,null,null,null,null,null,null,null,"Max",{"$f":"MAX(T74:T87)","v":{"$error":"#N/A"}},{"$error":"#N/A"},{"$error":"#N/A"},{"$error":"#N/A"},{"$error":"#N/A"},{"$error":"#N/A"}]
[]
[null,null,null,null,null,null,null,null,null,null,null,null,null,null,null,null,null,null,"Single sample flag"]
[null,null,null,null,null,null,null,null,null,null,null,null,null,null,null,null,null,8,{"$f":"$B$22","v":" "},{"$f":"IF(OR($D$22>$S91+AP!$E$45,$D$22<$S91-AP!$E$51),3,0)","v":{"$error":"#VALUE!"}},{"$f":"IF(OR($F$22>$S91+AP!$E$45,$F$22<$S91-AP!$E$51),3,0)","v":{"$error":"#VALUE!"}},{"$f":"IF(OR($H$22>$S91+AP!$E$45,$H$22<$S91-AP!$E$51),3,0)","v":{"$error":"#VALUE!"}},{"$f":"IF(OR($J$22>$S91+AP!$E$45,$J$22<$S91-AP!$E$51),3,0)","v":{"$error":"#VALUE!"}},{"$f":"IF(OR($L$22>$S91+AP!$E$45,$L$22<$S91-AP!$E$51),3,0)","v":{"$error":"#VALUE!"}},{"$f":"IF(OR($N$22>$S91+AP!$E$45,$N$22<$S91-AP!$E$51),3,0)","v":{"$error":"#VALUE!"}}]
[null,null,null,null,null,null,null,null,null,null,null,null,null,null,null,null,null,200,{"$f":"$B$27","v":" "},{"$f":"IF(OR($D$27>$S92+AP!$E$13,$D$27<$S92-AP!$E$19),3,0)","v":{"$error":"#VALUE!"}},{"$f":"IF(OR($F$27>$S92+AP!$E$13,$F$27<$S92-AP!$E$19),3,0)","v":{"$error":"#VALUE!"}},{"$f":"IF(OR($H$27>$S92+AP!$E$13,$H$27<$S92-AP!$E$19),3,0)","v":{"$error":"#VALUE!"}},{"$f":"IF(OR($J$27>$S92+AP!$E$13,$J$27<$S92-AP!$E$19),3,0)","v":{"$error":"#VALUE!"}},{"$f":"IF(OR($L$27>$S92+AP!$E$13,$L$27<$S92-AP!$E$19),3,0)","v":{"$error":"#VALUE!"}},{"$f":"IF(OR($N$27>$S92+AP!$E$13,$N$27<$S92-AP!$E$19),3,0)","v":{"$error":"#VALUE!"}}]
[null,null,null,null,null,null,null,null,null,null,null,null,null,null,null,null,null,"%AC",{"$f":"$B$28","v":" "},{"$f":"IF(OR($C$28>AP!$L$5,$C$28<AP!$L$11),3,0)","v":0},{"$f":"IF(OR($E$28>AP!$L$5,$E$28<AP!$L$11),3,0)","v":0},{"$f":"IF(OR($G$28>AP!$L$5,$G$28<AP!$L$11),3,0)","v":0},{"$f":"IF(OR($I$28>AP!$L$5,$I$28<AP!$L$11),3,0)","v":0},{"$f":"IF(OR($K$28>AP!$L$5,$K$28<AP!$L$11),3,0)","v":0},{"$f":"IF(OR($M$28>AP!$L$5,$M$28<AP!$L$11),3,0)","v":0}]
[null,null,null,null,null,null,null,null,null,null,null,null,null,null,null,null,null,null,"Max",{"$f":"IF(ISBLANK(C27),\" \",MAX(T91:T93))","v":" "},{"$f":"IF(ISBLANK(E27),\" \",MAX(U91:U93))","v":" "},{"$f":"IF(ISBLANK(G27),\" \",MAX(V91:V93))","v":" "},{"$f":"IF(ISBLANK(I27),\" \",MAX(W91:W93))","v":" "},{"$f":"IF(ISBLANK(K27),\" \",MAX(X91:X93))","v":" "},{"$f":"IF(ISBLANK(M27),\" \",MAX(Y91:Y93))","v":" "}]

{"sheet":"S10","index":9,"n_rows":94,"n_cols":25,"rows_kept":94,"cut":false,"hidden":true,"merged":[[52,0,52,1],[52,2,52,3],[59,6,68,7],[59,4,68,5],[59,2,68,3],[55,18,55,24],[72,18,72,24],[89,18,89,24],[53,0,68,1],[53,12,58,13],[53,10,58,11],[53,8,58,9],[53,6,58,7],[53,4,58,5],[53,2,58,3],[52,12,52,13],[31,12,31,13],[52,4,52,5],[52,6,52,7],[52,8,52,9],[52,10,52,11],[30,4,30,5],[59,12,68,13],[59,10,68,11],[59,8,68,9],[30,12,30,13],[37,9,37,10],[37,3,37,8],[30,10,30,11],[10,0,10,1],[12,8,12,9],[29,0,31,0],[30,2,30,3],[30,6,30,7],[30,8,30,9],[29,6,29,7],[31,2,31,3],[31,4,31,5],[31,6,31,7],[31,8,31,9],[29,12,29,13],[27,8,27,9],[28,8,28,9],[27,12,27,13],[28,10,28,11],[11,10,11,11],[27,2,27,3],[28,2,28,3],[28,6,28,7],[27,6,27,7],[29,2,29,3],[29,8,29,9],[29,10,29,11],[29,4,29,5],[11,2,11,3],[11,4,11,5],[27,4,27,5],[28,4,28,5],[12,10,12,11],[11,12,11,13],[37,0,37,2],[28,0,28,1],[31,10,31,11],[28,12,28,13],[27,10,27,11],[10,10,10,11],[12,12,12,13],[9,0,9,1],[10,6,10,7],[10,2,10,3],[9,6,9,7],[9,4,9,5],[10,4,10,5],[9,10,9,11],[9,12,9,13],[12,0,12,1],[12,2,12,3],[12,4,12,5],[12,6,12,7],[11,0,11,1],[11,8,11,9],[11,6,11,7],[10,8,10,9],[10,12,10,13],[9,8,9,9],[0,0,3,1],[8,4,8,5],[9,2,9,3],[8,6,8,7],[8,0,8,1],[7,0,7,2],[5,0,5,1],[7,5,7,8],[5,5,5,8],[8,8,8,9],[8,2,8,3],[8,12,8,13],[8,10,8,11],[2,12,2,13],[1,10,1,11],[5,10,5,11],[6,10,6,11],[6,12,6,13],[5,12,5,13],[1,12,1,13],[2,10,2,11]]}
[]
[null,null,null,null,"COMMONWEALTH OF PENNSYLVANIA",null,null,null,null,null,"DISTRICT",null,{"$f":"IF(ISBLANK('S1'!M2),\" \",('S1'!M2))","v":" "}]
[null,null,null,null,"DEPARTMENT OF TRANSPORTATION",null,null,null,null,null,"PLANT CODE",null,{"$f":"IF(ISBLANK('S1'!M3),\" \",('S1'!M3))","v":" "}]
[null,null,null,null,"LABORATORY TEST SECTION"]
[{"$f":"'S1'!A5","v":"ESB-16"}]
["Material Class ",null,{"$f":"IF(ISBLANK('S1'!C6),\" \",('S1'!C6))","v":9.5},"mm",null,"Burnoff Results",null,null,null,null,"Design No.",null,{"$f":"IF(ISBLANK('S1'!M6),\" \",('S1'!M6))","v":" "}]
[null,null,null,null,null,null,null,null,null,null,"Gyrations @ Ndes",null,{"$f":"IF(ISBLANK('S1'!M7),\" \",'S1'!M7)","v":" "}]
["-200 Correction Factor (+ or -)",null,null,{"$f":"IF(ISBLANK('S1'!D8),\" \",('S1'!D8))","v":" "},null,"Red values indicate action area"]
["Sample No."]
["Date"]
["St. Wt. Before Wash"]
["Dry Wt. After Wash"]
["Wt. Loss",null,{"$f":"IF(ISBLANK(C11),\" \",IF(ISBLANK(C12),\" \",C11-C12))","v":" "},null,{"$f":"IF(ISBLANK(E11),\" \",IF(ISBLANK(E12),\" \",E11-E12))","v":" "},null,{"$f":"IF(ISBLANK(G11),\" \",IF(ISBLANK(G12),\" \",G11-G12))","v":" "},null,{"$f":"IF(ISBLANK(I11),\" \",IF(ISBLANK(I12),\" \",I11-I12))","v":" "},null,{"$f":"IF(ISBLANK(K11),\" \",IF(ISBLANK(K12),\" \",K11-K12))","v":" "},null,{"$f":"IF(ISBLANK(M11),\" \",IF(ISBLANK(M12),\" \",M11-M12))","v":" "}]
["Size","JMF","Weight","%Passing","Weight","%Passing","Weight","%Passing","Weight","%Pasing","Weight","%Pasing","Weight","%Pasing"]
[2,{"$f":"IF(ISBLANK('S1'!B15),\" \",'S1'!B15)","v":" "},null,{"$f":"IF(ISBLANK(C11),\" \",IF(ISBLANK(C12),\" \",IF(ISBLANK(C15),\" \",ROUND((C15+C13)/C11*100,0))))","v":" "},null,{"$f":"IF(ISBLANK(E11),\" \",IF(ISBLANK(E12),\" \",IF(ISBLANK(E15),\" \",ROUND((E15+E13)/E11*100,0))))","v":" "},null,{"$f":"IF(ISBLANK(G11),\" \",IF(ISBLANK(G12),\" \",IF(ISBLANK(G15),\" \",ROUND((G15+G13)/G11*100,0))))","v":" "},null,{"$f":"IF(ISBLANK(I11),\" \",IF(ISBLANK(I12),\" \",IF(ISBLANK(I15),\" \",ROUND((I15+I13)/I11*100,0))))","v":" "},null,{"$f":"IF(ISBLANK(K11),\" \",IF(ISBLANK(K12),\" \",IF(ISBLANK(K15),\" \",ROUND((K15+K13)/K11*100,0))))","v":" "},null,{"$f":"IF(ISBLANK(M11),\" \",IF(ISBLANK(M12),\" \",IF(ISBLANK(M15),\" \",ROUND((M15+M13)/M11*100,0))))","v":" "}]
[1.5,{"$f":"IF(ISBLANK('S1'!B16),\" \",'S1'!B16)","v":" "},null,{"$f":"IF(ISBLANK(C11),\"  \",IF(ISBLANK(C12),\" \",IF(ISBLANK(C16),\" \",ROUND((C16+C13)/C11*100,0))))","v":"  "},null,{"$f":"IF(ISBLANK(E11),\"  \",IF(ISBLANK(E12),\" \",IF(ISBLANK(E16),\" \",ROUND((E16+E13)/E11*100,0))))","v":"  "},null,{"$f":"IF(ISBLANK(G11),\"  \",IF(ISBLANK(G12),\" \",IF(ISBLANK(G16),\" \",ROUND((G16+G13)/G11*100,0))))","v":"  "},null,{"$f":"IF(ISBLANK(I11),\"  \",IF(ISBLANK(I12),\" \",IF(ISBLANK(I16),\" \",ROUND((I16+I13)/I11*100,0))))","v":"  "},null,{"$f":"IF(ISBLANK(K11),\"  \",IF(ISBLANK(K12),\" \",IF(ISBLANK(K16),\" \",ROUND((K16+K13)/K11*100,0))))","v":"  "},null,{"$f":"IF(ISBLANK(M11),\"  \",IF(ISBLANK(M12),\" \",IF(ISBLANK(M16),\" \",ROUND((M16+M13)/M11*100,0))))","v":"  "}]
[1,{"$f":"IF(ISBLANK('S1'!B17),\" \",'S1'!B17)","v":" "},null,{"$f":"IF(ISBLANK(C11),\"  \",IF(ISBLANK(C12),\" \",IF(ISBLANK(C17),\" \",ROUND((C17+C13)/C11*100,0))))","v":"  "},null,{"$f":"IF(ISBLANK(E11),\"  \",IF(ISBLANK(E12),\" \",IF(ISBLANK(E17),\" \",ROUND((E17+E13)/E11*100,0))))","v":"  "},null,{"$f":"IF(ISBLANK(G11),\"  \",IF(ISBLANK(G12),\" \",IF(ISBLANK(G17),\" \",ROUND((G17+G13)/G11*100,0))))","v":"  "},null,{"$f":"IF(ISBLANK(I11),\"  \",IF(ISBLANK(I12),\" \",IF(ISBLANK(I17),\" \",ROUND((I17+I13)/I11*100,0))))","v":"  "},null,{"$f":"IF(ISBLANK(K11),\"  \",IF(ISBLANK(K12),\" \",IF(ISBLANK(K17),\" \",ROUND((K17+K13)/K11*100,0))))","v":"  "},null,{"$f":"IF(ISBLANK(M11),\"  \",IF(ISBLANK(M12),\" \",IF(ISBLANK(M17),\" \",ROUND((M17+M13)/M11*100,0))))","v":"  "}]
[0.75,{"$f":"IF(ISBLANK('S1'!B18),\" \",'S1'!B18)","v":" "},null,{"$f":"IF(ISBLANK(C11),\"  \",IF(ISBLANK(C12),\" \",IF(ISBLANK(C18),\" \",ROUND((C18+C13)/C11*100,0))))","v":"  "},null,{"$f":"IF(ISBLANK(E11),\"  \",IF(ISBLANK(E12),\" \",IF(ISBLANK(E18),\" \",ROUND((E18+E13)/E11*100,0))))","v":"  "},null,{"$f":"IF(ISBLANK(G11),\"  \",IF(ISBLANK(G12),\" \",IF(ISBLANK(G18),\" \",ROUND((G18+G13)/G11*100,0))))","v":"  "},null,{"$f":"IF(ISBLANK(I11),\"  \",IF(ISBLANK(I12),\" \",IF(ISBLANK(I18),\" \",ROUND((I18+I13)/I11*100,0))))","v":"  "},null,{"$f":"IF(ISBLANK(K11),\"  \",IF(ISBLANK(K12),\" \",IF(ISBLANK(K18),\" \",ROUND((K18+K13)/K11*100,0))))","v":"  "},null,{"$f":"IF(ISBLANK(M11),\"  \",IF(ISBLANK(M12),\" \",IF(ISBLANK(M18),\" \",ROUND((M18+M13)/M11*100,0))))","v":"  "}]
[0.5,{"$f":"IF(ISBLANK('S1'!B19),\" \",'S1'!B19)","v":" "},null,{"$f":"IF(ISBLANK(C11),\"  \",IF(ISBLANK(C12),\" \",IF(ISBLANK(C19),\" \",ROUND((C19+C13)/C11*100,0))))","v":"  "},null,{"$f":"IF(ISBLANK(E11),\"  \",IF(ISBLANK(E12),\" \",IF(ISBLANK(E19),\" \",ROUND((E19+E13)/E11*100,0))))","v":"  "},null,{"$f":"IF(ISBLANK(G11),\"  \",IF(ISBLANK(G12),\" \",IF(ISBLANK(G19),\" \",ROUND((G19+G13)/G11*100,0))))","v":"  "},null,{"$f":"IF(ISBLANK(I11),\"  \",IF(ISBLANK(I12),\" \",IF(ISBLANK(I19),\" \",ROUND((I19+I13)/I11*100,0))))","v":"  "},null,{"$f":"IF(ISBLANK(K11),\"  \",IF(ISBLANK(K12),\" \",IF(ISBLANK(K19),\" \",ROUND((K19+K13)/K11*100,0))))","v":"  "},null,{"$f":"IF(ISBLANK(M11),\"  \",IF(ISBLANK(M12),\" \",IF(ISBLANK(M19),\" \",ROUND((M19+M13)/M11*100,0))))","v":"  "}]
[0.375,{"$f":"IF(ISBLANK('S1'!B20),\" \",'S1'!B20)","v":" "},null,{"$f":"IF(ISBLANK(C11),\"  \",IF(ISBLANK(C12),\" \",IF(ISBLANK(C20),\" \",ROUND((C20+C13)/C11*100,0))))","v":"  "},null,{"$f":"IF(ISBLANK(E11),\"  \",IF(ISBLANK(E12),\" \",IF(ISBLANK(E20),\" \",ROUND((E20+E13)/E11*100,0))))","v":"  "},null,{"$f":"IF(ISBLANK(G11),\"  \",IF(ISBLANK(G12),\" \",IF(ISBLANK(G20),\" \",ROUND((G20+G13)/G11*100,0))))","v":"  "},null,{"$f":"IF(ISBLANK(I11),\"  \",IF(ISBLANK(I12),\" \",IF(ISBLANK(I20),\" \",ROUND((I20+I13)/I11*100,0))))","v":"  "},null,{"$f":"IF(ISBLANK(K11),\"  \",IF(ISBLANK(K12),\" \",IF(ISBLANK(K20),\" \",ROUND((K20+K13)/K11*100,0))))","v":"  "},null,{"$f":"IF(ISBLANK(M11),\"  \",IF(ISBLANK(M12),\" \",IF(ISBLANK(M20),\" \",ROUND((M20+M13)/M11*100,0))))","v":"  "}]
[4,{"$f":"IF(ISBLANK('S1'!B21),\" \",'S1'!B21)","v":" "},null,{"$f":"IF(ISBLANK(C11),\"  \",IF(ISBLANK(C12),\" \",IF(ISBLANK(C21),\" \",ROUND((C21+C13)/C11*100,0))))","v":"  "},null,{"$f":"IF(ISBLANK(E11),\"  \",IF(ISBLANK(E12),\" \",IF(ISBLANK(E21),\" \",ROUND((E21+E13)/E11*100,0))))","v":"  "},null,{"$f":"IF(ISBLANK(G11),\"  \",IF(ISBLANK(G12),\" \",IF(ISBLANK(G21),\" \",ROUND((G21+G13)/G11*100,0))))","v":"  "},null,{"$f":"IF(ISBLANK(I11),\"  \",IF(ISBLANK(I12),\" \",IF(ISBLANK(I21),\" \",ROUND((I21+I13)/I11*100,0))))","v":"  "},null,{"$f":"IF(ISBLANK(K11),\"  \",IF(ISBLANK(K12),\" \",IF(ISBLANK(K21),\" \",ROUND((K21+K13)/K11*100,0))))","v":"  "},null,{"$f":"IF(ISBLANK(M11),\"  \",IF(ISBLANK(M12),\" \",IF(ISBLANK(M21),\" \",ROUND((M21+M13)/M11*100,0))))","v":"  "}]
[8,{"$f":"IF(ISBLANK('S1'!B22),\" \",'S1'!B22)","v":" "},null,{"$f":"IF(ISBLANK(C11),\"  \",IF(ISBLANK(C12),\" \",IF(ISBLANK(C22),\" \",ROUND((C22+C13)/C11*100,0))))","v":"  "},null,{"$f":"IF(ISBLANK(E11),\"  \",IF(ISBLANK(E12),\" \",IF(ISBLANK(E22),\" \",ROUND((E22+E13)/E11*100,0))))","v":"  "},null,{"$f":"IF(ISBLANK(G11),\"  \",IF(ISBLANK(G12),\" \",IF(ISBLANK(G22),\" \",ROUND((G22+G13)/G11*100,0))))","v":"  "},null,{"$f":"IF(ISBLANK(I11),\"  \",IF(ISBLANK(I12),\" \",IF(ISBLANK(I22),\" \",ROUND((I22+I13)/I11*100,0))))","v":"  "},null,{"$f":"IF(ISBLANK(K11),\"  \",IF(ISBLANK(K12),\" \",IF(ISBLANK(K22),\" \",ROUND((K22+K13)/K11*100,0))))","v":"  "},null,{"$f":"IF(ISBLANK(M11),\"  \",IF(ISBLANK(M12),\" \",IF(ISBLANK(M22),\" \",ROUND((M22+M13)/M11*100,0))))","v":"  "}]
[16,{"$f":"IF(ISBLANK('S1'!B23),\" \",'S1'!B23)","v":" "},null,{"$f":"IF(ISBLANK(C11),\"  \",IF(ISBLANK(C12),\" \",IF(ISBLANK(C23),\" \",ROUND((C23+C13)/C11*100,0))))","v":"  "},null,{"$f":"IF(ISBLANK(E11),\"  \",IF(ISBLANK(E12),\" \",IF(ISBLANK(E23),\" \",ROUND((E23+E13)/E11*100,0))))","v":"  "},null,{"$f":"IF(ISBLANK(G11),\"  \",IF(ISBLANK(G12),\" \",IF(ISBLANK(G23),\" \",ROUND((G23+G13)/G11*100,0))))","v":"  "},null,{"$f":"IF(ISBLANK(I11),\"  \",IF(ISBLANK(I12),\" \",IF(ISBLANK(I23),\" \",ROUND((I23+I13)/I11*100,0))))","v":"  "},null,{"$f":"IF(ISBLANK(K11),\"  \",IF(ISBLANK(K12),\" \",IF(ISBLANK(K23),\" \",ROUND((K23+K13)/K11*100,0))))","v":"  "},null,{"$f":"IF(ISBLANK(M11),\"  \",IF(ISBLANK(M12),\" \",IF(ISBLANK(M23),\" \",ROUND((M23+M13)/M11*100,0))))","v":"  "}]
[30,{"$f":"IF(ISBLANK('S1'!B24),\" \",'S1'!B24)","v":" "},null,{"$f":"IF(ISBLANK(C11),\"  \",IF(ISBLANK(C12),\" \",IF(ISBLANK(C24),\" \",ROUND((C24+C13)/C11*100,0))))","v":"  "},null,{"$f":"IF(ISBLANK(E11),\"  \",IF(ISBLANK(E12),\" \",IF(ISBLANK(E24),\" \",ROUND((E24+E13)/E11*100,0))))","v":"  "},null,{"$f":"IF(ISBLANK(G11),\"  \",IF(ISBLANK(G12),\" \",IF(ISBLANK(G24),\" \",ROUND((G24+G13)/G11*100,0))))","v":"  "},null,{"$f":"IF(ISBLANK(I11),\"  \",IF(ISBLANK(I12),\" \",IF(ISBLANK(I24),\" \",ROUND((I24+I13)/I11*100,0))))","v":"  "},null,{"$f":"IF(ISBLANK(K11),\"  \",IF(ISBLANK(K12),\" \",IF(ISBLANK(K24),\" \",ROUND((K24+K13)/K11*100,0))))","v":"  "},null,{"$f":"IF(ISBLANK(M11),\"  \",IF(ISBLANK(M12),\" \",IF(ISBLANK(M24),\" \",ROUND((M24+M13)/M11*100,0))))","v":"  "}]
[50,{"$f":"IF(ISBLANK('S1'!B25),\" \",'S1'!B25)","v":" "},null,{"$f":"IF(ISBLANK(C11),\"  \",IF(ISBLANK(C12),\" \",IF(ISBLANK(C25),\" \",ROUND((C25+C13)/C11*100,0))))","v":"  "},null,{"$f":"IF(ISBLANK(E11),\"  \",IF(ISBLANK(E12),\" \",IF(ISBLANK(E25),\" \",ROUND((E25+E13)/E11*100,0))))","v":"  "},null,{"$f":"IF(ISBLANK(G11),\"  \",IF(ISBLANK(G12),\" \",IF(ISBLANK(G25),\" \",ROUND((G25+G13)/G11*100,0))))","v":"  "},null,{"$f":"IF(ISBLANK(I11),\"  \",IF(ISBLANK(I12),\" \",IF(ISBLANK(I25),\" \",ROUND((I25+I13)/I11*100,0))))","v":"  "},null,{"$f":"IF(ISBLANK(K11),\"  \",IF(ISBLANK(K12),\" \",IF(ISBLANK(K25),\" \",ROUND((K25+K13)/K11*100,0))))","v":"  "},null,{"$f":"IF(ISBLANK(M11),\"  \",IF(ISBLANK(M12),\" \",IF(ISBLANK(M25),\" \",ROUND((M25+M13)/M11*100,0))))","v":"  "}]
[100,{"$f":"IF(ISBLANK('S1'!B26),\" \",'S1'!B26)","v":" "},null,{"$f":"IF(ISBLANK(C11),\"  \",IF(ISBLANK(C12),\" \",IF(ISBLANK(C26),\" \",ROUND((C26+C13)/C11*100,0))))","v":"  "},null,{"$f":"IF(ISBLANK(E11),\"  \",IF(ISBLANK(E12),\" \",IF(ISBLANK(E26),\" \",ROUND((E26+E13)/E11*100,0))))","v":"  "},null,{"$f":"IF(ISBLANK(G11),\"  \",IF(ISBLANK(G12),\" \",IF(ISBLANK(G26),\" \",ROUND((G26+G13)/G11*100,0))))","v":"  "},null,{"$f":"IF(ISBLANK(I11),\"  \",IF(ISBLANK(I12),\" \",IF(ISBLANK(I26),\" \",ROUND((I26+I13)/I11*100,0))))","v":"  "},null,{"$f":"IF(ISBLANK(K11),\"  \",IF(ISBLANK(K12),\" \",IF(ISBLANK(K26),\" \",ROUND((K26+K13)/K11*100,0))))","v":"  "},null,{"$f":"IF(ISBLANK(M11),\"  \",IF(ISBLANK(M12),\" \",IF(ISBLANK(M26),\" \",ROUND((M26+M13)/M11*100,0))))","v":"  "}]
[200,{"$f":"IF(ISBLANK('S1'!B27),\" \",'S1'!B27)","v":" "},null,{"$f":"IF(ISBLANK(C11),\"  \",IF(ISBLANK(C12),\" \",IF(ISBLANK(C27),\" \",ROUND((C27+C13)/C11*100+$D$8,1))))","v":"  "},null,{"$f":"IF(ISBLANK(E11),\"  \",IF(ISBLANK(E12),\" \",IF(ISBLANK(E27),\" \",ROUND((E27+E13)/E11*100+$D$8,1))))","v":"  "},null,{"$f":"IF(ISBLANK(G11),\"  \",IF(ISBLANK(G12),\" \",IF(ISBLANK(G27),\" \",ROUND((G27+G13)/G11*100+$D$8,1))))","v":"  "},null,{"$f":"IF(ISBLANK(I11),\"  \",IF(ISBLANK(I12),\" \",IF(ISBLANK(I27),\" \",ROUND((I27+I13)/I11*100+$D$8,1))))","v":"  "},null,{"$f":"IF(ISBLANK(K11),\"  \",IF(ISBLANK(K12),\" \",IF(ISBLANK(K27),\" \",ROUND((K27+K13)/K11*100+$D$8,1))))","v":"  "},null,{"$f":"IF(ISBLANK(M11),\"  \",IF(ISBLANK(M12),\" \",IF(ISBLANK(M27),\" \",ROUND((M27+M13)/M11*100+$D$8,1))))","v":"  "}]
["%AC",{"$f":"IF(ISBLANK('S1'!B28),\" \",'S1'!B28)","v":" "}]
["Percent Loss / Gain",null,{"$f":"IF(ISBLANK(C12),\"\",IF(ISBLANK(C20),\"\",(C12-C71)/C12*100))","v":""},null,{"$f":"IF(ISBLANK(E12),\"\",IF(ISBLANK(E20),\"\",(E12-E71)/E12*100))","v":""},null,{"$f":"IF(ISBLANK(G12),\"\",IF(ISBLANK(G20),\"\",(G12-G71)/G12*100))","v":""},null,{"$f":"IF(ISBLANK(I12),\"\",IF(ISBLANK(I20),\"\",(I12-I71)/I12*100))","v":""},null,{"$f":"IF(ISBLANK(K12),\"\",IF(ISBLANK(K20),\"\",(K12-K71)/K12*100))","v":""},null,{"$f":"IF(ISBLANK(M12),\"\",IF(ISBLANK(M20),\"\",(M12-M71)/M12*100))","v":""}]
["Apparent Moisture","Orig Wt"]
[null,"Const Wt"]
[null,"% moisture",{"$f":"IF(ISBLANK(C30),\" \",IF(ISBLANK(C31),\" \",((C30-C31)/C31)*100))","v":" "},null,{"$f":"IF(ISBLANK(E30),\" \",IF(ISBLANK(E31),\" \",((E30-E31)/E31)*100))","v":" "},null,{"$f":"IF(ISBLANK(G30),\" \",IF(ISBLANK(G31),\" \",((G30-G31)/G31)*100))","v":" "},null,{"$f":"IF(ISBLANK(I30),\" \",IF(ISBLANK(I31),\" \",((I30-I31)/I31)*100))","v":" "},null,{"$f":"IF(ISBLANK(K30),\" \",IF(ISBLANK(K31),\" \",((K30-K31)/K31)*100))","v":" "},null,{"$f":"IF(ISBLANK(M30),\" \",IF(ISBLANK(M31),\" \",((M30-M31)/M31)*100))","v":" "}]
[]
[]
[]
[]
[]
["Sets up Min and Max for charts",null,null,"Running Avg for Conditional Format",null,null,null,null,null,"AP upper & lower Tolerances"]
["#4",{"$f":"B21-8","v":{"$error":"#VALUE!"}},{"$f":"B21+8","v":{"$error":"#VALUE!"}},{"$f":"'S17'!$AC58","v":{"$error":"#N/A"}},{"$f":"'S17'!$AC59","v":{"$error":"#N/A"}},{"$f":"'S17'!$AC60","v":{"$error":"#N/A"}},{"$f":"'S17'!$AC61","v":{"$error":"#N/A"}},{"$f":"'S17'!$AC62","v":{"$error":"#N/A"}},{"$f":"'S17'!$AC63","v":{"$error":"#N/A"}},{"$f":"AP!E90","v":5},{"$f":"AP!E92","v":5}]
["#8",{"$f":"B22-6","v":{"$error":"#VALUE!"}},{"$f":"B22+6","v":{"$error":"#VALUE!"}},{"$f":"'S17'!$AA58","v":{"$error":"#N/A"}},{"$f":"'S17'!$AA59","v":{"$error":"#N/A"}},{"$f":"'S17'!$AA60","v":{"$error":"#N/A"}},{"$f":"'S17'!$AA61","v":{"$error":"#N/A"}},{"$f":"'S17'!$AA62","v":{"$error":"#N/A"}},{"$f":"'S17'!$AA63","v":{"$error":"#N/A"}},{"$f":"AP!E84","v":5},{"$f":"AP!E86","v":5}]
["#200",{"$f":"B27-2","v":{"$error":"#VALUE!"}},{"$f":"B27+2","v":{"$error":"#VALUE!"}},{"$f":"'S17'!$Y58","v":{"$error":"#N/A"}},{"$f":"'S17'!$Y59","v":{"$error":"#N/A"}},{"$f":"'S17'!$Y60","v":{"$error":"#N/A"}},{"$f":"'S17'!$Y61","v":{"$error":"#N/A"}},{"$f":"'S17'!$Y62","v":{"$error":"#N/A"}},{"$f":"'S17'!$Y63","v":{"$error":"#N/A"}},{"$f":"AP!E78","v":5},{"$f":"AP!E80","v":5}]
["AC",{"$f":"B28-0.4","v":{"$error":"#VALUE!"}},{"$f":"B28+0.4","v":{"$error":"#VALUE!"}},{"$f":"'S17'!$W58","v":{"$error":"#N/A"}},{"$f":"'S17'!$W59","v":{"$error":"#N/A"}},{"$f":"'S17'!$W60","v":{"$error":"#N/A"}},{"$f":"'S17'!$W61","v":{"$error":"#N/A"}},{"$f":"'S17'!$W62","v":{"$error":"#N/A"}},{"$f":"'S17'!$W63","v":{"$error":"#N/A"}},{"$f":"AP!E72","v":5},{"$f":"AP!E74","v":5}]
[null,null,null,{"$f":"'S17'!$U58","v":{"$error":"#N/A"}},{"$f":"'S17'!U59","v":{"$error":"#N/A"}},{"$f":"'S17'!U60","v":{"$error":"#N/A"}},{"$f":"'S17'!U61","v":{"$error":"#N/A"}},{"$f":"'S17'!U62","v":{"$error":"#N/A"}},{"$f":"'S17'!U63","v":{"$error":"#N/A"}},{"$f":"AP!E66","v":5},{"$f":"AP!E68","v":5}]
[null,null,null,{"$f":"'S17'!$S58","v":{"$error":"#N/A"}},{"$f":"'S17'!$S59","v":{"$error":"#N/A"}},{"$f":"'S17'!$S60","v":{"$error":"#N/A"}},{"$f":"'S17'!$S61","v":{"$error":"#N/A"}},{"$f":"'S17'!$S62","v":{"$error":"#N/A"}},{"$f":"'S17'!$S63","v":{"$error":"#N/A"}},{"$f":"AP!E60","v":3},{"$f":"AP!E62","v":3}]
[null,null,null,{"$f":"'S17'!$Q58","v":{"$error":"#N/A"}},{"$f":"'S17'!Q59","v":{"$error":"#N/A"}},{"$f":"'S17'!Q60","v":{"$error":"#N/A"}},{"$f":"'S17'!Q61","v":{"$error":"#N/A"}},{"$f":"'S17'!Q62","v":{"$error":"#N/A"}},{"$f":"'S17'!Q63","v":{"$error":"#N/A"}},{"$f":"AP!E54","v":3},{"$f":"AP!E56","v":3}]
[null,null,null,{"$f":"'S17'!$O58","v":{"$error":"#N/A"}},{"$f":"'S17'!O59","v":{"$error":"#N/A"}},{"$f":"'S17'!O60","v":{"$error":"#N/A"}},{"$f":"'S17'!O61","v":{"$error":"#N/A"}},{"$f":"'S17'!O62","v":{"$error":"#N/A"}},{"$f":"'S17'!O63","v":{"$error":"#N/A"}},{"$f":"AP!E47","v":3},{"$f":"AP!E49","v":3}]
[null,null,null,{"$f":"'S17'!$M58","v":{"$error":"#N/A"}},{"$f":"'S17'!$M59","v":{"$error":"#N/A"}},{"$f":"'S17'!$M60","v":{"$error":"#N/A"}},{"$f":"'S17'!$M61","v":{"$error":"#N/A"}},{"$f":"'S17'!$M62","v":{"$error":"#N/A"}},{"$f":"'S17'!$M63","v":{"$error":"#N/A"}},{"$f":"AP!E40","v":3},{"$f":"AP!E42","v":3}]
[null,null,null,{"$f":"'S17'!$K58","v":{"$error":"#N/A"}},{"$f":"'S17'!$K59","v":{"$error":"#N/A"}},{"$f":"'S17'!$K60","v":{"$error":"#N/A"}},{"$f":"'S17'!$K61","v":{"$error":"#N/A"}},{"$f":"'S17'!$K62","v":{"$error":"#N/A"}},{"$f":"'S17'!$K63","v":{"$error":"#N/A"}},{"$f":"AP!E34","v":3},{"$f":"AP!E36","v":3}]
[null,null,null,{"$f":"'S17'!$I58","v":{"$error":"#N/A"}},{"$f":"'S17'!$I59","v":{"$error":"#N/A"}},{"$f":"'S17'!$I60","v":{"$error":"#N/A"}},{"$f":"'S17'!$I61","v":{"$error":"#N/A"}},{"$f":"'S17'!$I62","v":{"$error":"#N/A"}},{"$f":"'S17'!$I63","v":{"$error":"#N/A"}},{"$f":"AP!E28","v":3},{"$f":"AP!E30","v":3}]
[null,null,null,{"$f":"'S17'!$G58","v":{"$error":"#N/A"}},{"$f":"'S17'!$G59","v":{"$error":"#N/A"}},{"$f":"'S17'!$G60","v":{"$error":"#N/A"}},{"$f":"'S17'!$G61","v":{"$error":"#N/A"}},{"$f":"'S17'!$G62","v":{"$error":"#N/A"}},{"$f":"'S17'!$G63","v":{"$error":"#N/A"}},{"$f":"AP!E22","v":3},{"$f":"AP!E24","v":3}]
[null,null,null,{"$f":"'S17'!E58","v":{"$error":"#N/A"}},{"$f":"'S17'!E59","v":{"$error":"#N/A"}},{"$f":"'S17'!E60","v":{"$error":"#N/A"}},{"$f":"'S17'!E61","v":{"$error":"#N/A"}},{"$f":"'S17'!E62","v":{"$error":"#N/A"}},{"$f":"'S17'!E63","v":{"$error":"#N/A"}},{"$f":"AP!E15","v":1},{"$f":"AP!E17","v":1}]
[null,null,null,{"$f":"ROUND('S17'!C58,1)","v":{"$error":"#N/A"}},{"$f":"ROUND('S17'!C59,1)","v":{"$error":"#N/A"}},{"$f":"ROUND('S17'!C60,1)","v":{"$error":"#N/A"}},{"$f":"ROUND('S17'!C61,1)","v":{"$error":"#N/A"}},{"$f":"ROUND('S17'!C62,1)","v":{"$error":"#N/A"}},{"$f":"ROUND('S17'!C63,1)","v":{"$error":"#N/A"}},{"$f":"AP!E7","v":0.2},{"$f":"AP!E9","v":0.2}]
["Tested By"]
["Remarks",null,{"$f":"IF(AND(T94=3,'S9'!M54=\"Single sample deviation, resample within 150 tons. Document corrective action\"),\"Deviation on 150 ton sample, suspend production of JMF\",IF(AND(T88=2,'S9'!M54=\"Multiple sample deviation, resample within 150 tons. Document corrective action\"),\"Deviation on 150 ton sample, suspend production of JMF\",IF(AND(T88=2,'S9'!M54=\"Single sample deviation, resample within 150 tons. Document corrective action\"),\"Deviation on 150 ton sample, suspend production of JMF\",IF(T94=3,\"Single sample deviation, resample within 150 tons. Document corrective action\",IF(T88=2,\"Multiple sample deviation, resample within 150 tons. Document corrective action\",IF(T71=1,\"Action area, document corrective action\",\" \"))))))","v":{"$error":"#N/A"}},null,{"$f":"IF(AND(U94=3,C54=\"Single sample deviation, resample within 150 tons. Document corrective action\"),\"Deviation on 150 ton sample, suspend production of JMF\",IF(AND(U88=2,C54=\"Multiple sample deviation, resample within 150 tons. Document corrective action\"),\"Deviation on 150 ton sample, suspend production of JMF\",IF(AND(U88=2,C54=\"Single sample deviation, resample within 150 tons. Document corrective action\"),\"Deviation on 150 ton sample, suspend production of JMF\",IF(U94=3,\"Single sample deviation, resample within 150 tons. Document corrective action\",IF(U88=2,\"Multiple sample deviation, resample within 150 tons. Document corrective action\",IF(U71=1,\"Action area, document corrective action\",\" \"))))))","v":{"$error":"#N/A"}},null,{"$f":"IF(AND(V94=3,E54=\"Single sample deviation, resample within 150 tons. Document corrective action\"),\"Deviation on 150 ton sample, suspend production of JMF\",IF(AND(V88=2,E54=\"Multiple sample deviation, resample within 150 tons. Document corrective action\"),\"Deviation on 150 ton sample, suspend production of JMF\",IF(AND(V88=2,E54=\"Single sample deviation, resample within 150 tons. Document corrective action\"),\"Deviation on 150 ton sample, suspend production of JMF\",IF(V94=3,\"Single sample deviation, resample within 150 tons. Document corrective action\",IF(V88=2,\"Multiple sample deviation, resample within 150 tons. Document corrective action\",IF(V71=1,\"Action area, document corrective action\",\" \"))))))","v":{"$error":"#N/A"}},null,{"$f":"IF(AND(W94=3,G54=\"Single sample deviation, resample within 150 tons. Document corrective action\"),\"Deviation on 150 ton sample, suspend production of JMF\",IF(AND(W88=2,G54=\"Multiple sample deviation, resample within 150 tons. Document corrective action\"),\"Deviation on 150 ton sample, suspend production of JMF\",IF(AND(W88=2,G54=\"Single sample deviation, resample within 150 tons. Document corrective action\"),\"Deviation on 150 ton sample, suspend production of JMF\",IF(W94=3,\"Single sample deviation, resample within 150 tons. Document corrective action\",IF(W88=2,\"Multiple sample deviation, resample within 150 tons. Document corrective action\",IF(W71=1,\"Action area, document corrective action\",\" \"))))))","v":{"$error":"#N/A"}},null,{"$f":"IF(AND(X94=3,I54=\"Single sample deviation, resample within 150 tons. Document corrective action\"),\"Deviation on 150 ton sample, suspend production of JMF\",IF(AND(X88=2,I54=\"Multiple sample deviation, resample within 150 tons. Document corrective action\"),\"Deviation on 150 ton sample, suspend production of JMF\",IF(AND(X88=2,I54=\"Single sample deviation, resample within 150 tons. Document corrective action\"),\"Deviation on 150 ton sample, suspend production of JMF\",IF(X94=3,\"Single sample deviation, resample within 150 tons. Document corrective action\",IF(X88=2,\"Multiple sample deviation, resample within 150 tons. Document corrective action\",IF(X71=1,\"Action area, document corrective action\",\" \"))))))","v":{"$error":"#N/A"}},null,{"$f":"IF(AND(Y94=3,K54=\"Single sample deviation, resample within 150 tons. Document corrective action\"),\"Deviation on 150 ton sample, suspend production of JMF\",IF(AND(Y88=2,K54=\"Multiple sample deviation, resample within 150 tons. Document corrective action\"),\"Deviation on 150 ton sample, suspend production of JMF\",IF(AND(Y88=2,K54=\"Single sample deviation, resample within 150 tons. Document corrective action\"),\"Deviation on 150 ton sample, suspend production of JMF\",IF(Y94=3,\"Single sample deviation, resample within 150 tons. Document corrective action\",IF(Y88=2,\"Multiple sample deviation, resample within 150 tons. Document corrective action\",IF(Y71=1,\"Action area, document corrective action\",\" \"))))))","v":{"$error":"#N/A"}}]
[]
[null,null,null,null,null,null,null,null,null,null,null,null,null,null,null,null,null,null,"Action points flags"]
[null,null,null,null,null,null,null,null,null,null,null,null,null,null,null,null,null,2,{"$f":"$B$15","v":" "},{"$f":"IF(ISBLANK(C15),0,IF(OR(D39>=$S57+$J39,D39<=$S57-$K39),1,0))","v":0},{"$f":"IF(ISBLANK(E15),0,IF(OR(E39>=$S57+$J39,E39<=$S57-$K39),1,0))","v":0},{"$f":"IF(ISBLANK(G15),0,IF(OR(F39>=$S57+$J39,F39<=$S57-$K39),1,0))","v":0},{"$f":"IF(ISBLANK(I15),0,IF(OR(G39>=$S57+$J39,G39<=$S57-$K39),1,0))","v":0},{"$f":"IF(ISBLANK(K15),0,IF(OR(H39>=$S57+$J39,H39<=$S57-$K39),1,0))","v":0},{"$f":"IF(ISBLANK(M15),0,IF(OR(I39>=$S57+$J39,I39<=$S57-$K39),1,0))","v":0}]
[null,null,null,null,null,null,null,null,null,null,null,null,null,null,null,null,null,1.5,{"$f":"$B$16","v":" "},{"$f":"IF(ISBLANK(C16),0,IF(OR(D40>=$S58+$J40,D40<=$S58-$K40),1,0))","v":0},{"$f":"IF(ISBLANK(E16),0,IF(OR(E40>=$S58+$J40,E40<=$S58-$K40),1,0))","v":0},{"$f":"IF(ISBLANK(G16),0,IF(OR(F40>=$S58+$J40,F40<=$S58-$K40),1,0))","v":0},{"$f":"IF(ISBLANK(I16),0,IF(OR(G40>=$S58+$J40,G40<=$S58-$K40),1,0))","v":0},{"$f":"IF(ISBLANK(K16),0,IF(OR(H40>=$S58+$J40,H40<=$S58-$K40),1,0))","v":0},{"$f":"IF(ISBLANK(M16),0,IF(OR(I40>=$S58+$J40,I40<=$S58-$K40),1,0))","v":0}]
[null,null,null,null,null,null,null,null,null,null,null,null,null,null,null,null,null,1,{"$f":"$B$17","v":" "},{"$f":"IF(ISBLANK(C17),0,IF(OR(D41>=$S59+$J41,D41<=$S59-$K41),1,0))","v":0},{"$f":"IF(ISBLANK(E17),0,IF(OR(E41>=$S59+$J41,E41<=$S59-$K41),1,0))","v":0},{"$f":"IF(ISBLANK(G17),0,IF(OR(F41>=$S59+$J41,F41<=$S59-$K41),1,0))","v":0},{"$f":"IF(ISBLANK(I17),0,IF(OR(G41>=$S59+$J41,G41<=$S59-$K41),1,0))","v":0},{"$f":"IF(ISBLANK(K17),0,IF(OR(H41>=$S59+$J41,H41<=$S59-$K41),1,0))","v":0},{"$f":"IF(ISBLANK(M17),0,IF(OR(I41>=$S59+$J41,I41<=$S59-$K41),1,0))","v":0}]
[null,null,null,null,null,null,null,null,null,null,null,null,null,null,null,null,null,0.75,{"$f":"$B$18","v":" "},{"$f":"IF(ISBLANK(C18),0,IF(OR(D42>=$S60+$J42,D42<=$S60-$K42),1,0))","v":0},{"$f":"IF(ISBLANK(E18),0,IF(OR(E42>=$S60+$J42,E42<=$S60-$K42),1,0))","v":0},{"$f":"IF(ISBLANK(G18),0,IF(OR(F42>=$S60+$J42,F42<=$S60-$K42),1,0))","v":0},{"$f":"IF(ISBLANK(I18),0,IF(OR(G42>=$S60+$J42,G42<=$S60-$K42),1,0))","v":0},{"$f":"IF(ISBLANK(K18),0,IF(OR(H42>=$S60+$J42,H42<=$S60-$K42),1,0))","v":0},{"$f":"IF(ISBLANK(M18),0,IF(OR(I42>=$S60+$J42,I42<=$S60-$K42),1,0))","v":0}]
[null,null,null,null,null,null,null,null,null,null,null,null,null,null,null,null,null,0.5,{"$f":"$B$19","v":" "},{"$f":"IF(ISBLANK(C19),0,IF(OR(D43>=$S61+$J43,D43<=$S61-$K43),1,0))","v":0},{"$f":"IF(ISBLANK(E19),0,IF(OR(E43>=$S61+$J43,E43<=$S61-$K43),1,0))","v":0},{"$f":"IF(ISBLANK(G19),0,IF(OR(F43>=$S61+$J43,F43<=$S61-$K43),1,0))","v":0},{"$f":"IF(ISBLANK(I19),0,IF(OR(G43>=$S61+$J43,G43<=$S61-$K43),1,0))","v":0},{"$f":"IF(ISBLANK(K19),0,IF(OR(H43>=$S61+$J43,H43<=$S61-$K43),1,0))","v":0},{"$f":"IF(ISBLANK(M19),0,IF(OR(I43>=$S61+$J43,I43<=$S61-$K43),1,0))","v":0}]
[null,null,null,null,null,null,null,null,null,null,null,null,null,null,null,null,null,0.375,{"$f":"$B$20","v":" "},{"$f":"IF(OR(D44>=$S62+$J44,D44<=$S62-$K44),1,0)","v":{"$error":"#N/A"}},{"$error":"#N/A"},{"$error":"#N/A"},{"$error":"#N/A"},{"$error":"#N/A"},{"$error":"#N/A"}]
[null,null,null,null,null,null,null,null,null,null,null,null,null,null,null,null,null,4,{"$f":"$B$21","v":" "},{"$error":"#N/A"},{"$error":"#N/A"},{"$error":"#N/A"},{"$error":"#N/A"},{"$error":"#N/A"},{"$error":"#N/A"}]
[null,null,null,null,null,null,null,null,null,null,null,null,null,null,null,null,null,8,{"$f":"$B$22","v":" "},{"$error":"#N/A"},{"$error":"#N/A"},{"$error":"#N/A"},{"$error":"#N/A"},{"$error":"#N/A"},{"$error":"#N/A"}]
[null,null,null,null,null,null,null,null,null,null,null,null,null,null,null,null,null,16,{"$f":"$B$23","v":" "},{"$error":"#N/A"},{"$error":"#N/A"},{"$error":"#N/A"},{"$error":"#N/A"},{"$error":"#N/A"},{"$error":"#N/A"}]
[null,null,null,null,null,null,null,null,null,null,null,null,null,null,null,null,null,30,{"$f":"$B$24","v":" "},{"$error":"#N/A"},{"$error":"#N/A"},{"$error":"#N/A"},{"$error":"#N/A"},{"$error":"#N/A"},{"$error":"#N/A"}]
[null,null,null,null,null,null,null,null,null,null,null,null,null,null,null,null,null,50,{"$f":"$B$25","v":" "},{"$error":"#N/A"},{"$error":"#N/A"},{"$error":"#N/A"},{"$error":"#N/A"},{"$error":"#N/A"},{"$error":"#N/A"}]
[null,null,null,null,null,null,null,null,null,null,null,null,null,null,null,null,null,100,{"$f":"$B$26","v":" "},{"$error":"#N/A"},{"$error":"#N/A"},{"$error":"#N/A"},{"$error":"#N/A"},{"$error":"#N/A"},{"$error":"#N/A"}]
[null,null,null,null,null,null,null,null,null,null,null,null,null,null,null,null,null,200,{"$f":"$B$27","v":" "},{"$error":"#N/A"},{"$error":"#N/A"},{"$error":"#N/A"},{"$error":"#N/A"},{"$error":"#N/A"},{"$error":"#N/A"}]
[null,null,null,null,null,null,null,null,null,null,null,null,null,null,null,null,null,"%AC",{"$f":"$B$28","v":" "},{"$error":"#N/A"},{"$error":"#N/A"},{"$error":"#N/A"},{"$error":"#N/A"},{"$error":"#N/A"},{"$error":"#N/A"}]
[null,null,{"$f":"MAX(C15:C23)","v":0},null,{"$f":"MAX(E15:E23)","v":0},null,{"$f":"MAX(G15:G23)","v":0},null,{"$f":"MAX(I15:I23)","v":0},null,{"$f":"MAX(K15:K23)","v":0},null,{"$f":"MAX(M15:M23)","v":0},null,null,null,null,null,"Max",{"$f":"MAX(T56:T70)","v":{"$error":"#N/A"}},{"$error":"#N/A"},{"$error":"#N/A"},{"$error":"#N/A"},{"$error":"#N/A"},{"$error":"#N/A"}]
[]
[null,null,null,null,null,null,null,null,null,null,null,null,null,null,null,null,null,null,"Multiple sample flag"]
[null,null,null,null,null,null,null,null,null,null,null,null,null,null,null,null,null,2,{"$f":"$B$15","v":" "},{"$f":"IF(ISBLANK(C15),0,IF(OR(D39>$S74+AP!$E$89,D39<$S74-AP!$E$93),2,0))","v":0},{"$f":"IF(ISBLANK(E15),0,IF(OR(E39>$S74+AP!$E$89,E39<$S74-AP!$E$93),2,0))","v":0},{"$f":"IF(ISBLANK(G15),0,IF(OR(F39>$S74+AP!$E$89,F39<$S74-AP!$E$93),2,0))","v":0},{"$f":"IF(ISBLANK(I15),0,IF(OR(G39>$S74+AP!$E$89,G39<$S74-AP!$E$93),2,0))","v":0},{"$f":"IF(ISBLANK(K15),0,IF(OR(H39>$S74+AP!$E$89,H39<$S74-AP!$E$93),2,0))","v":0},{"$f":"IF(ISBLANK(M15),0,IF(OR(I39>$S74+AP!$E$89,I39<$S74-AP!$E$93),2,0))","v":0}]
[null,null,null,null,null,null,null,null,null,null,null,null,null,null,null,null,null,1.5,{"$f":"$B$16","v":" "},{"$f":"IF(ISBLANK(C16),0,IF(OR(D40>$S75+AP!$E$83,D40<$S75-AP!$E$87),2,0))","v":0},{"$f":"IF(ISBLANK(E16),0,IF(OR(E40>$S75+AP!$E$89,E40<$S75-AP!$E$93),2,0))","v":0},{"$f":"IF(ISBLANK(G16),0,IF(OR(F40>$S75+AP!$E$89,F40<$S75-AP!$E$93),2,0))","v":0},{"$f":"IF(ISBLANK(I16),0,IF(OR(G40>$S75+AP!$E$89,G40<$S75-AP!$E$93),2,0))","v":0},{"$f":"IF(ISBLANK(K16),0,IF(OR(H40>$S75+AP!$E$89,H40<$S75-AP!$E$93),2,0))","v":0},{"$f":"IF(ISBLANK(M16),0,IF(OR(I40>$S75+AP!$E$89,I40<$S75-AP!$E$93),2,0))","v":0}]
[null,null,null,null,null,null,null,null,null,null,null,null,null,null,null,null,null,1,{"$f":"$B$17","v":" "},{"$f":"IF(ISBLANK(C17),0,IF(OR(D41>$S76+AP!$E$83,D41<$S76-AP!$E$87),2,0))","v":0},{"$f":"IF(ISBLANK(E17),0,IF(OR(E41>$S76+AP!$E$89,E41<$S76-AP!$E$93),2,0))","v":0},{"$f":"IF(ISBLANK(G17),0,IF(OR(F41>$S76+AP!$E$89,F41<$S76-AP!$E$93),2,0))","v":0},{"$f":"IF(ISBLANK(I17),0,IF(OR(G41>$S76+AP!$E$89,G41<$S76-AP!$E$93),2,0))","v":0},{"$f":"IF(ISBLANK(K17),0,IF(OR(H41>$S76+AP!$E$89,H41<$S76-AP!$E$93),2,0))","v":0},{"$f":"IF(ISBLANK(M17),0,IF(OR(I41>$S76+AP!$E$89,I41<$S76-AP!$E$93),2,0))","v":0}]
[null,null,null,null,null,null,null,null,null,null,null,null,null,null,null,null,null,0.75,{"$f":"$B$18","v":" "},{"$f":"IF(ISBLANK(C18),0,IF(OR(D42>$S77+AP!$E$83,D42<$S77-AP!$E$87),2,0))","v":0},{"$f":"IF(ISBLANK(E18),0,IF(OR(E42>$S77+AP!$E$89,E42<$S77-AP!$E$93),2,0))","v":0},{"$f":"IF(ISBLANK(G18),0,IF(OR(F42>$S77+AP!$E$89,F42<$S77-AP!$E$93),2,0))","v":0},{"$f":"IF(ISBLANK(I18),0,IF(OR(G42>$S77+AP!$E$89,G42<$S77-AP!$E$93),2,0))","v":0},{"$f":"IF(ISBLANK(K18),0,IF(OR(H42>$S77+AP!$E$89,H42<$S77-AP!$E$93),2,0))","v":0},{"$f":"IF(ISBLANK(M18),0,IF(OR(I42>$S77+AP!$E$89,I42<$S77-AP!$E$93),2,0))","v":0}]
[null,null,null,null,null,null,null,null,null,null,null,null,null,null,null,null,null,0.5,{"$f":"$B$19","v":" "},{"$f":"IF(ISBLANK(C19),0,IF(OR(D43>$S78+AP!$E$83,D43<$S78-AP!$E$87),2,0))","v":0},{"$f":"IF(ISBLANK(E19),0,IF(OR(E43>$S78+AP!$E$89,E43<$S78-AP!$E$93),2,0))","v":0},{"$f":"IF(ISBLANK(G19),0,IF(OR(F43>$S78+AP!$E$89,F43<$S78-AP!$E$93),2,0))","v":0},{"$f":"IF(ISBLANK(I19),0,IF(OR(G43>$S78+AP!$E$89,G43<$S78-AP!$E$93),2,0))","v":0},{"$f":"IF(ISBLANK(K19),0,IF(OR(H43>$S78+AP!$E$89,H43<$S78-AP!$E$93),2,0))","v":0},{"$f":"IF(ISBLANK(M19),0,IF(OR(I43>$S78+AP!$E$89,I43<$S78-AP!$E$93),2,0))","v":0}]
[null,null,null,null,null,null,null,null,null,null,null,null,null,null,null,null,null,0.375,{"$f":"$B$20","v":" "},{"$f":"IF(OR(D44>$S79+AP!$E$59,D44<$S79-AP!$E$63),2,0)","v":{"$error":"#N/A"}},{"$f":"IF(OR(E44>$S79+AP!$E$59,E44<$S79-AP!$E$63),2,0)","v":{"$error":"#N/A"}},{"$f":"IF(OR(F44>$S79+AP!$E$59,F44<$S79-AP!$E$63),2,0)","v":{"$error":"#N/A"}},{"$f":"IF(OR(G44>$S79+AP!$E$59,G44<$S79-AP!$E$63),2,0)","v":{"$error":"#N/A"}},{"$f":"IF(OR(H44>$S79+AP!$E$59,H44<$S79-AP!$E$63),2,0)","v":{"$error":"#N/A"}},{"$f":"IF(OR(I44>$S79+AP!$E$59,I44<$S79-AP!$E$63),2,0)","v":{"$error":"#N/A"}}]
[null,null,null,null,null,null,null,null,null,null,null,null,null,null,null,null,null,4,{"$f":"$B$21","v":" "},{"$f":"IF(OR(D45>$S80+AP!$E$53,D45<$S80-AP!$E$57),2,0)","v":{"$error":"#N/A"}},{"$f":"IF(OR(E45>$S80+AP!$E$53,E45<$S80-AP!$E$57),2,0)","v":{"$error":"#N/A"}},{"$f":"IF(OR(F45>$S80+AP!$E$53,F45<$S80-AP!$E$57),2,0)","v":{"$error":"#N/A"}},{"$f":"IF(OR(G45>$S80+AP!$E$53,G45<$S80-AP!$E$57),2,0)","v":{"$error":"#N/A"}},{"$f":"IF(OR(H45>$S80+AP!$E$53,H45<$S80-AP!$E$57),2,0)","v":{"$error":"#N/A"}},{"$f":"IF(OR(I45>$S80+AP!$E$53,I45<$S80-AP!$E$57),2,0)","v":{"$error":"#N/A"}}]
[null,null,null,null,null,null,null,null,null,null,null,null,null,null,null,null,null,8,{"$f":"$B$22","v":" "},{"$f":"IF(OR(D46>$S81+AP!$E$46,D46<$S81-AP!$E$50),2,0)","v":{"$error":"#N/A"}},{"$f":"IF(OR(E46>$S81+AP!$E$46,E46<$S81-AP!$E$50),2,0)","v":{"$error":"#N/A"}},{"$f":"IF(OR(F46>$S81+AP!$E$46,F46<$S81-AP!$E$50),2,0)","v":{"$error":"#N/A"}},{"$f":"IF(OR(G46>$S81+AP!$E$46,G46<$S81-AP!$E$50),2,0)","v":{"$error":"#N/A"}},{"$f":"IF(OR(H46>$S81+AP!$E$46,H46<$S81-AP!$E$50),2,0)","v":{"$error":"#N/A"}},{"$f":"IF(OR(I46>$S81+AP!$E$46,I46<$S81-AP!$E$50),2,0)","v":{"$error":"#N/A"}}]
[null,null,null,null,null,null,null,null,null,null,null,null,null,null,null,null,null,16,{"$f":"$B$23","v":" "},{"$f":"IF(OR(D47>$S82+AP!$E$39,D47<$S82-AP!$E$43),2,0)","v":{"$error":"#N/A"}},{"$f":"IF(OR(E47>$S82+AP!$E$39,E47<$S82-AP!$E$43),2,0)","v":{"$error":"#N/A"}},{"$f":"IF(OR(F47>$S82+AP!$E$39,F47<$S82-AP!$E$43),2,0)","v":{"$error":"#N/A"}},{"$f":"IF(OR(G47>$S82+AP!$E$39,G47<$S82-AP!$E$43),2,0)","v":{"$error":"#N/A"}},{"$f":"IF(OR(H47>$S82+AP!$E$39,H47<$S82-AP!$E$43),2,0)","v":{"$error":"#N/A"}},{"$f":"IF(OR(I47>$S82+AP!$E$39,I47<$S82-AP!$E$43),2,0)","v":{"$error":"#N/A"}}]
[null,null,null,null,null,null,null,null,null,null,null,null,null,null,null,null,null,30,{"$f":"$B$24","v":" "},{"$f":"IF(OR(D48>$S83+AP!$E$33,D48<$S83-AP!$E$37),2,0)","v":{"$error":"#N/A"}},{"$f":"IF(OR(E48>$S83+AP!$E$33,E48<$S83-AP!$E$37),2,0)","v":{"$error":"#N/A"}},{"$f":"IF(OR(F48>$S83+AP!$E$33,F48<$S83-AP!$E$37),2,0)","v":{"$error":"#N/A"}},{"$f":"IF(OR(G48>$S83+AP!$E$33,G48<$S83-AP!$E$37),2,0)","v":{"$error":"#N/A"}},{"$f":"IF(OR(H48>$S83+AP!$E$33,H48<$S83-AP!$E$37),2,0)","v":{"$error":"#N/A"}},{"$f":"IF(OR(I48>$S83+AP!$E$33,I48<$S83-AP!$E$37),2,0)","v":{"$error":"#N/A"}}]
[null,null,null,null,null,null,null,null,null,null,null,null,null,null,null,null,null,50,{"$f":"$B$25","v":" "},{"$f":"IF(OR(D49>$S84+AP!$E$27,D49<$S84-AP!$E$31),2,0)","v":{"$error":"#N/A"}},{"$f":"IF(OR(E49>$S84+AP!$E$27,E49<$S84-AP!$E$31),2,0)","v":{"$error":"#N/A"}},{"$f":"IF(OR(F49>$S84+AP!$E$27,F49<$S84-AP!$E$31),2,0)","v":{"$error":"#N/A"}},{"$f":"IF(OR(G49>$S84+AP!$E$27,G49<$S84-AP!$E$31),2,0)","v":{"$error":"#N/A"}},{"$f":"IF(OR(H49>$S84+AP!$E$27,H49<$S84-AP!$E$31),2,0)","v":{"$error":"#N/A"}},{"$f":"IF(OR(I49>$S84+AP!$E$27,I49<$S84-AP!$E$31),2,0)","v":{"$error":"#N/A"}}]
[null,null,null,null,null,null,null,null,null,null,null,null,null,null,null,null,null,100,{"$f":"$B$26","v":" "},{"$f":"IF(OR(D50>$S85+AP!$E$21,D50<$S85-AP!$E$25),2,0)","v":{"$error":"#N/A"}},{"$f":"IF(OR(E50>$S85+AP!$E$21,E50<$S85-AP!$E$25),2,0)","v":{"$error":"#N/A"}},{"$f":"IF(OR(F50>$S85+AP!$E$21,F50<$S85-AP!$E$25),2,0)","v":{"$error":"#N/A"}},{"$f":"IF(OR(G50>$S85+AP!$E$21,G50<$S85-AP!$E$25),2,0)","v":{"$error":"#N/A"}},{"$f":"IF(OR(H50>$S85+AP!$E$21,H50<$S85-AP!$E$25),2,0)","v":{"$error":"#N/A"}},{"$f":"IF(OR(I50>$S85+AP!$E$21,I50<$S85-AP!$E$25),2,0)","v":{"$error":"#N/A"}}]
[null,null,null,null,null,null,null,null,null,null,null,null,null,null,null,null,null,200,{"$f":"$B$27","v":" "},{"$f":"IF(OR(D51>$S86+AP!$E$14,D51<$S86-AP!$E$18),2,0)","v":{"$error":"#N/A"}},{"$f":"IF(OR(E51>$S86+AP!$E$14,E51<$S86-AP!$E$18),2,0)","v":{"$error":"#N/A"}},{"$f":"IF(OR(F51>$S86+AP!$E$14,F51<$S86-AP!$E$18),2,0)","v":{"$error":"#N/A"}},{"$f":"IF(OR(G51>$S86+AP!$E$14,G51<$S86-AP!$E$18),2,0)","v":{"$error":"#N/A"}},{"$f":"IF(OR(H51>$S86+AP!$E$14,H51<$S86-AP!$E$18),2,0)","v":{"$error":"#N/A"}},{"$f":"IF(OR(I51>$S86+AP!$E$14,I51<$S86-AP!$E$18),2,0)","v":{"$error":"#N/A"}}]
[null,null,null,null,null,null,null,null,null,null,null,null,null,null,null,null,null,"%AC",{"$f":"$B$28","v":" "},{"$f":"IF(OR(D52>AP!$L$6,D52<AP!$L$10),2,0)","v":{"$error":"#N/A"}},{"$f":"IF(OR(E52>AP!$L$6,E52<AP!$L$10),2,0)","v":{"$error":"#N/A"}},{"$f":"IF(OR(F52>AP!$L$6,F52<AP!$L$10),2,0)","v":{"$error":"#N/A"}},{"$f":"IF(OR(G52>AP!$L$6,G52<AP!$L$10),2,0)","v":{"$error":"#N/A"}},{"$f":"IF(OR(H52>AP!$L$6,H52<AP!$L$10),2,0)","v":{"$error":"#N/A"}},{"$f":"IF(OR(I52>AP!$L$6,I52<AP!$L$10),2,0)","v":{"$error":"#N/A"}}]
[null,null,null,null,null,null,null,null,null,null,null,null,null,null,null,null,null,null,"Max",{"$f":"MAX(T74:T87)","v":{"$error":"#N/A"}},{"$error":"#N/A"},{"$error":"#N/A"},{"$error":"#N/A"},{"$error":"#N/A"},{"$error":"#N/A"}]
[]
[null,null,null,null,null,null,null,null,null,null,null,null,null,null,null,null,null,null,"Single sample flag"]
[null,null,null,null,null,null,null,null,null,null,null,null,null,null,null,null,null,8,{"$f":"$B$22","v":" "},{"$f":"IF(OR($D$22>$S91+AP!$E$45,$D$22<$S91-AP!$E$51),3,0)","v":{"$error":"#VALUE!"}},{"$f":"IF(OR($F$22>$S91+AP!$E$45,$F$22<$S91-AP!$E$51),3,0)","v":{"$error":"#VALUE!"}},{"$f":"IF(OR($H$22>$S91+AP!$E$45,$H$22<$S91-AP!$E$51),3,0)","v":{"$error":"#VALUE!"}},{"$f":"IF(OR($J$22>$S91+AP!$E$45,$J$22<$S91-AP!$E$51),3,0)","v":{"$error":"#VALUE!"}},{"$f":"IF(OR($L$22>$S91+AP!$E$45,$L$22<$S91-AP!$E$51),3,0)","v":{"$error":"#VALUE!"}},{"$f":"IF(OR($N$22>$S91+AP!$E$45,$N$22<$S91-AP!$E$51),3,0)","v":{"$error":"#VALUE!"}}]
[null,null,null,null,null,null,null,null,null,null,null,null,null,null,null,null,null,200,{"$f":"$B$27","v":" "},{"$f":"IF(OR($D$27>$S92+AP!$E$13,$D$27<$S92-AP!$E$19),3,0)","v":{"$error":"#VALUE!"}},{"$f":"IF(OR($F$27>$S92+AP!$E$13,$F$27<$S92-AP!$E$19),3,0)","v":{"$error":"#VALUE!"}},{"$f":"IF(OR($H$27>$S92+AP!$E$13,$H$27<$S92-AP!$E$19),3,0)","v":{"$error":"#VALUE!"}},{"$f":"IF(OR($J$27>$S92+AP!$E$13,$J$27<$S92-AP!$E$19),3,0)","v":{"$error":"#VALUE!"}},{"$f":"IF(OR($L$27>$S92+AP!$E$13,$L$27<$S92-AP!$E$19),3,0)","v":{"$error":"#VALUE!"}},{"$f":"IF(OR($N$27>$S92+AP!$E$13,$N$27<$S92-AP!$E$19),3,0)","v":{"$error":"#VALUE!"}}]
[null,null,null,null,null,null,null,null,null,null,null,null,null,null,null,null,null,"%AC",{"$f":"$B$28","v":" "},{"$f":"IF(OR($C$28>AP!$L$5,$C$28<AP!$L$11),3,0)","v":0},{"$f":"IF(OR($E$28>AP!$L$5,$E$28<AP!$L$11),3,0)","v":0},{"$f":"IF(OR($G$28>AP!$L$5,$G$28<AP!$L$11),3,0)","v":0},{"$f":"IF(OR($I$28>AP!$L$5,$I$28<AP!$L$11),3,0)","v":0},{"$f":"IF(OR($K$28>AP!$L$5,$K$28<AP!$L$11),3,0)","v":0},{"$f":"IF(OR($M$28>AP!$L$5,$M$28<AP!$L$11),3,0)","v":0}]
[null,null,null,null,null,null,null,null,null,null,null,null,null,null,null,null,null,null,"Max",{"$f":"IF(ISBLANK(C27),\" \",MAX(T91:T93))","v":" "},{"$f":"IF(ISBLANK(E27),\" \",MAX(U91:U93))","v":" "},{"$f":"IF(ISBLANK(G27),\" \",MAX(V91:V93))","v":" "},{"$f":"IF(ISBLANK(I27),\" \",MAX(W91:W93))","v":" "},{"$f":"IF(ISBLANK(K27),\" \",MAX(X91:X93))","v":" "},{"$f":"IF(ISBLANK(M27),\" \",MAX(Y91:Y93))","v":" "}]

{"sheet":"S11","index":10,"n_rows":94,"n_cols":25,"rows_kept":94,"cut":false,"hidden":true,"merged":[[52,0,52,1],[52,2,52,3],[30,10,30,11],[30,12,30,13],[52,12,52,13],[31,10,31,11],[31,12,31,13],[52,4,52,5],[52,6,52,7],[52,8,52,9],[52,10,52,11],[30,2,30,3],[30,4,30,5],[30,6,30,7],[30,8,30,9],[37,9,37,10],[37,3,37,8],[29,4,29,5],[11,2,11,3],[37,0,37,2],[29,2,29,3],[28,0,28,1],[11,4,11,5],[27,2,27,3],[28,2,28,3],[12,8,12,9],[29,0,31,0],[29,6,29,7],[31,2,31,3],[31,4,31,5],[31,6,31,7],[31,8,31,9],[28,4,28,5],[27,4,27,5],[12,0,12,1],[12,2,12,3],[12,4,12,5],[12,6,12,7],[11,0,11,1],[11,6,11,7],[28,6,28,7],[27,6,27,7],[27,10,27,11],[10,10,10,11],[11,10,11,11],[11,8,11,9],[10,0,10,1],[10,8,10,9],[10,4,10,5],[8,12,8,13],[9,8,9,9],[8,10,8,11],[29,12,29,13],[27,8,27,9],[28,8,28,9],[27,12,27,13],[28,10,28,11],[9,10,9,11],[9,12,9,13],[10,12,10,13],[12,10,12,11],[11,12,11,13],[28,12,28,13],[12,12,12,13],[29,10,29,11],[29,8,29,9],[2,12,2,13],[0,0,3,1],[1,10,1,11],[5,10,5,11],[6,10,6,11],[6,12,6,13],[5,12,5,13],[1,12,1,13],[2,10,2,11],[7,0,7,2],[9,0,9,1],[10,6,10,7],[10,2,10,3],[9,6,9,7],[5,0,5,1],[7,5,7,8],[5,5,5,8],[8,8,8,9],[8,2,8,3],[8,4,8,5],[9,2,9,3],[8,6,8,7],[9,4,9,5],[8,0,8,1],[59,2,68,3],[55,18,55,24],[72,18,72,24],[89,18,89,24],[53,0,68,1],[53,12,58,13],[53,10,58,11],[53,8,58,9],[53,6,58,7],[53,4,58,5],[53,2,58,3],[59,12,68,13],[59,10,68,11],[59,8,68,9],[59,6,68,7],[59,4,68,5]]}
[]
[null,null,null,null,"COMMONWEALTH OF PENNSYLVANIA",null,null,null,null,null,"DISTRICT",null,{"$f":"IF(ISBLANK('S1'!M2),\" \",('S1'!M2))","v":" "}]
[null,null,null,null,"DEPARTMENT OF TRANSPORTATION",null,null,null,null,null,"PLANT CODE",null,{"$f":"IF(ISBLANK('S1'!M3),\" \",('S1'!M3))","v":" "}]
[null,null,null,null,"LABORATORY TEST SECTION"]
[{"$f":"'S1'!A5","v":"ESB-16"}]
["Material Class ",null,{"$f":"IF(ISBLANK('S1'!C6),\" \",('S1'!C6))","v":9.5},"mm",null,"Burnoff Results",null,null,null,null,"Design No.",null,{"$f":"IF(ISBLANK('S1'!M6),\" \",('S1'!M6))","v":" "}]
[null,null,null,null,null,null,null,null,null,null,"Gyrations @ Ndes",null,{"$f":"IF(ISBLANK('S1'!M7),\" \",'S1'!M7)","v":" "}]
["-200 Correction Factor (+ or -)",null,null,{"$f":"IF(ISBLANK('S1'!D8),\" \",('S1'!D8))","v":" "},null,"Red values indicate action area"]
["Sample No."]
["Date"]
["St. Wt. Before Wash"]
["Dry Wt. After Wash"]
["Wt. Loss",null,{"$f":"IF(ISBLANK(C11),\" \",IF(ISBLANK(C12),\" \",C11-C12))","v":" "},null,{"$f":"IF(ISBLANK(E11),\" \",IF(ISBLANK(E12),\" \",E11-E12))","v":" "},null,{"$f":"IF(ISBLANK(G11),\" \",IF(ISBLANK(G12),\" \",G11-G12))","v":" "},null,{"$f":"IF(ISBLANK(I11),\" \",IF(ISBLANK(I12),\" \",I11-I12))","v":" "},null,{"$f":"IF(ISBLANK(K11),\" \",IF(ISBLANK(K12),\" \",K11-K12))","v":" "},null,{"$f":"IF(ISBLANK(M11),\" \",IF(ISBLANK(M12),\" \",M11-M12))","v":" "}]
["Size","JMF","Weight","%Passing","Weight","%Passing","Weight","%Passing","Weight","%Pasing","Weight","%Pasing","Weight","%Pasing"]
[2,{"$f":"IF(ISBLANK('S1'!B15),\" \",'S1'!B15)","v":" "},null,{"$f":"IF(ISBLANK(C11),\" \",IF(ISBLANK(C12),\" \",IF(ISBLANK(C15),\" \",ROUND((C15+C13)/C11*100,0))))","v":" "},null,{"$f":"IF(ISBLANK(E11),\" \",IF(ISBLANK(E12),\" \",IF(ISBLANK(E15),\" \",ROUND((E15+E13)/E11*100,0))))","v":" "},null,{"$f":"IF(ISBLANK(G11),\" \",IF(ISBLANK(G12),\" \",IF(ISBLANK(G15),\" \",ROUND((G15+G13)/G11*100,0))))","v":" "},null,{"$f":"IF(ISBLANK(I11),\" \",IF(ISBLANK(I12),\" \",IF(ISBLANK(I15),\" \",ROUND((I15+I13)/I11*100,0))))","v":" "},null,{"$f":"IF(ISBLANK(K11),\" \",IF(ISBLANK(K12),\" \",IF(ISBLANK(K15),\" \",ROUND((K15+K13)/K11*100,0))))","v":" "},null,{"$f":"IF(ISBLANK(M11),\" \",IF(ISBLANK(M12),\" \",IF(ISBLANK(M15),\" \",ROUND((M15+M13)/M11*100,0))))","v":" "}]
[1.5,{"$f":"IF(ISBLANK('S1'!B16),\" \",'S1'!B16)","v":" "},null,{"$f":"IF(ISBLANK(C11),\"  \",IF(ISBLANK(C12),\" \",IF(ISBLANK(C16),\" \",ROUND((C16+C13)/C11*100,0))))","v":"  "},null,{"$f":"IF(ISBLANK(E11),\"  \",IF(ISBLANK(E12),\" \",IF(ISBLANK(E16),\" \",ROUND((E16+E13)/E11*100,0))))","v":"  "},null,{"$f":"IF(ISBLANK(G11),\"  \",IF(ISBLANK(G12),\" \",IF(ISBLANK(G16),\" \",ROUND((G16+G13)/G11*100,0))))","v":"  "},null,{"$f":"IF(ISBLANK(I11),\"  \",IF(ISBLANK(I12),\" \",IF(ISBLANK(I16),\" \",ROUND((I16+I13)/I11*100,0))))","v":"  "},null,{"$f":"IF(ISBLANK(K11),\"  \",IF(ISBLANK(K12),\" \",IF(ISBLANK(K16),\" \",ROUND((K16+K13)/K11*100,0))))","v":"  "},null,{"$f":"IF(ISBLANK(M11),\"  \",IF(ISBLANK(M12),\" \",IF(ISBLANK(M16),\" \",ROUND((M16+M13)/M11*100,0))))","v":"  "}]
[1,{"$f":"IF(ISBLANK('S1'!B17),\" \",'S1'!B17)","v":" "},null,{"$f":"IF(ISBLANK(C11),\"  \",IF(ISBLANK(C12),\" \",IF(ISBLANK(C17),\" \",ROUND((C17+C13)/C11*100,0))))","v":"  "},null,{"$f":"IF(ISBLANK(E11),\"  \",IF(ISBLANK(E12),\" \",IF(ISBLANK(E17),\" \",ROUND((E17+E13)/E11*100,0))))","v":"  "},null,{"$f":"IF(ISBLANK(G11),\"  \",IF(ISBLANK(G12),\" \",IF(ISBLANK(G17),\" \",ROUND((G17+G13)/G11*100,0))))","v":"  "},null,{"$f":"IF(ISBLANK(I11),\"  \",IF(ISBLANK(I12),\" \",IF(ISBLANK(I17),\" \",ROUND((I17+I13)/I11*100,0))))","v":"  "},null,{"$f":"IF(ISBLANK(K11),\"  \",IF(ISBLANK(K12),\" \",IF(ISBLANK(K17),\" \",ROUND((K17+K13)/K11*100,0))))","v":"  "},null,{"$f":"IF(ISBLANK(M11),\"  \",IF(ISBLANK(M12),\" \",IF(ISBLANK(M17),\" \",ROUND((M17+M13)/M11*100,0))))","v":"  "}]
[0.75,{"$f":"IF(ISBLANK('S1'!B18),\" \",'S1'!B18)","v":" "},null,{"$f":"IF(ISBLANK(C11),\"  \",IF(ISBLANK(C12),\" \",IF(ISBLANK(C18),\" \",ROUND((C18+C13)/C11*100,0))))","v":"  "},null,{"$f":"IF(ISBLANK(E11),\"  \",IF(ISBLANK(E12),\" \",IF(ISBLANK(E18),\" \",ROUND((E18+E13)/E11*100,0))))","v":"  "},null,{"$f":"IF(ISBLANK(G11),\"  \",IF(ISBLANK(G12),\" \",IF(ISBLANK(G18),\" \",ROUND((G18+G13)/G11*100,0))))","v":"  "},null,{"$f":"IF(ISBLANK(I11),\"  \",IF(ISBLANK(I12),\" \",IF(ISBLANK(I18),\" \",ROUND((I18+I13)/I11*100,0))))","v":"  "},null,{"$f":"IF(ISBLANK(K11),\"  \",IF(ISBLANK(K12),\" \",IF(ISBLANK(K18),\" \",ROUND((K18+K13)/K11*100,0))))","v":"  "},null,{"$f":"IF(ISBLANK(M11),\"  \",IF(ISBLANK(M12),\" \",IF(ISBLANK(M18),\" \",ROUND((M18+M13)/M11*100,0))))","v":"  "}]
[0.5,{"$f":"IF(ISBLANK('S1'!B19),\" \",'S1'!B19)","v":" "},null,{"$f":"IF(ISBLANK(C11),\"  \",IF(ISBLANK(C12),\" \",IF(ISBLANK(C19),\" \",ROUND((C19+C13)/C11*100,0))))","v":"  "},null,{"$f":"IF(ISBLANK(E11),\"  \",IF(ISBLANK(E12),\" \",IF(ISBLANK(E19),\" \",ROUND((E19+E13)/E11*100,0))))","v":"  "},null,{"$f":"IF(ISBLANK(G11),\"  \",IF(ISBLANK(G12),\" \",IF(ISBLANK(G19),\" \",ROUND((G19+G13)/G11*100,0))))","v":"  "},null,{"$f":"IF(ISBLANK(I11),\"  \",IF(ISBLANK(I12),\" \",IF(ISBLANK(I19),\" \",ROUND((I19+I13)/I11*100,0))))","v":"  "},null,{"$f":"IF(ISBLANK(K11),\"  \",IF(ISBLANK(K12),\" \",IF(ISBLANK(K19),\" \",ROUND((K19+K13)/K11*100,0))))","v":"  "},null,{"$f":"IF(ISBLANK(M11),\"  \",IF(ISBLANK(M12),\" \",IF(ISBLANK(M19),\" \",ROUND((M19+M13)/M11*100,0))))","v":"  "}]
[0.375,{"$f":"IF(ISBLANK('S1'!B20),\" \",'S1'!B20)","v":" "},null,{"$f":"IF(ISBLANK(C11),\"  \",IF(ISBLANK(C12),\" \",IF(ISBLANK(C20),\" \",ROUND((C20+C13)/C11*100,0))))","v":"  "},null,{"$f":"IF(ISBLANK(E11),\"  \",IF(ISBLANK(E12),\" \",IF(ISBLANK(E20),\" \",ROUND((E20+E13)/E11*100,0))))","v":"  "},null,{"$f":"IF(ISBLANK(G11),\"  \",IF(ISBLANK(G12),\" \",IF(ISBLANK(G20),\" \",ROUND((G20+G13)/G11*100,0))))","v":"  "},null,{"$f":"IF(ISBLANK(I11),\"  \",IF(ISBLANK(I12),\" \",IF(ISBLANK(I20),\" \",ROUND((I20+I13)/I11*100,0))))","v":"  "},null,{"$f":"IF(ISBLANK(K11),\"  \",IF(ISBLANK(K12),\" \",IF(ISBLANK(K20),\" \",ROUND((K20+K13)/K11*100,0))))","v":"  "},null,{"$f":"IF(ISBLANK(M11),\"  \",IF(ISBLANK(M12),\" \",IF(ISBLANK(M20),\" \",ROUND((M20+M13)/M11*100,0))))","v":"  "}]
[4,{"$f":"IF(ISBLANK('S1'!B21),\" \",'S1'!B21)","v":" "},null,{"$f":"IF(ISBLANK(C11),\"  \",IF(ISBLANK(C12),\" \",IF(ISBLANK(C21),\" \",ROUND((C21+C13)/C11*100,0))))","v":"  "},null,{"$f":"IF(ISBLANK(E11),\"  \",IF(ISBLANK(E12),\" \",IF(ISBLANK(E21),\" \",ROUND((E21+E13)/E11*100,0))))","v":"  "},null,{"$f":"IF(ISBLANK(G11),\"  \",IF(ISBLANK(G12),\" \",IF(ISBLANK(G21),\" \",ROUND((G21+G13)/G11*100,0))))","v":"  "},null,{"$f":"IF(ISBLANK(I11),\"  \",IF(ISBLANK(I12),\" \",IF(ISBLANK(I21),\" \",ROUND((I21+I13)/I11*100,0))))","v":"  "},null,{"$f":"IF(ISBLANK(K11),\"  \",IF(ISBLANK(K12),\" \",IF(ISBLANK(K21),\" \",ROUND((K21+K13)/K11*100,0))))","v":"  "},null,{"$f":"IF(ISBLANK(M11),\"  \",IF(ISBLANK(M12),\" \",IF(ISBLANK(M21),\" \",ROUND((M21+M13)/M11*100,0))))","v":"  "}]
[8,{"$f":"IF(ISBLANK('S1'!B22),\" \",'S1'!B22)","v":" "},null,{"$f":"IF(ISBLANK(C11),\"  \",IF(ISBLANK(C12),\" \",IF(ISBLANK(C22),\" \",ROUND((C22+C13)/C11*100,0))))","v":"  "},null,{"$f":"IF(ISBLANK(E11),\"  \",IF(ISBLANK(E12),\" \",IF(ISBLANK(E22),\" \",ROUND((E22+E13)/E11*100,0))))","v":"  "},null,{"$f":"IF(ISBLANK(G11),\"  \",IF(ISBLANK(G12),\" \",IF(ISBLANK(G22),\" \",ROUND((G22+G13)/G11*100,0))))","v":"  "},null,{"$f":"IF(ISBLANK(I11),\"  \",IF(ISBLANK(I12),\" \",IF(ISBLANK(I22),\" \",ROUND((I22+I13)/I11*100,0))))","v":"  "},null,{"$f":"IF(ISBLANK(K11),\"  \",IF(ISBLANK(K12),\" \",IF(ISBLANK(K22),\" \",ROUND((K22+K13)/K11*100,0))))","v":"  "},null,{"$f":"IF(ISBLANK(M11),\"  \",IF(ISBLANK(M12),\" \",IF(ISBLANK(M22),\" \",ROUND((M22+M13)/M11*100,0))))","v":"  "}]
[16,{"$f":"IF(ISBLANK('S1'!B23),\" \",'S1'!B23)","v":" "},null,{"$f":"IF(ISBLANK(C11),\"  \",IF(ISBLANK(C12),\" \",IF(ISBLANK(C23),\" \",ROUND((C23+C13)/C11*100,0))))","v":"  "},null,{"$f":"IF(ISBLANK(E11),\"  \",IF(ISBLANK(E12),\" \",IF(ISBLANK(E23),\" \",ROUND((E23+E13)/E11*100,0))))","v":"  "},null,{"$f":"IF(ISBLANK(G11),\"  \",IF(ISBLANK(G12),\" \",IF(ISBLANK(G23),\" \",ROUND((G23+G13)/G11*100,0))))","v":"  "},null,{"$f":"IF(ISBLANK(I11),\"  \",IF(ISBLANK(I12),\" \",IF(ISBLANK(I23),\" \",ROUND((I23+I13)/I11*100,0))))","v":"  "},null,{"$f":"IF(ISBLANK(K11),\"  \",IF(ISBLANK(K12),\" \",IF(ISBLANK(K23),\" \",ROUND((K23+K13)/K11*100,0))))","v":"  "},null,{"$f":"IF(ISBLANK(M11),\"  \",IF(ISBLANK(M12),\" \",IF(ISBLANK(M23),\" \",ROUND((M23+M13)/M11*100,0))))","v":"  "}]
[30,{"$f":"IF(ISBLANK('S1'!B24),\" \",'S1'!B24)","v":" "},null,{"$f":"IF(ISBLANK(C11),\"  \",IF(ISBLANK(C12),\" \",IF(ISBLANK(C24),\" \",ROUND((C24+C13)/C11*100,0))))","v":"  "},null,{"$f":"IF(ISBLANK(E11),\"  \",IF(ISBLANK(E12),\" \",IF(ISBLANK(E24),\" \",ROUND((E24+E13)/E11*100,0))))","v":"  "},null,{"$f":"IF(ISBLANK(G11),\"  \",IF(ISBLANK(G12),\" \",IF(ISBLANK(G24),\" \",ROUND((G24+G13)/G11*100,0))))","v":"  "},null,{"$f":"IF(ISBLANK(I11),\"  \",IF(ISBLANK(I12),\" \",IF(ISBLANK(I24),\" \",ROUND((I24+I13)/I11*100,0))))","v":"  "},null,{"$f":"IF(ISBLANK(K11),\"  \",IF(ISBLANK(K12),\" \",IF(ISBLANK(K24),\" \",ROUND((K24+K13)/K11*100,0))))","v":"  "},null,{"$f":"IF(ISBLANK(M11),\"  \",IF(ISBLANK(M12),\" \",IF(ISBLANK(M24),\" \",ROUND((M24+M13)/M11*100,0))))","v":"  "}]
[50,{"$f":"IF(ISBLANK('S1'!B25),\" \",'S1'!B25)","v":" "},null,{"$f":"IF(ISBLANK(C11),\"  \",IF(ISBLANK(C12),\" \",IF(ISBLANK(C25),\" \",ROUND((C25+C13)/C11*100,0))))","v":"  "},null,{"$f":"IF(ISBLANK(E11),\"  \",IF(ISBLANK(E12),\" \",IF(ISBLANK(E25),\" \",ROUND((E25+E13)/E11*100,0))))","v":"  "},null,{"$f":"IF(ISBLANK(G11),\"  \",IF(ISBLANK(G12),\" \",IF(ISBLANK(G25),\" \",ROUND((G25+G13)/G11*100,0))))","v":"  "},null,{"$f":"IF(ISBLANK(I11),\"  \",IF(ISBLANK(I12),\" \",IF(ISBLANK(I25),\" \",ROUND((I25+I13)/I11*100,0))))","v":"  "},null,{"$f":"IF(ISBLANK(K11),\"  \",IF(ISBLANK(K12),\" \",IF(ISBLANK(K25),\" \",ROUND((K25+K13)/K11*100,0))))","v":"  "},null,{"$f":"IF(ISBLANK(M11),\"  \",IF(ISBLANK(M12),\" \",IF(ISBLANK(M25),\" \",ROUND((M25+M13)/M11*100,0))))","v":"  "}]
[100,{"$f":"IF(ISBLANK('S1'!B26),\" \",'S1'!B26)","v":" "},null,{"$f":"IF(ISBLANK(C11),\"  \",IF(ISBLANK(C12),\" \",IF(ISBLANK(C26),\" \",ROUND((C26+C13)/C11*100,0))))","v":"  "},null,{"$f":"IF(ISBLANK(E11),\"  \",IF(ISBLANK(E12),\" \",IF(ISBLANK(E26),\" \",ROUND((E26+E13)/E11*100,0))))","v":"  "},null,{"$f":"IF(ISBLANK(G11),\"  \",IF(ISBLANK(G12),\" \",IF(ISBLANK(G26),\" \",ROUND((G26+G13)/G11*100,0))))","v":"  "},null,{"$f":"IF(ISBLANK(I11),\"  \",IF(ISBLANK(I12),\" \",IF(ISBLANK(I26),\" \",ROUND((I26+I13)/I11*100,0))))","v":"  "},null,{"$f":"IF(ISBLANK(K11),\"  \",IF(ISBLANK(K12),\" \",IF(ISBLANK(K26),\" \",ROUND((K26+K13)/K11*100,0))))","v":"  "},null,{"$f":"IF(ISBLANK(M11),\"  \",IF(ISBLANK(M12),\" \",IF(ISBLANK(M26),\" \",ROUND((M26+M13)/M11*100,0))))","v":"  "}]
[200,{"$f":"IF(ISBLANK('S1'!B27),\" \",'S1'!B27)","v":" "},null,{"$f":"IF(ISBLANK(C11),\"  \",IF(ISBLANK(C12),\" \",IF(ISBLANK(C27),\" \",ROUND((C27+C13)/C11*100+$D$8,1))))","v":"  "},null,{"$f":"IF(ISBLANK(E11),\"  \",IF(ISBLANK(E12),\" \",IF(ISBLANK(E27),\" \",ROUND((E27+E13)/E11*100+$D$8,1))))","v":"  "},null,{"$f":"IF(ISBLANK(G11),\"  \",IF(ISBLANK(G12),\" \",IF(ISBLANK(G27),\" \",ROUND((G27+G13)/G11*100+$D$8,1))))","v":"  "},null,{"$f":"IF(ISBLANK(I11),\"  \",IF(ISBLANK(I12),\" \",IF(ISBLANK(I27),\" \",ROUND((I27+I13)/I11*100+$D$8,1))))","v":"  "},null,{"$f":"IF(ISBLANK(K11),\"  \",IF(ISBLANK(K12),\" \",IF(ISBLANK(K27),\" \",ROUND((K27+K13)/K11*100+$D$8,1))))","v":"  "},null,{"$f":"IF(ISBLANK(M11),\"  \",IF(ISBLANK(M12),\" \",IF(ISBLANK(M27),\" \",ROUND((M27+M13)/M11*100+$D$8,1))))","v":"  "}]
["%AC",{"$f":"IF(ISBLANK('S1'!B28),\" \",'S1'!B28)","v":" "}]
["Percent Loss / Gain",null,{"$f":"IF(ISBLANK(C12),\"\",IF(ISBLANK(C20),\"\",(C12-C71)/C12*100))","v":""},null,{"$f":"IF(ISBLANK(E12),\"\",IF(ISBLANK(E20),\"\",(E12-E71)/E12*100))","v":""},null,{"$f":"IF(ISBLANK(G12),\"\",IF(ISBLANK(G20),\"\",(G12-G71)/G12*100))","v":""},null,{"$f":"IF(ISBLANK(I12),\"\",IF(ISBLANK(I20),\"\",(I12-I71)/I12*100))","v":""},null,{"$f":"IF(ISBLANK(K12),\"\",IF(ISBLANK(K20),\"\",(K12-K71)/K12*100))","v":""},null,{"$f":"IF(ISBLANK(M12),\"\",IF(ISBLANK(M20),\"\",(M12-M71)/M12*100))","v":""}]
["Apparent Moisture","Orig Wt"]
[null,"Const Wt"]
[null,"% moisture",{"$f":"IF(ISBLANK(C30),\" \",IF(ISBLANK(C31),\" \",((C30-C31)/C31)*100))","v":" "},null,{"$f":"IF(ISBLANK(E30),\" \",IF(ISBLANK(E31),\" \",((E30-E31)/E31)*100))","v":" "},null,{"$f":"IF(ISBLANK(G30),\" \",IF(ISBLANK(G31),\" \",((G30-G31)/G31)*100))","v":" "},null,{"$f":"IF(ISBLANK(I30),\" \",IF(ISBLANK(I31),\" \",((I30-I31)/I31)*100))","v":" "},null,{"$f":"IF(ISBLANK(K30),\" \",IF(ISBLANK(K31),\" \",((K30-K31)/K31)*100))","v":" "},null,{"$f":"IF(ISBLANK(M30),\" \",IF(ISBLANK(M31),\" \",((M30-M31)/M31)*100))","v":" "}]
[]
[]
[]
[]
[]
["Sets up Min and Max for charts",null,null,"Running Avg for Conditional Format",null,null,null,null,null,"AP upper & lower Tolerances"]
["#4",{"$f":"B21-8","v":{"$error":"#VALUE!"}},{"$f":"B21+8","v":{"$error":"#VALUE!"}},{"$f":"'S17'!$AC64","v":{"$error":"#N/A"}},{"$f":"'S17'!$AC65","v":{"$error":"#N/A"}},{"$f":"'S17'!$AC66","v":{"$error":"#N/A"}},{"$f":"'S17'!$AC67","v":{"$error":"#N/A"}},{"$f":"'S17'!$AC68","v":{"$error":"#N/A"}},{"$f":"'S17'!$AC69","v":{"$error":"#N/A"}},{"$f":"AP!E90","v":5},{"$f":"AP!E92","v":5}]
["#8",{"$f":"B22-6","v":{"$error":"#VALUE!"}},{"$f":"B22+6","v":{"$error":"#VALUE!"}},{"$f":"'S17'!$AA64","v":{"$error":"#N/A"}},{"$f":"'S17'!$AA65","v":{"$error":"#N/A"}},{"$f":"'S17'!$AA66","v":{"$error":"#N/A"}},{"$f":"'S17'!$AA67","v":{"$error":"#N/A"}},{"$f":"'S17'!$AA68","v":{"$error":"#N/A"}},{"$f":"'S17'!$AA69","v":{"$error":"#N/A"}},{"$f":"AP!E84","v":5},{"$f":"AP!E86","v":5}]
["#200",{"$f":"B27-2","v":{"$error":"#VALUE!"}},{"$f":"B27+2","v":{"$error":"#VALUE!"}},{"$f":"'S17'!$Y64","v":{"$error":"#N/A"}},{"$f":"'S17'!$Y65","v":{"$error":"#N/A"}},{"$f":"'S17'!$Y66","v":{"$error":"#N/A"}},{"$f":"'S17'!$Y67","v":{"$error":"#N/A"}},{"$f":"'S17'!$Y68","v":{"$error":"#N/A"}},{"$f":"'S17'!$Y69","v":{"$error":"#N/A"}},{"$f":"AP!E78","v":5},{"$f":"AP!E80","v":5}]
["AC",{"$f":"B28-0.4","v":{"$error":"#VALUE!"}},{"$f":"B28+0.4","v":{"$error":"#VALUE!"}},{"$f":"'S17'!$W64","v":{"$error":"#N/A"}},{"$f":"'S17'!$W65","v":{"$error":"#N/A"}},{"$f":"'S17'!$W66","v":{"$error":"#N/A"}},{"$f":"'S17'!$W67","v":{"$error":"#N/A"}},{"$f":"'S17'!$W68","v":{"$error":"#N/A"}},{"$f":"'S17'!$W69","v":{"$error":"#N/A"}},{"$f":"AP!E72","v":5},{"$f":"AP!E74","v":5}]
[null,null,null,{"$f":"'S17'!$U64","v":{"$error":"#N/A"}},{"$f":"'S17'!U65","v":{"$error":"#N/A"}},{"$f":"'S17'!U66","v":{"$error":"#N/A"}},{"$f":"'S17'!U67","v":{"$error":"#N/A"}},{"$f":"'S17'!U68","v":{"$error":"#N/A"}},{"$f":"'S17'!U69","v":{"$error":"#N/A"}},{"$f":"AP!E66","v":5},{"$f":"AP!E68","v":5}]
[null,null,null,{"$f":"'S17'!$S64","v":{"$error":"#N/A"}},{"$f":"'S17'!$S65","v":{"$error":"#N/A"}},{"$f":"'S17'!$S66","v":{"$error":"#N/A"}},{"$f":"'S17'!$S67","v":{"$error":"#N/A"}},{"$f":"'S17'!$S68","v":{"$error":"#N/A"}},{"$f":"'S17'!$S69","v":{"$error":"#N/A"}},{"$f":"AP!E60","v":3},{"$f":"AP!E62","v":3}]
[null,null,null,{"$f":"'S17'!$Q64","v":{"$error":"#N/A"}},{"$f":"'S17'!Q65","v":{"$error":"#N/A"}},{"$f":"'S17'!Q66","v":{"$error":"#N/A"}},{"$f":"'S17'!Q67","v":{"$error":"#N/A"}},{"$f":"'S17'!Q68","v":{"$error":"#N/A"}},{"$f":"'S17'!Q69","v":{"$error":"#N/A"}},{"$f":"AP!E54","v":3},{"$f":"AP!E56","v":3}]
[null,null,null,{"$f":"'S17'!$O64","v":{"$error":"#N/A"}},{"$f":"'S17'!O65","v":{"$error":"#N/A"}},{"$f":"'S17'!O66","v":{"$error":"#N/A"}},{"$f":"'S17'!O67","v":{"$error":"#N/A"}},{"$f":"'S17'!O68","v":{"$error":"#N/A"}},{"$f":"'S17'!O69","v":{"$error":"#N/A"}},{"$f":"AP!E47","v":3},{"$f":"AP!E49","v":3}]
[null,null,null,{"$f":"'S17'!$M64","v":{"$error":"#N/A"}},{"$f":"'S17'!$M65","v":{"$error":"#N/A"}},{"$f":"'S17'!$M66","v":{"$error":"#N/A"}},{"$f":"'S17'!$M67","v":{"$error":"#N/A"}},{"$f":"'S17'!$M68","v":{"$error":"#N/A"}},{"$f":"'S17'!$M69","v":{"$error":"#N/A"}},{"$f":"AP!E40","v":3},{"$f":"AP!E42","v":3}]
[null,null,null,{"$f":"'S17'!$K64","v":{"$error":"#N/A"}},{"$f":"'S17'!$K65","v":{"$error":"#N/A"}},{"$f":"'S17'!$K66","v":{"$error":"#N/A"}},{"$f":"'S17'!$K67","v":{"$error":"#N/A"}},{"$f":"'S17'!$K68","v":{"$error":"#N/A"}},{"$f":"'S17'!$K69","v":{"$error":"#N/A"}},{"$f":"AP!E34","v":3},{"$f":"AP!E36","v":3}]
[null,null,null,{"$f":"'S17'!$I64","v":{"$error":"#N/A"}},{"$f":"'S17'!$I65","v":{"$error":"#N/A"}},{"$f":"'S17'!$I66","v":{"$error":"#N/A"}},{"$f":"'S17'!$I67","v":{"$error":"#N/A"}},{"$f":"'S17'!$I68","v":{"$error":"#N/A"}},{"$f":"'S17'!$I69","v":{"$error":"#N/A"}},{"$f":"AP!E28","v":3},{"$f":"AP!E30","v":3}]
[null,null,null,{"$f":"'S17'!$G64","v":{"$error":"#N/A"}},{"$f":"'S17'!$G65","v":{"$error":"#N/A"}},{"$f":"'S17'!$G66","v":{"$error":"#N/A"}},{"$f":"'S17'!$G67","v":{"$error":"#N/A"}},{"$f":"'S17'!$G68","v":{"$error":"#N/A"}},{"$f":"'S17'!$G69","v":{"$error":"#N/A"}},{"$f":"AP!E22","v":3},{"$f":"AP!E24","v":3}]
[null,null,null,{"$f":"'S17'!E64","v":{"$error":"#N/A"}},{"$f":"'S17'!E65","v":{"$error":"#N/A"}},{"$f":"'S17'!E66","v":{"$error":"#N/A"}},{"$f":"'S17'!E67","v":{"$error":"#N/A"}},{"$f":"'S17'!E68","v":{"$error":"#N/A"}},{"$f":"'S17'!E69","v":{"$error":"#N/A"}},{"$f":"AP!E15","v":1},{"$f":"AP!E17","v":1}]
[null,null,null,{"$f":"ROUND('S17'!C64,1)","v":{"$error":"#N/A"}},{"$f":"ROUND('S17'!C65,1)","v":{"$error":"#N/A"}},{"$f":"ROUND('S17'!C66,1)","v":{"$error":"#N/A"}},{"$f":"ROUND('S17'!C67,1)","v":{"$error":"#N/A"}},{"$f":"ROUND('S17'!C68,1)","v":{"$error":"#N/A"}},{"$f":"ROUND('S17'!C69,1)","v":{"$error":"#N/A"}},{"$f":"AP!E7","v":0.2},{"$f":"AP!E9","v":0.2}]
["Tested By"]
["Remarks",null,{"$f":"IF(AND(T94=3,'S10'!M54=\"Single sample deviation, resample within 150 tons. Document corrective action\"),\"Deviation on 150 ton sample, suspend production of JMF\",IF(AND(T88=2,'S10'!M54=\"Multiple sample deviation, resample within 150 tons. Document corrective action\"),\"Deviation on 150 ton sample, suspend production of JMF\",IF(AND(T88=2,'S10'!M54=\"Single sample deviation, resample within 150 tons. Document corrective action\"),\"Deviation on 150 ton sample, suspend production of JMF\",IF(T94=3,\"Single sample deviation, resample within 150 tons. Document corrective action\",IF(T88=2,\"Multiple sample deviation, resample within 150 tons. Document corrective action\",IF(T71=1,\"Action area, document corrective action\",\" \"))))))","v":{"$error":"#N/A"}},null,{"$f":"IF(AND(U94=3,C54=\"Single sample deviation, resample within 150 tons. Document corrective action\"),\"Deviation on 150 ton sample, suspend production of JMF\",IF(AND(U88=2,C54=\"Multiple sample deviation, resample within 150 tons. Document corrective action\"),\"Deviation on 150 ton sample, suspend production of JMF\",IF(AND(U88=2,C54=\"Single sample deviation, resample within 150 tons. Document corrective action\"),\"Deviation on 150 ton sample, suspend production of JMF\",IF(U94=3,\"Single sample deviation, resample within 150 tons. Document corrective action\",IF(U88=2,\"Multiple sample deviation, resample within 150 tons. Document corrective action\",IF(U71=1,\"Action area, document corrective action\",\" \"))))))","v":{"$error":"#N/A"}},null,{"$f":"IF(AND(V94=3,E54=\"Single sample deviation, resample within 150 tons. Document corrective action\"),\"Deviation on 150 ton sample, suspend production of JMF\",IF(AND(V88=2,E54=\"Multiple sample deviation, resample within 150 tons. Document corrective action\"),\"Deviation on 150 ton sample, suspend production of JMF\",IF(AND(V88=2,E54=\"Single sample deviation, resample within 150 tons. Document corrective action\"),\"Deviation on 150 ton sample, suspend production of JMF\",IF(V94=3,\"Single sample deviation, resample within 150 tons. Document corrective action\",IF(V88=2,\"Multiple sample deviation, resample within 150 tons. Document corrective action\",IF(V71=1,\"Action area, document corrective action\",\" \"))))))","v":{"$error":"#N/A"}},null,{"$f":"IF(AND(W94=3,G54=\"Single sample deviation, resample within 150 tons. Document corrective action\"),\"Deviation on 150 ton sample, suspend production of JMF\",IF(AND(W88=2,G54=\"Multiple sample deviation, resample within 150 tons. Document corrective action\"),\"Deviation on 150 ton sample, suspend production of JMF\",IF(AND(W88=2,G54=\"Single sample deviation, resample within 150 tons. Document corrective action\"),\"Deviation on 150 ton sample, suspend production of JMF\",IF(W94=3,\"Single sample deviation, resample within 150 tons. Document corrective action\",IF(W88=2,\"Multiple sample deviation, resample within 150 tons. Document corrective action\",IF(W71=1,\"Action area, document corrective action\",\" \"))))))","v":{"$error":"#N/A"}},null,{"$f":"IF(AND(X94=3,I54=\"Single sample deviation, resample within 150 tons. Document corrective action\"),\"Deviation on 150 ton sample, suspend production of JMF\",IF(AND(X88=2,I54=\"Multiple sample deviation, resample within 150 tons. Document corrective action\"),\"Deviation on 150 ton sample, suspend production of JMF\",IF(AND(X88=2,I54=\"Single sample deviation, resample within 150 tons. Document corrective action\"),\"Deviation on 150 ton sample, suspend production of JMF\",IF(X94=3,\"Single sample deviation, resample within 150 tons. Document corrective action\",IF(X88=2,\"Multiple sample deviation, resample within 150 tons. Document corrective action\",IF(X71=1,\"Action area, document corrective action\",\" \"))))))","v":{"$error":"#N/A"}},null,{"$f":"IF(AND(Y94=3,K54=\"Single sample deviation, resample within 150 tons. Document corrective action\"),\"Deviation on 150 ton sample, suspend production of JMF\",IF(AND(Y88=2,K54=\"Multiple sample deviation, resample within 150 tons. Document corrective action\"),\"Deviation on 150 ton sample, suspend production of JMF\",IF(AND(Y88=2,K54=\"Single sample deviation, resample within 150 tons. Document corrective action\"),\"Deviation on 150 ton sample, suspend production of JMF\",IF(Y94=3,\"Single sample deviation, resample within 150 tons. Document corrective action\",IF(Y88=2,\"Multiple sample deviation, resample within 150 tons. Document corrective action\",IF(Y71=1,\"Action area, document corrective action\",\" \"))))))","v":{"$error":"#N/A"}}]
[]
[null,null,null,null,null,null,null,null,null,null,null,null,null,null,null,null,null,null,"Action points flags"]
[null,null,null,null,null,null,null,null,null,null,null,null,null,null,null,null,null,2,{"$f":"$B$15","v":" "},{"$f":"IF(ISBLANK(C15),0,IF(OR(D39>=$S57+$J39,D39<=$S57-$K39),1,0))","v":0},{"$f":"IF(ISBLANK(E15),0,IF(OR(E39>=$S57+$J39,E39<=$S57-$K39),1,0))","v":0},{"$f":"IF(ISBLANK(G15),0,IF(OR(F39>=$S57+$J39,F39<=$S57-$K39),1,0))","v":0},{"$f":"IF(ISBLANK(I15),0,IF(OR(G39>=$S57+$J39,G39<=$S57-$K39),1,0))","v":0},{"$f":"IF(ISBLANK(K15),0,IF(OR(H39>=$S57+$J39,H39<=$S57-$K39),1,0))","v":0},{"$f":"IF(ISBLANK(M15),0,IF(OR(I39>=$S57+$J39,I39<=$S57-$K39),1,0))","v":0}]
[null,null,null,null,null,null,null,null,null,null,null,null,null,null,null,null,null,1.5,{"$f":"$B$16","v":" "},{"$f":"IF(ISBLANK(C16),0,IF(OR(D40>=$S58+$J40,D40<=$S58-$K40),1,0))","v":0},{"$f":"IF(ISBLANK(E16),0,IF(OR(E40>=$S58+$J40,E40<=$S58-$K40),1,0))","v":0},{"$f":"IF(ISBLANK(G16),0,IF(OR(F40>=$S58+$J40,F40<=$S58-$K40),1,0))","v":0},{"$f":"IF(ISBLANK(I16),0,IF(OR(G40>=$S58+$J40,G40<=$S58-$K40),1,0))","v":0},{"$f":"IF(ISBLANK(K16),0,IF(OR(H40>=$S58+$J40,H40<=$S58-$K40),1,0))","v":0},{"$f":"IF(ISBLANK(M16),0,IF(OR(I40>=$S58+$J40,I40<=$S58-$K40),1,0))","v":0}]
[null,null,null,null,null,null,null,null,null,null,null,null,null,null,null,null,null,1,{"$f":"$B$17","v":" "},{"$f":"IF(ISBLANK(C17),0,IF(OR(D41>=$S59+$J41,D41<=$S59-$K41),1,0))","v":0},{"$f":"IF(ISBLANK(E17),0,IF(OR(E41>=$S59+$J41,E41<=$S59-$K41),1,0))","v":0},{"$f":"IF(ISBLANK(G17),0,IF(OR(F41>=$S59+$J41,F41<=$S59-$K41),1,0))","v":0},{"$f":"IF(ISBLANK(I17),0,IF(OR(G41>=$S59+$J41,G41<=$S59-$K41),1,0))","v":0},{"$f":"IF(ISBLANK(K17),0,IF(OR(H41>=$S59+$J41,H41<=$S59-$K41),1,0))","v":0},{"$f":"IF(ISBLANK(M17),0,IF(OR(I41>=$S59+$J41,I41<=$S59-$K41),1,0))","v":0}]
[null,null,null,null,null,null,null,null,null,null,null,null,null,null,null,null,null,0.75,{"$f":"$B$18","v":" "},{"$f":"IF(ISBLANK(C18),0,IF(OR(D42>=$S60+$J42,D42<=$S60-$K42),1,0))","v":0},{"$f":"IF(ISBLANK(E18),0,IF(OR(E42>=$S60+$J42,E42<=$S60-$K42),1,0))","v":0},{"$f":"IF(ISBLANK(G18),0,IF(OR(F42>=$S60+$J42,F42<=$S60-$K42),1,0))","v":0},{"$f":"IF(ISBLANK(I18),0,IF(OR(G42>=$S60+$J42,G42<=$S60-$K42),1,0))","v":0},{"$f":"IF(ISBLANK(K18),0,IF(OR(H42>=$S60+$J42,H42<=$S60-$K42),1,0))","v":0},{"$f":"IF(ISBLANK(M18),0,IF(OR(I42>=$S60+$J42,I42<=$S60-$K42),1,0))","v":0}]
[null,null,null,null,null,null,null,null,null,null,null,null,null,null,null,null,null,0.5,{"$f":"$B$19","v":" "},{"$f":"IF(ISBLANK(C19),0,IF(OR(D43>=$S61+$J43,D43<=$S61-$K43),1,0))","v":0},{"$f":"IF(ISBLANK(E19),0,IF(OR(E43>=$S61+$J43,E43<=$S61-$K43),1,0))","v":0},{"$f":"IF(ISBLANK(G19),0,IF(OR(F43>=$S61+$J43,F43<=$S61-$K43),1,0))","v":0},{"$f":"IF(ISBLANK(I19),0,IF(OR(G43>=$S61+$J43,G43<=$S61-$K43),1,0))","v":0},{"$f":"IF(ISBLANK(K19),0,IF(OR(H43>=$S61+$J43,H43<=$S61-$K43),1,0))","v":0},{"$f":"IF(ISBLANK(M19),0,IF(OR(I43>=$S61+$J43,I43<=$S61-$K43),1,0))","v":0}]
[null,null,null,null,null,null,null,null,null,null,null,null,null,null,null,null,null,0.375,{"$f":"$B$20","v":" "},{"$f":"IF(OR(D44>=$S62+$J44,D44<=$S62-$K44),1,0)","v":{"$error":"#N/A"}},{"$error":"#N/A"},{"$error":"#N/A"},{"$error":"#N/A"},{"$error":"#N/A"},{"$error":"#N/A"}]
[null,null,null,null,null,null,null,null,null,null,null,null,null,null,null,null,null,4,{"$f":"$B$21","v":" "},{"$error":"#N/A"},{"$error":"#N/A"},{"$error":"#N/A"},{"$error":"#N/A"},{"$error":"#N/A"},{"$error":"#N/A"}]
[null,null,null,null,null,null,null,null,null,null,null,null,null,null,null,null,null,8,{"$f":"$B$22","v":" "},{"$error":"#N/A"},{"$error":"#N/A"},{"$error":"#N/A"},{"$error":"#N/A"},{"$error":"#N/A"},{"$error":"#N/A"}]
[null,null,null,null,null,null,null,null,null,null,null,null,null,null,null,null,null,16,{"$f":"$B$23","v":" "},{"$error":"#N/A"},{"$error":"#N/A"},{"$error":"#N/A"},{"$error":"#N/A"},{"$error":"#N/A"},{"$error":"#N/A"}]
[null,null,null,null,null,null,null,null,null,null,null,null,null,null,null,null,null,30,{"$f":"$B$24","v":" "},{"$error":"#N/A"},{"$error":"#N/A"},{"$error":"#N/A"},{"$error":"#N/A"},{"$error":"#N/A"},{"$error":"#N/A"}]
[null,null,null,null,null,null,null,null,null,null,null,null,null,null,null,null,null,50,{"$f":"$B$25","v":" "},{"$error":"#N/A"},{"$error":"#N/A"},{"$error":"#N/A"},{"$error":"#N/A"},{"$error":"#N/A"},{"$error":"#N/A"}]
[null,null,null,null,null,null,null,null,null,null,null,null,null,null,null,null,null,100,{"$f":"$B$26","v":" "},{"$error":"#N/A"},{"$error":"#N/A"},{"$error":"#N/A"},{"$error":"#N/A"},{"$error":"#N/A"},{"$error":"#N/A"}]
[null,null,null,null,null,null,null,null,null,null,null,null,null,null,null,null,null,200,{"$f":"$B$27","v":" "},{"$error":"#N/A"},{"$error":"#N/A"},{"$error":"#N/A"},{"$error":"#N/A"},{"$error":"#N/A"},{"$error":"#N/A"}]
[null,null,null,null,null,null,null,null,null,null,null,null,null,null,null,null,null,"%AC",{"$f":"$B$28","v":" "},{"$error":"#N/A"},{"$error":"#N/A"},{"$error":"#N/A"},{"$error":"#N/A"},{"$error":"#N/A"},{"$error":"#N/A"}]
[null,null,{"$f":"MAX(C15:C23)","v":0},null,{"$f":"MAX(E15:E23)","v":0},null,{"$f":"MAX(G15:G23)","v":0},null,{"$f":"MAX(I15:I23)","v":0},null,{"$f":"MAX(K15:K23)","v":0},null,{"$f":"MAX(M15:M23)","v":0},null,null,null,null,null,"Max",{"$f":"MAX(T56:T70)","v":{"$error":"#N/A"}},{"$error":"#N/A"},{"$error":"#N/A"},{"$error":"#N/A"},{"$error":"#N/A"},{"$error":"#N/A"}]
[]
[null,null,null,null,null,null,null,null,null,null,null,null,null,null,null,null,null,null,"Multiple sample flag"]
[null,null,null,null,null,null,null,null,null,null,null,null,null,null,null,null,null,2,{"$f":"$B$15","v":" "},{"$f":"IF(ISBLANK(C15),0,IF(OR(D39>$S74+AP!$E$89,D39<$S74-AP!$E$93),2,0))","v":0},{"$f":"IF(ISBLANK(E15),0,IF(OR(E39>$S74+AP!$E$89,E39<$S74-AP!$E$93),2,0))","v":0},{"$f":"IF(ISBLANK(G15),0,IF(OR(F39>$S74+AP!$E$89,F39<$S74-AP!$E$93),2,0))","v":0},{"$f":"IF(ISBLANK(I15),0,IF(OR(G39>$S74+AP!$E$89,G39<$S74-AP!$E$93),2,0))","v":0},{"$f":"IF(ISBLANK(K15),0,IF(OR(H39>$S74+AP!$E$89,H39<$S74-AP!$E$93),2,0))","v":0},{"$f":"IF(ISBLANK(M15),0,IF(OR(I39>$S74+AP!$E$89,I39<$S74-AP!$E$93),2,0))","v":0}]
[null,null,null,null,null,null,null,null,null,null,null,null,null,null,null,null,null,1.5,{"$f":"$B$16","v":" "},{"$f":"IF(ISBLANK(C16),0,IF(OR(D40>$S75+AP!$E$83,D40<$S75-AP!$E$87),2,0))","v":0},{"$f":"IF(ISBLANK(E16),0,IF(OR(E40>$S75+AP!$E$89,E40<$S75-AP!$E$93),2,0))","v":0},{"$f":"IF(ISBLANK(G16),0,IF(OR(F40>$S75+AP!$E$89,F40<$S75-AP!$E$93),2,0))","v":0},{"$f":"IF(ISBLANK(I16),0,IF(OR(G40>$S75+AP!$E$89,G40<$S75-AP!$E$93),2,0))","v":0},{"$f":"IF(ISBLANK(K16),0,IF(OR(H40>$S75+AP!$E$89,H40<$S75-AP!$E$93),2,0))","v":0},{"$f":"IF(ISBLANK(M16),0,IF(OR(I40>$S75+AP!$E$89,I40<$S75-AP!$E$93),2,0))","v":0}]
[null,null,null,null,null,null,null,null,null,null,null,null,null,null,null,null,null,1,{"$f":"$B$17","v":" "},{"$f":"IF(ISBLANK(C17),0,IF(OR(D41>$S76+AP!$E$83,D41<$S76-AP!$E$87),2,0))","v":0},{"$f":"IF(ISBLANK(E17),0,IF(OR(E41>$S76+AP!$E$89,E41<$S76-AP!$E$93),2,0))","v":0},{"$f":"IF(ISBLANK(G17),0,IF(OR(F41>$S76+AP!$E$89,F41<$S76-AP!$E$93),2,0))","v":0},{"$f":"IF(ISBLANK(I17),0,IF(OR(G41>$S76+AP!$E$89,G41<$S76-AP!$E$93),2,0))","v":0},{"$f":"IF(ISBLANK(K17),0,IF(OR(H41>$S76+AP!$E$89,H41<$S76-AP!$E$93),2,0))","v":0},{"$f":"IF(ISBLANK(M17),0,IF(OR(I41>$S76+AP!$E$89,I41<$S76-AP!$E$93),2,0))","v":0}]
[null,null,null,null,null,null,null,null,null,null,null,null,null,null,null,null,null,0.75,{"$f":"$B$18","v":" "},{"$f":"IF(ISBLANK(C18),0,IF(OR(D42>$S77+AP!$E$83,D42<$S77-AP!$E$87),2,0))","v":0},{"$f":"IF(ISBLANK(E18),0,IF(OR(E42>$S77+AP!$E$89,E42<$S77-AP!$E$93),2,0))","v":0},{"$f":"IF(ISBLANK(G18),0,IF(OR(F42>$S77+AP!$E$89,F42<$S77-AP!$E$93),2,0))","v":0},{"$f":"IF(ISBLANK(I18),0,IF(OR(G42>$S77+AP!$E$89,G42<$S77-AP!$E$93),2,0))","v":0},{"$f":"IF(ISBLANK(K18),0,IF(OR(H42>$S77+AP!$E$89,H42<$S77-AP!$E$93),2,0))","v":0},{"$f":"IF(ISBLANK(M18),0,IF(OR(I42>$S77+AP!$E$89,I42<$S77-AP!$E$93),2,0))","v":0}]
[null,null,null,null,null,null,null,null,null,null,null,null,null,null,null,null,null,0.5,{"$f":"$B$19","v":" "},{"$f":"IF(ISBLANK(C19),0,IF(OR(D43>$S78+AP!$E$83,D43<$S78-AP!$E$87),2,0))","v":0},{"$f":"IF(ISBLANK(E19),0,IF(OR(E43>$S78+AP!$E$89,E43<$S78-AP!$E$93),2,0))","v":0},{"$f":"IF(ISBLANK(G19),0,IF(OR(F43>$S78+AP!$E$89,F43<$S78-AP!$E$93),2,0))","v":0},{"$f":"IF(ISBLANK(I19),0,IF(OR(G43>$S78+AP!$E$89,G43<$S78-AP!$E$93),2,0))","v":0},{"$f":"IF(ISBLANK(K19),0,IF(OR(H43>$S78+AP!$E$89,H43<$S78-AP!$E$93),2,0))","v":0},{"$f":"IF(ISBLANK(M19),0,IF(OR(I43>$S78+AP!$E$89,I43<$S78-AP!$E$93),2,0))","v":0}]
[null,null,null,null,null,null,null,null,null,null,null,null,null,null,null,null,null,0.375,{"$f":"$B$20","v":" "},{"$f":"IF(OR(D44>$S79+AP!$E$59,D44<$S79-AP!$E$63),2,0)","v":{"$error":"#N/A"}},{"$f":"IF(OR(E44>$S79+AP!$E$59,E44<$S79-AP!$E$63),2,0)","v":{"$error":"#N/A"}},{"$f":"IF(OR(F44>$S79+AP!$E$59,F44<$S79-AP!$E$63),2,0)","v":{"$error":"#N/A"}},{"$f":"IF(OR(G44>$S79+AP!$E$59,G44<$S79-AP!$E$63),2,0)","v":{"$error":"#N/A"}},{"$f":"IF(OR(H44>$S79+AP!$E$59,H44<$S79-AP!$E$63),2,0)","v":{"$error":"#N/A"}},{"$f":"IF(OR(I44>$S79+AP!$E$59,I44<$S79-AP!$E$63),2,0)","v":{"$error":"#N/A"}}]
[null,null,null,null,null,null,null,null,null,null,null,null,null,null,null,null,null,4,{"$f":"$B$21","v":" "},{"$f":"IF(OR(D45>$S80+AP!$E$53,D45<$S80-AP!$E$57),2,0)","v":{"$error":"#N/A"}},{"$f":"IF(OR(E45>$S80+AP!$E$53,E45<$S80-AP!$E$57),2,0)","v":{"$error":"#N/A"}},{"$f":"IF(OR(F45>$S80+AP!$E$53,F45<$S80-AP!$E$57),2,0)","v":{"$error":"#N/A"}},{"$f":"IF(OR(G45>$S80+AP!$E$53,G45<$S80-AP!$E$57),2,0)","v":{"$error":"#N/A"}},{"$f":"IF(OR(H45>$S80+AP!$E$53,H45<$S80-AP!$E$57),2,0)","v":{"$error":"#N/A"}},{"$f":"IF(OR(I45>$S80+AP!$E$53,I45<$S80-AP!$E$57),2,0)","v":{"$error":"#N/A"}}]
[null,null,null,null,null,null,null,null,null,null,null,null,null,null,null,null,null,8,{"$f":"$B$22","v":" "},{"$f":"IF(OR(D46>$S81+AP!$E$46,D46<$S81-AP!$E$50),2,0)","v":{"$error":"#N/A"}},{"$f":"IF(OR(E46>$S81+AP!$E$46,E46<$S81-AP!$E$50),2,0)","v":{"$error":"#N/A"}},{"$f":"IF(OR(F46>$S81+AP!$E$46,F46<$S81-AP!$E$50),2,0)","v":{"$error":"#N/A"}},{"$f":"IF(OR(G46>$S81+AP!$E$46,G46<$S81-AP!$E$50),2,0)","v":{"$error":"#N/A"}},{"$f":"IF(OR(H46>$S81+AP!$E$46,H46<$S81-AP!$E$50),2,0)","v":{"$error":"#N/A"}},{"$f":"IF(OR(I46>$S81+AP!$E$46,I46<$S81-AP!$E$50),2,0)","v":{"$error":"#N/A"}}]
[null,null,null,null,null,null,null,null,null,null,null,null,null,null,null,null,null,16,{"$f":"$B$23","v":" "},{"$f":"IF(OR(D47>$S82+AP!$E$39,D47<$S82-AP!$E$43),2,0)","v":{"$error":"#N/A"}},{"$f":"IF(OR(E47>$S82+AP!$E$39,E47<$S82-AP!$E$43),2,0)","v":{"$error":"#N/A"}},{"$f":"IF(OR(F47>$S82+AP!$E$39,F47<$S82-AP!$E$43),2,0)","v":{"$error":"#N/A"}},{"$f":"IF(OR(G47>$S82+AP!$E$39,G47<$S82-AP!$E$43),2,0)","v":{"$error":"#N/A"}},{"$f":"IF(OR(H47>$S82+AP!$E$39,H47<$S82-AP!$E$43),2,0)","v":{"$error":"#N/A"}},{"$f":"IF(OR(I47>$S82+AP!$E$39,I47<$S82-AP!$E$43),2,0)","v":{"$error":"#N/A"}}]
[null,null,null,null,null,null,null,null,null,null,null,null,null,null,null,null,null,30,{"$f":"$B$24","v":" "},{"$f":"IF(OR(D48>$S83+AP!$E$33,D48<$S83-AP!$E$37),2,0)","v":{"$error":"#N/A"}},{"$f":"IF(OR(E48>$S83+AP!$E$33,E48<$S83-AP!$E$37),2,0)","v":{"$error":"#N/A"}},{"$f":"IF(OR(F48>$S83+AP!$E$33,F48<$S83-AP!$E$37),2,0)","v":{"$error":"#N/A"}},{"$f":"IF(OR(G48>$S83+AP!$E$33,G48<$S83-AP!$E$37),2,0)","v":{"$error":"#N/A"}},{"$f":"IF(OR(H48>$S83+AP!$E$33,H48<$S83-AP!$E$37),2,0)","v":{"$error":"#N/A"}},{"$f":"IF(OR(I48>$S83+AP!$E$33,I48<$S83-AP!$E$37),2,0)","v":{"$error":"#N/A"}}]
[null,null,null,null,null,null,null,null,null,null,null,null,null,null,null,null,null,50,{"$f":"$B$25","v":" "},{"$f":"IF(OR(D49>$S84+AP!$E$27,D49<$S84-AP!$E$31),2,0)","v":{"$error":"#N/A"}},{"$f":"IF(OR(E49>$S84+AP!$E$27,E49<$S84-AP!$E$31),2,0)","v":{"$error":"#N/A"}},{"$f":"IF(OR(F49>$S84+AP!$E$27,F49<$S84-AP!$E$31),2,0)","v":{"$error":"#N/A"}},{"$f":"IF(OR(G49>$S84+AP!$E$27,G49<$S84-AP!$E$31),2,0)","v":{"$error":"#N/A"}},{"$f":"IF(OR(H49>$S84+AP!$E$27,H49<$S84-AP!$E$31),2,0)","v":{"$error":"#N/A"}},{"$f":"IF(OR(I49>$S84+AP!$E$27,I49<$S84-AP!$E$31),2,0)","v":{"$error":"#N/A"}}]
[null,null,null,null,null,null,null,null,null,null,null,null,null,null,null,null,null,100,{"$f":"$B$26","v":" "},{"$f":"IF(OR(D50>$S85+AP!$E$21,D50<$S85-AP!$E$25),2,0)","v":{"$error":"#N/A"}},{"$f":"IF(OR(E50>$S85+AP!$E$21,E50<$S85-AP!$E$25),2,0)","v":{"$error":"#N/A"}},{"$f":"IF(OR(F50>$S85+AP!$E$21,F50<$S85-AP!$E$25),2,0)","v":{"$error":"#N/A"}},{"$f":"IF(OR(G50>$S85+AP!$E$21,G50<$S85-AP!$E$25),2,0)","v":{"$error":"#N/A"}},{"$f":"IF(OR(H50>$S85+AP!$E$21,H50<$S85-AP!$E$25),2,0)","v":{"$error":"#N/A"}},{"$f":"IF(OR(I50>$S85+AP!$E$21,I50<$S85-AP!$E$25),2,0)","v":{"$error":"#N/A"}}]
[null,null,null,null,null,null,null,null,null,null,null,null,null,null,null,null,null,200,{"$f":"$B$27","v":" "},{"$f":"IF(OR(D51>$S86+AP!$E$14,D51<$S86-AP!$E$18),2,0)","v":{"$error":"#N/A"}},{"$f":"IF(OR(E51>$S86+AP!$E$14,E51<$S86-AP!$E$18),2,0)","v":{"$error":"#N/A"}},{"$f":"IF(OR(F51>$S86+AP!$E$14,F51<$S86-AP!$E$18),2,0)","v":{"$error":"#N/A"}},{"$f":"IF(OR(G51>$S86+AP!$E$14,G51<$S86-AP!$E$18),2,0)","v":{"$error":"#N/A"}},{"$f":"IF(OR(H51>$S86+AP!$E$14,H51<$S86-AP!$E$18),2,0)","v":{"$error":"#N/A"}},{"$f":"IF(OR(I51>$S86+AP!$E$14,I51<$S86-AP!$E$18),2,0)","v":{"$error":"#N/A"}}]
[null,null,null,null,null,null,null,null,null,null,null,null,null,null,null,null,null,"%AC",{"$f":"$B$28","v":" "},{"$f":"IF(OR(D52>AP!$L$6,D52<AP!$L$10),2,0)","v":{"$error":"#N/A"}},{"$f":"IF(OR(E52>AP!$L$6,E52<AP!$L$10),2,0)","v":{"$error":"#N/A"}},{"$f":"IF(OR(F52>AP!$L$6,F52<AP!$L$10),2,0)","v":{"$error":"#N/A"}},{"$f":"IF(OR(G52>AP!$L$6,G52<AP!$L$10),2,0)","v":{"$error":"#N/A"}},{"$f":"IF(OR(H52>AP!$L$6,H52<AP!$L$10),2,0)","v":{"$error":"#N/A"}},{"$f":"IF(OR(I52>AP!$L$6,I52<AP!$L$10),2,0)","v":{"$error":"#N/A"}}]
[null,null,null,null,null,null,null,null,null,null,null,null,null,null,null,null,null,null,"Max",{"$f":"MAX(T74:T87)","v":{"$error":"#N/A"}},{"$error":"#N/A"},{"$error":"#N/A"},{"$error":"#N/A"},{"$error":"#N/A"},{"$error":"#N/A"}]
[]
[null,null,null,null,null,null,null,null,null,null,null,null,null,null,null,null,null,null,"Single sample flag"]
[null,null,null,null,null,null,null,null,null,null,null,null,null,null,null,null,null,8,{"$f":"$B$22","v":" "},{"$f":"IF(OR($D$22>$S91+AP!$E$45,$D$22<$S91-AP!$E$51),3,0)","v":{"$error":"#VALUE!"}},{"$f":"IF(OR($F$22>$S91+AP!$E$45,$F$22<$S91-AP!$E$51),3,0)","v":{"$error":"#VALUE!"}},{"$f":"IF(OR($H$22>$S91+AP!$E$45,$H$22<$S91-AP!$E$51),3,0)","v":{"$error":"#VALUE!"}},{"$f":"IF(OR($J$22>$S91+AP!$E$45,$J$22<$S91-AP!$E$51),3,0)","v":{"$error":"#VALUE!"}},{"$f":"IF(OR($L$22>$S91+AP!$E$45,$L$22<$S91-AP!$E$51),3,0)","v":{"$error":"#VALUE!"}},{"$f":"IF(OR($N$22>$S91+AP!$E$45,$N$22<$S91-AP!$E$51),3,0)","v":{"$error":"#VALUE!"}}]
[null,null,null,null,null,null,null,null,null,null,null,null,null,null,null,null,null,200,{"$f":"$B$27","v":" "},{"$f":"IF(OR($D$27>$S92+AP!$E$13,$D$27<$S92-AP!$E$19),3,0)","v":{"$error":"#VALUE!"}},{"$f":"IF(OR($F$27>$S92+AP!$E$13,$F$27<$S92-AP!$E$19),3,0)","v":{"$error":"#VALUE!"}},{"$f":"IF(OR($H$27>$S92+AP!$E$13,$H$27<$S92-AP!$E$19),3,0)","v":{"$error":"#VALUE!"}},{"$f":"IF(OR($J$27>$S92+AP!$E$13,$J$27<$S92-AP!$E$19),3,0)","v":{"$error":"#VALUE!"}},{"$f":"IF(OR($L$27>$S92+AP!$E$13,$L$27<$S92-AP!$E$19),3,0)","v":{"$error":"#VALUE!"}},{"$f":"IF(OR($N$27>$S92+AP!$E$13,$N$27<$S92-AP!$E$19),3,0)","v":{"$error":"#VALUE!"}}]
[null,null,null,null,null,null,null,null,null,null,null,null,null,null,null,null,null,"%AC",{"$f":"$B$28","v":" "},{"$f":"IF(OR($C$28>AP!$L$5,$C$28<AP!$L$11),3,0)","v":0},{"$f":"IF(OR($E$28>AP!$L$5,$E$28<AP!$L$11),3,0)","v":0},{"$f":"IF(OR($G$28>AP!$L$5,$G$28<AP!$L$11),3,0)","v":0},{"$f":"IF(OR($I$28>AP!$L$5,$I$28<AP!$L$11),3,0)","v":0},{"$f":"IF(OR($K$28>AP!$L$5,$K$28<AP!$L$11),3,0)","v":0},{"$f":"IF(OR($M$28>AP!$L$5,$M$28<AP!$L$11),3,0)","v":0}]
[null,null,null,null,null,null,null,null,null,null,null,null,null,null,null,null,null,null,"Max",{"$f":"IF(ISBLANK(C27),\" \",MAX(T91:T93))","v":" "},{"$f":"IF(ISBLANK(E27),\" \",MAX(U91:U93))","v":" "},{"$f":"IF(ISBLANK(G27),\" \",MAX(V91:V93))","v":" "},{"$f":"IF(ISBLANK(I27),\" \",MAX(W91:W93))","v":" "},{"$f":"IF(ISBLANK(K27),\" \",MAX(X91:X93))","v":" "},{"$f":"IF(ISBLANK(M27),\" \",MAX(Y91:Y93))","v":" "}]

{"sheet":"S12","index":11,"n_rows":94,"n_cols":25,"rows_kept":94,"cut":false,"hidden":true,"merged":[[89,18,89,24],[59,2,68,3],[59,12,68,13],[59,10,68,11],[59,8,68,9],[59,6,68,7],[59,4,68,5],[53,0,68,1],[53,12,58,13],[53,10,58,11],[53,8,58,9],[53,6,58,7],[53,4,58,5],[53,2,58,3],[55,18,55,24],[72,18,72,24],[31,2,31,3],[31,4,31,5],[31,6,31,7],[31,8,31,9],[31,10,31,11],[31,12,31,13],[52,12,52,13],[52,0,52,1],[52,2,52,3],[52,4,52,5],[52,6,52,7],[52,8,52,9],[52,10,52,11],[37,0,37,2],[37,9,37,10],[37,3,37,8],[29,0,31,0],[30,2,30,3],[30,4,30,5],[30,6,30,7],[30,8,30,9],[30,10,30,11],[29,2,29,3],[29,6,29,7],[29,8,29,9],[29,12,29,13],[29,10,29,11],[29,4,29,5],[12,0,12,1],[27,2,27,3],[27,8,27,9],[30,12,30,13],[28,6,28,7],[28,8,28,9],[28,10,28,11],[27,12,27,13],[28,12,28,13],[28,0,28,1],[28,2,28,3],[28,4,28,5],[12,4,12,5],[11,12,11,13],[27,4,27,5],[27,6,27,7],[12,12,12,13],[11,8,11,9],[11,2,11,3],[11,6,11,7],[11,4,11,5],[12,2,12,3],[27,10,27,11],[12,10,12,11],[12,8,12,9],[1,12,1,13],[2,10,2,11],[2,12,2,13],[5,10,5,11],[11,0,11,1],[12,6,12,7],[10,0,10,1],[10,4,10,5],[7,0,7,2],[0,0,3,1],[1,10,1,11],[5,6,5,7],[5,0,5,1],[6,12,6,13],[8,4,8,5],[5,12,5,13],[6,10,6,11],[7,5,7,8],[9,0,9,1],[10,6,10,7],[10,12,10,13],[8,10,8,11],[11,10,11,11],[10,8,10,9],[10,2,10,3],[9,8,9,9],[8,12,8,13],[8,8,8,9],[8,6,8,7],[8,0,8,1],[8,2,8,3],[9,2,9,3],[9,4,9,5],[9,6,9,7],[9,12,9,13],[9,10,9,11],[10,10,10,11]]}
[]
[null,null,null,null,"COMMONWEALTH OF PENNSYLVANIA",null,null,null,null,null,"DISTRICT",null,{"$f":"IF(ISBLANK('S1'!M2),\" \",('S1'!M2))","v":" "}]
[null,null,null,null,"DEPARTMENT OF TRANSPORTATION",null,null,null,null,null,"PLANT CODE",null,{"$f":"IF(ISBLANK('S1'!M3),\" \",('S1'!M3))","v":" "}]
[null,null,null,null,"LABORATORY TEST SECTION"]
[{"$f":"'S1'!A5","v":"ESB-16"}]
["Material Class ",null,{"$f":"IF(ISBLANK('S1'!C6),\" \",('S1'!C6))","v":9.5},"mm",null,null,"Burnoff Results",null,null,null,"Design No.",null,{"$f":"IF(ISBLANK('S1'!M6),\" \",('S1'!M6))","v":" "}]
[null,null,null,null,null,null,null,null,null,null,"Gyrations @ Ndes",null,{"$f":"IF(ISBLANK('S1'!M7),\" \",'S1'!M7)","v":" "}]
["-200 Correction Factor (+ or -)",null,null,{"$f":"IF(ISBLANK('S1'!D8),\" \",('S1'!D8))","v":" "},null,"Red values indicate action area"]
["Sample No."]
["Date"]
["St. Wt. Before Wash"]
["Dry Wt. After Wash"]
["Wt. Loss",null,{"$f":"IF(ISBLANK(C11),\" \",IF(ISBLANK(C12),\" \",C11-C12))","v":" "},null,{"$f":"IF(ISBLANK(E11),\" \",IF(ISBLANK(E12),\" \",E11-E12))","v":" "},null,{"$f":"IF(ISBLANK(G11),\" \",IF(ISBLANK(G12),\" \",G11-G12))","v":" "},null,{"$f":"IF(ISBLANK(I11),\" \",IF(ISBLANK(I12),\" \",I11-I12))","v":" "},null,{"$f":"IF(ISBLANK(K11),\" \",IF(ISBLANK(K12),\" \",K11-K12))","v":" "},null,{"$f":"IF(ISBLANK(M11),\" \",IF(ISBLANK(M12),\" \",M11-M12))","v":" "}]
["Size","JMF","Weight","%Passing","Weight","%Passing","Weight","%Passing","Weight","%Pasing","Weight","%Pasing","Weight","%Pasing"]
[2,{"$f":"IF(ISBLANK('S1'!B15),\" \",'S1'!B15)","v":" "},null,{"$f":"IF(ISBLANK(C11),\" \",IF(ISBLANK(C12),\" \",IF(ISBLANK(C15),\" \",ROUND((C15+C13)/C11*100,0))))","v":" "},null,{"$f":"IF(ISBLANK(E11),\" \",IF(ISBLANK(E12),\" \",IF(ISBLANK(E15),\" \",ROUND((E15+E13)/E11*100,0))))","v":" "},null,{"$f":"IF(ISBLANK(G11),\" \",IF(ISBLANK(G12),\" \",IF(ISBLANK(G15),\" \",ROUND((G15+G13)/G11*100,0))))","v":" "},null,{"$f":"IF(ISBLANK(I11),\" \",IF(ISBLANK(I12),\" \",IF(ISBLANK(I15),\" \",ROUND((I15+I13)/I11*100,0))))","v":" "},null,{"$f":"IF(ISBLANK(K11),\" \",IF(ISBLANK(K12),\" \",IF(ISBLANK(K15),\" \",ROUND((K15+K13)/K11*100,0))))","v":" "},null,{"$f":"IF(ISBLANK(M11),\" \",IF(ISBLANK(M12),\" \",IF(ISBLANK(M15),\" \",ROUND((M15+M13)/M11*100,0))))","v":" "}]
[1.5,{"$f":"IF(ISBLANK('S1'!B16),\" \",'S1'!B16)","v":" "},null,{"$f":"IF(ISBLANK(C11),\"  \",IF(ISBLANK(C12),\" \",IF(ISBLANK(C16),\" \",ROUND((C16+C13)/C11*100,0))))","v":"  "},null,{"$f":"IF(ISBLANK(E11),\"  \",IF(ISBLANK(E12),\" \",IF(ISBLANK(E16),\" \",ROUND((E16+E13)/E11*100,0))))","v":"  "},null,{"$f":"IF(ISBLANK(G11),\"  \",IF(ISBLANK(G12),\" \",IF(ISBLANK(G16),\" \",ROUND((G16+G13)/G11*100,0))))","v":"  "},null,{"$f":"IF(ISBLANK(I11),\"  \",IF(ISBLANK(I12),\" \",IF(ISBLANK(I16),\" \",ROUND((I16+I13)/I11*100,0))))","v":"  "},null,{"$f":"IF(ISBLANK(K11),\"  \",IF(ISBLANK(K12),\" \",IF(ISBLANK(K16),\" \",ROUND((K16+K13)/K11*100,0))))","v":"  "},null,{"$f":"IF(ISBLANK(M11),\"  \",IF(ISBLANK(M12),\" \",IF(ISBLANK(M16),\" \",ROUND((M16+M13)/M11*100,0))))","v":"  "}]
[1,{"$f":"IF(ISBLANK('S1'!B17),\" \",'S1'!B17)","v":" "},null,{"$f":"IF(ISBLANK(C11),\"  \",IF(ISBLANK(C12),\" \",IF(ISBLANK(C17),\" \",ROUND((C17+C13)/C11*100,0))))","v":"  "},null,{"$f":"IF(ISBLANK(E11),\"  \",IF(ISBLANK(E12),\" \",IF(ISBLANK(E17),\" \",ROUND((E17+E13)/E11*100,0))))","v":"  "},null,{"$f":"IF(ISBLANK(G11),\"  \",IF(ISBLANK(G12),\" \",IF(ISBLANK(G17),\" \",ROUND((G17+G13)/G11*100,0))))","v":"  "},null,{"$f":"IF(ISBLANK(I11),\"  \",IF(ISBLANK(I12),\" \",IF(ISBLANK(I17),\" \",ROUND((I17+I13)/I11*100,0))))","v":"  "},null,{"$f":"IF(ISBLANK(K11),\"  \",IF(ISBLANK(K12),\" \",IF(ISBLANK(K17),\" \",ROUND((K17+K13)/K11*100,0))))","v":"  "},null,{"$f":"IF(ISBLANK(M11),\"  \",IF(ISBLANK(M12),\" \",IF(ISBLANK(M17),\" \",ROUND((M17+M13)/M11*100,0))))","v":"  "}]
[0.75,{"$f":"IF(ISBLANK('S1'!B18),\" \",'S1'!B18)","v":" "},null,{"$f":"IF(ISBLANK(C11),\"  \",IF(ISBLANK(C12),\" \",IF(ISBLANK(C18),\" \",ROUND((C18+C13)/C11*100,0))))","v":"  "},null,{"$f":"IF(ISBLANK(E11),\"  \",IF(ISBLANK(E12),\" \",IF(ISBLANK(E18),\" \",ROUND((E18+E13)/E11*100,0))))","v":"  "},null,{"$f":"IF(ISBLANK(G11),\"  \",IF(ISBLANK(G12),\" \",IF(ISBLANK(G18),\" \",ROUND((G18+G13)/G11*100,0))))","v":"  "},null,{"$f":"IF(ISBLANK(I11),\"  \",IF(ISBLANK(I12),\" \",IF(ISBLANK(I18),\" \",ROUND((I18+I13)/I11*100,0))))","v":"  "},null,{"$f":"IF(ISBLANK(K11),\"  \",IF(ISBLANK(K12),\" \",IF(ISBLANK(K18),\" \",ROUND((K18+K13)/K11*100,0))))","v":"  "},null,{"$f":"IF(ISBLANK(M11),\"  \",IF(ISBLANK(M12),\" \",IF(ISBLANK(M18),\" \",ROUND((M18+M13)/M11*100,0))))","v":"  "}]
[0.5,{"$f":"IF(ISBLANK('S1'!B19),\" \",'S1'!B19)","v":" "},null,{"$f":"IF(ISBLANK(C11),\"  \",IF(ISBLANK(C12),\" \",IF(ISBLANK(C19),\" \",ROUND((C19+C13)/C11*100,0))))","v":"  "},null,{"$f":"IF(ISBLANK(E11),\"  \",IF(ISBLANK(E12),\" \",IF(ISBLANK(E19),\" \",ROUND((E19+E13)/E11*100,0))))","v":"  "},null,{"$f":"IF(ISBLANK(G11),\"  \",IF(ISBLANK(G12),\" \",IF(ISBLANK(G19),\" \",ROUND((G19+G13)/G11*100,0))))","v":"  "},null,{"$f":"IF(ISBLANK(I11),\"  \",IF(ISBLANK(I12),\" \",IF(ISBLANK(I19),\" \",ROUND((I19+I13)/I11*100,0))))","v":"  "},null,{"$f":"IF(ISBLANK(K11),\"  \",IF(ISBLANK(K12),\" \",IF(ISBLANK(K19),\" \",ROUND((K19+K13)/K11*100,0))))","v":"  "},null,{"$f":"IF(ISBLANK(M11),\"  \",IF(ISBLANK(M12),\" \",IF(ISBLANK(M19),\" \",ROUND((M19+M13)/M11*100,0))))","v":"  "}]
[0.375,{"$f":"IF(ISBLANK('S1'!B20),\" \",'S1'!B20)","v":" "},null,{"$f":"IF(ISBLANK(C11),\"  \",IF(ISBLANK(C12),\" \",IF(ISBLANK(C20),\" \",ROUND((C20+C13)/C11*100,0))))","v":"  "},null,{"$f":"IF(ISBLANK(E11),\"  \",IF(ISBLANK(E12),\" \",IF(ISBLANK(E20),\" \",ROUND((E20+E13)/E11*100,0))))","v":"  "},null,{"$f":"IF(ISBLANK(G11),\"  \",IF(ISBLANK(G12),\" \",IF(ISBLANK(G20),\" \",ROUND((G20+G13)/G11*100,0))))","v":"  "},null,{"$f":"IF(ISBLANK(I11),\"  \",IF(ISBLANK(I12),\" \",IF(ISBLANK(I20),\" \",ROUND((I20+I13)/I11*100,0))))","v":"  "},null,{"$f":"IF(ISBLANK(K11),\"  \",IF(ISBLANK(K12),\" \",IF(ISBLANK(K20),\" \",ROUND((K20+K13)/K11*100,0))))","v":"  "},null,{"$f":"IF(ISBLANK(M11),\"  \",IF(ISBLANK(M12),\" \",IF(ISBLANK(M20),\" \",ROUND((M20+M13)/M11*100,0))))","v":"  "}]
[4,{"$f":"IF(ISBLANK('S1'!B21),\" \",'S1'!B21)","v":" "},null,{"$f":"IF(ISBLANK(C11),\"  \",IF(ISBLANK(C12),\" \",IF(ISBLANK(C21),\" \",ROUND((C21+C13)/C11*100,0))))","v":"  "},null,{"$f":"IF(ISBLANK(E11),\"  \",IF(ISBLANK(E12),\" \",IF(ISBLANK(E21),\" \",ROUND((E21+E13)/E11*100,0))))","v":"  "},null,{"$f":"IF(ISBLANK(G11),\"  \",IF(ISBLANK(G12),\" \",IF(ISBLANK(G21),\" \",ROUND((G21+G13)/G11*100,0))))","v":"  "},null,{"$f":"IF(ISBLANK(I11),\"  \",IF(ISBLANK(I12),\" \",IF(ISBLANK(I21),\" \",ROUND((I21+I13)/I11*100,0))))","v":"  "},null,{"$f":"IF(ISBLANK(K11),\"  \",IF(ISBLANK(K12),\" \",IF(ISBLANK(K21),\" \",ROUND((K21+K13)/K11*100,0))))","v":"  "},null,{"$f":"IF(ISBLANK(M11),\"  \",IF(ISBLANK(M12),\" \",IF(ISBLANK(M21),\" \",ROUND((M21+M13)/M11*100,0))))","v":"  "}]
[8,{"$f":"IF(ISBLANK('S1'!B22),\" \",'S1'!B22)","v":" "},null,{"$f":"IF(ISBLANK(C11),\"  \",IF(ISBLANK(C12),\" \",IF(ISBLANK(C22),\" \",ROUND((C22+C13)/C11*100,0))))","v":"  "},null,{"$f":"IF(ISBLANK(E11),\"  \",IF(ISBLANK(E12),\" \",IF(ISBLANK(E22),\" \",ROUND((E22+E13)/E11*100,0))))","v":"  "},null,{"$f":"IF(ISBLANK(G11),\"  \",IF(ISBLANK(G12),\" \",IF(ISBLANK(G22),\" \",ROUND((G22+G13)/G11*100,0))))","v":"  "},null,{"$f":"IF(ISBLANK(I11),\"  \",IF(ISBLANK(I12),\" \",IF(ISBLANK(I22),\" \",ROUND((I22+I13)/I11*100,0))))","v":"  "},null,{"$f":"IF(ISBLANK(K11),\"  \",IF(ISBLANK(K12),\" \",IF(ISBLANK(K22),\" \",ROUND((K22+K13)/K11*100,0))))","v":"  "},null,{"$f":"IF(ISBLANK(M11),\"  \",IF(ISBLANK(M12),\" \",IF(ISBLANK(M22),\" \",ROUND((M22+M13)/M11*100,0))))","v":"  "}]
[16,{"$f":"IF(ISBLANK('S1'!B23),\" \",'S1'!B23)","v":" "},null,{"$f":"IF(ISBLANK(C11),\"  \",IF(ISBLANK(C12),\" \",IF(ISBLANK(C23),\" \",ROUND((C23+C13)/C11*100,0))))","v":"  "},null,{"$f":"IF(ISBLANK(E11),\"  \",IF(ISBLANK(E12),\" \",IF(ISBLANK(E23),\" \",ROUND((E23+E13)/E11*100,0))))","v":"  "},null,{"$f":"IF(ISBLANK(G11),\"  \",IF(ISBLANK(G12),\" \",IF(ISBLANK(G23),\" \",ROUND((G23+G13)/G11*100,0))))","v":"  "},null,{"$f":"IF(ISBLANK(I11),\"  \",IF(ISBLANK(I12),\" \",IF(ISBLANK(I23),\" \",ROUND((I23+I13)/I11*100,0))))","v":"  "},null,{"$f":"IF(ISBLANK(K11),\"  \",IF(ISBLANK(K12),\" \",IF(ISBLANK(K23),\" \",ROUND((K23+K13)/K11*100,0))))","v":"  "},null,{"$f":"IF(ISBLANK(M11),\"  \",IF(ISBLANK(M12),\" \",IF(ISBLANK(M23),\" \",ROUND((M23+M13)/M11*100,0))))","v":"  "}]
[30,{"$f":"IF(ISBLANK('S1'!B24),\" \",'S1'!B24)","v":" "},null,{"$f":"IF(ISBLANK(C11),\"  \",IF(ISBLANK(C12),\" \",IF(ISBLANK(C24),\" \",ROUND((C24+C13)/C11*100,0))))","v":"  "},null,{"$f":"IF(ISBLANK(E11),\"  \",IF(ISBLANK(E12),\" \",IF(ISBLANK(E24),\" \",ROUND((E24+E13)/E11*100,0))))","v":"  "},null,{"$f":"IF(ISBLANK(G11),\"  \",IF(ISBLANK(G12),\" \",IF(ISBLANK(G24),\" \",ROUND((G24+G13)/G11*100,0))))","v":"  "},null,{"$f":"IF(ISBLANK(I11),\"  \",IF(ISBLANK(I12),\" \",IF(ISBLANK(I24),\" \",ROUND((I24+I13)/I11*100,0))))","v":"  "},null,{"$f":"IF(ISBLANK(K11),\"  \",IF(ISBLANK(K12),\" \",IF(ISBLANK(K24),\" \",ROUND((K24+K13)/K11*100,0))))","v":"  "},null,{"$f":"IF(ISBLANK(M11),\"  \",IF(ISBLANK(M12),\" \",IF(ISBLANK(M24),\" \",ROUND((M24+M13)/M11*100,0))))","v":"  "}]
[50,{"$f":"IF(ISBLANK('S1'!B25),\" \",'S1'!B25)","v":" "},null,{"$f":"IF(ISBLANK(C11),\"  \",IF(ISBLANK(C12),\" \",IF(ISBLANK(C25),\" \",ROUND((C25+C13)/C11*100,0))))","v":"  "},null,{"$f":"IF(ISBLANK(E11),\"  \",IF(ISBLANK(E12),\" \",IF(ISBLANK(E25),\" \",ROUND((E25+E13)/E11*100,0))))","v":"  "},null,{"$f":"IF(ISBLANK(G11),\"  \",IF(ISBLANK(G12),\" \",IF(ISBLANK(G25),\" \",ROUND((G25+G13)/G11*100,0))))","v":"  "},null,{"$f":"IF(ISBLANK(I11),\"  \",IF(ISBLANK(I12),\" \",IF(ISBLANK(I25),\" \",ROUND((I25+I13)/I11*100,0))))","v":"  "},null,{"$f":"IF(ISBLANK(K11),\"  \",IF(ISBLANK(K12),\" \",IF(ISBLANK(K25),\" \",ROUND((K25+K13)/K11*100,0))))","v":"  "},null,{"$f":"IF(ISBLANK(M11),\"  \",IF(ISBLANK(M12),\" \",IF(ISBLANK(M25),\" \",ROUND((M25+M13)/M11*100,0))))","v":"  "}]
[100,{"$f":"IF(ISBLANK('S1'!B26),\" \",'S1'!B26)","v":" "},null,{"$f":"IF(ISBLANK(C11),\"  \",IF(ISBLANK(C12),\" \",IF(ISBLANK(C26),\" \",ROUND((C26+C13)/C11*100,0))))","v":"  "},null,{"$f":"IF(ISBLANK(E11),\"  \",IF(ISBLANK(E12),\" \",IF(ISBLANK(E26),\" \",ROUND((E26+E13)/E11*100,0))))","v":"  "},null,{"$f":"IF(ISBLANK(G11),\"  \",IF(ISBLANK(G12),\" \",IF(ISBLANK(G26),\" \",ROUND((G26+G13)/G11*100,0))))","v":"  "},null,{"$f":"IF(ISBLANK(I11),\"  \",IF(ISBLANK(I12),\" \",IF(ISBLANK(I26),\" \",ROUND((I26+I13)/I11*100,0))))","v":"  "},null,{"$f":"IF(ISBLANK(K11),\"  \",IF(ISBLANK(K12),\" \",IF(ISBLANK(K26),\" \",ROUND((K26+K13)/K11*100,0))))","v":"  "},null,{"$f":"IF(ISBLANK(M11),\"  \",IF(ISBLANK(M12),\" \",IF(ISBLANK(M26),\" \",ROUND((M26+M13)/M11*100,0))))","v":"  "}]
[200,{"$f":"IF(ISBLANK('S1'!B27),\" \",'S1'!B27)","v":" "},null,{"$f":"IF(ISBLANK(C11),\"  \",IF(ISBLANK(C12),\" \",IF(ISBLANK(C27),\" \",ROUND((C27+C13)/C11*100+$D$8,1))))","v":"  "},null,{"$f":"IF(ISBLANK(E11),\"  \",IF(ISBLANK(E12),\" \",IF(ISBLANK(E27),\" \",ROUND((E27+E13)/E11*100+$D$8,1))))","v":"  "},null,{"$f":"IF(ISBLANK(G11),\"  \",IF(ISBLANK(G12),\" \",IF(ISBLANK(G27),\" \",ROUND((G27+G13)/G11*100+$D$8,1))))","v":"  "},null,{"$f":"IF(ISBLANK(I11),\"  \",IF(ISBLANK(I12),\" \",IF(ISBLANK(I27),\" \",ROUND((I27+I13)/I11*100+$D$8,1))))","v":"  "},null,{"$f":"IF(ISBLANK(K11),\"  \",IF(ISBLANK(K12),\" \",IF(ISBLANK(K27),\" \",ROUND((K27+K13)/K11*100+$D$8,1))))","v":"  "},null,{"$f":"IF(ISBLANK(M11),\"  \",IF(ISBLANK(M12),\" \",IF(ISBLANK(M27),\" \",ROUND((M27+M13)/M11*100+$D$8,1))))","v":"  "}]
["%AC",{"$f":"IF(ISBLANK('S1'!B28),\" \",'S1'!B28)","v":" "}]
["Percent Loss / Gain",null,{"$f":"IF(ISBLANK(C12),\"\",IF(ISBLANK(C20),\"\",(C12-C71)/C12*100))","v":""},null,{"$f":"IF(ISBLANK(E12),\"\",IF(ISBLANK(E20),\"\",(E12-E71)/E12*100))","v":""},null,{"$f":"IF(ISBLANK(G12),\"\",IF(ISBLANK(G20),\"\",(G12-G71)/G12*100))","v":""},null,{"$f":"IF(ISBLANK(I12),\"\",IF(ISBLANK(I20),\"\",(I12-I71)/I12*100))","v":""},null,{"$f":"IF(ISBLANK(K12),\"\",IF(ISBLANK(K20),\"\",(K12-K71)/K12*100))","v":""},null,{"$f":"IF(ISBLANK(M12),\"\",IF(ISBLANK(M20),\"\",(M12-M71)/M12*100))","v":""}]
["Apparent Moisture","Orig Wt"]
[null,"Const Wt"]
[null,"% moisture",{"$f":"IF(ISBLANK(C30),\" \",IF(ISBLANK(C31),\" \",((C30-C31)/C31)*100))","v":" "},null,{"$f":"IF(ISBLANK(E30),\" \",IF(ISBLANK(E31),\" \",((E30-E31)/E31)*100))","v":" "},null,{"$f":"IF(ISBLANK(G30),\" \",IF(ISBLANK(G31),\" \",((G30-G31)/G31)*100))","v":" "},null,{"$f":"IF(ISBLANK(I30),\" \",IF(ISBLANK(I31),\" \",((I30-I31)/I31)*100))","v":" "},null,{"$f":"IF(ISBLANK(K30),\" \",IF(ISBLANK(K31),\" \",((K30-K31)/K31)*100))","v":" "},null,{"$f":"IF(ISBLANK(M30),\" \",IF(ISBLANK(M31),\" \",((M30-M31)/M31)*100))","v":" "}]
[]
[]
[]
[]
[]
["Sets up Min and Max for charts",null,null,"Running Avg for Conditional Format",null,null,null,null,null,"AP upper & lower Tolerances"]
["#4",{"$f":"B21-8","v":{"$error":"#VALUE!"}},{"$f":"B21+8","v":{"$error":"#VALUE!"}},{"$f":"'S17'!$AC70","v":{"$error":"#N/A"}},{"$f":"'S17'!$AC71","v":{"$error":"#N/A"}},{"$f":"'S17'!$AC72","v":{"$error":"#N/A"}},{"$f":"'S17'!$AC73","v":{"$error":"#N/A"}},{"$f":"'S17'!$AC74","v":{"$error":"#N/A"}},{"$f":"'S17'!$AC75","v":{"$error":"#N/A"}},{"$f":"AP!E90","v":5},{"$f":"AP!E92","v":5}]
["#8",{"$f":"B22-6","v":{"$error":"#VALUE!"}},{"$f":"B22+6","v":{"$error":"#VALUE!"}},{"$f":"'S17'!$AA70","v":{"$error":"#N/A"}},{"$f":"'S17'!$AA71","v":{"$error":"#N/A"}},{"$f":"'S17'!$AA72","v":{"$error":"#N/A"}},{"$f":"'S17'!$AA73","v":{"$error":"#N/A"}},{"$f":"'S17'!$AA74","v":{"$error":"#N/A"}},{"$f":"'S17'!$AA75","v":{"$error":"#N/A"}},{"$f":"AP!E84","v":5},{"$f":"AP!E86","v":5}]
["#200",{"$f":"B27-2","v":{"$error":"#VALUE!"}},{"$f":"B27+2","v":{"$error":"#VALUE!"}},{"$f":"'S17'!$Y70","v":{"$error":"#N/A"}},{"$f":"'S17'!$Y71","v":{"$error":"#N/A"}},{"$f":"'S17'!$Y72","v":{"$error":"#N/A"}},{"$f":"'S17'!$Y73","v":{"$error":"#N/A"}},{"$f":"'S17'!$Y74","v":{"$error":"#N/A"}},{"$f":"'S17'!$Y75","v":{"$error":"#N/A"}},{"$f":"AP!E78","v":5},{"$f":"AP!E80","v":5}]
["AC",{"$f":"B28-0.4","v":{"$error":"#VALUE!"}},{"$f":"B28+0.4","v":{"$error":"#VALUE!"}},{"$f":"'S17'!$W70","v":{"$error":"#N/A"}},{"$f":"'S17'!$W71","v":{"$error":"#N/A"}},{"$f":"'S17'!$W72","v":{"$error":"#N/A"}},{"$f":"'S17'!$W73","v":{"$error":"#N/A"}},{"$f":"'S17'!$W74","v":{"$error":"#N/A"}},{"$f":"'S17'!$W75","v":{"$error":"#N/A"}},{"$f":"AP!E72","v":5},{"$f":"AP!E74","v":5}]
[null,null,null,{"$f":"'S17'!$U70","v":{"$error":"#N/A"}},{"$f":"'S17'!U71","v":{"$error":"#N/A"}},{"$f":"'S17'!U72","v":{"$error":"#N/A"}},{"$f":"'S17'!U73","v":{"$error":"#N/A"}},{"$f":"'S17'!U74","v":{"$error":"#N/A"}},{"$f":"'S17'!U75","v":{"$error":"#N/A"}},{"$f":"AP!E66","v":5},{"$f":"AP!E68","v":5}]
[null,null,null,{"$f":"'S17'!$S70","v":{"$error":"#N/A"}},{"$f":"'S17'!$S71","v":{"$error":"#N/A"}},{"$f":"'S17'!$S72","v":{"$error":"#N/A"}},{"$f":"'S17'!$S73","v":{"$error":"#N/A"}},{"$f":"'S17'!$S74","v":{"$error":"#N/A"}},{"$f":"'S17'!$S75","v":{"$error":"#N/A"}},{"$f":"AP!E60","v":3},{"$f":"AP!E62","v":3}]
[null,null,null,{"$f":"'S17'!$Q70","v":{"$error":"#N/A"}},{"$f":"'S17'!Q71","v":{"$error":"#N/A"}},{"$f":"'S17'!Q72","v":{"$error":"#N/A"}},{"$f":"'S17'!Q73","v":{"$error":"#N/A"}},{"$f":"'S17'!Q74","v":{"$error":"#N/A"}},{"$f":"'S17'!Q75","v":{"$error":"#N/A"}},{"$f":"AP!E54","v":3},{"$f":"AP!E56","v":3}]
[null,null,null,{"$f":"'S17'!$O70","v":{"$error":"#N/A"}},{"$f":"'S17'!O71","v":{"$error":"#N/A"}},{"$f":"'S17'!O72","v":{"$error":"#N/A"}},{"$f":"'S17'!O73","v":{"$error":"#N/A"}},{"$f":"'S17'!O74","v":{"$error":"#N/A"}},{"$f":"'S17'!O75","v":{"$error":"#N/A"}},{"$f":"AP!E47","v":3},{"$f":"AP!E49","v":3}]
[null,null,null,{"$f":"'S17'!$M70","v":{"$error":"#N/A"}},{"$f":"'S17'!$M71","v":{"$error":"#N/A"}},{"$f":"'S17'!$M72","v":{"$error":"#N/A"}},{"$f":"'S17'!$M73","v":{"$error":"#N/A"}},{"$f":"'S17'!$M74","v":{"$error":"#N/A"}},{"$f":"'S17'!$M75","v":{"$error":"#N/A"}},{"$f":"AP!E40","v":3},{"$f":"AP!E42","v":3}]
[null,null,null,{"$f":"'S17'!$K70","v":{"$error":"#N/A"}},{"$f":"'S17'!$K71","v":{"$error":"#N/A"}},{"$f":"'S17'!$K72","v":{"$error":"#N/A"}},{"$f":"'S17'!$K73","v":{"$error":"#N/A"}},{"$f":"'S17'!$K74","v":{"$error":"#N/A"}},{"$f":"'S17'!$K75","v":{"$error":"#N/A"}},{"$f":"AP!E34","v":3},{"$f":"AP!E36","v":3}]
[null,null,null,{"$f":"'S17'!$I70","v":{"$error":"#N/A"}},{"$f":"'S17'!$I71","v":{"$error":"#N/A"}},{"$f":"'S17'!$I72","v":{"$error":"#N/A"}},{"$f":"'S17'!$I73","v":{"$error":"#N/A"}},{"$f":"'S17'!$I74","v":{"$error":"#N/A"}},{"$f":"'S17'!$I75","v":{"$error":"#N/A"}},{"$f":"AP!E28","v":3},{"$f":"AP!E30","v":3}]
[null,null,null,{"$f":"'S17'!$G70","v":{"$error":"#N/A"}},{"$f":"'S17'!$G71","v":{"$error":"#N/A"}},{"$f":"'S17'!$G72","v":{"$error":"#N/A"}},{"$f":"'S17'!$G73","v":{"$error":"#N/A"}},{"$f":"'S17'!$G74","v":{"$error":"#N/A"}},{"$f":"'S17'!$G75","v":{"$error":"#N/A"}},{"$f":"AP!E22","v":3},{"$f":"AP!E24","v":3}]
[null,null,null,{"$f":"'S17'!E70","v":{"$error":"#N/A"}},{"$f":"'S17'!E71","v":{"$error":"#N/A"}},{"$f":"'S17'!E72","v":{"$error":"#N/A"}},{"$f":"'S17'!E73","v":{"$error":"#N/A"}},{"$f":"'S17'!E74","v":{"$error":"#N/A"}},{"$f":"'S17'!E75","v":{"$error":"#N/A"}},{"$f":"AP!E15","v":1},{"$f":"AP!E17","v":1}]
[null,null,null,{"$f":"ROUND('S17'!C70,1)","v":{"$error":"#N/A"}},{"$f":"ROUND('S17'!C71,1)","v":{"$error":"#N/A"}},{"$f":"ROUND('S17'!C72,1)","v":{"$error":"#N/A"}},{"$f":"ROUND('S17'!C73,1)","v":{"$error":"#N/A"}},{"$f":"ROUND('S17'!C74,1)","v":{"$error":"#N/A"}},{"$f":"ROUND('S17'!C75,1)","v":{"$error":"#N/A"}},{"$f":"AP!E7","v":0.2},{"$f":"AP!E9","v":0.2}]
["Tested By"]
["Remarks",null,{"$f":"IF(AND(T94=3,'S11'!M54=\"Single sample deviation, resample within 150 tons. Document corrective action\"),\"Deviation on 150 ton sample, suspend production of JMF\",IF(AND(T88=2,'S11'!M54=\"Multiple sample deviation, resample within 150 tons. Document corrective action\"),\"Deviation on 150 ton sample, suspend production of JMF\",IF(AND(T88=2,'S11'!M54=\"Single sample deviation, resample within 150 tons. Document corrective action\"),\"Deviation on 150 ton sample, suspend production of JMF\",IF(T94=3,\"Single sample deviation, resample within 150 tons. Document corrective action\",IF(T88=2,\"Multiple sample deviation, resample within 150 tons. Document corrective action\",IF(T71=1,\"Action area, document corrective action\",\" \"))))))","v":{"$error":"#N/A"}},null,{"$f":"IF(AND(U94=3,C54=\"Single sample deviation, resample within 150 tons. Document corrective action\"),\"Deviation on 150 ton sample, suspend production of JMF\",IF(AND(U88=2,C54=\"Multiple sample deviation, resample within 150 tons. Document corrective action\"),\"Deviation on 150 ton sample, suspend production of JMF\",IF(AND(U88=2,C54=\"Single sample deviation, resample within 150 tons. Document corrective action\"),\"Deviation on 150 ton sample, suspend production of JMF\",IF(U94=3,\"Single sample deviation, resample within 150 tons. Document corrective action\",IF(U88=2,\"Multiple sample deviation, resample within 150 tons. Document corrective action\",IF(U71=1,\"Action area, document corrective action\",\" \"))))))","v":{"$error":"#N/A"}},null,{"$f":"IF(AND(V94=3,E54=\"Single sample deviation, resample within 150 tons. Document corrective action\"),\"Deviation on 150 ton sample, suspend production of JMF\",IF(AND(V88=2,E54=\"Multiple sample deviation, resample within 150 tons. Document corrective action\"),\"Deviation on 150 ton sample, suspend production of JMF\",IF(AND(V88=2,E54=\"Single sample deviation, resample within 150 tons. Document corrective action\"),\"Deviation on 150 ton sample, suspend production of JMF\",IF(V94=3,\"Single sample deviation, resample within 150 tons. Document corrective action\",IF(V88=2,\"Multiple sample deviation, resample within 150 tons. Document corrective action\",IF(V71=1,\"Action area, document corrective action\",\" \"))))))","v":{"$error":"#N/A"}},null,{"$f":"IF(AND(W94=3,G54=\"Single sample deviation, resample within 150 tons. Document corrective action\"),\"Deviation on 150 ton sample, suspend production of JMF\",IF(AND(W88=2,G54=\"Multiple sample deviation, resample within 150 tons. Document corrective action\"),\"Deviation on 150 ton sample, suspend production of JMF\",IF(AND(W88=2,G54=\"Single sample deviation, resample within 150 tons. Document corrective action\"),\"Deviation on 150 ton sample, suspend production of JMF\",IF(W94=3,\"Single sample deviation, resample within 150 tons. Document corrective action\",IF(W88=2,\"Multiple sample deviation, resample within 150 tons. Document corrective action\",IF(W71=1,\"Action area, document corrective action\",\" \"))))))","v":{"$error":"#N/A"}},null,{"$f":"IF(AND(X94=3,I54=\"Single sample deviation, resample within 150 tons. Document corrective action\"),\"Deviation on 150 ton sample, suspend production of JMF\",IF(AND(X88=2,I54=\"Multiple sample deviation, resample within 150 tons. Document corrective action\"),\"Deviation on 150 ton sample, suspend production of JMF\",IF(AND(X88=2,I54=\"Single sample deviation, resample within 150 tons. Document corrective action\"),\"Deviation on 150 ton sample, suspend production of JMF\",IF(X94=3,\"Single sample deviation, resample within 150 tons. Document corrective action\",IF(X88=2,\"Multiple sample deviation, resample within 150 tons. Document corrective action\",IF(X71=1,\"Action area, document corrective action\",\" \"))))))","v":{"$error":"#N/A"}},null,{"$f":"IF(AND(Y94=3,K54=\"Single sample deviation, resample within 150 tons. Document corrective action\"),\"Deviation on 150 ton sample, suspend production of JMF\",IF(AND(Y88=2,K54=\"Multiple sample deviation, resample within 150 tons. Document corrective action\"),\"Deviation on 150 ton sample, suspend production of JMF\",IF(AND(Y88=2,K54=\"Single sample deviation, resample within 150 tons. Document corrective action\"),\"Deviation on 150 ton sample, suspend production of JMF\",IF(Y94=3,\"Single sample deviation, resample within 150 tons. Document corrective action\",IF(Y88=2,\"Multiple sample deviation, resample within 150 tons. Document corrective action\",IF(Y71=1,\"Action area, document corrective action\",\" \"))))))","v":{"$error":"#N/A"}}]
[]
[null,null,null,null,null,null,null,null,null,null,null,null,null,null,null,null,null,null,"Action points flags"]
[null,null,null,null,null,null,null,null,null,null,null,null,null,null,null,null,null,2,{"$f":"$B$15","v":" "},{"$f":"IF(ISBLANK(C15),0,IF(OR(D39>=$S57+$J39,D39<=$S57-$K39),1,0))","v":0},{"$f":"IF(ISBLANK(E15),0,IF(OR(E39>=$S57+$J39,E39<=$S57-$K39),1,0))","v":0},{"$f":"IF(ISBLANK(G15),0,IF(OR(F39>=$S57+$J39,F39<=$S57-$K39),1,0))","v":0},{"$f":"IF(ISBLANK(I15),0,IF(OR(G39>=$S57+$J39,G39<=$S57-$K39),1,0))","v":0},{"$f":"IF(ISBLANK(K15),0,IF(OR(H39>=$S57+$J39,H39<=$S57-$K39),1,0))","v":0},{"$f":"IF(ISBLANK(M15),0,IF(OR(I39>=$S57+$J39,I39<=$S57-$K39),1,0))","v":0}]
[null,null,null,null,null,null,null,null,null,null,null,null,null,null,null,null,null,1.5,{"$f":"$B$16","v":" "},{"$f":"IF(ISBLANK(C16),0,IF(OR(D40>=$S58+$J40,D40<=$S58-$K40),1,0))","v":0},{"$f":"IF(ISBLANK(E16),0,IF(OR(E40>=$S58+$J40,E40<=$S58-$K40),1,0))","v":0},{"$f":"IF(ISBLANK(G16),0,IF(OR(F40>=$S58+$J40,F40<=$S58-$K40),1,0))","v":0},{"$f":"IF(ISBLANK(I16),0,IF(OR(G40>=$S58+$J40,G40<=$S58-$K40),1,0))","v":0},{"$f":"IF(ISBLANK(K16),0,IF(OR(H40>=$S58+$J40,H40<=$S58-$K40),1,0))","v":0},{"$f":"IF(ISBLANK(M16),0,IF(OR(I40>=$S58+$J40,I40<=$S58-$K40),1,0))","v":0}]
[null,null,null,null,null,null,null,null,null,null,null,null,null,null,null,null,null,1,{"$f":"$B$17","v":" "},{"$f":"IF(ISBLANK(C17),0,IF(OR(D41>=$S59+$J41,D41<=$S59-$K41),1,0))","v":0},{"$f":"IF(ISBLANK(E17),0,IF(OR(E41>=$S59+$J41,E41<=$S59-$K41),1,0))","v":0},{"$f":"IF(ISBLANK(G17),0,IF(OR(F41>=$S59+$J41,F41<=$S59-$K41),1,0))","v":0},{"$f":"IF(ISBLANK(I17),0,IF(OR(G41>=$S59+$J41,G41<=$S59-$K41),1,0))","v":0},{"$f":"IF(ISBLANK(K17),0,IF(OR(H41>=$S59+$J41,H41<=$S59-$K41),1,0))","v":0},{"$f":"IF(ISBLANK(M17),0,IF(OR(I41>=$S59+$J41,I41<=$S59-$K41),1,0))","v":0}]
[null,null,null,null,null,null,null,null,null,null,null,null,null,null,null,null,null,0.75,{"$f":"$B$18","v":" "},{"$f":"IF(ISBLANK(C18),0,IF(OR(D42>=$S60+$J42,D42<=$S60-$K42),1,0))","v":0},{"$f":"IF(ISBLANK(E18),0,IF(OR(E42>=$S60+$J42,E42<=$S60-$K42),1,0))","v":0},{"$f":"IF(ISBLANK(G18),0,IF(OR(F42>=$S60+$J42,F42<=$S60-$K42),1,0))","v":0},{"$f":"IF(ISBLANK(I18),0,IF(OR(G42>=$S60+$J42,G42<=$S60-$K42),1,0))","v":0},{"$f":"IF(ISBLANK(K18),0,IF(OR(H42>=$S60+$J42,H42<=$S60-$K42),1,0))","v":0},{"$f":"IF(ISBLANK(M18),0,IF(OR(I42>=$S60+$J42,I42<=$S60-$K42),1,0))","v":0}]
[null,null,null,null,null,null,null,null,null,null,null,null,null,null,null,null,null,0.5,{"$f":"$B$19","v":" "},{"$f":"IF(ISBLANK(C19),0,IF(OR(D43>=$S61+$J43,D43<=$S61-$K43),1,0))","v":0},{"$f":"IF(ISBLANK(E19),0,IF(OR(E43>=$S61+$J43,E43<=$S61-$K43),1,0))","v":0},{"$f":"IF(ISBLANK(G19),0,IF(OR(F43>=$S61+$J43,F43<=$S61-$K43),1,0))","v":0},{"$f":"IF(ISBLANK(I19),0,IF(OR(G43>=$S61+$J43,G43<=$S61-$K43),1,0))","v":0},{"$f":"IF(ISBLANK(K19),0,IF(OR(H43>=$S61+$J43,H43<=$S61-$K43),1,0))","v":0},{"$f":"IF(ISBLANK(M19),0,IF(OR(I43>=$S61+$J43,I43<=$S61-$K43),1,0))","v":0}]
[null,null,null,null,null,null,null,null,null,null,null,null,null,null,null,null,null,0.375,{"$f":"$B$20","v":" "},{"$f":"IF(OR(D44>=$S62+$J44,D44<=$S62-$K44),1,0)","v":{"$error":"#N/A"}},{"$error":"#N/A"},{"$error":"#N/A"},{"$error":"#N/A"},{"$error":"#N/A"},{"$error":"#N/A"}]
[null,null,null,null,null,null,null,null,null,null,null,null,null,null,null,null,null,4,{"$f":"$B$21","v":" "},{"$error":"#N/A"},{"$error":"#N/A"},{"$error":"#N/A"},{"$error":"#N/A"},{"$error":"#N/A"},{"$error":"#N/A"}]
[null,null,null,null,null,null,null,null,null,null,null,null,null,null,null,null,null,8,{"$f":"$B$22","v":" "},{"$error":"#N/A"},{"$error":"#N/A"},{"$error":"#N/A"},{"$error":"#N/A"},{"$error":"#N/A"},{"$error":"#N/A"}]
[null,null,null,null,null,null,null,null,null,null,null,null,null,null,null,null,null,16,{"$f":"$B$23","v":" "},{"$error":"#N/A"},{"$error":"#N/A"},{"$error":"#N/A"},{"$error":"#N/A"},{"$error":"#N/A"},{"$error":"#N/A"}]
[null,null,null,null,null,null,null,null,null,null,null,null,null,null,null,null,null,30,{"$f":"$B$24","v":" "},{"$error":"#N/A"},{"$error":"#N/A"},{"$error":"#N/A"},{"$error":"#N/A"},{"$error":"#N/A"},{"$error":"#N/A"}]
[null,null,null,null,null,null,null,null,null,null,null,null,null,null,null,null,null,50,{"$f":"$B$25","v":" "},{"$error":"#N/A"},{"$error":"#N/A"},{"$error":"#N/A"},{"$error":"#N/A"},{"$error":"#N/A"},{"$error":"#N/A"}]
[null,null,null,null,null,null,null,null,null,null,null,null,null,null,null,null,null,100,{"$f":"$B$26","v":" "},{"$error":"#N/A"},{"$error":"#N/A"},{"$error":"#N/A"},{"$error":"#N/A"},{"$error":"#N/A"},{"$error":"#N/A"}]
[null,null,null,null,null,null,null,null,null,null,null,null,null,null,null,null,null,200,{"$f":"$B$27","v":" "},{"$error":"#N/A"},{"$error":"#N/A"},{"$error":"#N/A"},{"$error":"#N/A"},{"$error":"#N/A"},{"$error":"#N/A"}]
[null,null,null,null,null,null,null,null,null,null,null,null,null,null,null,null,null,"%AC",{"$f":"$B$28","v":" "},{"$error":"#N/A"},{"$error":"#N/A"},{"$error":"#N/A"},{"$error":"#N/A"},{"$error":"#N/A"},{"$error":"#N/A"}]
[null,null,{"$f":"MAX(C15:C23)","v":0},null,{"$f":"MAX(E15:E23)","v":0},null,{"$f":"MAX(G15:G23)","v":0},null,{"$f":"MAX(I15:I23)","v":0},null,{"$f":"MAX(K15:K23)","v":0},null,{"$f":"MAX(M15:M23)","v":0},null,null,null,null,null,"Max",{"$f":"MAX(T56:T70)","v":{"$error":"#N/A"}},{"$error":"#N/A"},{"$error":"#N/A"},{"$error":"#N/A"},{"$error":"#N/A"},{"$error":"#N/A"}]
[]
[null,null,null,null,null,null,null,null,null,null,null,null,null,null,null,null,null,null,"Multiple sample flag"]
[null,null,null,null,null,null,null,null,null,null,null,null,null,null,null,null,null,2,{"$f":"$B$15","v":" "},{"$f":"IF(ISBLANK(C15),0,IF(OR(D39>$S74+AP!$E$89,D39<$S74-AP!$E$93),2,0))","v":0},{"$f":"IF(ISBLANK(E15),0,IF(OR(E39>$S74+AP!$E$89,E39<$S74-AP!$E$93),2,0))","v":0},{"$f":"IF(ISBLANK(G15),0,IF(OR(F39>$S74+AP!$E$89,F39<$S74-AP!$E$93),2,0))","v":0},{"$f":"IF(ISBLANK(I15),0,IF(OR(G39>$S74+AP!$E$89,G39<$S74-AP!$E$93),2,0))","v":0},{"$f":"IF(ISBLANK(K15),0,IF(OR(H39>$S74+AP!$E$89,H39<$S74-AP!$E$93),2,0))","v":0},{"$f":"IF(ISBLANK(M15),0,IF(OR(I39>$S74+AP!$E$89,I39<$S74-AP!$E$93),2,0))","v":0}]
[null,null,null,null,null,null,null,null,null,null,null,null,null,null,null,null,null,1.5,{"$f":"$B$16","v":" "},{"$f":"IF(ISBLANK(C16),0,IF(OR(D40>$S75+AP!$E$83,D40<$S75-AP!$E$87),2,0))","v":0},{"$f":"IF(ISBLANK(E16),0,IF(OR(E40>$S75+AP!$E$89,E40<$S75-AP!$E$93),2,0))","v":0},{"$f":"IF(ISBLANK(G16),0,IF(OR(F40>$S75+AP!$E$89,F40<$S75-AP!$E$93),2,0))","v":0},{"$f":"IF(ISBLANK(I16),0,IF(OR(G40>$S75+AP!$E$89,G40<$S75-AP!$E$93),2,0))","v":0},{"$f":"IF(ISBLANK(K16),0,IF(OR(H40>$S75+AP!$E$89,H40<$S75-AP!$E$93),2,0))","v":0},{"$f":"IF(ISBLANK(M16),0,IF(OR(I40>$S75+AP!$E$89,I40<$S75-AP!$E$93),2,0))","v":0}]
[null,null,null,null,null,null,null,null,null,null,null,null,null,null,null,null,null,1,{"$f":"$B$17","v":" "},{"$f":"IF(ISBLANK(C17),0,IF(OR(D41>$S76+AP!$E$83,D41<$S76-AP!$E$87),2,0))","v":0},{"$f":"IF(ISBLANK(E17),0,IF(OR(E41>$S76+AP!$E$89,E41<$S76-AP!$E$93),2,0))","v":0},{"$f":"IF(ISBLANK(G17),0,IF(OR(F41>$S76+AP!$E$89,F41<$S76-AP!$E$93),2,0))","v":0},{"$f":"IF(ISBLANK(I17),0,IF(OR(G41>$S76+AP!$E$89,G41<$S76-AP!$E$93),2,0))","v":0},{"$f":"IF(ISBLANK(K17),0,IF(OR(H41>$S76+AP!$E$89,H41<$S76-AP!$E$93),2,0))","v":0},{"$f":"IF(ISBLANK(M17),0,IF(OR(I41>$S76+AP!$E$89,I41<$S76-AP!$E$93),2,0))","v":0}]
[null,null,null,null,null,null,null,null,null,null,null,null,null,null,null,null,null,0.75,{"$f":"$B$18","v":" "},{"$f":"IF(ISBLANK(C18),0,IF(OR(D42>$S77+AP!$E$83,D42<$S77-AP!$E$87),2,0))","v":0},{"$f":"IF(ISBLANK(E18),0,IF(OR(E42>$S77+AP!$E$89,E42<$S77-AP!$E$93),2,0))","v":0},{"$f":"IF(ISBLANK(G18),0,IF(OR(F42>$S77+AP!$E$89,F42<$S77-AP!$E$93),2,0))","v":0},{"$f":"IF(ISBLANK(I18),0,IF(OR(G42>$S77+AP!$E$89,G42<$S77-AP!$E$93),2,0))","v":0},{"$f":"IF(ISBLANK(K18),0,IF(OR(H42>$S77+AP!$E$89,H42<$S77-AP!$E$93),2,0))","v":0},{"$f":"IF(ISBLANK(M18),0,IF(OR(I42>$S77+AP!$E$89,I42<$S77-AP!$E$93),2,0))","v":0}]
[null,null,null,null,null,null,null,null,null,null,null,null,null,null,null,null,null,0.5,{"$f":"$B$19","v":" "},{"$f":"IF(ISBLANK(C19),0,IF(OR(D43>$S78+AP!$E$83,D43<$S78-AP!$E$87),2,0))","v":0},{"$f":"IF(ISBLANK(E19),0,IF(OR(E43>$S78+AP!$E$89,E43<$S78-AP!$E$93),2,0))","v":0},{"$f":"IF(ISBLANK(G19),0,IF(OR(F43>$S78+AP!$E$89,F43<$S78-AP!$E$93),2,0))","v":0},{"$f":"IF(ISBLANK(I19),0,IF(OR(G43>$S78+AP!$E$89,G43<$S78-AP!$E$93),2,0))","v":0},{"$f":"IF(ISBLANK(K19),0,IF(OR(H43>$S78+AP!$E$89,H43<$S78-AP!$E$93),2,0))","v":0},{"$f":"IF(ISBLANK(M19),0,IF(OR(I43>$S78+AP!$E$89,I43<$S78-AP!$E$93),2,0))","v":0}]
[null,null,null,null,null,null,null,null,null,null,null,null,null,null,null,null,null,0.375,{"$f":"$B$20","v":" "},{"$f":"IF(OR(D44>$S79+AP!$E$59,D44<$S79-AP!$E$63),2,0)","v":{"$error":"#N/A"}},{"$f":"IF(OR(E44>$S79+AP!$E$59,E44<$S79-AP!$E$63),2,0)","v":{"$error":"#N/A"}},{"$f":"IF(OR(F44>$S79+AP!$E$59,F44<$S79-AP!$E$63),2,0)","v":{"$error":"#N/A"}},{"$f":"IF(OR(G44>$S79+AP!$E$59,G44<$S79-AP!$E$63),2,0)","v":{"$error":"#N/A"}},{"$f":"IF(OR(H44>$S79+AP!$E$59,H44<$S79-AP!$E$63),2,0)","v":{"$error":"#N/A"}},{"$f":"IF(OR(I44>$S79+AP!$E$59,I44<$S79-AP!$E$63),2,0)","v":{"$error":"#N/A"}}]
[null,null,null,null,null,null,null,null,null,null,null,null,null,null,null,null,null,4,{"$f":"$B$21","v":" "},{"$f":"IF(OR(D45>$S80+AP!$E$53,D45<$S80-AP!$E$57),2,0)","v":{"$error":"#N/A"}},{"$f":"IF(OR(E45>$S80+AP!$E$53,E45<$S80-AP!$E$57),2,0)","v":{"$error":"#N/A"}},{"$f":"IF(OR(F45>$S80+AP!$E$53,F45<$S80-AP!$E$57),2,0)","v":{"$error":"#N/A"}},{"$f":"IF(OR(G45>$S80+AP!$E$53,G45<$S80-AP!$E$57),2,0)","v":{"$error":"#N/A"}},{"$f":"IF(OR(H45>$S80+AP!$E$53,H45<$S80-AP!$E$57),2,0)","v":{"$error":"#N/A"}},{"$f":"IF(OR(I45>$S80+AP!$E$53,I45<$S80-AP!$E$57),2,0)","v":{"$error":"#N/A"}}]
[null,null,null,null,null,null,null,null,null,null,null,null,null,null,null,null,null,8,{"$f":"$B$22","v":" "},{"$f":"IF(OR(D46>$S81+AP!$E$46,D46<$S81-AP!$E$50),2,0)","v":{"$error":"#N/A"}},{"$f":"IF(OR(E46>$S81+AP!$E$46,E46<$S81-AP!$E$50),2,0)","v":{"$error":"#N/A"}},{"$f":"IF(OR(F46>$S81+AP!$E$46,F46<$S81-AP!$E$50),2,0)","v":{"$error":"#N/A"}},{"$f":"IF(OR(G46>$S81+AP!$E$46,G46<$S81-AP!$E$50),2,0)","v":{"$error":"#N/A"}},{"$f":"IF(OR(H46>$S81+AP!$E$46,H46<$S81-AP!$E$50),2,0)","v":{"$error":"#N/A"}},{"$f":"IF(OR(I46>$S81+AP!$E$46,I46<$S81-AP!$E$50),2,0)","v":{"$error":"#N/A"}}]
[null,null,null,null,null,null,null,null,null,null,null,null,null,null,null,null,null,16,{"$f":"$B$23","v":" "},{"$f":"IF(OR(D47>$S82+AP!$E$39,D47<$S82-AP!$E$43),2,0)","v":{"$error":"#N/A"}},{"$f":"IF(OR(E47>$S82+AP!$E$39,E47<$S82-AP!$E$43),2,0)","v":{"$error":"#N/A"}},{"$f":"IF(OR(F47>$S82+AP!$E$39,F47<$S82-AP!$E$43),2,0)","v":{"$error":"#N/A"}},{"$f":"IF(OR(G47>$S82+AP!$E$39,G47<$S82-AP!$E$43),2,0)","v":{"$error":"#N/A"}},{"$f":"IF(OR(H47>$S82+AP!$E$39,H47<$S82-AP!$E$43),2,0)","v":{"$error":"#N/A"}},{"$f":"IF(OR(I47>$S82+AP!$E$39,I47<$S82-AP!$E$43),2,0)","v":{"$error":"#N/A"}}]
[null,null,null,null,null,null,null,null,null,null,null,null,null,null,null,null,null,30,{"$f":"$B$24","v":" "},{"$f":"IF(OR(D48>$S83+AP!$E$33,D48<$S83-AP!$E$37),2,0)","v":{"$error":"#N/A"}},{"$f":"IF(OR(E48>$S83+AP!$E$33,E48<$S83-AP!$E$37),2,0)","v":{"$error":"#N/A"}},{"$f":"IF(OR(F48>$S83+AP!$E$33,F48<$S83-AP!$E$37),2,0)","v":{"$error":"#N/A"}},{"$f":"IF(OR(G48>$S83+AP!$E$33,G48<$S83-AP!$E$37),2,0)","v":{"$error":"#N/A"}},{"$f":"IF(OR(H48>$S83+AP!$E$33,H48<$S83-AP!$E$37),2,0)","v":{"$error":"#N/A"}},{"$f":"IF(OR(I48>$S83+AP!$E$33,I48<$S83-AP!$E$37),2,0)","v":{"$error":"#N/A"}}]
[null,null,null,null,null,null,null,null,null,null,null,null,null,null,null,null,null,50,{"$f":"$B$25","v":" "},{"$f":"IF(OR(D49>$S84+AP!$E$27,D49<$S84-AP!$E$31),2,0)","v":{"$error":"#N/A"}},{"$f":"IF(OR(E49>$S84+AP!$E$27,E49<$S84-AP!$E$31),2,0)","v":{"$error":"#N/A"}},{"$f":"IF(OR(F49>$S84+AP!$E$27,F49<$S84-AP!$E$31),2,0)","v":{"$error":"#N/A"}},{"$f":"IF(OR(G49>$S84+AP!$E$27,G49<$S84-AP!$E$31),2,0)","v":{"$error":"#N/A"}},{"$f":"IF(OR(H49>$S84+AP!$E$27,H49<$S84-AP!$E$31),2,0)","v":{"$error":"#N/A"}},{"$f":"IF(OR(I49>$S84+AP!$E$27,I49<$S84-AP!$E$31),2,0)","v":{"$error":"#N/A"}}]
[null,null,null,null,null,null,null,null,null,null,null,null,null,null,null,null,null,100,{"$f":"$B$26","v":" "},{"$f":"IF(OR(D50>$S85+AP!$E$21,D50<$S85-AP!$E$25),2,0)","v":{"$error":"#N/A"}},{"$f":"IF(OR(E50>$S85+AP!$E$21,E50<$S85-AP!$E$25),2,0)","v":{"$error":"#N/A"}},{"$f":"IF(OR(F50>$S85+AP!$E$21,F50<$S85-AP!$E$25),2,0)","v":{"$error":"#N/A"}},{"$f":"IF(OR(G50>$S85+AP!$E$21,G50<$S85-AP!$E$25),2,0)","v":{"$error":"#N/A"}},{"$f":"IF(OR(H50>$S85+AP!$E$21,H50<$S85-AP!$E$25),2,0)","v":{"$error":"#N/A"}},{"$f":"IF(OR(I50>$S85+AP!$E$21,I50<$S85-AP!$E$25),2,0)","v":{"$error":"#N/A"}}]
[null,null,null,null,null,null,null,null,null,null,null,null,null,null,null,null,null,200,{"$f":"$B$27","v":" "},{"$f":"IF(OR(D51>$S86+AP!$E$14,D51<$S86-AP!$E$18),2,0)","v":{"$error":"#N/A"}},{"$f":"IF(OR(E51>$S86+AP!$E$14,E51<$S86-AP!$E$18),2,0)","v":{"$error":"#N/A"}},{"$f":"IF(OR(F51>$S86+AP!$E$14,F51<$S86-AP!$E$18),2,0)","v":{"$error":"#N/A"}},{"$f":"IF(OR(G51>$S86+AP!$E$14,G51<$S86-AP!$E$18),2,0)","v":{"$error":"#N/A"}},{"$f":"IF(OR(H51>$S86+AP!$E$14,H51<$S86-AP!$E$18),2,0)","v":{"$error":"#N/A"}},{"$f":"IF(OR(I51>$S86+AP!$E$14,I51<$S86-AP!$E$18),2,0)","v":{"$error":"#N/A"}}]
[null,null,null,null,null,null,null,null,null,null,null,null,null,null,null,null,null,"%AC",{"$f":"$B$28","v":" "},{"$f":"IF(OR(D52>AP!$L$6,D52<AP!$L$10),2,0)","v":{"$error":"#N/A"}},{"$f":"IF(OR(E52>AP!$L$6,E52<AP!$L$10),2,0)","v":{"$error":"#N/A"}},{"$f":"IF(OR(F52>AP!$L$6,F52<AP!$L$10),2,0)","v":{"$error":"#N/A"}},{"$f":"IF(OR(G52>AP!$L$6,G52<AP!$L$10),2,0)","v":{"$error":"#N/A"}},{"$f":"IF(OR(H52>AP!$L$6,H52<AP!$L$10),2,0)","v":{"$error":"#N/A"}},{"$f":"IF(OR(I52>AP!$L$6,I52<AP!$L$10),2,0)","v":{"$error":"#N/A"}}]
[null,null,null,null,null,null,null,null,null,null,null,null,null,null,null,null,null,null,"Max",{"$f":"MAX(T74:T87)","v":{"$error":"#N/A"}},{"$error":"#N/A"},{"$error":"#N/A"},{"$error":"#N/A"},{"$error":"#N/A"},{"$error":"#N/A"}]
[]
[null,null,null,null,null,null,null,null,null,null,null,null,null,null,null,null,null,null,"Single sample flag"]
[null,null,null,null,null,null,null,null,null,null,null,null,null,null,null,null,null,8,{"$f":"$B$22","v":" "},{"$f":"IF(OR($D$22>$S91+AP!$E$45,$D$22<$S91-AP!$E$51),3,0)","v":{"$error":"#VALUE!"}},{"$f":"IF(OR($F$22>$S91+AP!$E$45,$F$22<$S91-AP!$E$51),3,0)","v":{"$error":"#VALUE!"}},{"$f":"IF(OR($H$22>$S91+AP!$E$45,$H$22<$S91-AP!$E$51),3,0)","v":{"$error":"#VALUE!"}},{"$f":"IF(OR($J$22>$S91+AP!$E$45,$J$22<$S91-AP!$E$51),3,0)","v":{"$error":"#VALUE!"}},{"$f":"IF(OR($L$22>$S91+AP!$E$45,$L$22<$S91-AP!$E$51),3,0)","v":{"$error":"#VALUE!"}},{"$f":"IF(OR($N$22>$S91+AP!$E$45,$N$22<$S91-AP!$E$51),3,0)","v":{"$error":"#VALUE!"}}]
[null,null,null,null,null,null,null,null,null,null,null,null,null,null,null,null,null,200,{"$f":"$B$27","v":" "},{"$f":"IF(OR($D$27>$S92+AP!$E$13,$D$27<$S92-AP!$E$19),3,0)","v":{"$error":"#VALUE!"}},{"$f":"IF(OR($F$27>$S92+AP!$E$13,$F$27<$S92-AP!$E$19),3,0)","v":{"$error":"#VALUE!"}},{"$f":"IF(OR($H$27>$S92+AP!$E$13,$H$27<$S92-AP!$E$19),3,0)","v":{"$error":"#VALUE!"}},{"$f":"IF(OR($J$27>$S92+AP!$E$13,$J$27<$S92-AP!$E$19),3,0)","v":{"$error":"#VALUE!"}},{"$f":"IF(OR($L$27>$S92+AP!$E$13,$L$27<$S92-AP!$E$19),3,0)","v":{"$error":"#VALUE!"}},{"$f":"IF(OR($N$27>$S92+AP!$E$13,$N$27<$S92-AP!$E$19),3,0)","v":{"$error":"#VALUE!"}}]
[null,null,null,null,null,null,null,null,null,null,null,null,null,null,null,null,null,"%AC",{"$f":"$B$28","v":" "},{"$f":"IF(OR($C$28>AP!$L$5,$C$28<AP!$L$11),3,0)","v":0},{"$f":"IF(OR($E$28>AP!$L$5,$E$28<AP!$L$11),3,0)","v":0},{"$f":"IF(OR($G$28>AP!$L$5,$G$28<AP!$L$11),3,0)","v":0},{"$f":"IF(OR($I$28>AP!$L$5,$I$28<AP!$L$11),3,0)","v":0},{"$f":"IF(OR($K$28>AP!$L$5,$K$28<AP!$L$11),3,0)","v":0},{"$f":"IF(OR($M$28>AP!$L$5,$M$28<AP!$L$11),3,0)","v":0}]
[null,null,null,null,null,null,null,null,null,null,null,null,null,null,null,null,null,null,"Max",{"$f":"IF(ISBLANK(C27),\" \",MAX(T91:T93))","v":" "},{"$f":"IF(ISBLANK(E27),\" \",MAX(U91:U93))","v":" "},{"$f":"IF(ISBLANK(G27),\" \",MAX(V91:V93))","v":" "},{"$f":"IF(ISBLANK(I27),\" \",MAX(W91:W93))","v":" "},{"$f":"IF(ISBLANK(K27),\" \",MAX(X91:X93))","v":" "},{"$f":"IF(ISBLANK(M27),\" \",MAX(Y91:Y93))","v":" "}]

{"sheet":"S13","index":12,"n_rows":94,"n_cols":25,"rows_kept":94,"cut":false,"hidden":true,"merged":[[52,12,52,13],[52,0,52,1],[52,2,52,3],[52,4,52,5],[52,6,52,7],[52,8,52,9],[52,10,52,11],[37,0,37,2],[37,3,37,8],[37,9,37,10],[29,2,29,3],[29,4,29,5],[29,6,29,7],[29,8,29,9],[29,10,29,11],[29,12,29,13],[29,0,31,0],[30,2,30,3],[30,4,30,5],[30,6,30,7],[30,8,30,9],[30,10,30,11],[30,12,30,13],[31,2,31,3],[31,4,31,5],[31,6,31,7],[31,8,31,9],[31,10,31,11],[31,12,31,13],[12,8,12,9],[12,10,12,11],[28,12,28,13],[12,0,12,1],[12,2,12,3],[12,4,12,5],[12,6,12,7],[12,12,12,13],[27,2,27,3],[27,4,27,5],[27,6,27,7],[27,8,27,9],[28,0,28,1],[27,10,27,11],[28,4,28,5],[28,6,28,7],[28,8,28,9],[28,10,28,11],[27,12,27,13],[28,2,28,3],[9,0,9,1],[9,2,9,3],[9,4,9,5],[10,0,10,1],[10,2,10,3],[11,0,11,1],[11,2,11,3],[9,10,9,11],[9,12,9,13],[11,6,11,7],[11,12,11,13],[11,8,11,9],[11,10,11,11],[10,12,10,13],[10,10,10,11],[8,10,8,11],[8,12,8,13],[8,6,8,7],[10,4,10,5],[10,6,10,7],[10,8,10,9],[9,8,9,9],[9,6,9,7],[11,4,11,5],[53,0,68,1],[53,12,58,13],[53,10,58,11],[53,8,58,9],[53,6,58,7],[53,4,58,5],[53,2,58,3],[1,12,1,13],[2,10,2,11],[2,12,2,13],[5,10,5,11],[5,12,5,13],[5,0,5,1],[5,6,5,7],[0,0,3,1],[1,10,1,11],[8,0,8,1],[8,2,8,3],[6,10,6,11],[6,12,6,13],[7,0,7,2],[7,5,7,8],[8,4,8,5],[8,8,8,9],[59,12,68,13],[59,10,68,11],[59,8,68,9],[59,6,68,7],[59,4,68,5],[59,2,68,3],[55,18,55,24],[72,18,72,24],[89,18,89,24]]}
[]
[null,null,null,null,"COMMONWEALTH OF PENNSYLVANIA",null,null,null,null,null,"DISTRICT",null,{"$f":"IF(ISBLANK('S1'!M2),\" \",('S1'!M2))","v":" "}]
[null,null,null,null,"DEPARTMENT OF TRANSPORTATION",null,null,null,null,null,"PLANT CODE",null,{"$f":"IF(ISBLANK('S1'!M3),\" \",('S1'!M3))","v":" "}]
[null,null,null,null,"LABORATORY TEST SECTION"]
[{"$f":"'S1'!A5","v":"ESB-16"}]
["Material Class ",null,{"$f":"IF(ISBLANK('S1'!C6),\" \",('S1'!C6))","v":9.5},"mm",null,null,"Burnoff Results",null,null,null,"Design No.",null,{"$f":"IF(ISBLANK('S1'!M6),\" \",('S1'!M6))","v":" "}]
[null,null,null,null,null,null,null,null,null,null,"Gyrations @ Ndes",null,{"$f":"IF(ISBLANK('S1'!M7),\" \",'S1'!M7)","v":" "}]
["-200 Correction Factor (+ or -)",null,null,{"$f":"IF(ISBLANK('S1'!D8),\" \",('S1'!D8))","v":" "},null,"Red values indicate action area"]
["Sample No."]
["Date"]
["St. Wt. Before Wash"]
["Dry Wt. After Wash"]
["Wt. Loss",null,{"$f":"IF(ISBLANK(C11),\" \",IF(ISBLANK(C12),\" \",C11-C12))","v":" "},null,{"$f":"IF(ISBLANK(E11),\" \",IF(ISBLANK(E12),\" \",E11-E12))","v":" "},null,{"$f":"IF(ISBLANK(G11),\" \",IF(ISBLANK(G12),\" \",G11-G12))","v":" "},null,{"$f":"IF(ISBLANK(I11),\" \",IF(ISBLANK(I12),\" \",I11-I12))","v":" "},null,{"$f":"IF(ISBLANK(K11),\" \",IF(ISBLANK(K12),\" \",K11-K12))","v":" "},null,{"$f":"IF(ISBLANK(M11),\" \",IF(ISBLANK(M12),\" \",M11-M12))","v":" "}]
["Size","JMF","Weight","%Passing","Weight","%Passing","Weight","%Passing","Weight","%Pasing","Weight","%Pasing","Weight","%Pasing"]
[2,{"$f":"IF(ISBLANK('S1'!B15),\" \",'S1'!B15)","v":" "},null,{"$f":"IF(ISBLANK(C11),\" \",IF(ISBLANK(C12),\" \",IF(ISBLANK(C15),\" \",ROUND((C15+C13)/C11*100,0))))","v":" "},null,{"$f":"IF(ISBLANK(E11),\" \",IF(ISBLANK(E12),\" \",IF(ISBLANK(E15),\" \",ROUND((E15+E13)/E11*100,0))))","v":" "},null,{"$f":"IF(ISBLANK(G11),\" \",IF(ISBLANK(G12),\" \",IF(ISBLANK(G15),\" \",ROUND((G15+G13)/G11*100,0))))","v":" "},null,{"$f":"IF(ISBLANK(I11),\" \",IF(ISBLANK(I12),\" \",IF(ISBLANK(I15),\" \",ROUND((I15+I13)/I11*100,0))))","v":" "},null,{"$f":"IF(ISBLANK(K11),\" \",IF(ISBLANK(K12),\" \",IF(ISBLANK(K15),\" \",ROUND((K15+K13)/K11*100,0))))","v":" "},null,{"$f":"IF(ISBLANK(M11),\" \",IF(ISBLANK(M12),\" \",IF(ISBLANK(M15),\" \",ROUND((M15+M13)/M11*100,0))))","v":" "}]
[1.5,{"$f":"IF(ISBLANK('S1'!B16),\" \",'S1'!B16)","v":" "},null,{"$f":"IF(ISBLANK(C11),\"  \",IF(ISBLANK(C12),\" \",IF(ISBLANK(C16),\" \",ROUND((C16+C13)/C11*100,0))))","v":"  "},null,{"$f":"IF(ISBLANK(E11),\"  \",IF(ISBLANK(E12),\" \",IF(ISBLANK(E16),\" \",ROUND((E16+E13)/E11*100,0))))","v":"  "},null,{"$f":"IF(ISBLANK(G11),\"  \",IF(ISBLANK(G12),\" \",IF(ISBLANK(G16),\" \",ROUND((G16+G13)/G11*100,0))))","v":"  "},null,{"$f":"IF(ISBLANK(I11),\"  \",IF(ISBLANK(I12),\" \",IF(ISBLANK(I16),\" \",ROUND((I16+I13)/I11*100,0))))","v":"  "},null,{"$f":"IF(ISBLANK(K11),\"  \",IF(ISBLANK(K12),\" \",IF(ISBLANK(K16),\" \",ROUND((K16+K13)/K11*100,0))))","v":"  "},null,{"$f":"IF(ISBLANK(M11),\"  \",IF(ISBLANK(M12),\" \",IF(ISBLANK(M16),\" \",ROUND((M16+M13)/M11*100,0))))","v":"  "}]
[1,{"$f":"IF(ISBLANK('S1'!B17),\" \",'S1'!B17)","v":" "},null,{"$f":"IF(ISBLANK(C11),\"  \",IF(ISBLANK(C12),\" \",IF(ISBLANK(C17),\" \",ROUND((C17+C13)/C11*100,0))))","v":"  "},null,{"$f":"IF(ISBLANK(E11),\"  \",IF(ISBLANK(E12),\" \",IF(ISBLANK(E17),\" \",ROUND((E17+E13)/E11*100,0))))","v":"  "},null,{"$f":"IF(ISBLANK(G11),\"  \",IF(ISBLANK(G12),\" \",IF(ISBLANK(G17),\" \",ROUND((G17+G13)/G11*100,0))))","v":"  "},null,{"$f":"IF(ISBLANK(I11),\"  \",IF(ISBLANK(I12),\" \",IF(ISBLANK(I17),\" \",ROUND((I17+I13)/I11*100,0))))","v":"  "},null,{"$f":"IF(ISBLANK(K11),\"  \",IF(ISBLANK(K12),\" \",IF(ISBLANK(K17),\" \",ROUND((K17+K13)/K11*100,0))))","v":"  "},null,{"$f":"IF(ISBLANK(M11),\"  \",IF(ISBLANK(M12),\" \",IF(ISBLANK(M17),\" \",ROUND((M17+M13)/M11*100,0))))","v":"  "}]
[0.75,{"$f":"IF(ISBLANK('S1'!B18),\" \",'S1'!B18)","v":" "},null,{"$f":"IF(ISBLANK(C11),\"  \",IF(ISBLANK(C12),\" \",IF(ISBLANK(C18),\" \",ROUND((C18+C13)/C11*100,0))))","v":"  "},null,{"$f":"IF(ISBLANK(E11),\"  \",IF(ISBLANK(E12),\" \",IF(ISBLANK(E18),\" \",ROUND((E18+E13)/E11*100,0))))","v":"  "},null,{"$f":"IF(ISBLANK(G11),\"  \",IF(ISBLANK(G12),\" \",IF(ISBLANK(G18),\" \",ROUND((G18+G13)/G11*100,0))))","v":"  "},null,{"$f":"IF(ISBLANK(I11),\"  \",IF(ISBLANK(I12),\" \",IF(ISBLANK(I18),\" \",ROUND((I18+I13)/I11*100,0))))","v":"  "},null,{"$f":"IF(ISBLANK(K11),\"  \",IF(ISBLANK(K12),\" \",IF(ISBLANK(K18),\" \",ROUND((K18+K13)/K11*100,0))))","v":"  "},null,{"$f":"IF(ISBLANK(M11),\"  \",IF(ISBLANK(M12),\" \",IF(ISBLANK(M18),\" \",ROUND((M18+M13)/M11*100,0))))","v":"  "}]
[0.5,{"$f":"IF(ISBLANK('S1'!B19),\" \",'S1'!B19)","v":" "},null,{"$f":"IF(ISBLANK(C11),\"  \",IF(ISBLANK(C12),\" \",IF(ISBLANK(C19),\" \",ROUND((C19+C13)/C11*100,0))))","v":"  "},null,{"$f":"IF(ISBLANK(E11),\"  \",IF(ISBLANK(E12),\" \",IF(ISBLANK(E19),\" \",ROUND((E19+E13)/E11*100,0))))","v":"  "},null,{"$f":"IF(ISBLANK(G11),\"  \",IF(ISBLANK(G12),\" \",IF(ISBLANK(G19),\" \",ROUND((G19+G13)/G11*100,0))))","v":"  "},null,{"$f":"IF(ISBLANK(I11),\"  \",IF(ISBLANK(I12),\" \",IF(ISBLANK(I19),\" \",ROUND((I19+I13)/I11*100,0))))","v":"  "},null,{"$f":"IF(ISBLANK(K11),\"  \",IF(ISBLANK(K12),\" \",IF(ISBLANK(K19),\" \",ROUND((K19+K13)/K11*100,0))))","v":"  "},null,{"$f":"IF(ISBLANK(M11),\"  \",IF(ISBLANK(M12),\" \",IF(ISBLANK(M19),\" \",ROUND((M19+M13)/M11*100,0))))","v":"  "}]
[0.375,{"$f":"IF(ISBLANK('S1'!B20),\" \",'S1'!B20)","v":" "},null,{"$f":"IF(ISBLANK(C11),\"  \",IF(ISBLANK(C12),\" \",IF(ISBLANK(C20),\" \",ROUND((C20+C13)/C11*100,0))))","v":"  "},null,{"$f":"IF(ISBLANK(E11),\"  \",IF(ISBLANK(E12),\" \",IF(ISBLANK(E20),\" \",ROUND((E20+E13)/E11*100,0))))","v":"  "},null,{"$f":"IF(ISBLANK(G11),\"  \",IF(ISBLANK(G12),\" \",IF(ISBLANK(G20),\" \",ROUND((G20+G13)/G11*100,0))))","v":"  "},null,{"$f":"IF(ISBLANK(I11),\"  \",IF(ISBLANK(I12),\" \",IF(ISBLANK(I20),\" \",ROUND((I20+I13)/I11*100,0))))","v":"  "},null,{"$f":"IF(ISBLANK(K11),\"  \",IF(ISBLANK(K12),\" \",IF(ISBLANK(K20),\" \",ROUND((K20+K13)/K11*100,0))))","v":"  "},null,{"$f":"IF(ISBLANK(M11),\"  \",IF(ISBLANK(M12),\" \",IF(ISBLANK(M20),\" \",ROUND((M20+M13)/M11*100,0))))","v":"  "}]
[4,{"$f":"IF(ISBLANK('S1'!B21),\" \",'S1'!B21)","v":" "},null,{"$f":"IF(ISBLANK(C11),\"  \",IF(ISBLANK(C12),\" \",IF(ISBLANK(C21),\" \",ROUND((C21+C13)/C11*100,0))))","v":"  "},null,{"$f":"IF(ISBLANK(E11),\"  \",IF(ISBLANK(E12),\" \",IF(ISBLANK(E21),\" \",ROUND((E21+E13)/E11*100,0))))","v":"  "},null,{"$f":"IF(ISBLANK(G11),\"  \",IF(ISBLANK(G12),\" \",IF(ISBLANK(G21),\" \",ROUND((G21+G13)/G11*100,0))))","v":"  "},null,{"$f":"IF(ISBLANK(I11),\"  \",IF(ISBLANK(I12),\" \",IF(ISBLANK(I21),\" \",ROUND((I21+I13)/I11*100,0))))","v":"  "},null,{"$f":"IF(ISBLANK(K11),\"  \",IF(ISBLANK(K12),\" \",IF(ISBLANK(K21),\" \",ROUND((K21+K13)/K11*100,0))))","v":"  "},null,{"$f":"IF(ISBLANK(M11),\"  \",IF(ISBLANK(M12),\" \",IF(ISBLANK(M21),\" \",ROUND((M21+M13)/M11*100,0))))","v":"  "}]
[8,{"$f":"IF(ISBLANK('S1'!B22),\" \",'S1'!B22)","v":" "},null,{"$f":"IF(ISBLANK(C11),\"  \",IF(ISBLANK(C12),\" \",IF(ISBLANK(C22),\" \",ROUND((C22+C13)/C11*100,0))))","v":"  "},null,{"$f":"IF(ISBLANK(E11),\"  \",IF(ISBLANK(E12),\" \",IF(ISBLANK(E22),\" \",ROUND((E22+E13)/E11*100,0))))","v":"  "},null,{"$f":"IF(ISBLANK(G11),\"  \",IF(ISBLANK(G12),\" \",IF(ISBLANK(G22),\" \",ROUND((G22+G13)/G11*100,0))))","v":"  "},null,{"$f":"IF(ISBLANK(I11),\"  \",IF(ISBLANK(I12),\" \",IF(ISBLANK(I22),\" \",ROUND((I22+I13)/I11*100,0))))","v":"  "},null,{"$f":"IF(ISBLANK(K11),\"  \",IF(ISBLANK(K12),\" \",IF(ISBLANK(K22),\" \",ROUND((K22+K13)/K11*100,0))))","v":"  "},null,{"$f":"IF(ISBLANK(M11),\"  \",IF(ISBLANK(M12),\" \",IF(ISBLANK(M22),\" \",ROUND((M22+M13)/M11*100,0))))","v":"  "}]
[16,{"$f":"IF(ISBLANK('S1'!B23),\" \",'S1'!B23)","v":" "},null,{"$f":"IF(ISBLANK(C11),\"  \",IF(ISBLANK(C12),\" \",IF(ISBLANK(C23),\" \",ROUND((C23+C13)/C11*100,0))))","v":"  "},null,{"$f":"IF(ISBLANK(E11),\"  \",IF(ISBLANK(E12),\" \",IF(ISBLANK(E23),\" \",ROUND((E23+E13)/E11*100,0))))","v":"  "},null,{"$f":"IF(ISBLANK(G11),\"  \",IF(ISBLANK(G12),\" \",IF(ISBLANK(G23),\" \",ROUND((G23+G13)/G11*100,0))))","v":"  "},null,{"$f":"IF(ISBLANK(I11),\"  \",IF(ISBLANK(I12),\" \",IF(ISBLANK(I23),\" \",ROUND((I23+I13)/I11*100,0))))","v":"  "},null,{"$f":"IF(ISBLANK(K11),\"  \",IF(ISBLANK(K12),\" \",IF(ISBLANK(K23),\" \",ROUND((K23+K13)/K11*100,0))))","v":"  "},null,{"$f":"IF(ISBLANK(M11),\"  \",IF(ISBLANK(M12),\" \",IF(ISBLANK(M23),\" \",ROUND((M23+M13)/M11*100,0))))","v":"  "}]
[30,{"$f":"IF(ISBLANK('S1'!B24),\" \",'S1'!B24)","v":" "},null,{"$f":"IF(ISBLANK(C11),\"  \",IF(ISBLANK(C12),\" \",IF(ISBLANK(C24),\" \",ROUND((C24+C13)/C11*100,0))))","v":"  "},null,{"$f":"IF(ISBLANK(E11),\"  \",IF(ISBLANK(E12),\" \",IF(ISBLANK(E24),\" \",ROUND((E24+E13)/E11*100,0))))","v":"  "},null,{"$f":"IF(ISBLANK(G11),\"  \",IF(ISBLANK(G12),\" \",IF(ISBLANK(G24),\" \",ROUND((G24+G13)/G11*100,0))))","v":"  "},null,{"$f":"IF(ISBLANK(I11),\"  \",IF(ISBLANK(I12),\" \",IF(ISBLANK(I24),\" \",ROUND((I24+I13)/I11*100,0))))","v":"  "},null,{"$f":"IF(ISBLANK(K11),\"  \",IF(ISBLANK(K12),\" \",IF(ISBLANK(K24),\" \",ROUND((K24+K13)/K11*100,0))))","v":"  "},null,{"$f":"IF(ISBLANK(M11),\"  \",IF(ISBLANK(M12),\" \",IF(ISBLANK(M24),\" \",ROUND((M24+M13)/M11*100,0))))","v":"  "}]
[50,{"$f":"IF(ISBLANK('S1'!B25),\" \",'S1'!B25)","v":" "},null,{"$f":"IF(ISBLANK(C11),\"  \",IF(ISBLANK(C12),\" \",IF(ISBLANK(C25),\" \",ROUND((C25+C13)/C11*100,0))))","v":"  "},null,{"$f":"IF(ISBLANK(E11),\"  \",IF(ISBLANK(E12),\" \",IF(ISBLANK(E25),\" \",ROUND((E25+E13)/E11*100,0))))","v":"  "},null,{"$f":"IF(ISBLANK(G11),\"  \",IF(ISBLANK(G12),\" \",IF(ISBLANK(G25),\" \",ROUND((G25+G13)/G11*100,0))))","v":"  "},null,{"$f":"IF(ISBLANK(I11),\"  \",IF(ISBLANK(I12),\" \",IF(ISBLANK(I25),\" \",ROUND((I25+I13)/I11*100,0))))","v":"  "},null,{"$f":"IF(ISBLANK(K11),\"  \",IF(ISBLANK(K12),\" \",IF(ISBLANK(K25),\" \",ROUND((K25+K13)/K11*100,0))))","v":"  "},null,{"$f":"IF(ISBLANK(M11),\"  \",IF(ISBLANK(M12),\" \",IF(ISBLANK(M25),\" \",ROUND((M25+M13)/M11*100,0))))","v":"  "}]
[100,{"$f":"IF(ISBLANK('S1'!B26),\" \",'S1'!B26)","v":" "},null,{"$f":"IF(ISBLANK(C11),\"  \",IF(ISBLANK(C12),\" \",IF(ISBLANK(C26),\" \",ROUND((C26+C13)/C11*100,0))))","v":"  "},null,{"$f":"IF(ISBLANK(E11),\"  \",IF(ISBLANK(E12),\" \",IF(ISBLANK(E26),\" \",ROUND((E26+E13)/E11*100,0))))","v":"  "},null,{"$f":"IF(ISBLANK(G11),\"  \",IF(ISBLANK(G12),\" \",IF(ISBLANK(G26),\" \",ROUND((G26+G13)/G11*100,0))))","v":"  "},null,{"$f":"IF(ISBLANK(I11),\"  \",IF(ISBLANK(I12),\" \",IF(ISBLANK(I26),\" \",ROUND((I26+I13)/I11*100,0))))","v":"  "},null,{"$f":"IF(ISBLANK(K11),\"  \",IF(ISBLANK(K12),\" \",IF(ISBLANK(K26),\" \",ROUND((K26+K13)/K11*100,0))))","v":"  "},null,{"$f":"IF(ISBLANK(M11),\"  \",IF(ISBLANK(M12),\" \",IF(ISBLANK(M26),\" \",ROUND((M26+M13)/M11*100,0))))","v":"  "}]
[200,{"$f":"IF(ISBLANK('S1'!B27),\" \",'S1'!B27)","v":" "},null,{"$f":"IF(ISBLANK(C11),\"  \",IF(ISBLANK(C12),\" \",IF(ISBLANK(C27),\" \",ROUND((C27+C13)/C11*100+$D$8,1))))","v":"  "},null,{"$f":"IF(ISBLANK(E11),\"  \",IF(ISBLANK(E12),\" \",IF(ISBLANK(E27),\" \",ROUND((E27+E13)/E11*100+$D$8,1))))","v":"  "},null,{"$f":"IF(ISBLANK(G11),\"  \",IF(ISBLANK(G12),\" \",IF(ISBLANK(G27),\" \",ROUND((G27+G13)/G11*100+$D$8,1))))","v":"  "},null,{"$f":"IF(ISBLANK(I11),\"  \",IF(ISBLANK(I12),\" \",IF(ISBLANK(I27),\" \",ROUND((I27+I13)/I11*100+$D$8,1))))","v":"  "},null,{"$f":"IF(ISBLANK(K11),\"  \",IF(ISBLANK(K12),\" \",IF(ISBLANK(K27),\" \",ROUND((K27+K13)/K11*100+$D$8,1))))","v":"  "},null,{"$f":"IF(ISBLANK(M11),\"  \",IF(ISBLANK(M12),\" \",IF(ISBLANK(M27),\" \",ROUND((M27+M13)/M11*100+$D$8,1))))","v":"  "}]
["%AC",{"$f":"IF(ISBLANK('S1'!B28),\" \",'S1'!B28)","v":" "}]
["Percent Loss / Gain",null,{"$f":"IF(ISBLANK(C12),\"\",IF(ISBLANK(C20),\"\",(C12-C71)/C12*100))","v":""},null,{"$f":"IF(ISBLANK(E12),\"\",IF(ISBLANK(E20),\"\",(E12-E71)/E12*100))","v":""},null,{"$f":"IF(ISBLANK(G12),\"\",IF(ISBLANK(G20),\"\",(G12-G71)/G12*100))","v":""},null,{"$f":"IF(ISBLANK(I12),\"\",IF(ISBLANK(I20),\"\",(I12-I71)/I12*100))","v":""},null,{"$f":"IF(ISBLANK(K12),\"\",IF(ISBLANK(K20),\"\",(K12-K71)/K12*100))","v":""},null,{"$f":"IF(ISBLANK(M12),\"\",IF(ISBLANK(M20),\"\",(M12-M71)/M12*100))","v":""}]
["Apparent Moisture","Orig Wt"]
[null,"Const Wt"]
[null,"% moisture",{"$f":"IF(ISBLANK(C30),\" \",IF(ISBLANK(C31),\" \",((C30-C31)/C31)*100))","v":" "},null,{"$f":"IF(ISBLANK(E30),\" \",IF(ISBLANK(E31),\" \",((E30-E31)/E31)*100))","v":" "},null,{"$f":"IF(ISBLANK(G30),\" \",IF(ISBLANK(G31),\" \",((G30-G31)/G31)*100))","v":" "},null,{"$f":"IF(ISBLANK(I30),\" \",IF(ISBLANK(I31),\" \",((I30-I31)/I31)*100))","v":" "},null,{"$f":"IF(ISBLANK(K30),\" \",IF(ISBLANK(K31),\" \",((K30-K31)/K31)*100))","v":" "},null,{"$f":"IF(ISBLANK(M30),\" \",IF(ISBLANK(M31),\" \",((M30-M31)/M31)*100))","v":" "}]
[]
[]
[]
[]
[]
["Sets up Min and Max for charts",null,null,"Running Avg for Conditional Format",null,null,null,null,null,"AP upper & lower Tolerances"]
[2,{"$f":"B15-8","v":{"$error":"#VALUE!"}},{"$f":"B15+8","v":{"$error":"#VALUE!"}},{"$f":"'S17'!$AC77","v":{"$error":"#N/A"}},{"$f":"'S17'!$AC78","v":{"$error":"#N/A"}},{"$f":"'S17'!$AC79","v":{"$error":"#N/A"}},{"$f":"'S17'!$AC80","v":{"$error":"#N/A"}},{"$f":"'S17'!$AC81","v":{"$error":"#N/A"}},{"$f":"'S17'!$AC82","v":{"$error":"#N/A"}},{"$f":"AP!E90","v":5},{"$f":"AP!E92","v":5}]
[1.5,{"$f":"B16-8","v":{"$error":"#VALUE!"}},{"$f":"B16+8","v":{"$error":"#VALUE!"}},{"$f":"'S17'!$AA77","v":{"$error":"#N/A"}},{"$f":"'S17'!$AA78","v":{"$error":"#N/A"}},{"$f":"'S17'!$AA79","v":{"$error":"#N/A"}},{"$f":"'S17'!$AA80","v":{"$error":"#N/A"}},{"$f":"'S17'!$AA81","v":{"$error":"#N/A"}},{"$f":"'S17'!$AA82","v":{"$error":"#N/A"}},{"$f":"AP!E84","v":5},{"$f":"AP!E86","v":5}]
[1,{"$f":"B17-8","v":{"$error":"#VALUE!"}},{"$f":"B17+8","v":{"$error":"#VALUE!"}},{"$f":"'S17'!$Y77","v":{"$error":"#N/A"}},{"$f":"'S17'!$Y78","v":{"$error":"#N/A"}},{"$f":"'S17'!$Y79","v":{"$error":"#N/A"}},{"$f":"'S17'!$Y80","v":{"$error":"#N/A"}},{"$f":"'S17'!$Y81","v":{"$error":"#N/A"}},{"$f":"'S17'!$Y82","v":{"$error":"#N/A"}},{"$f":"AP!E78","v":5},{"$f":"AP!E80","v":5}]
[0.75,{"$f":"B18-8","v":{"$error":"#VALUE!"}},{"$f":"B18+8","v":{"$error":"#VALUE!"}},{"$f":"'S17'!$W77","v":{"$error":"#N/A"}},{"$f":"'S17'!$W78","v":{"$error":"#N/A"}},{"$f":"'S17'!$W79","v":{"$error":"#N/A"}},{"$f":"'S17'!$W80","v":{"$error":"#N/A"}},{"$f":"'S17'!$W81","v":{"$error":"#N/A"}},{"$f":"'S17'!$W82","v":{"$error":"#N/A"}},{"$f":"AP!E72","v":5},{"$f":"AP!E74","v":5}]
[0.5,{"$f":"B19-8","v":{"$error":"#VALUE!"}},{"$f":"B19+8","v":{"$error":"#VALUE!"}},{"$f":"'S17'!$U77","v":{"$error":"#N/A"}},{"$f":"'S17'!U78","v":{"$error":"#N/A"}},{"$f":"'S17'!U79","v":{"$error":"#N/A"}},{"$f":"'S17'!U80","v":{"$error":"#N/A"}},{"$f":"'S17'!U81","v":{"$error":"#N/A"}},{"$f":"'S17'!U82","v":{"$error":"#N/A"}},{"$f":"AP!E66","v":5},{"$f":"AP!E68","v":5}]
[0.375,{"$f":"B20-7","v":{"$error":"#VALUE!"}},{"$f":"B20+7","v":{"$error":"#VALUE!"}},{"$f":"'S17'!$S77","v":{"$error":"#N/A"}},{"$f":"'S17'!$S78","v":{"$error":"#N/A"}},{"$f":"'S17'!$S79","v":{"$error":"#N/A"}},{"$f":"'S17'!$S80","v":{"$error":"#N/A"}},{"$f":"'S17'!$S81","v":{"$error":"#N/A"}},{"$f":"'S17'!$S82","v":{"$error":"#N/A"}},{"$f":"AP!E60","v":3},{"$f":"AP!E62","v":3}]
["#4",{"$error":"#VALUE!"},{"$error":"#VALUE!"},{"$f":"'S17'!$Q77","v":{"$error":"#N/A"}},{"$f":"'S17'!Q78","v":{"$error":"#N/A"}},{"$f":"'S17'!Q79","v":{"$error":"#N/A"}},{"$f":"'S17'!Q80","v":{"$error":"#N/A"}},{"$f":"'S17'!Q81","v":{"$error":"#N/A"}},{"$f":"'S17'!Q82","v":{"$error":"#N/A"}},{"$f":"AP!E54","v":3},{"$f":"AP!E56","v":3}]
["#8",{"$error":"#VALUE!"},{"$error":"#VALUE!"},{"$f":"'S17'!$O77","v":{"$error":"#N/A"}},{"$f":"'S17'!O78","v":{"$error":"#N/A"}},{"$f":"'S17'!O79","v":{"$error":"#N/A"}},{"$f":"'S17'!O80","v":{"$error":"#N/A"}},{"$f":"'S17'!O81","v":{"$error":"#N/A"}},{"$f":"'S17'!O82","v":{"$error":"#N/A"}},{"$f":"AP!E47","v":3},{"$f":"AP!E49","v":3}]
["#16",{"$error":"#VALUE!"},{"$error":"#VALUE!"},{"$f":"'S17'!$M77","v":{"$error":"#N/A"}},{"$f":"'S17'!$M78","v":{"$error":"#N/A"}},{"$f":"'S17'!$M79","v":{"$error":"#N/A"}},{"$f":"'S17'!$M80","v":{"$error":"#N/A"}},{"$f":"'S17'!$M81","v":{"$error":"#N/A"}},{"$f":"'S17'!$M82","v":{"$error":"#N/A"}},{"$f":"AP!E40","v":3},{"$f":"AP!E42","v":3}]
["#30",{"$error":"#VALUE!"},{"$error":"#VALUE!"},{"$f":"'S17'!$K77","v":{"$error":"#N/A"}},{"$f":"'S17'!$K78","v":{"$error":"#N/A"}},{"$f":"'S17'!$K79","v":{"$error":"#N/A"}},{"$f":"'S17'!$K80","v":{"$error":"#N/A"}},{"$f":"'S17'!$K81","v":{"$error":"#N/A"}},{"$f":"'S17'!$K82","v":{"$error":"#N/A"}},{"$f":"AP!E34","v":3},{"$f":"AP!E36","v":3}]
["#50",{"$error":"#VALUE!"},{"$error":"#VALUE!"},{"$f":"'S17'!$I77","v":{"$error":"#N/A"}},{"$f":"'S17'!$I78","v":{"$error":"#N/A"}},{"$f":"'S17'!$I79","v":{"$error":"#N/A"}},{"$f":"'S17'!$I80","v":{"$error":"#N/A"}},{"$f":"'S17'!$I81","v":{"$error":"#N/A"}},{"$f":"'S17'!$I82","v":{"$error":"#N/A"}},{"$f":"AP!E28","v":3},{"$f":"AP!E30","v":3}]
["#100",{"$error":"#VALUE!"},{"$error":"#VALUE!"},{"$f":"'S17'!$G77","v":{"$error":"#N/A"}},{"$f":"'S17'!$G78","v":{"$error":"#N/A"}},{"$f":"'S17'!$G79","v":{"$error":"#N/A"}},{"$f":"'S17'!$G80","v":{"$error":"#N/A"}},{"$f":"'S17'!$G81","v":{"$error":"#N/A"}},{"$f":"'S17'!$G82","v":{"$error":"#N/A"}},{"$f":"AP!E22","v":3},{"$f":"AP!E24","v":3}]
["#200",{"$f":"B27-4","v":{"$error":"#VALUE!"}},{"$f":"B27+4","v":{"$error":"#VALUE!"}},{"$f":"'S17'!E77","v":{"$error":"#N/A"}},{"$f":"'S17'!E78","v":{"$error":"#N/A"}},{"$f":"'S17'!E79","v":{"$error":"#N/A"}},{"$f":"'S17'!E80","v":{"$error":"#N/A"}},{"$f":"'S17'!E81","v":{"$error":"#N/A"}},{"$f":"'S17'!E82","v":{"$error":"#N/A"}},{"$f":"AP!E15","v":1},{"$f":"AP!E17","v":1}]
["AC",{"$f":"IF(C6<24,B28-0.8,B28-0.9)","v":{"$error":"#VALUE!"}},{"$f":"IF(C6<24,B28+0.8,B28+0.9)","v":{"$error":"#VALUE!"}},{"$f":"ROUND('S17'!C77,1)","v":{"$error":"#N/A"}},{"$f":"ROUND('S17'!C78,1)","v":{"$error":"#N/A"}},{"$f":"ROUND('S17'!C79,1)","v":{"$error":"#N/A"}},{"$f":"ROUND('S17'!C80,1)","v":{"$error":"#N/A"}},{"$f":"ROUND('S17'!C81,1)","v":{"$error":"#N/A"}},{"$f":"ROUND('S17'!C82,1)","v":{"$error":"#N/A"}},{"$f":"AP!E7","v":0.2},{"$f":"AP!E9","v":0.2}]
["Tested By"]
["Remarks",null,{"$f":"IF(AND(T94=3,'S12'!M54=\"Single sample deviation, resample within 150 tons. Document corrective action\"),\"Deviation on 150 ton sample, suspend production of JMF\",IF(AND(T88=2,'S12'!M54=\"Multiple sample deviation, resample within 150 tons. Document corrective action\"),\"Deviation on 150 ton sample, suspend production of JMF\",IF(AND(T88=2,'S12'!M54=\"Single sample deviation, resample within 150 tons. Document corrective action\"),\"Deviation on 150 ton sample, suspend production of JMF\",IF(T94=3,\"Single sample deviation, resample within 150 tons. Document corrective action\",IF(T88=2,\"Multiple sample deviation, resample within 150 tons. Document corrective action\",IF(T71=1,\"Action area, document corrective action\",\" \"))))))","v":{"$error":"#N/A"}},null,{"$f":"IF(AND(U94=3,C54=\"Single sample deviation, resample within 150 tons. Document corrective action\"),\"Deviation on 150 ton sample, suspend production of JMF\",IF(AND(U88=2,C54=\"Multiple sample deviation, resample within 150 tons. Document corrective action\"),\"Deviation on 150 ton sample, suspend production of JMF\",IF(AND(U88=2,C54=\"Single sample deviation, resample within 150 tons. Document corrective action\"),\"Deviation on 150 ton sample, suspend production of JMF\",IF(U94=3,\"Single sample deviation, resample within 150 tons. Document corrective action\",IF(U88=2,\"Multiple sample deviation, resample within 150 tons. Document corrective action\",IF(U71=1,\"Action area, document corrective action\",\" \"))))))","v":{"$error":"#N/A"}},null,{"$f":"IF(AND(V94=3,E54=\"Single sample deviation, resample within 150 tons. Document corrective action\"),\"Deviation on 150 ton sample, suspend production of JMF\",IF(AND(V88=2,E54=\"Multiple sample deviation, resample within 150 tons. Document corrective action\"),\"Deviation on 150 ton sample, suspend production of JMF\",IF(AND(V88=2,E54=\"Single sample deviation, resample within 150 tons. Document corrective action\"),\"Deviation on 150 ton sample, suspend production of JMF\",IF(V94=3,\"Single sample deviation, resample within 150 tons. Document corrective action\",IF(V88=2,\"Multiple sample deviation, resample within 150 tons. Document corrective action\",IF(V71=1,\"Action area, document corrective action\",\" \"))))))","v":{"$error":"#N/A"}},null,{"$f":"IF(AND(W94=3,G54=\"Single sample deviation, resample within 150 tons. Document corrective action\"),\"Deviation on 150 ton sample, suspend production of JMF\",IF(AND(W88=2,G54=\"Multiple sample deviation, resample within 150 tons. Document corrective action\"),\"Deviation on 150 ton sample, suspend production of JMF\",IF(AND(W88=2,G54=\"Single sample deviation, resample within 150 tons. Document corrective action\"),\"Deviation on 150 ton sample, suspend production of JMF\",IF(W94=3,\"Single sample deviation, resample within 150 tons. Document corrective action\",IF(W88=2,\"Multiple sample deviation, resample within 150 tons. Document corrective action\",IF(W71=1,\"Action area, document corrective action\",\" \"))))))","v":{"$error":"#N/A"}},null,{"$f":"IF(AND(X94=3,I54=\"Single sample deviation, resample within 150 tons. Document corrective action\"),\"Deviation on 150 ton sample, suspend production of JMF\",IF(AND(X88=2,I54=\"Multiple sample deviation, resample within 150 tons. Document corrective action\"),\"Deviation on 150 ton sample, suspend production of JMF\",IF(AND(X88=2,I54=\"Single sample deviation, resample within 150 tons. Document corrective action\"),\"Deviation on 150 ton sample, suspend production of JMF\",IF(X94=3,\"Single sample deviation, resample within 150 tons. Document corrective action\",IF(X88=2,\"Multiple sample deviation, resample within 150 tons. Document corrective action\",IF(X71=1,\"Action area, document corrective action\",\" \"))))))","v":{"$error":"#N/A"}},null,{"$f":"IF(AND(Y94=3,K54=\"Single sample deviation, resample within 150 tons. Document corrective action\"),\"Deviation on 150 ton sample, suspend production of JMF\",IF(AND(Y88=2,K54=\"Multiple sample deviation, resample within 150 tons. Document corrective action\"),\"Deviation on 150 ton sample, suspend production of JMF\",IF(AND(Y88=2,K54=\"Single sample deviation, resample within 150 tons. Document corrective action\"),\"Deviation on 150 ton sample, suspend production of JMF\",IF(Y94=3,\"Single sample deviation, resample within 150 tons. Document corrective action\",IF(Y88=2,\"Multiple sample deviation, resample within 150 tons. Document corrective action\",IF(Y71=1,\"Action area, document corrective action\",\" \"))))))","v":{"$error":"#N/A"}}]
[]
[null,null,null,null,null,null,null,null,null,null,null,null,null,null,null,null,null,null,"Action points flags"]
[null,null,null,null,null,null,null,null,null,null,null,null,null,null,null,null,null,2,{"$f":"$B$15","v":" "},{"$f":"IF(ISBLANK(C15),0,IF(OR(D39>=$S57+$J39,D39<=$S57-$K39),1,0))","v":0},{"$f":"IF(ISBLANK(E15),0,IF(OR(E39>=$S57+$J39,E39<=$S57-$K39),1,0))","v":0},{"$f":"IF(ISBLANK(G15),0,IF(OR(F39>=$S57+$J39,F39<=$S57-$K39),1,0))","v":0},{"$f":"IF(ISBLANK(I15),0,IF(OR(G39>=$S57+$J39,G39<=$S57-$K39),1,0))","v":0},{"$f":"IF(ISBLANK(K15),0,IF(OR(H39>=$S57+$J39,H39<=$S57-$K39),1,0))","v":0},{"$f":"IF(ISBLANK(M15),0,IF(OR(I39>=$S57+$J39,I39<=$S57-$K39),1,0))","v":0}]
[null,null,null,null,null,null,null,null,null,null,null,null,null,null,null,null,null,1.5,{"$f":"$B$16","v":" "},{"$f":"IF(ISBLANK(C16),0,IF(OR(D40>=$S58+$J40,D40<=$S58-$K40),1,0))","v":0},{"$f":"IF(ISBLANK(E16),0,IF(OR(E40>=$S58+$J40,E40<=$S58-$K40),1,0))","v":0},{"$f":"IF(ISBLANK(G16),0,IF(OR(F40>=$S58+$J40,F40<=$S58-$K40),1,0))","v":0},{"$f":"IF(ISBLANK(I16),0,IF(OR(G40>=$S58+$J40,G40<=$S58-$K40),1,0))","v":0},{"$f":"IF(ISBLANK(K16),0,IF(OR(H40>=$S58+$J40,H40<=$S58-$K40),1,0))","v":0},{"$f":"IF(ISBLANK(M16),0,IF(OR(I40>=$S58+$J40,I40<=$S58-$K40),1,0))","v":0}]
[null,null,null,null,null,null,null,null,null,null,null,null,null,null,null,null,null,1,{"$f":"$B$17","v":" "},{"$f":"IF(ISBLANK(C17),0,IF(OR(D41>=$S59+$J41,D41<=$S59-$K41),1,0))","v":0},{"$f":"IF(ISBLANK(E17),0,IF(OR(E41>=$S59+$J41,E41<=$S59-$K41),1,0))","v":0},{"$f":"IF(ISBLANK(G17),0,IF(OR(F41>=$S59+$J41,F41<=$S59-$K41),1,0))","v":0},{"$f":"IF(ISBLANK(I17),0,IF(OR(G41>=$S59+$J41,G41<=$S59-$K41),1,0))","v":0},{"$f":"IF(ISBLANK(K17),0,IF(OR(H41>=$S59+$J41,H41<=$S59-$K41),1,0))","v":0},{"$f":"IF(ISBLANK(M17),0,IF(OR(I41>=$S59+$J41,I41<=$S59-$K41),1,0))","v":0}]
[null,null,null,null,null,null,null,null,null,null,null,null,null,null,null,null,null,0.75,{"$f":"$B$18","v":" "},{"$f":"IF(ISBLANK(C18),0,IF(OR(D42>=$S60+$J42,D42<=$S60-$K42),1,0))","v":0},{"$f":"IF(ISBLANK(E18),0,IF(OR(E42>=$S60+$J42,E42<=$S60-$K42),1,0))","v":0},{"$f":"IF(ISBLANK(G18),0,IF(OR(F42>=$S60+$J42,F42<=$S60-$K42),1,0))","v":0},{"$f":"IF(ISBLANK(I18),0,IF(OR(G42>=$S60+$J42,G42<=$S60-$K42),1,0))","v":0},{"$f":"IF(ISBLANK(K18),0,IF(OR(H42>=$S60+$J42,H42<=$S60-$K42),1,0))","v":0},{"$f":"IF(ISBLANK(M18),0,IF(OR(I42>=$S60+$J42,I42<=$S60-$K42),1,0))","v":0}]
[null,null,null,null,null,null,null,null,null,null,null,null,null,null,null,null,null,0.5,{"$f":"$B$19","v":" "},{"$f":"IF(ISBLANK(C19),0,IF(OR(D43>=$S61+$J43,D43<=$S61-$K43),1,0))","v":0},{"$f":"IF(ISBLANK(E19),0,IF(OR(E43>=$S61+$J43,E43<=$S61-$K43),1,0))","v":0},{"$f":"IF(ISBLANK(G19),0,IF(OR(F43>=$S61+$J43,F43<=$S61-$K43),1,0))","v":0},{"$f":"IF(ISBLANK(I19),0,IF(OR(G43>=$S61+$J43,G43<=$S61-$K43),1,0))","v":0},{"$f":"IF(ISBLANK(K19),0,IF(OR(H43>=$S61+$J43,H43<=$S61-$K43),1,0))","v":0},{"$f":"IF(ISBLANK(M19),0,IF(OR(I43>=$S61+$J43,I43<=$S61-$K43),1,0))","v":0}]
[null,null,null,null,null,null,null,null,null,null,null,null,null,null,null,null,null,0.375,{"$f":"$B$20","v":" "},{"$f":"IF(OR(D44>=$S62+$J44,D44<=$S62-$K44),1,0)","v":{"$error":"#N/A"}},{"$error":"#N/A"},{"$error":"#N/A"},{"$error":"#N/A"},{"$error":"#N/A"},{"$error":"#N/A"}]
[null,null,null,null,null,null,null,null,null,null,null,null,null,null,null,null,null,4,{"$f":"$B$21","v":" "},{"$error":"#N/A"},{"$error":"#N/A"},{"$error":"#N/A"},{"$error":"#N/A"},{"$error":"#N/A"},{"$error":"#N/A"}]
[null,null,null,null,null,null,null,null,null,null,null,null,null,null,null,null,null,8,{"$f":"$B$22","v":" "},{"$error":"#N/A"},{"$error":"#N/A"},{"$error":"#N/A"},{"$error":"#N/A"},{"$error":"#N/A"},{"$error":"#N/A"}]
[null,null,null,null,null,null,null,null,null,null,null,null,null,null,null,null,null,16,{"$f":"$B$23","v":" "},{"$error":"#N/A"},{"$error":"#N/A"},{"$error":"#N/A"},{"$error":"#N/A"},{"$error":"#N/A"},{"$error":"#N/A"}]
[null,null,null,null,null,null,null,null,null,null,null,null,null,null,null,null,null,30,{"$f":"$B$24","v":" "},{"$error":"#N/A"},{"$error":"#N/A"},{"$error":"#N/A"},{"$error":"#N/A"},{"$error":"#N/A"},{"$error":"#N/A"}]
[null,null,null,null,null,null,null,null,null,null,null,null,null,null,null,null,null,50,{"$f":"$B$25","v":" "},{"$error":"#N/A"},{"$error":"#N/A"},{"$error":"#N/A"},{"$error":"#N/A"},{"$error":"#N/A"},{"$error":"#N/A"}]
[null,null,null,null,null,null,null,null,null,null,null,null,null,null,null,null,null,100,{"$f":"$B$26","v":" "},{"$error":"#N/A"},{"$error":"#N/A"},{"$error":"#N/A"},{"$error":"#N/A"},{"$error":"#N/A"},{"$error":"#N/A"}]
[null,null,null,null,null,null,null,null,null,null,null,null,null,null,null,null,null,200,{"$f":"$B$27","v":" "},{"$error":"#N/A"},{"$error":"#N/A"},{"$error":"#N/A"},{"$error":"#N/A"},{"$error":"#N/A"},{"$error":"#N/A"}]
[null,null,null,null,null,null,null,null,null,null,null,null,null,null,null,null,null,"%AC",{"$f":"$B$28","v":" "},{"$error":"#N/A"},{"$error":"#N/A"},{"$error":"#N/A"},{"$error":"#N/A"},{"$error":"#N/A"},{"$error":"#N/A"}]
[null,null,{"$f":"MAX(C15:C23)","v":0},null,{"$f":"MAX(E15:E23)","v":0},null,{"$f":"MAX(G15:G23)","v":0},null,{"$f":"MAX(I15:I23)","v":0},null,{"$f":"MAX(K15:K23)","v":0},null,{"$f":"MAX(M15:M23)","v":0},null,null,null,null,null,"Max",{"$f":"MAX(T56:T70)","v":{"$error":"#N/A"}},{"$error":"#N/A"},{"$error":"#N/A"},{"$error":"#N/A"},{"$error":"#N/A"},{"$error":"#N/A"}]
[]
[null,null,null,null,null,null,null,null,null,null,null,null,null,null,null,null,null,null,"Multiple sample flag"]
[null,null,null,null,null,null,null,null,null,null,null,null,null,null,null,null,null,2,{"$f":"$B$15","v":" "},{"$f":"IF(ISBLANK(C15),0,IF(OR(D39>$S74+AP!$E$89,D39<$S74-AP!$E$93),2,0))","v":0},{"$f":"IF(ISBLANK(E15),0,IF(OR(E39>$S74+AP!$E$89,E39<$S74-AP!$E$93),2,0))","v":0},{"$f":"IF(ISBLANK(G15),0,IF(OR(F39>$S74+AP!$E$89,F39<$S74-AP!$E$93),2,0))","v":0},{"$f":"IF(ISBLANK(I15),0,IF(OR(G39>$S74+AP!$E$89,G39<$S74-AP!$E$93),2,0))","v":0},{"$f":"IF(ISBLANK(K15),0,IF(OR(H39>$S74+AP!$E$89,H39<$S74-AP!$E$93),2,0))","v":0},{"$f":"IF(ISBLANK(M15),0,IF(OR(I39>$S74+AP!$E$89,I39<$S74-AP!$E$93),2,0))","v":0}]
[null,null,null,null,null,null,null,null,null,null,null,null,null,null,null,null,null,1.5,{"$f":"$B$16","v":" "},{"$f":"IF(ISBLANK(C16),0,IF(OR(D40>$S75+AP!$E$83,D40<$S75-AP!$E$87),2,0))","v":0},{"$f":"IF(ISBLANK(E16),0,IF(OR(E40>$S75+AP!$E$89,E40<$S75-AP!$E$93),2,0))","v":0},{"$f":"IF(ISBLANK(G16),0,IF(OR(F40>$S75+AP!$E$89,F40<$S75-AP!$E$93),2,0))","v":0},{"$f":"IF(ISBLANK(I16),0,IF(OR(G40>$S75+AP!$E$89,G40<$S75-AP!$E$93),2,0))","v":0},{"$f":"IF(ISBLANK(K16),0,IF(OR(H40>$S75+AP!$E$89,H40<$S75-AP!$E$93),2,0))","v":0},{"$f":"IF(ISBLANK(M16),0,IF(OR(I40>$S75+AP!$E$89,I40<$S75-AP!$E$93),2,0))","v":0}]
[null,null,null,null,null,null,null,null,null,null,null,null,null,null,null,null,null,1,{"$f":"$B$17","v":" "},{"$f":"IF(ISBLANK(C17),0,IF(OR(D41>$S76+AP!$E$83,D41<$S76-AP!$E$87),2,0))","v":0},{"$f":"IF(ISBLANK(E17),0,IF(OR(E41>$S76+AP!$E$89,E41<$S76-AP!$E$93),2,0))","v":0},{"$f":"IF(ISBLANK(G17),0,IF(OR(F41>$S76+AP!$E$89,F41<$S76-AP!$E$93),2,0))","v":0},{"$f":"IF(ISBLANK(I17),0,IF(OR(G41>$S76+AP!$E$89,G41<$S76-AP!$E$93),2,0))","v":0},{"$f":"IF(ISBLANK(K17),0,IF(OR(H41>$S76+AP!$E$89,H41<$S76-AP!$E$93),2,0))","v":0},{"$f":"IF(ISBLANK(M17),0,IF(OR(I41>$S76+AP!$E$89,I41<$S76-AP!$E$93),2,0))","v":0}]
[null,null,null,null,null,null,null,null,null,null,null,null,null,null,null,null,null,0.75,{"$f":"$B$18","v":" "},{"$f":"IF(ISBLANK(C18),0,IF(OR(D42>$S77+AP!$E$83,D42<$S77-AP!$E$87),2,0))","v":0},{"$f":"IF(ISBLANK(E18),0,IF(OR(E42>$S77+AP!$E$89,E42<$S77-AP!$E$93),2,0))","v":0},{"$f":"IF(ISBLANK(G18),0,IF(OR(F42>$S77+AP!$E$89,F42<$S77-AP!$E$93),2,0))","v":0},{"$f":"IF(ISBLANK(I18),0,IF(OR(G42>$S77+AP!$E$89,G42<$S77-AP!$E$93),2,0))","v":0},{"$f":"IF(ISBLANK(K18),0,IF(OR(H42>$S77+AP!$E$89,H42<$S77-AP!$E$93),2,0))","v":0},{"$f":"IF(ISBLANK(M18),0,IF(OR(I42>$S77+AP!$E$89,I42<$S77-AP!$E$93),2,0))","v":0}]
[null,null,null,null,null,null,null,null,null,null,null,null,null,null,null,null,null,0.5,{"$f":"$B$19","v":" "},{"$f":"IF(ISBLANK(C19),0,IF(OR(D43>$S78+AP!$E$83,D43<$S78-AP!$E$87),2,0))","v":0},{"$f":"IF(ISBLANK(E19),0,IF(OR(E43>$S78+AP!$E$89,E43<$S78-AP!$E$93),2,0))","v":0},{"$f":"IF(ISBLANK(G19),0,IF(OR(F43>$S78+AP!$E$89,F43<$S78-AP!$E$93),2,0))","v":0},{"$f":"IF(ISBLANK(I19),0,IF(OR(G43>$S78+AP!$E$89,G43<$S78-AP!$E$93),2,0))","v":0},{"$f":"IF(ISBLANK(K19),0,IF(OR(H43>$S78+AP!$E$89,H43<$S78-AP!$E$93),2,0))","v":0},{"$f":"IF(ISBLANK(M19),0,IF(OR(I43>$S78+AP!$E$89,I43<$S78-AP!$E$93),2,0))","v":0}]
[null,null,null,null,null,null,null,null,null,null,null,null,null,null,null,null,null,0.375,{"$f":"$B$20","v":" "},{"$f":"IF(OR(D44>$S79+AP!$E$59,D44<$S79-AP!$E$63),2,0)","v":{"$error":"#N/A"}},{"$f":"IF(OR(E44>$S79+AP!$E$59,E44<$S79-AP!$E$63),2,0)","v":{"$error":"#N/A"}},{"$f":"IF(OR(F44>$S79+AP!$E$59,F44<$S79-AP!$E$63),2,0)","v":{"$error":"#N/A"}},{"$f":"IF(OR(G44>$S79+AP!$E$59,G44<$S79-AP!$E$63),2,0)","v":{"$error":"#N/A"}},{"$f":"IF(OR(H44>$S79+AP!$E$59,H44<$S79-AP!$E$63),2,0)","v":{"$error":"#N/A"}},{"$f":"IF(OR(I44>$S79+AP!$E$59,I44<$S79-AP!$E$63),2,0)","v":{"$error":"#N/A"}}]
[null,null,null,null,null,null,null,null,null,null,null,null,null,null,null,null,null,4,{"$f":"$B$21","v":" "},{"$f":"IF(OR(D45>$S80+AP!$E$53,D45<$S80-AP!$E$57),2,0)","v":{"$error":"#N/A"}},{"$f":"IF(OR(E45>$S80+AP!$E$53,E45<$S80-AP!$E$57),2,0)","v":{"$error":"#N/A"}},{"$f":"IF(OR(F45>$S80+AP!$E$53,F45<$S80-AP!$E$57),2,0)","v":{"$error":"#N/A"}},{"$f":"IF(OR(G45>$S80+AP!$E$53,G45<$S80-AP!$E$57),2,0)","v":{"$error":"#N/A"}},{"$f":"IF(OR(H45>$S80+AP!$E$53,H45<$S80-AP!$E$57),2,0)","v":{"$error":"#N/A"}},{"$f":"IF(OR(I45>$S80+AP!$E$53,I45<$S80-AP!$E$57),2,0)","v":{"$error":"#N/A"}}]
[null,null,null,null,null,null,null,null,null,null,null,null,null,null,null,null,null,8,{"$f":"$B$22","v":" "},{"$f":"IF(OR(D46>$S81+AP!$E$46,D46<$S81-AP!$E$50),2,0)","v":{"$error":"#N/A"}},{"$f":"IF(OR(E46>$S81+AP!$E$46,E46<$S81-AP!$E$50),2,0)","v":{"$error":"#N/A"}},{"$f":"IF(OR(F46>$S81+AP!$E$46,F46<$S81-AP!$E$50),2,0)","v":{"$error":"#N/A"}},{"$f":"IF(OR(G46>$S81+AP!$E$46,G46<$S81-AP!$E$50),2,0)","v":{"$error":"#N/A"}},{"$f":"IF(OR(H46>$S81+AP!$E$46,H46<$S81-AP!$E$50),2,0)","v":{"$error":"#N/A"}},{"$f":"IF(OR(I46>$S81+AP!$E$46,I46<$S81-AP!$E$50),2,0)","v":{"$error":"#N/A"}}]
[null,null,null,null,null,null,null,null,null,null,null,null,null,null,null,null,null,16,{"$f":"$B$23","v":" "},{"$f":"IF(OR(D47>$S82+AP!$E$39,D47<$S82-AP!$E$43),2,0)","v":{"$error":"#N/A"}},{"$f":"IF(OR(E47>$S82+AP!$E$39,E47<$S82-AP!$E$43),2,0)","v":{"$error":"#N/A"}},{"$f":"IF(OR(F47>$S82+AP!$E$39,F47<$S82-AP!$E$43),2,0)","v":{"$error":"#N/A"}},{"$f":"IF(OR(G47>$S82+AP!$E$39,G47<$S82-AP!$E$43),2,0)","v":{"$error":"#N/A"}},{"$f":"IF(OR(H47>$S82+AP!$E$39,H47<$S82-AP!$E$43),2,0)","v":{"$error":"#N/A"}},{"$f":"IF(OR(I47>$S82+AP!$E$39,I47<$S82-AP!$E$43),2,0)","v":{"$error":"#N/A"}}]
[null,null,null,null,null,null,null,null,null,null,null,null,null,null,null,null,null,30,{"$f":"$B$24","v":" "},{"$f":"IF(OR(D48>$S83+AP!$E$33,D48<$S83-AP!$E$37),2,0)","v":{"$error":"#N/A"}},{"$f":"IF(OR(E48>$S83+AP!$E$33,E48<$S83-AP!$E$37),2,0)","v":{"$error":"#N/A"}},{"$f":"IF(OR(F48>$S83+AP!$E$33,F48<$S83-AP!$E$37),2,0)","v":{"$error":"#N/A"}},{"$f":"IF(OR(G48>$S83+AP!$E$33,G48<$S83-AP!$E$37),2,0)","v":{"$error":"#N/A"}},{"$f":"IF(OR(H48>$S83+AP!$E$33,H48<$S83-AP!$E$37),2,0)","v":{"$error":"#N/A"}},{"$f":"IF(OR(I48>$S83+AP!$E$33,I48<$S83-AP!$E$37),2,0)","v":{"$error":"#N/A"}}]
[null,null,null,null,null,null,null,null,null,null,null,null,null,null,null,null,null,50,{"$f":"$B$25","v":" "},{"$f":"IF(OR(D49>$S84+AP!$E$27,D49<$S84-AP!$E$31),2,0)","v":{"$error":"#N/A"}},{"$f":"IF(OR(E49>$S84+AP!$E$27,E49<$S84-AP!$E$31),2,0)","v":{"$error":"#N/A"}},{"$f":"IF(OR(F49>$S84+AP!$E$27,F49<$S84-AP!$E$31),2,0)","v":{"$error":"#N/A"}},{"$f":"IF(OR(G49>$S84+AP!$E$27,G49<$S84-AP!$E$31),2,0)","v":{"$error":"#N/A"}},{"$f":"IF(OR(H49>$S84+AP!$E$27,H49<$S84-AP!$E$31),2,0)","v":{"$error":"#N/A"}},{"$f":"IF(OR(I49>$S84+AP!$E$27,I49<$S84-AP!$E$31),2,0)","v":{"$error":"#N/A"}}]
[null,null,null,null,null,null,null,null,null,null,null,null,null,null,null,null,null,100,{"$f":"$B$26","v":" "},{"$f":"IF(OR(D50>$S85+AP!$E$21,D50<$S85-AP!$E$25),2,0)","v":{"$error":"#N/A"}},{"$f":"IF(OR(E50>$S85+AP!$E$21,E50<$S85-AP!$E$25),2,0)","v":{"$error":"#N/A"}},{"$f":"IF(OR(F50>$S85+AP!$E$21,F50<$S85-AP!$E$25),2,0)","v":{"$error":"#N/A"}},{"$f":"IF(OR(G50>$S85+AP!$E$21,G50<$S85-AP!$E$25),2,0)","v":{"$error":"#N/A"}},{"$f":"IF(OR(H50>$S85+AP!$E$21,H50<$S85-AP!$E$25),2,0)","v":{"$error":"#N/A"}},{"$f":"IF(OR(I50>$S85+AP!$E$21,I50<$S85-AP!$E$25),2,0)","v":{"$error":"#N/A"}}]
[null,null,null,null,null,null,null,null,null,null,null,null,null,null,null,null,null,200,{"$f":"$B$27","v":" "},{"$f":"IF(OR(D51>$S86+AP!$E$14,D51<$S86-AP!$E$18),2,0)","v":{"$error":"#N/A"}},{"$f":"IF(OR(E51>$S86+AP!$E$14,E51<$S86-AP!$E$18),2,0)","v":{"$error":"#N/A"}},{"$f":"IF(OR(F51>$S86+AP!$E$14,F51<$S86-AP!$E$18),2,0)","v":{"$error":"#N/A"}},{"$f":"IF(OR(G51>$S86+AP!$E$14,G51<$S86-AP!$E$18),2,0)","v":{"$error":"#N/A"}},{"$f":"IF(OR(H51>$S86+AP!$E$14,H51<$S86-AP!$E$18),2,0)","v":{"$error":"#N/A"}},{"$f":"IF(OR(I51>$S86+AP!$E$14,I51<$S86-AP!$E$18),2,0)","v":{"$error":"#N/A"}}]
[null,null,null,null,null,null,null,null,null,null,null,null,null,null,null,null,null,"%AC",{"$f":"$B$28","v":" "},{"$f":"IF(OR(D52>AP!$L$6,D52<AP!$L$10),2,0)","v":{"$error":"#N/A"}},{"$f":"IF(OR(E52>AP!$L$6,E52<AP!$L$10),2,0)","v":{"$error":"#N/A"}},{"$f":"IF(OR(F52>AP!$L$6,F52<AP!$L$10),2,0)","v":{"$error":"#N/A"}},{"$f":"IF(OR(G52>AP!$L$6,G52<AP!$L$10),2,0)","v":{"$error":"#N/A"}},{"$f":"IF(OR(H52>AP!$L$6,H52<AP!$L$10),2,0)","v":{"$error":"#N/A"}},{"$f":"IF(OR(I52>AP!$L$6,I52<AP!$L$10),2,0)","v":{"$error":"#N/A"}}]
[null,null,null,null,null,null,null,null,null,null,null,null,null,null,null,null,null,null,"Max",{"$f":"MAX(T74:T87)","v":{"$error":"#N/A"}},{"$error":"#N/A"},{"$error":"#N/A"},{"$error":"#N/A"},{"$error":"#N/A"},{"$error":"#N/A"}]
[]
[null,null,null,null,null,null,null,null,null,null,null,null,null,null,null,null,null,null,"Single sample flag"]
[null,null,null,null,null,null,null,null,null,null,null,null,null,null,null,null,null,8,{"$f":"$B$22","v":" "},{"$f":"IF(OR($D$22>$S91+AP!$E$45,$D$22<$S91-AP!$E$51),3,0)","v":{"$error":"#VALUE!"}},{"$f":"IF(OR($F$22>$S91+AP!$E$45,$F$22<$S91-AP!$E$51),3,0)","v":{"$error":"#VALUE!"}},{"$f":"IF(OR($H$22>$S91+AP!$E$45,$H$22<$S91-AP!$E$51),3,0)","v":{"$error":"#VALUE!"}},{"$f":"IF(OR($J$22>$S91+AP!$E$45,$J$22<$S91-AP!$E$51),3,0)","v":{"$error":"#VALUE!"}},{"$f":"IF(OR($L$22>$S91+AP!$E$45,$L$22<$S91-AP!$E$51),3,0)","v":{"$error":"#VALUE!"}},{"$f":"IF(OR($N$22>$S91+AP!$E$45,$N$22<$S91-AP!$E$51),3,0)","v":{"$error":"#VALUE!"}}]
[null,null,null,null,null,null,null,null,null,null,null,null,null,null,null,null,null,200,{"$f":"$B$27","v":" "},{"$f":"IF(OR($D$27>$S92+AP!$E$13,$D$27<$S92-AP!$E$19),3,0)","v":{"$error":"#VALUE!"}},{"$f":"IF(OR($F$27>$S92+AP!$E$13,$F$27<$S92-AP!$E$19),3,0)","v":{"$error":"#VALUE!"}},{"$f":"IF(OR($H$27>$S92+AP!$E$13,$H$27<$S92-AP!$E$19),3,0)","v":{"$error":"#VALUE!"}},{"$f":"IF(OR($J$27>$S92+AP!$E$13,$J$27<$S92-AP!$E$19),3,0)","v":{"$error":"#VALUE!"}},{"$f":"IF(OR($L$27>$S92+AP!$E$13,$L$27<$S92-AP!$E$19),3,0)","v":{"$error":"#VALUE!"}},{"$f":"IF(OR($N$27>$S92+AP!$E$13,$N$27<$S92-AP!$E$19),3,0)","v":{"$error":"#VALUE!"}}]
[null,null,null,null,null,null,null,null,null,null,null,null,null,null,null,null,null,"%AC",{"$f":"$B$28","v":" "},{"$f":"IF(OR($C$28>AP!$L$5,$C$28<AP!$L$11),3,0)","v":0},{"$f":"IF(OR($E$28>AP!$L$5,$E$28<AP!$L$11),3,0)","v":0},{"$f":"IF(OR($G$28>AP!$L$5,$G$28<AP!$L$11),3,0)","v":0},{"$f":"IF(OR($I$28>AP!$L$5,$I$28<AP!$L$11),3,0)","v":0},{"$f":"IF(OR($K$28>AP!$L$5,$K$28<AP!$L$11),3,0)","v":0},{"$f":"IF(OR($M$28>AP!$L$5,$M$28<AP!$L$11),3,0)","v":0}]
[null,null,null,null,null,null,null,null,null,null,null,null,null,null,null,null,null,null,"Max",{"$f":"IF(ISBLANK(C27),\" \",MAX(T91:T93))","v":" "},{"$f":"IF(ISBLANK(E27),\" \",MAX(U91:U93))","v":" "},{"$f":"IF(ISBLANK(G27),\" \",MAX(V91:V93))","v":" "},{"$f":"IF(ISBLANK(I27),\" \",MAX(W91:W93))","v":" "},{"$f":"IF(ISBLANK(K27),\" \",MAX(X91:X93))","v":" "},{"$f":"IF(ISBLANK(M27),\" \",MAX(Y91:Y93))","v":" "}]

{"sheet":"S14","index":13,"n_rows":94,"n_cols":25,"rows_kept":94,"cut":false,"hidden":true,"merged":[[52,12,52,13],[52,0,52,1],[52,2,52,3],[52,4,52,5],[52,6,52,7],[52,8,52,9],[52,10,52,11],[37,0,37,2],[37,3,37,8],[37,9,37,10],[29,2,29,3],[29,4,29,5],[29,6,29,7],[29,8,29,9],[29,10,29,11],[29,12,29,13],[29,0,31,0],[30,2,30,3],[30,4,30,5],[30,6,30,7],[30,8,30,9],[30,10,30,11],[30,12,30,13],[31,2,31,3],[31,4,31,5],[31,6,31,7],[31,8,31,9],[31,10,31,11],[31,12,31,13],[12,8,12,9],[12,10,12,11],[28,12,28,13],[12,0,12,1],[12,2,12,3],[12,4,12,5],[12,6,12,7],[12,12,12,13],[27,2,27,3],[27,4,27,5],[27,6,27,7],[27,8,27,9],[28,0,28,1],[27,10,27,11],[28,4,28,5],[28,6,28,7],[28,8,28,9],[28,10,28,11],[27,12,27,13],[28,2,28,3],[9,0,9,1],[9,2,9,3],[9,4,9,5],[10,0,10,1],[10,2,10,3],[11,0,11,1],[11,2,11,3],[9,10,9,11],[9,12,9,13],[11,6,11,7],[11,12,11,13],[11,8,11,9],[11,10,11,11],[10,12,10,13],[10,10,10,11],[8,10,8,11],[8,12,8,13],[8,6,8,7],[10,4,10,5],[10,6,10,7],[10,8,10,9],[9,8,9,9],[9,6,9,7],[11,4,11,5],[53,0,68,1],[53,12,58,13],[53,10,58,11],[53,8,58,9],[53,6,58,7],[53,4,58,5],[53,2,58,3],[1,12,1,13],[2,10,2,11],[2,12,2,13],[5,10,5,11],[5,12,5,13],[5,0,5,1],[5,6,5,7],[0,0,3,1],[1,10,1,11],[8,0,8,1],[8,2,8,3],[6,10,6,11],[6,12,6,13],[7,0,7,2],[7,5,7,8],[8,4,8,5],[8,8,8,9],[59,12,68,13],[59,10,68,11],[59,8,68,9],[59,6,68,7],[59,4,68,5],[59,2,68,3],[55,18,55,24],[72,18,72,24],[89,18,89,24]]}
[]
[null,null,null,null,"COMMONWEALTH OF PENNSYLVANIA",null,null,null,null,null,"DISTRICT",null,{"$f":"IF(ISBLANK('S1'!M2),\" \",('S1'!M2))","v":" "}]
[null,null,null,null,"DEPARTMENT OF TRANSPORTATION",null,null,null,null,null,"PLANT CODE",null,{"$f":"IF(ISBLANK('S1'!M3),\" \",('S1'!M3))","v":" "}]
[null,null,null,null,"LABORATORY TEST SECTION"]
[{"$f":"'S1'!A5","v":"ESB-16"}]
["Material Class ",null,{"$f":"IF(ISBLANK('S1'!C6),\" \",('S1'!C6))","v":9.5},"mm",null,null,"Burnoff Results",null,null,null,"Design No.",null,{"$f":"IF(ISBLANK('S1'!M6),\" \",('S1'!M6))","v":" "}]
[null,null,null,null,null,null,null,null,null,null,"Gyrations @ Ndes",null,{"$f":"IF(ISBLANK('S1'!M7),\" \",'S1'!M7)","v":" "}]
["-200 Correction Factor (+ or -)",null,null,{"$f":"IF(ISBLANK('S1'!D8),\" \",('S1'!D8))","v":" "},null,"Red values indicate action area"]
["Sample No."]
["Date"]
["St. Wt. Before Wash"]
["Dry Wt. After Wash"]
["Wt. Loss",null,{"$f":"IF(ISBLANK(C11),\" \",IF(ISBLANK(C12),\" \",C11-C12))","v":" "},null,{"$f":"IF(ISBLANK(E11),\" \",IF(ISBLANK(E12),\" \",E11-E12))","v":" "},null,{"$f":"IF(ISBLANK(G11),\" \",IF(ISBLANK(G12),\" \",G11-G12))","v":" "},null,{"$f":"IF(ISBLANK(I11),\" \",IF(ISBLANK(I12),\" \",I11-I12))","v":" "},null,{"$f":"IF(ISBLANK(K11),\" \",IF(ISBLANK(K12),\" \",K11-K12))","v":" "},null,{"$f":"IF(ISBLANK(M11),\" \",IF(ISBLANK(M12),\" \",M11-M12))","v":" "}]
["Size","JMF","Weight","%Passing","Weight","%Passing","Weight","%Passing","Weight","%Pasing","Weight","%Pasing","Weight","%Pasing"]
[2,{"$f":"IF(ISBLANK('S1'!B15),\" \",'S1'!B15)","v":" "},null,{"$f":"IF(ISBLANK(C11),\" \",IF(ISBLANK(C12),\" \",IF(ISBLANK(C15),\" \",ROUND((C15+C13)/C11*100,0))))","v":" "},null,{"$f":"IF(ISBLANK(E11),\" \",IF(ISBLANK(E12),\" \",IF(ISBLANK(E15),\" \",ROUND((E15+E13)/E11*100,0))))","v":" "},null,{"$f":"IF(ISBLANK(G11),\" \",IF(ISBLANK(G12),\" \",IF(ISBLANK(G15),\" \",ROUND((G15+G13)/G11*100,0))))","v":" "},null,{"$f":"IF(ISBLANK(I11),\" \",IF(ISBLANK(I12),\" \",IF(ISBLANK(I15),\" \",ROUND((I15+I13)/I11*100,0))))","v":" "},null,{"$f":"IF(ISBLANK(K11),\" \",IF(ISBLANK(K12),\" \",IF(ISBLANK(K15),\" \",ROUND((K15+K13)/K11*100,0))))","v":" "},null,{"$f":"IF(ISBLANK(M11),\" \",IF(ISBLANK(M12),\" \",IF(ISBLANK(M15),\" \",ROUND((M15+M13)/M11*100,0))))","v":" "}]
[1.5,{"$f":"IF(ISBLANK('S1'!B16),\" \",'S1'!B16)","v":" "},null,{"$f":"IF(ISBLANK(C11),\"  \",IF(ISBLANK(C12),\" \",IF(ISBLANK(C16),\" \",ROUND((C16+C13)/C11*100,0))))","v":"  "},null,{"$f":"IF(ISBLANK(E11),\"  \",IF(ISBLANK(E12),\" \",IF(ISBLANK(E16),\" \",ROUND((E16+E13)/E11*100,0))))","v":"  "},null,{"$f":"IF(ISBLANK(G11),\"  \",IF(ISBLANK(G12),\" \",IF(ISBLANK(G16),\" \",ROUND((G16+G13)/G11*100,0))))","v":"  "},null,{"$f":"IF(ISBLANK(I11),\"  \",IF(ISBLANK(I12),\" \",IF(ISBLANK(I16),\" \",ROUND((I16+I13)/I11*100,0))))","v":"  "},null,{"$f":"IF(ISBLANK(K11),\"  \",IF(ISBLANK(K12),\" \",IF(ISBLANK(K16),\" \",ROUND((K16+K13)/K11*100,0))))","v":"  "},null,{"$f":"IF(ISBLANK(M11),\"  \",IF(ISBLANK(M12),\" \",IF(ISBLANK(M16),\" \",ROUND((M16+M13)/M11*100,0))))","v":"  "}]
[1,{"$f":"IF(ISBLANK('S1'!B17),\" \",'S1'!B17)","v":" "},null,{"$f":"IF(ISBLANK(C11),\"  \",IF(ISBLANK(C12),\" \",IF(ISBLANK(C17),\" \",ROUND((C17+C13)/C11*100,0))))","v":"  "},null,{"$f":"IF(ISBLANK(E11),\"  \",IF(ISBLANK(E12),\" \",IF(ISBLANK(E17),\" \",ROUND((E17+E13)/E11*100,0))))","v":"  "},null,{"$f":"IF(ISBLANK(G11),\"  \",IF(ISBLANK(G12),\" \",IF(ISBLANK(G17),\" \",ROUND((G17+G13)/G11*100,0))))","v":"  "},null,{"$f":"IF(ISBLANK(I11),\"  \",IF(ISBLANK(I12),\" \",IF(ISBLANK(I17),\" \",ROUND((I17+I13)/I11*100,0))))","v":"  "},null,{"$f":"IF(ISBLANK(K11),\"  \",IF(ISBLANK(K12),\" \",IF(ISBLANK(K17),\" \",ROUND((K17+K13)/K11*100,0))))","v":"  "},null,{"$f":"IF(ISBLANK(M11),\"  \",IF(ISBLANK(M12),\" \",IF(ISBLANK(M17),\" \",ROUND((M17+M13)/M11*100,0))))","v":"  "}]
[0.75,{"$f":"IF(ISBLANK('S1'!B18),\" \",'S1'!B18)","v":" "},null,{"$f":"IF(ISBLANK(C11),\"  \",IF(ISBLANK(C12),\" \",IF(ISBLANK(C18),\" \",ROUND((C18+C13)/C11*100,0))))","v":"  "},null,{"$f":"IF(ISBLANK(E11),\"  \",IF(ISBLANK(E12),\" \",IF(ISBLANK(E18),\" \",ROUND((E18+E13)/E11*100,0))))","v":"  "},null,{"$f":"IF(ISBLANK(G11),\"  \",IF(ISBLANK(G12),\" \",IF(ISBLANK(G18),\" \",ROUND((G18+G13)/G11*100,0))))","v":"  "},null,{"$f":"IF(ISBLANK(I11),\"  \",IF(ISBLANK(I12),\" \",IF(ISBLANK(I18),\" \",ROUND((I18+I13)/I11*100,0))))","v":"  "},null,{"$f":"IF(ISBLANK(K11),\"  \",IF(ISBLANK(K12),\" \",IF(ISBLANK(K18),\" \",ROUND((K18+K13)/K11*100,0))))","v":"  "},null,{"$f":"IF(ISBLANK(M11),\"  \",IF(ISBLANK(M12),\" \",IF(ISBLANK(M18),\" \",ROUND((M18+M13)/M11*100,0))))","v":"  "}]
[0.5,{"$f":"IF(ISBLANK('S1'!B19),\" \",'S1'!B19)","v":" "},null,{"$f":"IF(ISBLANK(C11),\"  \",IF(ISBLANK(C12),\" \",IF(ISBLANK(C19),\" \",ROUND((C19+C13)/C11*100,0))))","v":"  "},null,{"$f":"IF(ISBLANK(E11),\"  \",IF(ISBLANK(E12),\" \",IF(ISBLANK(E19),\" \",ROUND((E19+E13)/E11*100,0))))","v":"  "},null,{"$f":"IF(ISBLANK(G11),\"  \",IF(ISBLANK(G12),\" \",IF(ISBLANK(G19),\" \",ROUND((G19+G13)/G11*100,0))))","v":"  "},null,{"$f":"IF(ISBLANK(I11),\"  \",IF(ISBLANK(I12),\" \",IF(ISBLANK(I19),\" \",ROUND((I19+I13)/I11*100,0))))","v":"  "},null,{"$f":"IF(ISBLANK(K11),\"  \",IF(ISBLANK(K12),\" \",IF(ISBLANK(K19),\" \",ROUND((K19+K13)/K11*100,0))))","v":"  "},null,{"$f":"IF(ISBLANK(M11),\"  \",IF(ISBLANK(M12),\" \",IF(ISBLANK(M19),\" \",ROUND((M19+M13)/M11*100,0))))","v":"  "}]
[0.375,{"$f":"IF(ISBLANK('S1'!B20),\" \",'S1'!B20)","v":" "},null,{"$f":"IF(ISBLANK(C11),\"  \",IF(ISBLANK(C12),\" \",IF(ISBLANK(C20),\" \",ROUND((C20+C13)/C11*100,0))))","v":"  "},null,{"$f":"IF(ISBLANK(E11),\"  \",IF(ISBLANK(E12),\" \",IF(ISBLANK(E20),\" \",ROUND((E20+E13)/E11*100,0))))","v":"  "},null,{"$f":"IF(ISBLANK(G11),\"  \",IF(ISBLANK(G12),\" \",IF(ISBLANK(G20),\" \",ROUND((G20+G13)/G11*100,0))))","v":"  "},null,{"$f":"IF(ISBLANK(I11),\"  \",IF(ISBLANK(I12),\" \",IF(ISBLANK(I20),\" \",ROUND((I20+I13)/I11*100,0))))","v":"  "},null,{"$f":"IF(ISBLANK(K11),\"  \",IF(ISBLANK(K12),\" \",IF(ISBLANK(K20),\" \",ROUND((K20+K13)/K11*100,0))))","v":"  "},null,{"$f":"IF(ISBLANK(M11),\"  \",IF(ISBLANK(M12),\" \",IF(ISBLANK(M20),\" \",ROUND((M20+M13)/M11*100,0))))","v":"  "}]
[4,{"$f":"IF(ISBLANK('S1'!B21),\" \",'S1'!B21)","v":" "},null,{"$f":"IF(ISBLANK(C11),\"  \",IF(ISBLANK(C12),\" \",IF(ISBLANK(C21),\" \",ROUND((C21+C13)/C11*100,0))))","v":"  "},null,{"$f":"IF(ISBLANK(E11),\"  \",IF(ISBLANK(E12),\" \",IF(ISBLANK(E21),\" \",ROUND((E21+E13)/E11*100,0))))","v":"  "},null,{"$f":"IF(ISBLANK(G11),\"  \",IF(ISBLANK(G12),\" \",IF(ISBLANK(G21),\" \",ROUND((G21+G13)/G11*100,0))))","v":"  "},null,{"$f":"IF(ISBLANK(I11),\"  \",IF(ISBLANK(I12),\" \",IF(ISBLANK(I21),\" \",ROUND((I21+I13)/I11*100,0))))","v":"  "},null,{"$f":"IF(ISBLANK(K11),\"  \",IF(ISBLANK(K12),\" \",IF(ISBLANK(K21),\" \",ROUND((K21+K13)/K11*100,0))))","v":"  "},null,{"$f":"IF(ISBLANK(M11),\"  \",IF(ISBLANK(M12),\" \",IF(ISBLANK(M21),\" \",ROUND((M21+M13)/M11*100,0))))","v":"  "}]
[8,{"$f":"IF(ISBLANK('S1'!B22),\" \",'S1'!B22)","v":" "},null,{"$f":"IF(ISBLANK(C11),\"  \",IF(ISBLANK(C12),\" \",IF(ISBLANK(C22),\" \",ROUND((C22+C13)/C11*100,0))))","v":"  "},null,{"$f":"IF(ISBLANK(E11),\"  \",IF(ISBLANK(E12),\" \",IF(ISBLANK(E22),\" \",ROUND((E22+E13)/E11*100,0))))","v":"  "},null,{"$f":"IF(ISBLANK(G11),\"  \",IF(ISBLANK(G12),\" \",IF(ISBLANK(G22),\" \",ROUND((G22+G13)/G11*100,0))))","v":"  "},null,{"$f":"IF(ISBLANK(I11),\"  \",IF(ISBLANK(I12),\" \",IF(ISBLANK(I22),\" \",ROUND((I22+I13)/I11*100,0))))","v":"  "},null,{"$f":"IF(ISBLANK(K11),\"  \",IF(ISBLANK(K12),\" \",IF(ISBLANK(K22),\" \",ROUND((K22+K13)/K11*100,0))))","v":"  "},null,{"$f":"IF(ISBLANK(M11),\"  \",IF(ISBLANK(M12),\" \",IF(ISBLANK(M22),\" \",ROUND((M22+M13)/M11*100,0))))","v":"  "}]
[16,{"$f":"IF(ISBLANK('S1'!B23),\" \",'S1'!B23)","v":" "},null,{"$f":"IF(ISBLANK(C11),\"  \",IF(ISBLANK(C12),\" \",IF(ISBLANK(C23),\" \",ROUND((C23+C13)/C11*100,0))))","v":"  "},null,{"$f":"IF(ISBLANK(E11),\"  \",IF(ISBLANK(E12),\" \",IF(ISBLANK(E23),\" \",ROUND((E23+E13)/E11*100,0))))","v":"  "},null,{"$f":"IF(ISBLANK(G11),\"  \",IF(ISBLANK(G12),\" \",IF(ISBLANK(G23),\" \",ROUND((G23+G13)/G11*100,0))))","v":"  "},null,{"$f":"IF(ISBLANK(I11),\"  \",IF(ISBLANK(I12),\" \",IF(ISBLANK(I23),\" \",ROUND((I23+I13)/I11*100,0))))","v":"  "},null,{"$f":"IF(ISBLANK(K11),\"  \",IF(ISBLANK(K12),\" \",IF(ISBLANK(K23),\" \",ROUND((K23+K13)/K11*100,0))))","v":"  "},null,{"$f":"IF(ISBLANK(M11),\"  \",IF(ISBLANK(M12),\" \",IF(ISBLANK(M23),\" \",ROUND((M23+M13)/M11*100,0))))","v":"  "}]
[30,{"$f":"IF(ISBLANK('S1'!B24),\" \",'S1'!B24)","v":" "},null,{"$f":"IF(ISBLANK(C11),\"  \",IF(ISBLANK(C12),\" \",IF(ISBLANK(C24),\" \",ROUND((C24+C13)/C11*100,0))))","v":"  "},null,{"$f":"IF(ISBLANK(E11),\"  \",IF(ISBLANK(E12),\" \",IF(ISBLANK(E24),\" \",ROUND((E24+E13)/E11*100,0))))","v":"  "},null,{"$f":"IF(ISBLANK(G11),\"  \",IF(ISBLANK(G12),\" \",IF(ISBLANK(G24),\" \",ROUND((G24+G13)/G11*100,0))))","v":"  "},null,{"$f":"IF(ISBLANK(I11),\"  \",IF(ISBLANK(I12),\" \",IF(ISBLANK(I24),\" \",ROUND((I24+I13)/I11*100,0))))","v":"  "},null,{"$f":"IF(ISBLANK(K11),\"  \",IF(ISBLANK(K12),\" \",IF(ISBLANK(K24),\" \",ROUND((K24+K13)/K11*100,0))))","v":"  "},null,{"$f":"IF(ISBLANK(M11),\"  \",IF(ISBLANK(M12),\" \",IF(ISBLANK(M24),\" \",ROUND((M24+M13)/M11*100,0))))","v":"  "}]
[50,{"$f":"IF(ISBLANK('S1'!B25),\" \",'S1'!B25)","v":" "},null,{"$f":"IF(ISBLANK(C11),\"  \",IF(ISBLANK(C12),\" \",IF(ISBLANK(C25),\" \",ROUND((C25+C13)/C11*100,0))))","v":"  "},null,{"$f":"IF(ISBLANK(E11),\"  \",IF(ISBLANK(E12),\" \",IF(ISBLANK(E25),\" \",ROUND((E25+E13)/E11*100,0))))","v":"  "},null,{"$f":"IF(ISBLANK(G11),\"  \",IF(ISBLANK(G12),\" \",IF(ISBLANK(G25),\" \",ROUND((G25+G13)/G11*100,0))))","v":"  "},null,{"$f":"IF(ISBLANK(I11),\"  \",IF(ISBLANK(I12),\" \",IF(ISBLANK(I25),\" \",ROUND((I25+I13)/I11*100,0))))","v":"  "},null,{"$f":"IF(ISBLANK(K11),\"  \",IF(ISBLANK(K12),\" \",IF(ISBLANK(K25),\" \",ROUND((K25+K13)/K11*100,0))))","v":"  "},null,{"$f":"IF(ISBLANK(M11),\"  \",IF(ISBLANK(M12),\" \",IF(ISBLANK(M25),\" \",ROUND((M25+M13)/M11*100,0))))","v":"  "}]
[100,{"$f":"IF(ISBLANK('S1'!B26),\" \",'S1'!B26)","v":" "},null,{"$f":"IF(ISBLANK(C11),\"  \",IF(ISBLANK(C12),\" \",IF(ISBLANK(C26),\" \",ROUND((C26+C13)/C11*100,0))))","v":"  "},null,{"$f":"IF(ISBLANK(E11),\"  \",IF(ISBLANK(E12),\" \",IF(ISBLANK(E26),\" \",ROUND((E26+E13)/E11*100,0))))","v":"  "},null,{"$f":"IF(ISBLANK(G11),\"  \",IF(ISBLANK(G12),\" \",IF(ISBLANK(G26),\" \",ROUND((G26+G13)/G11*100,0))))","v":"  "},null,{"$f":"IF(ISBLANK(I11),\"  \",IF(ISBLANK(I12),\" \",IF(ISBLANK(I26),\" \",ROUND((I26+I13)/I11*100,0))))","v":"  "},null,{"$f":"IF(ISBLANK(K11),\"  \",IF(ISBLANK(K12),\" \",IF(ISBLANK(K26),\" \",ROUND((K26+K13)/K11*100,0))))","v":"  "},null,{"$f":"IF(ISBLANK(M11),\"  \",IF(ISBLANK(M12),\" \",IF(ISBLANK(M26),\" \",ROUND((M26+M13)/M11*100,0))))","v":"  "}]
[200,{"$f":"IF(ISBLANK('S1'!B27),\" \",'S1'!B27)","v":" "},null,{"$f":"IF(ISBLANK(C11),\"  \",IF(ISBLANK(C12),\" \",IF(ISBLANK(C27),\" \",ROUND((C27+C13)/C11*100+$D$8,1))))","v":"  "},null,{"$f":"IF(ISBLANK(E11),\"  \",IF(ISBLANK(E12),\" \",IF(ISBLANK(E27),\" \",ROUND((E27+E13)/E11*100+$D$8,1))))","v":"  "},null,{"$f":"IF(ISBLANK(G11),\"  \",IF(ISBLANK(G12),\" \",IF(ISBLANK(G27),\" \",ROUND((G27+G13)/G11*100+$D$8,1))))","v":"  "},null,{"$f":"IF(ISBLANK(I11),\"  \",IF(ISBLANK(I12),\" \",IF(ISBLANK(I27),\" \",ROUND((I27+I13)/I11*100+$D$8,1))))","v":"  "},null,{"$f":"IF(ISBLANK(K11),\"  \",IF(ISBLANK(K12),\" \",IF(ISBLANK(K27),\" \",ROUND((K27+K13)/K11*100+$D$8,1))))","v":"  "},null,{"$f":"IF(ISBLANK(M11),\"  \",IF(ISBLANK(M12),\" \",IF(ISBLANK(M27),\" \",ROUND((M27+M13)/M11*100+$D$8,1))))","v":"  "}]
["%AC",{"$f":"IF(ISBLANK('S1'!B28),\" \",'S1'!B28)","v":" "}]
["Percent Loss / Gain",null,{"$f":"IF(ISBLANK(C12),\"\",IF(ISBLANK(C20),\"\",(C12-C71)/C12*100))","v":""},null,{"$f":"IF(ISBLANK(E12),\"\",IF(ISBLANK(E20),\"\",(E12-E71)/E12*100))","v":""},null,{"$f":"IF(ISBLANK(G12),\"\",IF(ISBLANK(G20),\"\",(G12-G71)/G12*100))","v":""},null,{"$f":"IF(ISBLANK(I12),\"\",IF(ISBLANK(I20),\"\",(I12-I71)/I12*100))","v":""},null,{"$f":"IF(ISBLANK(K12),\"\",IF(ISBLANK(K20),\"\",(K12-K71)/K12*100))","v":""},null,{"$f":"IF(ISBLANK(M12),\"\",IF(ISBLANK(M20),\"\",(M12-M71)/M12*100))","v":""}]
["Apparent Moisture","Orig Wt"]
[null,"Const Wt"]
[null,"% moisture",{"$f":"IF(ISBLANK(C30),\" \",IF(ISBLANK(C31),\" \",((C30-C31)/C31)*100))","v":" "},null,{"$f":"IF(ISBLANK(E30),\" \",IF(ISBLANK(E31),\" \",((E30-E31)/E31)*100))","v":" "},null,{"$f":"IF(ISBLANK(G30),\" \",IF(ISBLANK(G31),\" \",((G30-G31)/G31)*100))","v":" "},null,{"$f":"IF(ISBLANK(I30),\" \",IF(ISBLANK(I31),\" \",((I30-I31)/I31)*100))","v":" "},null,{"$f":"IF(ISBLANK(K30),\" \",IF(ISBLANK(K31),\" \",((K30-K31)/K31)*100))","v":" "},null,{"$f":"IF(ISBLANK(M30),\" \",IF(ISBLANK(M31),\" \",((M30-M31)/M31)*100))","v":" "}]
[]
[]
[]
[]
[]
["Sets up Min and Max for charts",null,null,"Running Avg for Conditional Format",null,null,null,null,null,"AP upper & lower Tolerances"]
[2,{"$f":"B15-8","v":{"$error":"#VALUE!"}},{"$f":"B15+8","v":{"$error":"#VALUE!"}},{"$f":"'S17'!$AC83","v":{"$error":"#N/A"}},{"$f":"'S17'!$AC84","v":{"$error":"#N/A"}},{"$f":"'S17'!$AC85","v":{"$error":"#N/A"}},{"$f":"'S17'!$AC86","v":{"$error":"#N/A"}},{"$f":"'S17'!$AC87","v":{"$error":"#N/A"}},{"$f":"'S17'!$AC88","v":{"$error":"#N/A"}},{"$f":"AP!E90","v":5},{"$f":"AP!E92","v":5}]
[1.5,{"$f":"B16-8","v":{"$error":"#VALUE!"}},{"$f":"B16+8","v":{"$error":"#VALUE!"}},{"$f":"'S17'!$AA83","v":{"$error":"#N/A"}},{"$f":"'S17'!$AA84","v":{"$error":"#N/A"}},{"$f":"'S17'!$AA85","v":{"$error":"#N/A"}},{"$f":"'S17'!$AA86","v":{"$error":"#N/A"}},{"$f":"'S17'!$AA87","v":{"$error":"#N/A"}},{"$f":"'S17'!$AA88","v":{"$error":"#N/A"}},{"$f":"AP!E84","v":5},{"$f":"AP!E86","v":5}]
[1,{"$f":"B17-8","v":{"$error":"#VALUE!"}},{"$f":"B17+8","v":{"$error":"#VALUE!"}},{"$f":"'S17'!$Y83","v":{"$error":"#N/A"}},{"$f":"'S17'!$Y84","v":{"$error":"#N/A"}},{"$f":"'S17'!$Y85","v":{"$error":"#N/A"}},{"$f":"'S17'!$Y86","v":{"$error":"#N/A"}},{"$f":"'S17'!$Y87","v":{"$error":"#N/A"}},{"$f":"'S17'!$Y88","v":{"$error":"#N/A"}},{"$f":"AP!E78","v":5},{"$f":"AP!E80","v":5}]
[0.75,{"$f":"B18-8","v":{"$error":"#VALUE!"}},{"$f":"B18+8","v":{"$error":"#VALUE!"}},{"$f":"'S17'!$W83","v":{"$error":"#N/A"}},{"$f":"'S17'!$W84","v":{"$error":"#N/A"}},{"$f":"'S17'!$W85","v":{"$error":"#N/A"}},{"$f":"'S17'!$W86","v":{"$error":"#N/A"}},{"$f":"'S17'!$W87","v":{"$error":"#N/A"}},{"$f":"'S17'!$W88","v":{"$error":"#N/A"}},{"$f":"AP!E72","v":5},{"$f":"AP!E74","v":5}]
[0.5,{"$f":"B19-8","v":{"$error":"#VALUE!"}},{"$f":"B19+8","v":{"$error":"#VALUE!"}},{"$f":"'S17'!$U83","v":{"$error":"#N/A"}},{"$f":"'S17'!U84","v":{"$error":"#N/A"}},{"$f":"'S17'!U85","v":{"$error":"#N/A"}},{"$f":"'S17'!U86","v":{"$error":"#N/A"}},{"$f":"'S17'!U87","v":{"$error":"#N/A"}},{"$f":"'S17'!U88","v":{"$error":"#N/A"}},{"$f":"AP!E66","v":5},{"$f":"AP!E68","v":5}]
[0.375,{"$f":"B20-7","v":{"$error":"#VALUE!"}},{"$f":"B20+7","v":{"$error":"#VALUE!"}},{"$f":"'S17'!$S83","v":{"$error":"#N/A"}},{"$f":"'S17'!$S84","v":{"$error":"#N/A"}},{"$f":"'S17'!$S85","v":{"$error":"#N/A"}},{"$f":"'S17'!$S86","v":{"$error":"#N/A"}},{"$f":"'S17'!$S87","v":{"$error":"#N/A"}},{"$f":"'S17'!$S88","v":{"$error":"#N/A"}},{"$f":"AP!E60","v":3},{"$f":"AP!E62","v":3}]
["#4",{"$error":"#VALUE!"},{"$error":"#VALUE!"},{"$f":"'S17'!$Q83","v":{"$error":"#N/A"}},{"$f":"'S17'!Q84","v":{"$error":"#N/A"}},{"$f":"'S17'!Q85","v":{"$error":"#N/A"}},{"$f":"'S17'!Q86","v":{"$error":"#N/A"}},{"$f":"'S17'!Q87","v":{"$error":"#N/A"}},{"$f":"'S17'!Q88","v":{"$error":"#N/A"}},{"$f":"AP!E54","v":3},{"$f":"AP!E56","v":3}]
["#8",{"$error":"#VALUE!"},{"$error":"#VALUE!"},{"$f":"'S17'!$O83","v":{"$error":"#N/A"}},{"$f":"'S17'!O84","v":{"$error":"#N/A"}},{"$f":"'S17'!O85","v":{"$error":"#N/A"}},{"$f":"'S17'!O86","v":{"$error":"#N/A"}},{"$f":"'S17'!O87","v":{"$error":"#N/A"}},{"$f":"'S17'!O88","v":{"$error":"#N/A"}},{"$f":"AP!E47","v":3},{"$f":"AP!E49","v":3}]
["#16",{"$error":"#VALUE!"},{"$error":"#VALUE!"},{"$f":"'S17'!$M83","v":{"$error":"#N/A"}},{"$f":"'S17'!$M84","v":{"$error":"#N/A"}},{"$f":"'S17'!$M85","v":{"$error":"#N/A"}},{"$f":"'S17'!$M86","v":{"$error":"#N/A"}},{"$f":"'S17'!$M87","v":{"$error":"#N/A"}},{"$f":"'S17'!$M88","v":{"$error":"#N/A"}},{"$f":"AP!E40","v":3},{"$f":"AP!E42","v":3}]
["#30",{"$error":"#VALUE!"},{"$error":"#VALUE!"},{"$f":"'S17'!$K83","v":{"$error":"#N/A"}},{"$f":"'S17'!$K84","v":{"$error":"#N/A"}},{"$f":"'S17'!$K85","v":{"$error":"#N/A"}},{"$f":"'S17'!$K86","v":{"$error":"#N/A"}},{"$f":"'S17'!$K87","v":{"$error":"#N/A"}},{"$f":"'S17'!$K88","v":{"$error":"#N/A"}},{"$f":"AP!E34","v":3},{"$f":"AP!E36","v":3}]
["#50",{"$error":"#VALUE!"},{"$error":"#VALUE!"},{"$f":"'S17'!$I83","v":{"$error":"#N/A"}},{"$f":"'S17'!$I84","v":{"$error":"#N/A"}},{"$f":"'S17'!$I85","v":{"$error":"#N/A"}},{"$f":"'S17'!$I86","v":{"$error":"#N/A"}},{"$f":"'S17'!$I87","v":{"$error":"#N/A"}},{"$f":"'S17'!$I88","v":{"$error":"#N/A"}},{"$f":"AP!E28","v":3},{"$f":"AP!E30","v":3}]
["#100",{"$error":"#VALUE!"},{"$error":"#VALUE!"},{"$f":"'S17'!$G83","v":{"$error":"#N/A"}},{"$f":"'S17'!$G84","v":{"$error":"#N/A"}},{"$f":"'S17'!$G85","v":{"$error":"#N/A"}},{"$f":"'S17'!$G86","v":{"$error":"#N/A"}},{"$f":"'S17'!$G87","v":{"$error":"#N/A"}},{"$f":"'S17'!$G88","v":{"$error":"#N/A"}},{"$f":"AP!E22","v":3},{"$f":"AP!E24","v":3}]
["#200",{"$f":"B27-4","v":{"$error":"#VALUE!"}},{"$f":"B27+4","v":{"$error":"#VALUE!"}},{"$f":"'S17'!E83","v":{"$error":"#N/A"}},{"$f":"'S17'!E84","v":{"$error":"#N/A"}},{"$f":"'S17'!E85","v":{"$error":"#N/A"}},{"$f":"'S17'!E86","v":{"$error":"#N/A"}},{"$f":"'S17'!E87","v":{"$error":"#N/A"}},{"$f":"'S17'!E88","v":{"$error":"#N/A"}},{"$f":"AP!E15","v":1},{"$f":"AP!E17","v":1}]
["AC",{"$f":"IF(C6<24,B28-0.8,B28-0.9)","v":{"$error":"#VALUE!"}},{"$f":"IF(C6<24,B28+0.8,B28+0.9)","v":{"$error":"#VALUE!"}},{"$f":"ROUND('S17'!C83,1)","v":{"$error":"#N/A"}},{"$f":"ROUND('S17'!C84,1)","v":{"$error":"#N/A"}},{"$f":"ROUND('S17'!C85,1)","v":{"$error":"#N/A"}},{"$f":"ROUND('S17'!C86,1)","v":{"$error":"#N/A"}},{"$f":"ROUND('S17'!C87,1)","v":{"$error":"#N/A"}},{"$f":"ROUND('S17'!C88,1)","v":{"$error":"#N/A"}},{"$f":"AP!E7","v":0.2},{"$f":"AP!E9","v":0.2}]
["Tested By"]
["Remarks",null,{"$f":"IF(AND(T94=3,'S13'!M54=\"Single sample deviation, resample within 150 tons. Document corrective action\"),\"Deviation on 150 ton sample, suspend production of JMF\",IF(AND(T88=2,'S13'!M54=\"Multiple sample deviation, resample within 150 tons. Document corrective action\"),\"Deviation on 150 ton sample, suspend production of JMF\",IF(AND(T88=2,'S13'!M54=\"Single sample deviation, resample within 150 tons. Document corrective action\"),\"Deviation on 150 ton sample, suspend production of JMF\",IF(T94=3,\"Single sample deviation, resample within 150 tons. Document corrective action\",IF(T88=2,\"Multiple sample deviation, resample within 150 tons. Document corrective action\",IF(T71=1,\"Action area, document corrective action\",\" \"))))))","v":{"$error":"#N/A"}},null,{"$f":"IF(AND(U94=3,C54=\"Single sample deviation, resample within 150 tons. Document corrective action\"),\"Deviation on 150 ton sample, suspend production of JMF\",IF(AND(U88=2,C54=\"Multiple sample deviation, resample within 150 tons. Document corrective action\"),\"Deviation on 150 ton sample, suspend production of JMF\",IF(AND(U88=2,C54=\"Single sample deviation, resample within 150 tons. Document corrective action\"),\"Deviation on 150 ton sample, suspend production of JMF\",IF(U94=3,\"Single sample deviation, resample within 150 tons. Document corrective action\",IF(U88=2,\"Multiple sample deviation, resample within 150 tons. Document corrective action\",IF(U71=1,\"Action area, document corrective action\",\" \"))))))","v":{"$error":"#N/A"}},null,{"$f":"IF(AND(V94=3,E54=\"Single sample deviation, resample within 150 tons. Document corrective action\"),\"Deviation on 150 ton sample, suspend production of JMF\",IF(AND(V88=2,E54=\"Multiple sample deviation, resample within 150 tons. Document corrective action\"),\"Deviation on 150 ton sample, suspend production of JMF\",IF(AND(V88=2,E54=\"Single sample deviation, resample within 150 tons. Document corrective action\"),\"Deviation on 150 ton sample, suspend production of JMF\",IF(V94=3,\"Single sample deviation, resample within 150 tons. Document corrective action\",IF(V88=2,\"Multiple sample deviation, resample within 150 tons. Document corrective action\",IF(V71=1,\"Action area, document corrective action\",\" \"))))))","v":{"$error":"#N/A"}},null,{"$f":"IF(AND(W94=3,G54=\"Single sample deviation, resample within 150 tons. Document corrective action\"),\"Deviation on 150 ton sample, suspend production of JMF\",IF(AND(W88=2,G54=\"Multiple sample deviation, resample within 150 tons. Document corrective action\"),\"Deviation on 150 ton sample, suspend production of JMF\",IF(AND(W88=2,G54=\"Single sample deviation, resample within 150 tons. Document corrective action\"),\"Deviation on 150 ton sample, suspend production of JMF\",IF(W94=3,\"Single sample deviation, resample within 150 tons. Document corrective action\",IF(W88=2,\"Multiple sample deviation, resample within 150 tons. Document corrective action\",IF(W71=1,\"Action area, document corrective action\",\" \"))))))","v":{"$error":"#N/A"}},null,{"$f":"IF(AND(X94=3,I54=\"Single sample deviation, resample within 150 tons. Document corrective action\"),\"Deviation on 150 ton sample, suspend production of JMF\",IF(AND(X88=2,I54=\"Multiple sample deviation, resample within 150 tons. Document corrective action\"),\"Deviation on 150 ton sample, suspend production of JMF\",IF(AND(X88=2,I54=\"Single sample deviation, resample within 150 tons. Document corrective action\"),\"Deviation on 150 ton sample, suspend production of JMF\",IF(X94=3,\"Single sample deviation, resample within 150 tons. Document corrective action\",IF(X88=2,\"Multiple sample deviation, resample within 150 tons. Document corrective action\",IF(X71=1,\"Action area, document corrective action\",\" \"))))))","v":{"$error":"#N/A"}},null,{"$f":"IF(AND(Y94=3,K54=\"Single sample deviation, resample within 150 tons. Document corrective action\"),\"Deviation on 150 ton sample, suspend production of JMF\",IF(AND(Y88=2,K54=\"Multiple sample deviation, resample within 150 tons. Document corrective action\"),\"Deviation on 150 ton sample, suspend production of JMF\",IF(AND(Y88=2,K54=\"Single sample deviation, resample within 150 tons. Document corrective action\"),\"Deviation on 150 ton sample, suspend production of JMF\",IF(Y94=3,\"Single sample deviation, resample within 150 tons. Document corrective action\",IF(Y88=2,\"Multiple sample deviation, resample within 150 tons. Document corrective action\",IF(Y71=1,\"Action area, document corrective action\",\" \"))))))","v":{"$error":"#N/A"}}]
[]
[null,null,null,null,null,null,null,null,null,null,null,null,null,null,null,null,null,null,"Action points flags"]
[null,null,null,null,null,null,null,null,null,null,null,null,null,null,null,null,null,2,{"$f":"$B$15","v":" "},{"$f":"IF(ISBLANK(C15),0,IF(OR(D39>=$S57+$J39,D39<=$S57-$K39),1,0))","v":0},{"$f":"IF(ISBLANK(E15),0,IF(OR(E39>=$S57+$J39,E39<=$S57-$K39),1,0))","v":0},{"$f":"IF(ISBLANK(G15),0,IF(OR(F39>=$S57+$J39,F39<=$S57-$K39),1,0))","v":0},{"$f":"IF(ISBLANK(I15),0,IF(OR(G39>=$S57+$J39,G39<=$S57-$K39),1,0))","v":0},{"$f":"IF(ISBLANK(K15),0,IF(OR(H39>=$S57+$J39,H39<=$S57-$K39),1,0))","v":0},{"$f":"IF(ISBLANK(M15),0,IF(OR(I39>=$S57+$J39,I39<=$S57-$K39),1,0))","v":0}]
[null,null,null,null,null,null,null,null,null,null,null,null,null,null,null,null,null,1.5,{"$f":"$B$16","v":" "},{"$f":"IF(ISBLANK(C16),0,IF(OR(D40>=$S58+$J40,D40<=$S58-$K40),1,0))","v":0},{"$f":"IF(ISBLANK(E16),0,IF(OR(E40>=$S58+$J40,E40<=$S58-$K40),1,0))","v":0},{"$f":"IF(ISBLANK(G16),0,IF(OR(F40>=$S58+$J40,F40<=$S58-$K40),1,0))","v":0},{"$f":"IF(ISBLANK(I16),0,IF(OR(G40>=$S58+$J40,G40<=$S58-$K40),1,0))","v":0},{"$f":"IF(ISBLANK(K16),0,IF(OR(H40>=$S58+$J40,H40<=$S58-$K40),1,0))","v":0},{"$f":"IF(ISBLANK(M16),0,IF(OR(I40>=$S58+$J40,I40<=$S58-$K40),1,0))","v":0}]
[null,null,null,null,null,null,null,null,null,null,null,null,null,null,null,null,null,1,{"$f":"$B$17","v":" "},{"$f":"IF(ISBLANK(C17),0,IF(OR(D41>=$S59+$J41,D41<=$S59-$K41),1,0))","v":0},{"$f":"IF(ISBLANK(E17),0,IF(OR(E41>=$S59+$J41,E41<=$S59-$K41),1,0))","v":0},{"$f":"IF(ISBLANK(G17),0,IF(OR(F41>=$S59+$J41,F41<=$S59-$K41),1,0))","v":0},{"$f":"IF(ISBLANK(I17),0,IF(OR(G41>=$S59+$J41,G41<=$S59-$K41),1,0))","v":0},{"$f":"IF(ISBLANK(K17),0,IF(OR(H41>=$S59+$J41,H41<=$S59-$K41),1,0))","v":0},{"$f":"IF(ISBLANK(M17),0,IF(OR(I41>=$S59+$J41,I41<=$S59-$K41),1,0))","v":0}]
[null,null,null,null,null,null,null,null,null,null,null,null,null,null,null,null,null,0.75,{"$f":"$B$18","v":" "},{"$f":"IF(ISBLANK(C18),0,IF(OR(D42>=$S60+$J42,D42<=$S60-$K42),1,0))","v":0},{"$f":"IF(ISBLANK(E18),0,IF(OR(E42>=$S60+$J42,E42<=$S60-$K42),1,0))","v":0},{"$f":"IF(ISBLANK(G18),0,IF(OR(F42>=$S60+$J42,F42<=$S60-$K42),1,0))","v":0},{"$f":"IF(ISBLANK(I18),0,IF(OR(G42>=$S60+$J42,G42<=$S60-$K42),1,0))","v":0},{"$f":"IF(ISBLANK(K18),0,IF(OR(H42>=$S60+$J42,H42<=$S60-$K42),1,0))","v":0},{"$f":"IF(ISBLANK(M18),0,IF(OR(I42>=$S60+$J42,I42<=$S60-$K42),1,0))","v":0}]
[null,null,null,null,null,null,null,null,null,null,null,null,null,null,null,null,null,0.5,{"$f":"$B$19","v":" "},{"$f":"IF(ISBLANK(C19),0,IF(OR(D43>=$S61+$J43,D43<=$S61-$K43),1,0))","v":0},{"$f":"IF(ISBLANK(E19),0,IF(OR(E43>=$S61+$J43,E43<=$S61-$K43),1,0))","v":0},{"$f":"IF(ISBLANK(G19),0,IF(OR(F43>=$S61+$J43,F43<=$S61-$K43),1,0))","v":0},{"$f":"IF(ISBLANK(I19),0,IF(OR(G43>=$S61+$J43,G43<=$S61-$K43),1,0))","v":0},{"$f":"IF(ISBLANK(K19),0,IF(OR(H43>=$S61+$J43,H43<=$S61-$K43),1,0))","v":0},{"$f":"IF(ISBLANK(M19),0,IF(OR(I43>=$S61+$J43,I43<=$S61-$K43),1,0))","v":0}]
[null,null,null,null,null,null,null,null,null,null,null,null,null,null,null,null,null,0.375,{"$f":"$B$20","v":" "},{"$f":"IF(OR(D44>=$S62+$J44,D44<=$S62-$K44),1,0)","v":{"$error":"#N/A"}},{"$error":"#N/A"},{"$error":"#N/A"},{"$error":"#N/A"},{"$error":"#N/A"},{"$error":"#N/A"}]
[null,null,null,null,null,null,null,null,null,null,null,null,null,null,null,null,null,4,{"$f":"$B$21","v":" "},{"$error":"#N/A"},{"$error":"#N/A"},{"$error":"#N/A"},{"$error":"#N/A"},{"$error":"#N/A"},{"$error":"#N/A"}]
[null,null,null,null,null,null,null,null,null,null,null,null,null,null,null,null,null,8,{"$f":"$B$22","v":" "},{"$error":"#N/A"},{"$error":"#N/A"},{"$error":"#N/A"},{"$error":"#N/A"},{"$error":"#N/A"},{"$error":"#N/A"}]
[null,null,null,null,null,null,null,null,null,null,null,null,null,null,null,null,null,16,{"$f":"$B$23","v":" "},{"$error":"#N/A"},{"$error":"#N/A"},{"$error":"#N/A"},{"$error":"#N/A"},{"$error":"#N/A"},{"$error":"#N/A"}]
[null,null,null,null,null,null,null,null,null,null,null,null,null,null,null,null,null,30,{"$f":"$B$24","v":" "},{"$error":"#N/A"},{"$error":"#N/A"},{"$error":"#N/A"},{"$error":"#N/A"},{"$error":"#N/A"},{"$error":"#N/A"}]
[null,null,null,null,null,null,null,null,null,null,null,null,null,null,null,null,null,50,{"$f":"$B$25","v":" "},{"$error":"#N/A"},{"$error":"#N/A"},{"$error":"#N/A"},{"$error":"#N/A"},{"$error":"#N/A"},{"$error":"#N/A"}]
[null,null,null,null,null,null,null,null,null,null,null,null,null,null,null,null,null,100,{"$f":"$B$26","v":" "},{"$error":"#N/A"},{"$error":"#N/A"},{"$error":"#N/A"},{"$error":"#N/A"},{"$error":"#N/A"},{"$error":"#N/A"}]
[null,null,null,null,null,null,null,null,null,null,null,null,null,null,null,null,null,200,{"$f":"$B$27","v":" "},{"$error":"#N/A"},{"$error":"#N/A"},{"$error":"#N/A"},{"$error":"#N/A"},{"$error":"#N/A"},{"$error":"#N/A"}]
[null,null,null,null,null,null,null,null,null,null,null,null,null,null,null,null,null,"%AC",{"$f":"$B$28","v":" "},{"$error":"#N/A"},{"$error":"#N/A"},{"$error":"#N/A"},{"$error":"#N/A"},{"$error":"#N/A"},{"$error":"#N/A"}]
[null,null,{"$f":"MAX(C15:C23)","v":0},null,{"$f":"MAX(E15:E23)","v":0},null,{"$f":"MAX(G15:G23)","v":0},null,{"$f":"MAX(I15:I23)","v":0},null,{"$f":"MAX(K15:K23)","v":0},null,{"$f":"MAX(M15:M23)","v":0},null,null,null,null,null,"Max",{"$f":"MAX(T56:T70)","v":{"$error":"#N/A"}},{"$error":"#N/A"},{"$error":"#N/A"},{"$error":"#N/A"},{"$error":"#N/A"},{"$error":"#N/A"}]
[]
[null,null,null,null,null,null,null,null,null,null,null,null,null,null,null,null,null,null,"Multiple sample flag"]
[null,null,null,null,null,null,null,null,null,null,null,null,null,null,null,null,null,2,{"$f":"$B$15","v":" "},{"$f":"IF(ISBLANK(C15),0,IF(OR(D39>$S74+AP!$E$89,D39<$S74-AP!$E$93),2,0))","v":0},{"$f":"IF(ISBLANK(E15),0,IF(OR(E39>$S74+AP!$E$89,E39<$S74-AP!$E$93),2,0))","v":0},{"$f":"IF(ISBLANK(G15),0,IF(OR(F39>$S74+AP!$E$89,F39<$S74-AP!$E$93),2,0))","v":0},{"$f":"IF(ISBLANK(I15),0,IF(OR(G39>$S74+AP!$E$89,G39<$S74-AP!$E$93),2,0))","v":0},{"$f":"IF(ISBLANK(K15),0,IF(OR(H39>$S74+AP!$E$89,H39<$S74-AP!$E$93),2,0))","v":0},{"$f":"IF(ISBLANK(M15),0,IF(OR(I39>$S74+AP!$E$89,I39<$S74-AP!$E$93),2,0))","v":0}]
[null,null,null,null,null,null,null,null,null,null,null,null,null,null,null,null,null,1.5,{"$f":"$B$16","v":" "},{"$f":"IF(ISBLANK(C16),0,IF(OR(D40>$S75+AP!$E$83,D40<$S75-AP!$E$87),2,0))","v":0},{"$f":"IF(ISBLANK(E16),0,IF(OR(E40>$S75+AP!$E$89,E40<$S75-AP!$E$93),2,0))","v":0},{"$f":"IF(ISBLANK(G16),0,IF(OR(F40>$S75+AP!$E$89,F40<$S75-AP!$E$93),2,0))","v":0},{"$f":"IF(ISBLANK(I16),0,IF(OR(G40>$S75+AP!$E$89,G40<$S75-AP!$E$93),2,0))","v":0},{"$f":"IF(ISBLANK(K16),0,IF(OR(H40>$S75+AP!$E$89,H40<$S75-AP!$E$93),2,0))","v":0},{"$f":"IF(ISBLANK(M16),0,IF(OR(I40>$S75+AP!$E$89,I40<$S75-AP!$E$93),2,0))","v":0}]
[null,null,null,null,null,null,null,null,null,null,null,null,null,null,null,null,null,1,{"$f":"$B$17","v":" "},{"$f":"IF(ISBLANK(C17),0,IF(OR(D41>$S76+AP!$E$83,D41<$S76-AP!$E$87),2,0))","v":0},{"$f":"IF(ISBLANK(E17),0,IF(OR(E41>$S76+AP!$E$89,E41<$S76-AP!$E$93),2,0))","v":0},{"$f":"IF(ISBLANK(G17),0,IF(OR(F41>$S76+AP!$E$89,F41<$S76-AP!$E$93),2,0))","v":0},{"$f":"IF(ISBLANK(I17),0,IF(OR(G41>$S76+AP!$E$89,G41<$S76-AP!$E$93),2,0))","v":0},{"$f":"IF(ISBLANK(K17),0,IF(OR(H41>$S76+AP!$E$89,H41<$S76-AP!$E$93),2,0))","v":0},{"$f":"IF(ISBLANK(M17),0,IF(OR(I41>$S76+AP!$E$89,I41<$S76-AP!$E$93),2,0))","v":0}]
[null,null,null,null,null,null,null,null,null,null,null,null,null,null,null,null,null,0.75,{"$f":"$B$18","v":" "},{"$f":"IF(ISBLANK(C18),0,IF(OR(D42>$S77+AP!$E$83,D42<$S77-AP!$E$87),2,0))","v":0},{"$f":"IF(ISBLANK(E18),0,IF(OR(E42>$S77+AP!$E$89,E42<$S77-AP!$E$93),2,0))","v":0},{"$f":"IF(ISBLANK(G18),0,IF(OR(F42>$S77+AP!$E$89,F42<$S77-AP!$E$93),2,0))","v":0},{"$f":"IF(ISBLANK(I18),0,IF(OR(G42>$S77+AP!$E$89,G42<$S77-AP!$E$93),2,0))","v":0},{"$f":"IF(ISBLANK(K18),0,IF(OR(H42>$S77+AP!$E$89,H42<$S77-AP!$E$93),2,0))","v":0},{"$f":"IF(ISBLANK(M18),0,IF(OR(I42>$S77+AP!$E$89,I42<$S77-AP!$E$93),2,0))","v":0}]
[null,null,null,null,null,null,null,null,null,null,null,null,null,null,null,null,null,0.5,{"$f":"$B$19","v":" "},{"$f":"IF(ISBLANK(C19),0,IF(OR(D43>$S78+AP!$E$83,D43<$S78-AP!$E$87),2,0))","v":0},{"$f":"IF(ISBLANK(E19),0,IF(OR(E43>$S78+AP!$E$89,E43<$S78-AP!$E$93),2,0))","v":0},{"$f":"IF(ISBLANK(G19),0,IF(OR(F43>$S78+AP!$E$89,F43<$S78-AP!$E$93),2,0))","v":0},{"$f":"IF(ISBLANK(I19),0,IF(OR(G43>$S78+AP!$E$89,G43<$S78-AP!$E$93),2,0))","v":0},{"$f":"IF(ISBLANK(K19),0,IF(OR(H43>$S78+AP!$E$89,H43<$S78-AP!$E$93),2,0))","v":0},{"$f":"IF(ISBLANK(M19),0,IF(OR(I43>$S78+AP!$E$89,I43<$S78-AP!$E$93),2,0))","v":0}]
[null,null,null,null,null,null,null,null,null,null,null,null,null,null,null,null,null,0.375,{"$f":"$B$20","v":" "},{"$f":"IF(OR(D44>$S79+AP!$E$59,D44<$S79-AP!$E$63),2,0)","v":{"$error":"#N/A"}},{"$f":"IF(OR(E44>$S79+AP!$E$59,E44<$S79-AP!$E$63),2,0)","v":{"$error":"#N/A"}},{"$f":"IF(OR(F44>$S79+AP!$E$59,F44<$S79-AP!$E$63),2,0)","v":{"$error":"#N/A"}},{"$f":"IF(OR(G44>$S79+AP!$E$59,G44<$S79-AP!$E$63),2,0)","v":{"$error":"#N/A"}},{"$f":"IF(OR(H44>$S79+AP!$E$59,H44<$S79-AP!$E$63),2,0)","v":{"$error":"#N/A"}},{"$f":"IF(OR(I44>$S79+AP!$E$59,I44<$S79-AP!$E$63),2,0)","v":{"$error":"#N/A"}}]
[null,null,null,null,null,null,null,null,null,null,null,null,null,null,null,null,null,4,{"$f":"$B$21","v":" "},{"$f":"IF(OR(D45>$S80+AP!$E$53,D45<$S80-AP!$E$57),2,0)","v":{"$error":"#N/A"}},{"$f":"IF(OR(E45>$S80+AP!$E$53,E45<$S80-AP!$E$57),2,0)","v":{"$error":"#N/A"}},{"$f":"IF(OR(F45>$S80+AP!$E$53,F45<$S80-AP!$E$57),2,0)","v":{"$error":"#N/A"}},{"$f":"IF(OR(G45>$S80+AP!$E$53,G45<$S80-AP!$E$57),2,0)","v":{"$error":"#N/A"}},{"$f":"IF(OR(H45>$S80+AP!$E$53,H45<$S80-AP!$E$57),2,0)","v":{"$error":"#N/A"}},{"$f":"IF(OR(I45>$S80+AP!$E$53,I45<$S80-AP!$E$57),2,0)","v":{"$error":"#N/A"}}]
[null,null,null,null,null,null,null,null,null,null,null,null,null,null,null,null,null,8,{"$f":"$B$22","v":" "},{"$f":"IF(OR(D46>$S81+AP!$E$46,D46<$S81-AP!$E$50),2,0)","v":{"$error":"#N/A"}},{"$f":"IF(OR(E46>$S81+AP!$E$46,E46<$S81-AP!$E$50),2,0)","v":{"$error":"#N/A"}},{"$f":"IF(OR(F46>$S81+AP!$E$46,F46<$S81-AP!$E$50),2,0)","v":{"$error":"#N/A"}},{"$f":"IF(OR(G46>$S81+AP!$E$46,G46<$S81-AP!$E$50),2,0)","v":{"$error":"#N/A"}},{"$f":"IF(OR(H46>$S81+AP!$E$46,H46<$S81-AP!$E$50),2,0)","v":{"$error":"#N/A"}},{"$f":"IF(OR(I46>$S81+AP!$E$46,I46<$S81-AP!$E$50),2,0)","v":{"$error":"#N/A"}}]
[null,null,null,null,null,null,null,null,null,null,null,null,null,null,null,null,null,16,{"$f":"$B$23","v":" "},{"$f":"IF(OR(D47>$S82+AP!$E$39,D47<$S82-AP!$E$43),2,0)","v":{"$error":"#N/A"}},{"$f":"IF(OR(E47>$S82+AP!$E$39,E47<$S82-AP!$E$43),2,0)","v":{"$error":"#N/A"}},{"$f":"IF(OR(F47>$S82+AP!$E$39,F47<$S82-AP!$E$43),2,0)","v":{"$error":"#N/A"}},{"$f":"IF(OR(G47>$S82+AP!$E$39,G47<$S82-AP!$E$43),2,0)","v":{"$error":"#N/A"}},{"$f":"IF(OR(H47>$S82+AP!$E$39,H47<$S82-AP!$E$43),2,0)","v":{"$error":"#N/A"}},{"$f":"IF(OR(I47>$S82+AP!$E$39,I47<$S82-AP!$E$43),2,0)","v":{"$error":"#N/A"}}]
[null,null,null,null,null,null,null,null,null,null,null,null,null,null,null,null,null,30,{"$f":"$B$24","v":" "},{"$f":"IF(OR(D48>$S83+AP!$E$33,D48<$S83-AP!$E$37),2,0)","v":{"$error":"#N/A"}},{"$f":"IF(OR(E48>$S83+AP!$E$33,E48<$S83-AP!$E$37),2,0)","v":{"$error":"#N/A"}},{"$f":"IF(OR(F48>$S83+AP!$E$33,F48<$S83-AP!$E$37),2,0)","v":{"$error":"#N/A"}},{"$f":"IF(OR(G48>$S83+AP!$E$33,G48<$S83-AP!$E$37),2,0)","v":{"$error":"#N/A"}},{"$f":"IF(OR(H48>$S83+AP!$E$33,H48<$S83-AP!$E$37),2,0)","v":{"$error":"#N/A"}},{"$f":"IF(OR(I48>$S83+AP!$E$33,I48<$S83-AP!$E$37),2,0)","v":{"$error":"#N/A"}}]
[null,null,null,null,null,null,null,null,null,null,null,null,null,null,null,null,null,50,{"$f":"$B$25","v":" "},{"$f":"IF(OR(D49>$S84+AP!$E$27,D49<$S84-AP!$E$31),2,0)","v":{"$error":"#N/A"}},{"$f":"IF(OR(E49>$S84+AP!$E$27,E49<$S84-AP!$E$31),2,0)","v":{"$error":"#N/A"}},{"$f":"IF(OR(F49>$S84+AP!$E$27,F49<$S84-AP!$E$31),2,0)","v":{"$error":"#N/A"}},{"$f":"IF(OR(G49>$S84+AP!$E$27,G49<$S84-AP!$E$31),2,0)","v":{"$error":"#N/A"}},{"$f":"IF(OR(H49>$S84+AP!$E$27,H49<$S84-AP!$E$31),2,0)","v":{"$error":"#N/A"}},{"$f":"IF(OR(I49>$S84+AP!$E$27,I49<$S84-AP!$E$31),2,0)","v":{"$error":"#N/A"}}]
[null,null,null,null,null,null,null,null,null,null,null,null,null,null,null,null,null,100,{"$f":"$B$26","v":" "},{"$f":"IF(OR(D50>$S85+AP!$E$21,D50<$S85-AP!$E$25),2,0)","v":{"$error":"#N/A"}},{"$f":"IF(OR(E50>$S85+AP!$E$21,E50<$S85-AP!$E$25),2,0)","v":{"$error":"#N/A"}},{"$f":"IF(OR(F50>$S85+AP!$E$21,F50<$S85-AP!$E$25),2,0)","v":{"$error":"#N/A"}},{"$f":"IF(OR(G50>$S85+AP!$E$21,G50<$S85-AP!$E$25),2,0)","v":{"$error":"#N/A"}},{"$f":"IF(OR(H50>$S85+AP!$E$21,H50<$S85-AP!$E$25),2,0)","v":{"$error":"#N/A"}},{"$f":"IF(OR(I50>$S85+AP!$E$21,I50<$S85-AP!$E$25),2,0)","v":{"$error":"#N/A"}}]
[null,null,null,null,null,null,null,null,null,null,null,null,null,null,null,null,null,200,{"$f":"$B$27","v":" "},{"$f":"IF(OR(D51>$S86+AP!$E$14,D51<$S86-AP!$E$18),2,0)","v":{"$error":"#N/A"}},{"$f":"IF(OR(E51>$S86+AP!$E$14,E51<$S86-AP!$E$18),2,0)","v":{"$error":"#N/A"}},{"$f":"IF(OR(F51>$S86+AP!$E$14,F51<$S86-AP!$E$18),2,0)","v":{"$error":"#N/A"}},{"$f":"IF(OR(G51>$S86+AP!$E$14,G51<$S86-AP!$E$18),2,0)","v":{"$error":"#N/A"}},{"$f":"IF(OR(H51>$S86+AP!$E$14,H51<$S86-AP!$E$18),2,0)","v":{"$error":"#N/A"}},{"$f":"IF(OR(I51>$S86+AP!$E$14,I51<$S86-AP!$E$18),2,0)","v":{"$error":"#N/A"}}]
[null,null,null,null,null,null,null,null,null,null,null,null,null,null,null,null,null,"%AC",{"$f":"$B$28","v":" "},{"$f":"IF(OR(D52>AP!$L$6,D52<AP!$L$10),2,0)","v":{"$error":"#N/A"}},{"$f":"IF(OR(E52>AP!$L$6,E52<AP!$L$10),2,0)","v":{"$error":"#N/A"}},{"$f":"IF(OR(F52>AP!$L$6,F52<AP!$L$10),2,0)","v":{"$error":"#N/A"}},{"$f":"IF(OR(G52>AP!$L$6,G52<AP!$L$10),2,0)","v":{"$error":"#N/A"}},{"$f":"IF(OR(H52>AP!$L$6,H52<AP!$L$10),2,0)","v":{"$error":"#N/A"}},{"$f":"IF(OR(I52>AP!$L$6,I52<AP!$L$10),2,0)","v":{"$error":"#N/A"}}]
[null,null,null,null,null,null,null,null,null,null,null,null,null,null,null,null,null,null,"Max",{"$f":"MAX(T74:T87)","v":{"$error":"#N/A"}},{"$error":"#N/A"},{"$error":"#N/A"},{"$error":"#N/A"},{"$error":"#N/A"},{"$error":"#N/A"}]
[]
[null,null,null,null,null,null,null,null,null,null,null,null,null,null,null,null,null,null,"Single sample flag"]
[null,null,null,null,null,null,null,null,null,null,null,null,null,null,null,null,null,8,{"$f":"$B$22","v":" "},{"$f":"IF(OR($D$22>$S91+AP!$E$45,$D$22<$S91-AP!$E$51),3,0)","v":{"$error":"#VALUE!"}},{"$f":"IF(OR($F$22>$S91+AP!$E$45,$F$22<$S91-AP!$E$51),3,0)","v":{"$error":"#VALUE!"}},{"$f":"IF(OR($H$22>$S91+AP!$E$45,$H$22<$S91-AP!$E$51),3,0)","v":{"$error":"#VALUE!"}},{"$f":"IF(OR($J$22>$S91+AP!$E$45,$J$22<$S91-AP!$E$51),3,0)","v":{"$error":"#VALUE!"}},{"$f":"IF(OR($L$22>$S91+AP!$E$45,$L$22<$S91-AP!$E$51),3,0)","v":{"$error":"#VALUE!"}},{"$f":"IF(OR($N$22>$S91+AP!$E$45,$N$22<$S91-AP!$E$51),3,0)","v":{"$error":"#VALUE!"}}]
[null,null,null,null,null,null,null,null,null,null,null,null,null,null,null,null,null,200,{"$f":"$B$27","v":" "},{"$f":"IF(OR($D$27>$S92+AP!$E$13,$D$27<$S92-AP!$E$19),3,0)","v":{"$error":"#VALUE!"}},{"$f":"IF(OR($F$27>$S92+AP!$E$13,$F$27<$S92-AP!$E$19),3,0)","v":{"$error":"#VALUE!"}},{"$f":"IF(OR($H$27>$S92+AP!$E$13,$H$27<$S92-AP!$E$19),3,0)","v":{"$error":"#VALUE!"}},{"$f":"IF(OR($J$27>$S92+AP!$E$13,$J$27<$S92-AP!$E$19),3,0)","v":{"$error":"#VALUE!"}},{"$f":"IF(OR($L$27>$S92+AP!$E$13,$L$27<$S92-AP!$E$19),3,0)","v":{"$error":"#VALUE!"}},{"$f":"IF(OR($N$27>$S92+AP!$E$13,$N$27<$S92-AP!$E$19),3,0)","v":{"$error":"#VALUE!"}}]
[null,null,null,null,null,null,null,null,null,null,null,null,null,null,null,null,null,"%AC",{"$f":"$B$28","v":" "},{"$f":"IF(OR($C$28>AP!$L$5,$C$28<AP!$L$11),3,0)","v":0},{"$f":"IF(OR($E$28>AP!$L$5,$E$28<AP!$L$11),3,0)","v":0},{"$f":"IF(OR($G$28>AP!$L$5,$G$28<AP!$L$11),3,0)","v":0},{"$f":"IF(OR($I$28>AP!$L$5,$I$28<AP!$L$11),3,0)","v":0},{"$f":"IF(OR($K$28>AP!$L$5,$K$28<AP!$L$11),3,0)","v":0},{"$f":"IF(OR($M$28>AP!$L$5,$M$28<AP!$L$11),3,0)","v":0}]
[null,null,null,null,null,null,null,null,null,null,null,null,null,null,null,null,null,null,"Max",{"$f":"IF(ISBLANK(C27),\" \",MAX(T91:T93))","v":" "},{"$f":"IF(ISBLANK(E27),\" \",MAX(U91:U93))","v":" "},{"$f":"IF(ISBLANK(G27),\" \",MAX(V91:V93))","v":" "},{"$f":"IF(ISBLANK(I27),\" \",MAX(W91:W93))","v":" "},{"$f":"IF(ISBLANK(K27),\" \",MAX(X91:X93))","v":" "},{"$f":"IF(ISBLANK(M27),\" \",MAX(Y91:Y93))","v":" "}]

{"sheet":"S15","index":14,"n_rows":94,"n_cols":25,"rows_kept":94,"cut":false,"hidden":true,"merged":[[52,12,52,13],[52,0,52,1],[52,2,52,3],[52,4,52,5],[52,6,52,7],[52,8,52,9],[52,10,52,11],[37,0,37,2],[37,3,37,8],[37,9,37,10],[29,2,29,3],[29,4,29,5],[29,6,29,7],[29,8,29,9],[29,10,29,11],[29,12,29,13],[29,0,31,0],[30,2,30,3],[30,4,30,5],[30,6,30,7],[30,8,30,9],[30,10,30,11],[30,12,30,13],[31,2,31,3],[31,4,31,5],[31,6,31,7],[31,8,31,9],[31,10,31,11],[31,12,31,13],[12,8,12,9],[12,10,12,11],[28,12,28,13],[12,0,12,1],[12,2,12,3],[12,4,12,5],[12,6,12,7],[12,12,12,13],[27,2,27,3],[27,4,27,5],[27,6,27,7],[27,8,27,9],[28,0,28,1],[27,10,27,11],[28,4,28,5],[28,6,28,7],[28,8,28,9],[28,10,28,11],[27,12,27,13],[28,2,28,3],[9,0,9,1],[9,2,9,3],[9,4,9,5],[10,0,10,1],[10,2,10,3],[11,0,11,1],[11,2,11,3],[9,10,9,11],[9,12,9,13],[11,6,11,7],[11,12,11,13],[11,8,11,9],[11,10,11,11],[10,12,10,13],[10,10,10,11],[8,10,8,11],[8,12,8,13],[8,6,8,7],[10,4,10,5],[10,6,10,7],[10,8,10,9],[9,8,9,9],[9,6,9,7],[11,4,11,5],[53,0,68,1],[53,12,58,13],[53,10,58,11],[53,8,58,9],[53,6,58,7],[53,4,58,5],[53,2,58,3],[1,12,1,13],[2,10,2,11],[2,12,2,13],[5,10,5,11],[5,12,5,13],[5,0,5,1],[5,6,5,7],[0,0,3,1],[1,10,1,11],[8,0,8,1],[8,2,8,3],[6,10,6,11],[6,12,6,13],[7,0,7,2],[7,5,7,8],[8,4,8,5],[8,8,8,9],[59,12,68,13],[59,10,68,11],[59,8,68,9],[59,6,68,7],[59,4,68,5],[59,2,68,3],[55,18,55,24],[72,18,72,24],[89,18,89,24]]}
[]
[null,null,null,null,"COMMONWEALTH OF PENNSYLVANIA",null,null,null,null,null,"DISTRICT",null,{"$f":"IF(ISBLANK('S1'!M2),\" \",('S1'!M2))","v":" "}]
[null,null,null,null,"DEPARTMENT OF TRANSPORTATION",null,null,null,null,null,"PLANT CODE",null,{"$f":"IF(ISBLANK('S1'!M3),\" \",('S1'!M3))","v":" "}]
[null,null,null,null,"LABORATORY TEST SECTION"]
[{"$f":"'S1'!A5","v":"ESB-16"}]
["Material Class ",null,{"$f":"IF(ISBLANK('S1'!C6),\" \",('S1'!C6))","v":9.5},"mm",null,null,"Burnoff Results",null,null,null,"Design No.",null,{"$f":"IF(ISBLANK('S1'!M6),\" \",('S1'!M6))","v":" "}]
[null,null,null,null,null,null,null,null,null,null,"Gyrations @ Ndes",null,{"$f":"IF(ISBLANK('S1'!M7),\" \",'S1'!M7)","v":" "}]
["-200 Correction Factor (+ or -)",null,null,{"$f":"IF(ISBLANK('S1'!D8),\" \",('S1'!D8))","v":" "},null,"Red values indicate action area"]
["Sample No."]
["Date"]
["St. Wt. Before Wash"]
["Dry Wt. After Wash"]
["Wt. Loss",null,{"$f":"IF(ISBLANK(C11),\" \",IF(ISBLANK(C12),\" \",C11-C12))","v":" "},null,{"$f":"IF(ISBLANK(E11),\" \",IF(ISBLANK(E12),\" \",E11-E12))","v":" "},null,{"$f":"IF(ISBLANK(G11),\" \",IF(ISBLANK(G12),\" \",G11-G12))","v":" "},null,{"$f":"IF(ISBLANK(I11),\" \",IF(ISBLANK(I12),\" \",I11-I12))","v":" "},null,{"$f":"IF(ISBLANK(K11),\" \",IF(ISBLANK(K12),\" \",K11-K12))","v":" "},null,{"$f":"IF(ISBLANK(M11),\" \",IF(ISBLANK(M12),\" \",M11-M12))","v":" "}]
["Size","JMF","Weight","%Passing","Weight","%Passing","Weight","%Passing","Weight","%Pasing","Weight","%Pasing","Weight","%Pasing"]
[2,{"$f":"IF(ISBLANK('S1'!B15),\" \",'S1'!B15)","v":" "},null,{"$f":"IF(ISBLANK(C11),\" \",IF(ISBLANK(C12),\" \",IF(ISBLANK(C15),\" \",ROUND((C15+C13)/C11*100,0))))","v":" "},null,{"$f":"IF(ISBLANK(E11),\" \",IF(ISBLANK(E12),\" \",IF(ISBLANK(E15),\" \",ROUND((E15+E13)/E11*100,0))))","v":" "},null,{"$f":"IF(ISBLANK(G11),\" \",IF(ISBLANK(G12),\" \",IF(ISBLANK(G15),\" \",ROUND((G15+G13)/G11*100,0))))","v":" "},null,{"$f":"IF(ISBLANK(I11),\" \",IF(ISBLANK(I12),\" \",IF(ISBLANK(I15),\" \",ROUND((I15+I13)/I11*100,0))))","v":" "},null,{"$f":"IF(ISBLANK(K11),\" \",IF(ISBLANK(K12),\" \",IF(ISBLANK(K15),\" \",ROUND((K15+K13)/K11*100,0))))","v":" "},null,{"$f":"IF(ISBLANK(M11),\" \",IF(ISBLANK(M12),\" \",IF(ISBLANK(M15),\" \",ROUND((M15+M13)/M11*100,0))))","v":" "}]
[1.5,{"$f":"IF(ISBLANK('S1'!B16),\" \",'S1'!B16)","v":" "},null,{"$f":"IF(ISBLANK(C11),\"  \",IF(ISBLANK(C12),\" \",IF(ISBLANK(C16),\" \",ROUND((C16+C13)/C11*100,0))))","v":"  "},null,{"$f":"IF(ISBLANK(E11),\"  \",IF(ISBLANK(E12),\" \",IF(ISBLANK(E16),\" \",ROUND((E16+E13)/E11*100,0))))","v":"  "},null,{"$f":"IF(ISBLANK(G11),\"  \",IF(ISBLANK(G12),\" \",IF(ISBLANK(G16),\" \",ROUND((G16+G13)/G11*100,0))))","v":"  "},null,{"$f":"IF(ISBLANK(I11),\"  \",IF(ISBLANK(I12),\" \",IF(ISBLANK(I16),\" \",ROUND((I16+I13)/I11*100,0))))","v":"  "},null,{"$f":"IF(ISBLANK(K11),\"  \",IF(ISBLANK(K12),\" \",IF(ISBLANK(K16),\" \",ROUND((K16+K13)/K11*100,0))))","v":"  "},null,{"$f":"IF(ISBLANK(M11),\"  \",IF(ISBLANK(M12),\" \",IF(ISBLANK(M16),\" \",ROUND((M16+M13)/M11*100,0))))","v":"  "}]
[1,{"$f":"IF(ISBLANK('S1'!B17),\" \",'S1'!B17)","v":" "},null,{"$f":"IF(ISBLANK(C11),\"  \",IF(ISBLANK(C12),\" \",IF(ISBLANK(C17),\" \",ROUND((C17+C13)/C11*100,0))))","v":"  "},null,{"$f":"IF(ISBLANK(E11),\"  \",IF(ISBLANK(E12),\" \",IF(ISBLANK(E17),\" \",ROUND((E17+E13)/E11*100,0))))","v":"  "},null,{"$f":"IF(ISBLANK(G11),\"  \",IF(ISBLANK(G12),\" \",IF(ISBLANK(G17),\" \",ROUND((G17+G13)/G11*100,0))))","v":"  "},null,{"$f":"IF(ISBLANK(I11),\"  \",IF(ISBLANK(I12),\" \",IF(ISBLANK(I17),\" \",ROUND((I17+I13)/I11*100,0))))","v":"  "},null,{"$f":"IF(ISBLANK(K11),\"  \",IF(ISBLANK(K12),\" \",IF(ISBLANK(K17),\" \",ROUND((K17+K13)/K11*100,0))))","v":"  "},null,{"$f":"IF(ISBLANK(M11),\"  \",IF(ISBLANK(M12),\" \",IF(ISBLANK(M17),\" \",ROUND((M17+M13)/M11*100,0))))","v":"  "}]
[0.75,{"$f":"IF(ISBLANK('S1'!B18),\" \",'S1'!B18)","v":" "},null,{"$f":"IF(ISBLANK(C11),\"  \",IF(ISBLANK(C12),\" \",IF(ISBLANK(C18),\" \",ROUND((C18+C13)/C11*100,0))))","v":"  "},null,{"$f":"IF(ISBLANK(E11),\"  \",IF(ISBLANK(E12),\" \",IF(ISBLANK(E18),\" \",ROUND((E18+E13)/E11*100,0))))","v":"  "},null,{"$f":"IF(ISBLANK(G11),\"  \",IF(ISBLANK(G12),\" \",IF(ISBLANK(G18),\" \",ROUND((G18+G13)/G11*100,0))))","v":"  "},null,{"$f":"IF(ISBLANK(I11),\"  \",IF(ISBLANK(I12),\" \",IF(ISBLANK(I18),\" \",ROUND((I18+I13)/I11*100,0))))","v":"  "},null,{"$f":"IF(ISBLANK(K11),\"  \",IF(ISBLANK(K12),\" \",IF(ISBLANK(K18),\" \",ROUND((K18+K13)/K11*100,0))))","v":"  "},null,{"$f":"IF(ISBLANK(M11),\"  \",IF(ISBLANK(M12),\" \",IF(ISBLANK(M18),\" \",ROUND((M18+M13)/M11*100,0))))","v":"  "}]
[0.5,{"$f":"IF(ISBLANK('S1'!B19),\" \",'S1'!B19)","v":" "},null,{"$f":"IF(ISBLANK(C11),\"  \",IF(ISBLANK(C12),\" \",IF(ISBLANK(C19),\" \",ROUND((C19+C13)/C11*100,0))))","v":"  "},null,{"$f":"IF(ISBLANK(E11),\"  \",IF(ISBLANK(E12),\" \",IF(ISBLANK(E19),\" \",ROUND((E19+E13)/E11*100,0))))","v":"  "},null,{"$f":"IF(ISBLANK(G11),\"  \",IF(ISBLANK(G12),\" \",IF(ISBLANK(G19),\" \",ROUND((G19+G13)/G11*100,0))))","v":"  "},null,{"$f":"IF(ISBLANK(I11),\"  \",IF(ISBLANK(I12),\" \",IF(ISBLANK(I19),\" \",ROUND((I19+I13)/I11*100,0))))","v":"  "},null,{"$f":"IF(ISBLANK(K11),\"  \",IF(ISBLANK(K12),\" \",IF(ISBLANK(K19),\" \",ROUND((K19+K13)/K11*100,0))))","v":"  "},null,{"$f":"IF(ISBLANK(M11),\"  \",IF(ISBLANK(M12),\" \",IF(ISBLANK(M19),\" \",ROUND((M19+M13)/M11*100,0))))","v":"  "}]
[0.375,{"$f":"IF(ISBLANK('S1'!B20),\" \",'S1'!B20)","v":" "},null,{"$f":"IF(ISBLANK(C11),\"  \",IF(ISBLANK(C12),\" \",IF(ISBLANK(C20),\" \",ROUND((C20+C13)/C11*100,0))))","v":"  "},null,{"$f":"IF(ISBLANK(E11),\"  \",IF(ISBLANK(E12),\" \",IF(ISBLANK(E20),\" \",ROUND((E20+E13)/E11*100,0))))","v":"  "},null,{"$f":"IF(ISBLANK(G11),\"  \",IF(ISBLANK(G12),\" \",IF(ISBLANK(G20),\" \",ROUND((G20+G13)/G11*100,0))))","v":"  "},null,{"$f":"IF(ISBLANK(I11),\"  \",IF(ISBLANK(I12),\" \",IF(ISBLANK(I20),\" \",ROUND((I20+I13)/I11*100,0))))","v":"  "},null,{"$f":"IF(ISBLANK(K11),\"  \",IF(ISBLANK(K12),\" \",IF(ISBLANK(K20),\" \",ROUND((K20+K13)/K11*100,0))))","v":"  "},null,{"$f":"IF(ISBLANK(M11),\"  \",IF(ISBLANK(M12),\" \",IF(ISBLANK(M20),\" \",ROUND((M20+M13)/M11*100,0))))","v":"  "}]
[4,{"$f":"IF(ISBLANK('S1'!B21),\" \",'S1'!B21)","v":" "},null,{"$f":"IF(ISBLANK(C11),\"  \",IF(ISBLANK(C12),\" \",IF(ISBLANK(C21),\" \",ROUND((C21+C13)/C11*100,0))))","v":"  "},null,{"$f":"IF(ISBLANK(E11),\"  \",IF(ISBLANK(E12),\" \",IF(ISBLANK(E21),\" \",ROUND((E21+E13)/E11*100,0))))","v":"  "},null,{"$f":"IF(ISBLANK(G11),\"  \",IF(ISBLANK(G12),\" \",IF(ISBLANK(G21),\" \",ROUND((G21+G13)/G11*100,0))))","v":"  "},null,{"$f":"IF(ISBLANK(I11),\"  \",IF(ISBLANK(I12),\" \",IF(ISBLANK(I21),\" \",ROUND((I21+I13)/I11*100,0))))","v":"  "},null,{"$f":"IF(ISBLANK(K11),\"  \",IF(ISBLANK(K12),\" \",IF(ISBLANK(K21),\" \",ROUND((K21+K13)/K11*100,0))))","v":"  "},null,{"$f":"IF(ISBLANK(M11),\"  \",IF(ISBLANK(M12),\" \",IF(ISBLANK(M21),\" \",ROUND((M21+M13)/M11*100,0))))","v":"  "}]
[8,{"$f":"IF(ISBLANK('S1'!B22),\" \",'S1'!B22)","v":" "},null,{"$f":"IF(ISBLANK(C11),\"  \",IF(ISBLANK(C12),\" \",IF(ISBLANK(C22),\" \",ROUND((C22+C13)/C11*100,0))))","v":"  "},null,{"$f":"IF(ISBLANK(E11),\"  \",IF(ISBLANK(E12),\" \",IF(ISBLANK(E22),\" \",ROUND((E22+E13)/E11*100,0))))","v":"  "},null,{"$f":"IF(ISBLANK(G11),\"  \",IF(ISBLANK(G12),\" \",IF(ISBLANK(G22),\" \",ROUND((G22+G13)/G11*100,0))))","v":"  "},null,{"$f":"IF(ISBLANK(I11),\"  \",IF(ISBLANK(I12),\" \",IF(ISBLANK(I22),\" \",ROUND((I22+I13)/I11*100,0))))","v":"  "},null,{"$f":"IF(ISBLANK(K11),\"  \",IF(ISBLANK(K12),\" \",IF(ISBLANK(K22),\" \",ROUND((K22+K13)/K11*100,0))))","v":"  "},null,{"$f":"IF(ISBLANK(M11),\"  \",IF(ISBLANK(M12),\" \",IF(ISBLANK(M22),\" \",ROUND((M22+M13)/M11*100,0))))","v":"  "}]
[16,{"$f":"IF(ISBLANK('S1'!B23),\" \",'S1'!B23)","v":" "},null,{"$f":"IF(ISBLANK(C11),\"  \",IF(ISBLANK(C12),\" \",IF(ISBLANK(C23),\" \",ROUND((C23+C13)/C11*100,0))))","v":"  "},null,{"$f":"IF(ISBLANK(E11),\"  \",IF(ISBLANK(E12),\" \",IF(ISBLANK(E23),\" \",ROUND((E23+E13)/E11*100,0))))","v":"  "},null,{"$f":"IF(ISBLANK(G11),\"  \",IF(ISBLANK(G12),\" \",IF(ISBLANK(G23),\" \",ROUND((G23+G13)/G11*100,0))))","v":"  "},null,{"$f":"IF(ISBLANK(I11),\"  \",IF(ISBLANK(I12),\" \",IF(ISBLANK(I23),\" \",ROUND((I23+I13)/I11*100,0))))","v":"  "},null,{"$f":"IF(ISBLANK(K11),\"  \",IF(ISBLANK(K12),\" \",IF(ISBLANK(K23),\" \",ROUND((K23+K13)/K11*100,0))))","v":"  "},null,{"$f":"IF(ISBLANK(M11),\"  \",IF(ISBLANK(M12),\" \",IF(ISBLANK(M23),\" \",ROUND((M23+M13)/M11*100,0))))","v":"  "}]
[30,{"$f":"IF(ISBLANK('S1'!B24),\" \",'S1'!B24)","v":" "},null,{"$f":"IF(ISBLANK(C11),\"  \",IF(ISBLANK(C12),\" \",IF(ISBLANK(C24),\" \",ROUND((C24+C13)/C11*100,0))))","v":"  "},null,{"$f":"IF(ISBLANK(E11),\"  \",IF(ISBLANK(E12),\" \",IF(ISBLANK(E24),\" \",ROUND((E24+E13)/E11*100,0))))","v":"  "},null,{"$f":"IF(ISBLANK(G11),\"  \",IF(ISBLANK(G12),\" \",IF(ISBLANK(G24),\" \",ROUND((G24+G13)/G11*100,0))))","v":"  "},null,{"$f":"IF(ISBLANK(I11),\"  \",IF(ISBLANK(I12),\" \",IF(ISBLANK(I24),\" \",ROUND((I24+I13)/I11*100,0))))","v":"  "},null,{"$f":"IF(ISBLANK(K11),\"  \",IF(ISBLANK(K12),\" \",IF(ISBLANK(K24),\" \",ROUND((K24+K13)/K11*100,0))))","v":"  "},null,{"$f":"IF(ISBLANK(M11),\"  \",IF(ISBLANK(M12),\" \",IF(ISBLANK(M24),\" \",ROUND((M24+M13)/M11*100,0))))","v":"  "}]
[50,{"$f":"IF(ISBLANK('S1'!B25),\" \",'S1'!B25)","v":" "},null,{"$f":"IF(ISBLANK(C11),\"  \",IF(ISBLANK(C12),\" \",IF(ISBLANK(C25),\" \",ROUND((C25+C13)/C11*100,0))))","v":"  "},null,{"$f":"IF(ISBLANK(E11),\"  \",IF(ISBLANK(E12),\" \",IF(ISBLANK(E25),\" \",ROUND((E25+E13)/E11*100,0))))","v":"  "},null,{"$f":"IF(ISBLANK(G11),\"  \",IF(ISBLANK(G12),\" \",IF(ISBLANK(G25),\" \",ROUND((G25+G13)/G11*100,0))))","v":"  "},null,{"$f":"IF(ISBLANK(I11),\"  \",IF(ISBLANK(I12),\" \",IF(ISBLANK(I25),\" \",ROUND((I25+I13)/I11*100,0))))","v":"  "},null,{"$f":"IF(ISBLANK(K11),\"  \",IF(ISBLANK(K12),\" \",IF(ISBLANK(K25),\" \",ROUND((K25+K13)/K11*100,0))))","v":"  "},null,{"$f":"IF(ISBLANK(M11),\"  \",IF(ISBLANK(M12),\" \",IF(ISBLANK(M25),\" \",ROUND((M25+M13)/M11*100,0))))","v":"  "}]
[100,{"$f":"IF(ISBLANK('S1'!B26),\" \",'S1'!B26)","v":" "},null,{"$f":"IF(ISBLANK(C11),\"  \",IF(ISBLANK(C12),\" \",IF(ISBLANK(C26),\" \",ROUND((C26+C13)/C11*100,0))))","v":"  "},null,{"$f":"IF(ISBLANK(E11),\"  \",IF(ISBLANK(E12),\" \",IF(ISBLANK(E26),\" \",ROUND((E26+E13)/E11*100,0))))","v":"  "},null,{"$f":"IF(ISBLANK(G11),\"  \",IF(ISBLANK(G12),\" \",IF(ISBLANK(G26),\" \",ROUND((G26+G13)/G11*100,0))))","v":"  "},null,{"$f":"IF(ISBLANK(I11),\"  \",IF(ISBLANK(I12),\" \",IF(ISBLANK(I26),\" \",ROUND((I26+I13)/I11*100,0))))","v":"  "},null,{"$f":"IF(ISBLANK(K11),\"  \",IF(ISBLANK(K12),\" \",IF(ISBLANK(K26),\" \",ROUND((K26+K13)/K11*100,0))))","v":"  "},null,{"$f":"IF(ISBLANK(M11),\"  \",IF(ISBLANK(M12),\" \",IF(ISBLANK(M26),\" \",ROUND((M26+M13)/M11*100,0))))","v":"  "}]
[200,{"$f":"IF(ISBLANK('S1'!B27),\" \",'S1'!B27)","v":" "},null,{"$f":"IF(ISBLANK(C11),\"  \",IF(ISBLANK(C12),\" \",IF(ISBLANK(C27),\" \",ROUND((C27+C13)/C11*100+$D$8,1))))","v":"  "},null,{"$f":"IF(ISBLANK(E11),\"  \",IF(ISBLANK(E12),\" \",IF(ISBLANK(E27),\" \",ROUND((E27+E13)/E11*100+$D$8,1))))","v":"  "},null,{"$f":"IF(ISBLANK(G11),\"  \",IF(ISBLANK(G12),\" \",IF(ISBLANK(G27),\" \",ROUND((G27+G13)/G11*100+$D$8,1))))","v":"  "},null,{"$f":"IF(ISBLANK(I11),\"  \",IF(ISBLANK(I12),\" \",IF(ISBLANK(I27),\" \",ROUND((I27+I13)/I11*100+$D$8,1))))","v":"  "},null,{"$f":"IF(ISBLANK(K11),\"  \",IF(ISBLANK(K12),\" \",IF(ISBLANK(K27),\" \",ROUND((K27+K13)/K11*100+$D$8,1))))","v":"  "},null,{"$f":"IF(ISBLANK(M11),\"  \",IF(ISBLANK(M12),\" \",IF(ISBLANK(M27),\" \",ROUND((M27+M13)/M11*100+$D$8,1))))","v":"  "}]
["%AC",{"$f":"IF(ISBLANK('S1'!B28),\" \",'S1'!B28)","v":" "}]
["Percent Loss / Gain",null,{"$f":"IF(ISBLANK(C12),\"\",IF(ISBLANK(C20),\"\",(C12-C71)/C12*100))","v":""},null,{"$f":"IF(ISBLANK(E12),\"\",IF(ISBLANK(E20),\"\",(E12-E71)/E12*100))","v":""},null,{"$f":"IF(ISBLANK(G12),\"\",IF(ISBLANK(G20),\"\",(G12-G71)/G12*100))","v":""},null,{"$f":"IF(ISBLANK(I12),\"\",IF(ISBLANK(I20),\"\",(I12-I71)/I12*100))","v":""},null,{"$f":"IF(ISBLANK(K12),\"\",IF(ISBLANK(K20),\"\",(K12-K71)/K12*100))","v":""},null,{"$f":"IF(ISBLANK(M12),\"\",IF(ISBLANK(M20),\"\",(M12-M71)/M12*100))","v":""}]
["Apparent Moisture","Orig Wt"]
[null,"Const Wt"]
[null,"% moisture",{"$f":"IF(ISBLANK(C30),\" \",IF(ISBLANK(C31),\" \",((C30-C31)/C31)*100))","v":" "},null,{"$f":"IF(ISBLANK(E30),\" \",IF(ISBLANK(E31),\" \",((E30-E31)/E31)*100))","v":" "},null,{"$f":"IF(ISBLANK(G30),\" \",IF(ISBLANK(G31),\" \",((G30-G31)/G31)*100))","v":" "},null,{"$f":"IF(ISBLANK(I30),\" \",IF(ISBLANK(I31),\" \",((I30-I31)/I31)*100))","v":" "},null,{"$f":"IF(ISBLANK(K30),\" \",IF(ISBLANK(K31),\" \",((K30-K31)/K31)*100))","v":" "},null,{"$f":"IF(ISBLANK(M30),\" \",IF(ISBLANK(M31),\" \",((M30-M31)/M31)*100))","v":" "}]
[]
[]
[]
[]
[]
["Sets up Min and Max for charts",null,null,"Running Avg for Conditional Format",null,null,null,null,null,"AP upper & lower Tolerances"]
[2,{"$f":"B15-8","v":{"$error":"#VALUE!"}},{"$f":"B15+8","v":{"$error":"#VALUE!"}},{"$f":"'S17'!$AC89","v":{"$error":"#N/A"}},{"$f":"'S17'!$AC90","v":{"$error":"#N/A"}},{"$f":"'S17'!$AC91","v":{"$error":"#N/A"}},{"$f":"'S17'!$AC92","v":{"$error":"#N/A"}},{"$f":"'S17'!$AC93","v":{"$error":"#N/A"}},{"$f":"'S17'!$AC94","v":{"$error":"#N/A"}},{"$f":"AP!E90","v":5},{"$f":"AP!E92","v":5}]
[1.5,{"$f":"B16-8","v":{"$error":"#VALUE!"}},{"$f":"B16+8","v":{"$error":"#VALUE!"}},{"$f":"'S17'!$AA89","v":{"$error":"#N/A"}},{"$f":"'S17'!$AA90","v":{"$error":"#N/A"}},{"$f":"'S17'!$AA91","v":{"$error":"#N/A"}},{"$f":"'S17'!$AA92","v":{"$error":"#N/A"}},{"$f":"'S17'!$AA93","v":{"$error":"#N/A"}},{"$f":"'S17'!$AA94","v":{"$error":"#N/A"}},{"$f":"AP!E84","v":5},{"$f":"AP!E86","v":5}]
[1,{"$f":"B17-8","v":{"$error":"#VALUE!"}},{"$f":"B17+8","v":{"$error":"#VALUE!"}},{"$f":"'S17'!$Y89","v":{"$error":"#N/A"}},{"$f":"'S17'!$Y90","v":{"$error":"#N/A"}},{"$f":"'S17'!$Y91","v":{"$error":"#N/A"}},{"$f":"'S17'!$Y92","v":{"$error":"#N/A"}},{"$f":"'S17'!$Y93","v":{"$error":"#N/A"}},{"$f":"'S17'!$Y94","v":{"$error":"#N/A"}},{"$f":"AP!E78","v":5},{"$f":"AP!E80","v":5}]
[0.75,{"$f":"B18-8","v":{"$error":"#VALUE!"}},{"$f":"B18+8","v":{"$error":"#VALUE!"}},{"$f":"'S17'!$W89","v":{"$error":"#N/A"}},{"$f":"'S17'!$W90","v":{"$error":"#N/A"}},{"$f":"'S17'!$W91","v":{"$error":"#N/A"}},{"$f":"'S17'!$W92","v":{"$error":"#N/A"}},{"$f":"'S17'!$W93","v":{"$error":"#N/A"}},{"$f":"'S17'!$W94","v":{"$error":"#N/A"}},{"$f":"AP!E72","v":5},{"$f":"AP!E74","v":5}]
[0.5,{"$f":"B19-8","v":{"$error":"#VALUE!"}},{"$f":"B19+8","v":{"$error":"#VALUE!"}},{"$f":"'S17'!$U89","v":{"$error":"#N/A"}},{"$f":"'S17'!U90","v":{"$error":"#N/A"}},{"$f":"'S17'!U91","v":{"$error":"#N/A"}},{"$f":"'S17'!U92","v":{"$error":"#N/A"}},{"$f":"'S17'!U93","v":{"$error":"#N/A"}},{"$f":"'S17'!U94","v":{"$error":"#N/A"}},{"$f":"AP!E66","v":5},{"$f":"AP!E68","v":5}]
[0.375,{"$f":"B20-7","v":{"$error":"#VALUE!"}},{"$f":"B20+7","v":{"$error":"#VALUE!"}},{"$f":"'S17'!$S89","v":{"$error":"#N/A"}},{"$f":"'S17'!$S90","v":{"$error":"#N/A"}},{"$f":"'S17'!$S91","v":{"$error":"#N/A"}},{"$f":"'S17'!$S92","v":{"$error":"#N/A"}},{"$f":"'S17'!$S93","v":{"$error":"#N/A"}},{"$f":"'S17'!$S94","v":{"$error":"#N/A"}},{"$f":"AP!E60","v":3},{"$f":"AP!E62","v":3}]
["#4",{"$error":"#VALUE!"},{"$error":"#VALUE!"},{"$f":"'S17'!$Q89","v":{"$error":"#N/A"}},{"$f":"'S17'!Q90","v":{"$error":"#N/A"}},{"$f":"'S17'!Q91","v":{"$error":"#N/A"}},{"$f":"'S17'!Q92","v":{"$error":"#N/A"}},{"$f":"'S17'!Q93","v":{"$error":"#N/A"}},{"$f":"'S17'!Q94","v":{"$error":"#N/A"}},{"$f":"AP!E54","v":3},{"$f":"AP!E56","v":3}]
["#8",{"$error":"#VALUE!"},{"$error":"#VALUE!"},{"$f":"'S17'!$O89","v":{"$error":"#N/A"}},{"$f":"'S17'!O90","v":{"$error":"#N/A"}},{"$f":"'S17'!O91","v":{"$error":"#N/A"}},{"$f":"'S17'!O92","v":{"$error":"#N/A"}},{"$f":"'S17'!O93","v":{"$error":"#N/A"}},{"$f":"'S17'!O94","v":{"$error":"#N/A"}},{"$f":"AP!E47","v":3},{"$f":"AP!E49","v":3}]
["#16",{"$error":"#VALUE!"},{"$error":"#VALUE!"},{"$f":"'S17'!$M89","v":{"$error":"#N/A"}},{"$f":"'S17'!$M90","v":{"$error":"#N/A"}},{"$f":"'S17'!$M91","v":{"$error":"#N/A"}},{"$f":"'S17'!$M92","v":{"$error":"#N/A"}},{"$f":"'S17'!$M93","v":{"$error":"#N/A"}},{"$f":"'S17'!$M94","v":{"$error":"#N/A"}},{"$f":"AP!E40","v":3},{"$f":"AP!E42","v":3}]
["#30",{"$error":"#VALUE!"},{"$error":"#VALUE!"},{"$f":"'S17'!$K89","v":{"$error":"#N/A"}},{"$f":"'S17'!$K90","v":{"$error":"#N/A"}},{"$f":"'S17'!$K91","v":{"$error":"#N/A"}},{"$f":"'S17'!$K92","v":{"$error":"#N/A"}},{"$f":"'S17'!$K93","v":{"$error":"#N/A"}},{"$f":"'S17'!$K94","v":{"$error":"#N/A"}},{"$f":"AP!E34","v":3},{"$f":"AP!E36","v":3}]
["#50",{"$error":"#VALUE!"},{"$error":"#VALUE!"},{"$f":"'S17'!$I89","v":{"$error":"#N/A"}},{"$f":"'S17'!$I90","v":{"$error":"#N/A"}},{"$f":"'S17'!$I91","v":{"$error":"#N/A"}},{"$f":"'S17'!$I92","v":{"$error":"#N/A"}},{"$f":"'S17'!$I93","v":{"$error":"#N/A"}},{"$f":"'S17'!$I94","v":{"$error":"#N/A"}},{"$f":"AP!E28","v":3},{"$f":"AP!E30","v":3}]
["#100",{"$error":"#VALUE!"},{"$error":"#VALUE!"},{"$f":"'S17'!$G89","v":{"$error":"#N/A"}},{"$f":"'S17'!$G90","v":{"$error":"#N/A"}},{"$f":"'S17'!$G91","v":{"$error":"#N/A"}},{"$f":"'S17'!$G92","v":{"$error":"#N/A"}},{"$f":"'S17'!$G93","v":{"$error":"#N/A"}},{"$f":"'S17'!$G94","v":{"$error":"#N/A"}},{"$f":"AP!E22","v":3},{"$f":"AP!E24","v":3}]
["#200",{"$f":"B27-4","v":{"$error":"#VALUE!"}},{"$f":"B27+4","v":{"$error":"#VALUE!"}},{"$f":"'S17'!E89","v":{"$error":"#N/A"}},{"$f":"'S17'!E90","v":{"$error":"#N/A"}},{"$f":"'S17'!E91","v":{"$error":"#N/A"}},{"$f":"'S17'!E92","v":{"$error":"#N/A"}},{"$f":"'S17'!E93","v":{"$error":"#N/A"}},{"$f":"'S17'!E94","v":{"$error":"#N/A"}},{"$f":"AP!E15","v":1},{"$f":"AP!E17","v":1}]
["AC",{"$f":"IF(C6<24,B28-0.8,B28-0.9)","v":{"$error":"#VALUE!"}},{"$f":"IF(C6<24,B28+0.8,B28+0.9)","v":{"$error":"#VALUE!"}},{"$f":"ROUND('S17'!C89,1)","v":{"$error":"#N/A"}},{"$f":"ROUND('S17'!C90,1)","v":{"$error":"#N/A"}},{"$f":"ROUND('S17'!C91,1)","v":{"$error":"#N/A"}},{"$f":"ROUND('S17'!C92,1)","v":{"$error":"#N/A"}},{"$f":"ROUND('S17'!C93,1)","v":{"$error":"#N/A"}},{"$f":"ROUND('S17'!C94,1)","v":{"$error":"#N/A"}},{"$f":"AP!E7","v":0.2},{"$f":"AP!E9","v":0.2}]
["Tested By"]
["Remarks",null,{"$f":"IF(AND(T94=3,'S14'!M54=\"Single sample deviation, resample within 150 tons. Document corrective action\"),\"Deviation on 150 ton sample, suspend production of JMF\",IF(AND(T88=2,'S14'!M54=\"Multiple sample deviation, resample within 150 tons. Document corrective action\"),\"Deviation on 150 ton sample, suspend production of JMF\",IF(AND(T88=2,'S14'!M54=\"Single sample deviation, resample within 150 tons. Document corrective action\"),\"Deviation on 150 ton sample, suspend production of JMF\",IF(T94=3,\"Single sample deviation, resample within 150 tons. Document corrective action\",IF(T88=2,\"Multiple sample deviation, resample within 150 tons. Document corrective action\",IF(T71=1,\"Action area, document corrective action\",\" \"))))))","v":{"$error":"#N/A"}},null,{"$f":"IF(AND(U94=3,C54=\"Single sample deviation, resample within 150 tons. Document corrective action\"),\"Deviation on 150 ton sample, suspend production of JMF\",IF(AND(U88=2,C54=\"Multiple sample deviation, resample within 150 tons. Document corrective action\"),\"Deviation on 150 ton sample, suspend production of JMF\",IF(AND(U88=2,C54=\"Single sample deviation, resample within 150 tons. Document corrective action\"),\"Deviation on 150 ton sample, suspend production of JMF\",IF(U94=3,\"Single sample deviation, resample within 150 tons. Document corrective action\",IF(U88=2,\"Multiple sample deviation, resample within 150 tons. Document corrective action\",IF(U71=1,\"Action area, document corrective action\",\" \"))))))","v":{"$error":"#N/A"}},null,{"$f":"IF(AND(V94=3,E54=\"Single sample deviation, resample within 150 tons. Document corrective action\"),\"Deviation on 150 ton sample, suspend production of JMF\",IF(AND(V88=2,E54=\"Multiple sample deviation, resample within 150 tons. Document corrective action\"),\"Deviation on 150 ton sample, suspend production of JMF\",IF(AND(V88=2,E54=\"Single sample deviation, resample within 150 tons. Document corrective action\"),\"Deviation on 150 ton sample, suspend production of JMF\",IF(V94=3,\"Single sample deviation, resample within 150 tons. Document corrective action\",IF(V88=2,\"Multiple sample deviation, resample within 150 tons. Document corrective action\",IF(V71=1,\"Action area, document corrective action\",\" \"))))))","v":{"$error":"#N/A"}},null,{"$f":"IF(AND(W94=3,G54=\"Single sample deviation, resample within 150 tons. Document corrective action\"),\"Deviation on 150 ton sample, suspend production of JMF\",IF(AND(W88=2,G54=\"Multiple sample deviation, resample within 150 tons. Document corrective action\"),\"Deviation on 150 ton sample, suspend production of JMF\",IF(AND(W88=2,G54=\"Single sample deviation, resample within 150 tons. Document corrective action\"),\"Deviation on 150 ton sample, suspend production of JMF\",IF(W94=3,\"Single sample deviation, resample within 150 tons. Document corrective action\",IF(W88=2,\"Multiple sample deviation, resample within 150 tons. Document corrective action\",IF(W71=1,\"Action area, document corrective action\",\" \"))))))","v":{"$error":"#N/A"}},null,{"$f":"IF(AND(X94=3,I54=\"Single sample deviation, resample within 150 tons. Document corrective action\"),\"Deviation on 150 ton sample, suspend production of JMF\",IF(AND(X88=2,I54=\"Multiple sample deviation, resample within 150 tons. Document corrective action\"),\"Deviation on 150 ton sample, suspend production of JMF\",IF(AND(X88=2,I54=\"Single sample deviation, resample within 150 tons. Document corrective action\"),\"Deviation on 150 ton sample, suspend production of JMF\",IF(X94=3,\"Single sample deviation, resample within 150 tons. Document corrective action\",IF(X88=2,\"Multiple sample deviation, resample within 150 tons. Document corrective action\",IF(X71=1,\"Action area, document corrective action\",\" \"))))))","v":{"$error":"#N/A"}},null,{"$f":"IF(AND(Y94=3,K54=\"Single sample deviation, resample within 150 tons. Document corrective action\"),\"Deviation on 150 ton sample, suspend production of JMF\",IF(AND(Y88=2,K54=\"Multiple sample deviation, resample within 150 tons. Document corrective action\"),\"Deviation on 150 ton sample, suspend production of JMF\",IF(AND(Y88=2,K54=\"Single sample deviation, resample within 150 tons. Document corrective action\"),\"Deviation on 150 ton sample, suspend production of JMF\",IF(Y94=3,\"Single sample deviation, resample within 150 tons. Document corrective action\",IF(Y88=2,\"Multiple sample deviation, resample within 150 tons. Document corrective action\",IF(Y71=1,\"Action area, document corrective action\",\" \"))))))","v":{"$error":"#N/A"}}]
[]
[null,null,null,null,null,null,null,null,null,null,null,null,null,null,null,null,null,null,"Action points flags"]
[null,null,null,null,null,null,null,null,null,null,null,null,null,null,null,null,null,2,{"$f":"$B$15","v":" "},{"$f":"IF(ISBLANK(C15),0,IF(OR(D39>=$S57+$J39,D39<=$S57-$K39),1,0))","v":0},{"$f":"IF(ISBLANK(E15),0,IF(OR(E39>=$S57+$J39,E39<=$S57-$K39),1,0))","v":0},{"$f":"IF(ISBLANK(G15),0,IF(OR(F39>=$S57+$J39,F39<=$S57-$K39),1,0))","v":0},{"$f":"IF(ISBLANK(I15),0,IF(OR(G39>=$S57+$J39,G39<=$S57-$K39),1,0))","v":0},{"$f":"IF(ISBLANK(K15),0,IF(OR(H39>=$S57+$J39,H39<=$S57-$K39),1,0))","v":0},{"$f":"IF(ISBLANK(M15),0,IF(OR(I39>=$S57+$J39,I39<=$S57-$K39),1,0))","v":0}]
[null,null,null,null,null,null,null,null,null,null,null,null,null,null,null,null,null,1.5,{"$f":"$B$16","v":" "},{"$f":"IF(ISBLANK(C16),0,IF(OR(D40>=$S58+$J40,D40<=$S58-$K40),1,0))","v":0},{"$f":"IF(ISBLANK(E16),0,IF(OR(E40>=$S58+$J40,E40<=$S58-$K40),1,0))","v":0},{"$f":"IF(ISBLANK(G16),0,IF(OR(F40>=$S58+$J40,F40<=$S58-$K40),1,0))","v":0},{"$f":"IF(ISBLANK(I16),0,IF(OR(G40>=$S58+$J40,G40<=$S58-$K40),1,0))","v":0},{"$f":"IF(ISBLANK(K16),0,IF(OR(H40>=$S58+$J40,H40<=$S58-$K40),1,0))","v":0},{"$f":"IF(ISBLANK(M16),0,IF(OR(I40>=$S58+$J40,I40<=$S58-$K40),1,0))","v":0}]
[null,null,null,null,null,null,null,null,null,null,null,null,null,null,null,null,null,1,{"$f":"$B$17","v":" "},{"$f":"IF(ISBLANK(C17),0,IF(OR(D41>=$S59+$J41,D41<=$S59-$K41),1,0))","v":0},{"$f":"IF(ISBLANK(E17),0,IF(OR(E41>=$S59+$J41,E41<=$S59-$K41),1,0))","v":0},{"$f":"IF(ISBLANK(G17),0,IF(OR(F41>=$S59+$J41,F41<=$S59-$K41),1,0))","v":0},{"$f":"IF(ISBLANK(I17),0,IF(OR(G41>=$S59+$J41,G41<=$S59-$K41),1,0))","v":0},{"$f":"IF(ISBLANK(K17),0,IF(OR(H41>=$S59+$J41,H41<=$S59-$K41),1,0))","v":0},{"$f":"IF(ISBLANK(M17),0,IF(OR(I41>=$S59+$J41,I41<=$S59-$K41),1,0))","v":0}]
[null,null,null,null,null,null,null,null,null,null,null,null,null,null,null,null,null,0.75,{"$f":"$B$18","v":" "},{"$f":"IF(ISBLANK(C18),0,IF(OR(D42>=$S60+$J42,D42<=$S60-$K42),1,0))","v":0},{"$f":"IF(ISBLANK(E18),0,IF(OR(E42>=$S60+$J42,E42<=$S60-$K42),1,0))","v":0},{"$f":"IF(ISBLANK(G18),0,IF(OR(F42>=$S60+$J42,F42<=$S60-$K42),1,0))","v":0},{"$f":"IF(ISBLANK(I18),0,IF(OR(G42>=$S60+$J42,G42<=$S60-$K42),1,0))","v":0},{"$f":"IF(ISBLANK(K18),0,IF(OR(H42>=$S60+$J42,H42<=$S60-$K42),1,0))","v":0},{"$f":"IF(ISBLANK(M18),0,IF(OR(I42>=$S60+$J42,I42<=$S60-$K42),1,0))","v":0}]
[null,null,null,null,null,null,null,null,null,null,null,null,null,null,null,null,null,0.5,{"$f":"$B$19","v":" "},{"$f":"IF(ISBLANK(C19),0,IF(OR(D43>=$S61+$J43,D43<=$S61-$K43),1,0))","v":0},{"$f":"IF(ISBLANK(E19),0,IF(OR(E43>=$S61+$J43,E43<=$S61-$K43),1,0))","v":0},{"$f":"IF(ISBLANK(G19),0,IF(OR(F43>=$S61+$J43,F43<=$S61-$K43),1,0))","v":0},{"$f":"IF(ISBLANK(I19),0,IF(OR(G43>=$S61+$J43,G43<=$S61-$K43),1,0))","v":0},{"$f":"IF(ISBLANK(K19),0,IF(OR(H43>=$S61+$J43,H43<=$S61-$K43),1,0))","v":0},{"$f":"IF(ISBLANK(M19),0,IF(OR(I43>=$S61+$J43,I43<=$S61-$K43),1,0))","v":0}]
[null,null,null,null,null,null,null,null,null,null,null,null,null,null,null,null,null,0.375,{"$f":"$B$20","v":" "},{"$f":"IF(OR(D44>=$S62+$J44,D44<=$S62-$K44),1,0)","v":{"$error":"#N/A"}},{"$error":"#N/A"},{"$error":"#N/A"},{"$error":"#N/A"},{"$error":"#N/A"},{"$error":"#N/A"}]
[null,null,null,null,null,null,null,null,null,null,null,null,null,null,null,null,null,4,{"$f":"$B$21","v":" "},{"$error":"#N/A"},{"$error":"#N/A"},{"$error":"#N/A"},{"$error":"#N/A"},{"$error":"#N/A"},{"$error":"#N/A"}]
[null,null,null,null,null,null,null,null,null,null,null,null,null,null,null,null,null,8,{"$f":"$B$22","v":" "},{"$error":"#N/A"},{"$error":"#N/A"},{"$error":"#N/A"},{"$error":"#N/A"},{"$error":"#N/A"},{"$error":"#N/A"}]
[null,null,null,null,null,null,null,null,null,null,null,null,null,null,null,null,null,16,{"$f":"$B$23","v":" "},{"$error":"#N/A"},{"$error":"#N/A"},{"$error":"#N/A"},{"$error":"#N/A"},{"$error":"#N/A"},{"$error":"#N/A"}]
[null,null,null,null,null,null,null,null,null,null,null,null,null,null,null,null,null,30,{"$f":"$B$24","v":" "},{"$error":"#N/A"},{"$error":"#N/A"},{"$error":"#N/A"},{"$error":"#N/A"},{"$error":"#N/A"},{"$error":"#N/A"}]
[null,null,null,null,null,null,null,null,null,null,null,null,null,null,null,null,null,50,{"$f":"$B$25","v":" "},{"$error":"#N/A"},{"$error":"#N/A"},{"$error":"#N/A"},{"$error":"#N/A"},{"$error":"#N/A"},{"$error":"#N/A"}]
[null,null,null,null,null,null,null,null,null,null,null,null,null,null,null,null,null,100,{"$f":"$B$26","v":" "},{"$error":"#N/A"},{"$error":"#N/A"},{"$error":"#N/A"},{"$error":"#N/A"},{"$error":"#N/A"},{"$error":"#N/A"}]
[null,null,null,null,null,null,null,null,null,null,null,null,null,null,null,null,null,200,{"$f":"$B$27","v":" "},{"$error":"#N/A"},{"$error":"#N/A"},{"$error":"#N/A"},{"$error":"#N/A"},{"$error":"#N/A"},{"$error":"#N/A"}]
[null,null,null,null,null,null,null,null,null,null,null,null,null,null,null,null,null,"%AC",{"$f":"$B$28","v":" "},{"$error":"#N/A"},{"$error":"#N/A"},{"$error":"#N/A"},{"$error":"#N/A"},{"$error":"#N/A"},{"$error":"#N/A"}]
[null,null,{"$f":"MAX(C15:C23)","v":0},null,{"$f":"MAX(E15:E23)","v":0},null,{"$f":"MAX(G15:G23)","v":0},null,{"$f":"MAX(I15:I23)","v":0},null,{"$f":"MAX(K15:K23)","v":0},null,{"$f":"MAX(M15:M23)","v":0},null,null,null,null,null,"Max",{"$f":"MAX(T56:T70)","v":{"$error":"#N/A"}},{"$error":"#N/A"},{"$error":"#N/A"},{"$error":"#N/A"},{"$error":"#N/A"},{"$error":"#N/A"}]
[]
[null,null,null,null,null,null,null,null,null,null,null,null,null,null,null,null,null,null,"Multiple sample flag"]
[null,null,null,null,null,null,null,null,null,null,null,null,null,null,null,null,null,2,{"$f":"$B$15","v":" "},{"$f":"IF(ISBLANK(C15),0,IF(OR(D39>$S74+AP!$E$89,D39<$S74-AP!$E$93),2,0))","v":0},{"$f":"IF(ISBLANK(E15),0,IF(OR(E39>$S74+AP!$E$89,E39<$S74-AP!$E$93),2,0))","v":0},{"$f":"IF(ISBLANK(G15),0,IF(OR(F39>$S74+AP!$E$89,F39<$S74-AP!$E$93),2,0))","v":0},{"$f":"IF(ISBLANK(I15),0,IF(OR(G39>$S74+AP!$E$89,G39<$S74-AP!$E$93),2,0))","v":0},{"$f":"IF(ISBLANK(K15),0,IF(OR(H39>$S74+AP!$E$89,H39<$S74-AP!$E$93),2,0))","v":0},{"$f":"IF(ISBLANK(M15),0,IF(OR(I39>$S74+AP!$E$89,I39<$S74-AP!$E$93),2,0))","v":0}]
[null,null,null,null,null,null,null,null,null,null,null,null,null,null,null,null,null,1.5,{"$f":"$B$16","v":" "},{"$f":"IF(ISBLANK(C16),0,IF(OR(D40>$S75+AP!$E$83,D40<$S75-AP!$E$87),2,0))","v":0},{"$f":"IF(ISBLANK(E16),0,IF(OR(E40>$S75+AP!$E$89,E40<$S75-AP!$E$93),2,0))","v":0},{"$f":"IF(ISBLANK(G16),0,IF(OR(F40>$S75+AP!$E$89,F40<$S75-AP!$E$93),2,0))","v":0},{"$f":"IF(ISBLANK(I16),0,IF(OR(G40>$S75+AP!$E$89,G40<$S75-AP!$E$93),2,0))","v":0},{"$f":"IF(ISBLANK(K16),0,IF(OR(H40>$S75+AP!$E$89,H40<$S75-AP!$E$93),2,0))","v":0},{"$f":"IF(ISBLANK(M16),0,IF(OR(I40>$S75+AP!$E$89,I40<$S75-AP!$E$93),2,0))","v":0}]
[null,null,null,null,null,null,null,null,null,null,null,null,null,null,null,null,null,1,{"$f":"$B$17","v":" "},{"$f":"IF(ISBLANK(C17),0,IF(OR(D41>$S76+AP!$E$83,D41<$S76-AP!$E$87),2,0))","v":0},{"$f":"IF(ISBLANK(E17),0,IF(OR(E41>$S76+AP!$E$89,E41<$S76-AP!$E$93),2,0))","v":0},{"$f":"IF(ISBLANK(G17),0,IF(OR(F41>$S76+AP!$E$89,F41<$S76-AP!$E$93),2,0))","v":0},{"$f":"IF(ISBLANK(I17),0,IF(OR(G41>$S76+AP!$E$89,G41<$S76-AP!$E$93),2,0))","v":0},{"$f":"IF(ISBLANK(K17),0,IF(OR(H41>$S76+AP!$E$89,H41<$S76-AP!$E$93),2,0))","v":0},{"$f":"IF(ISBLANK(M17),0,IF(OR(I41>$S76+AP!$E$89,I41<$S76-AP!$E$93),2,0))","v":0}]
[null,null,null,null,null,null,null,null,null,null,null,null,null,null,null,null,null,0.75,{"$f":"$B$18","v":" "},{"$f":"IF(ISBLANK(C18),0,IF(OR(D42>$S77+AP!$E$83,D42<$S77-AP!$E$87),2,0))","v":0},{"$f":"IF(ISBLANK(E18),0,IF(OR(E42>$S77+AP!$E$89,E42<$S77-AP!$E$93),2,0))","v":0},{"$f":"IF(ISBLANK(G18),0,IF(OR(F42>$S77+AP!$E$89,F42<$S77-AP!$E$93),2,0))","v":0},{"$f":"IF(ISBLANK(I18),0,IF(OR(G42>$S77+AP!$E$89,G42<$S77-AP!$E$93),2,0))","v":0},{"$f":"IF(ISBLANK(K18),0,IF(OR(H42>$S77+AP!$E$89,H42<$S77-AP!$E$93),2,0))","v":0},{"$f":"IF(ISBLANK(M18),0,IF(OR(I42>$S77+AP!$E$89,I42<$S77-AP!$E$93),2,0))","v":0}]
[null,null,null,null,null,null,null,null,null,null,null,null,null,null,null,null,null,0.5,{"$f":"$B$19","v":" "},{"$f":"IF(ISBLANK(C19),0,IF(OR(D43>$S78+AP!$E$83,D43<$S78-AP!$E$87),2,0))","v":0},{"$f":"IF(ISBLANK(E19),0,IF(OR(E43>$S78+AP!$E$89,E43<$S78-AP!$E$93),2,0))","v":0},{"$f":"IF(ISBLANK(G19),0,IF(OR(F43>$S78+AP!$E$89,F43<$S78-AP!$E$93),2,0))","v":0},{"$f":"IF(ISBLANK(I19),0,IF(OR(G43>$S78+AP!$E$89,G43<$S78-AP!$E$93),2,0))","v":0},{"$f":"IF(ISBLANK(K19),0,IF(OR(H43>$S78+AP!$E$89,H43<$S78-AP!$E$93),2,0))","v":0},{"$f":"IF(ISBLANK(M19),0,IF(OR(I43>$S78+AP!$E$89,I43<$S78-AP!$E$93),2,0))","v":0}]
[null,null,null,null,null,null,null,null,null,null,null,null,null,null,null,null,null,0.375,{"$f":"$B$20","v":" "},{"$f":"IF(OR(D44>$S79+AP!$E$59,D44<$S79-AP!$E$63),2,0)","v":{"$error":"#N/A"}},{"$f":"IF(OR(E44>$S79+AP!$E$59,E44<$S79-AP!$E$63),2,0)","v":{"$error":"#N/A"}},{"$f":"IF(OR(F44>$S79+AP!$E$59,F44<$S79-AP!$E$63),2,0)","v":{"$error":"#N/A"}},{"$f":"IF(OR(G44>$S79+AP!$E$59,G44<$S79-AP!$E$63),2,0)","v":{"$error":"#N/A"}},{"$f":"IF(OR(H44>$S79+AP!$E$59,H44<$S79-AP!$E$63),2,0)","v":{"$error":"#N/A"}},{"$f":"IF(OR(I44>$S79+AP!$E$59,I44<$S79-AP!$E$63),2,0)","v":{"$error":"#N/A"}}]
[null,null,null,null,null,null,null,null,null,null,null,null,null,null,null,null,null,4,{"$f":"$B$21","v":" "},{"$f":"IF(OR(D45>$S80+AP!$E$53,D45<$S80-AP!$E$57),2,0)","v":{"$error":"#N/A"}},{"$f":"IF(OR(E45>$S80+AP!$E$53,E45<$S80-AP!$E$57),2,0)","v":{"$error":"#N/A"}},{"$f":"IF(OR(F45>$S80+AP!$E$53,F45<$S80-AP!$E$57),2,0)","v":{"$error":"#N/A"}},{"$f":"IF(OR(G45>$S80+AP!$E$53,G45<$S80-AP!$E$57),2,0)","v":{"$error":"#N/A"}},{"$f":"IF(OR(H45>$S80+AP!$E$53,H45<$S80-AP!$E$57),2,0)","v":{"$error":"#N/A"}},{"$f":"IF(OR(I45>$S80+AP!$E$53,I45<$S80-AP!$E$57),2,0)","v":{"$error":"#N/A"}}]
[null,null,null,null,null,null,null,null,null,null,null,null,null,null,null,null,null,8,{"$f":"$B$22","v":" "},{"$f":"IF(OR(D46>$S81+AP!$E$46,D46<$S81-AP!$E$50),2,0)","v":{"$error":"#N/A"}},{"$f":"IF(OR(E46>$S81+AP!$E$46,E46<$S81-AP!$E$50),2,0)","v":{"$error":"#N/A"}},{"$f":"IF(OR(F46>$S81+AP!$E$46,F46<$S81-AP!$E$50),2,0)","v":{"$error":"#N/A"}},{"$f":"IF(OR(G46>$S81+AP!$E$46,G46<$S81-AP!$E$50),2,0)","v":{"$error":"#N/A"}},{"$f":"IF(OR(H46>$S81+AP!$E$46,H46<$S81-AP!$E$50),2,0)","v":{"$error":"#N/A"}},{"$f":"IF(OR(I46>$S81+AP!$E$46,I46<$S81-AP!$E$50),2,0)","v":{"$error":"#N/A"}}]
[null,null,null,null,null,null,null,null,null,null,null,null,null,null,null,null,null,16,{"$f":"$B$23","v":" "},{"$f":"IF(OR(D47>$S82+AP!$E$39,D47<$S82-AP!$E$43),2,0)","v":{"$error":"#N/A"}},{"$f":"IF(OR(E47>$S82+AP!$E$39,E47<$S82-AP!$E$43),2,0)","v":{"$error":"#N/A"}},{"$f":"IF(OR(F47>$S82+AP!$E$39,F47<$S82-AP!$E$43),2,0)","v":{"$error":"#N/A"}},{"$f":"IF(OR(G47>$S82+AP!$E$39,G47<$S82-AP!$E$43),2,0)","v":{"$error":"#N/A"}},{"$f":"IF(OR(H47>$S82+AP!$E$39,H47<$S82-AP!$E$43),2,0)","v":{"$error":"#N/A"}},{"$f":"IF(OR(I47>$S82+AP!$E$39,I47<$S82-AP!$E$43),2,0)","v":{"$error":"#N/A"}}]
[null,null,null,null,null,null,null,null,null,null,null,null,null,null,null,null,null,30,{"$f":"$B$24","v":" "},{"$f":"IF(OR(D48>$S83+AP!$E$33,D48<$S83-AP!$E$37),2,0)","v":{"$error":"#N/A"}},{"$f":"IF(OR(E48>$S83+AP!$E$33,E48<$S83-AP!$E$37),2,0)","v":{"$error":"#N/A"}},{"$f":"IF(OR(F48>$S83+AP!$E$33,F48<$S83-AP!$E$37),2,0)","v":{"$error":"#N/A"}},{"$f":"IF(OR(G48>$S83+AP!$E$33,G48<$S83-AP!$E$37),2,0)","v":{"$error":"#N/A"}},{"$f":"IF(OR(H48>$S83+AP!$E$33,H48<$S83-AP!$E$37),2,0)","v":{"$error":"#N/A"}},{"$f":"IF(OR(I48>$S83+AP!$E$33,I48<$S83-AP!$E$37),2,0)","v":{"$error":"#N/A"}}]
[null,null,null,null,null,null,null,null,null,null,null,null,null,null,null,null,null,50,{"$f":"$B$25","v":" "},{"$f":"IF(OR(D49>$S84+AP!$E$27,D49<$S84-AP!$E$31),2,0)","v":{"$error":"#N/A"}},{"$f":"IF(OR(E49>$S84+AP!$E$27,E49<$S84-AP!$E$31),2,0)","v":{"$error":"#N/A"}},{"$f":"IF(OR(F49>$S84+AP!$E$27,F49<$S84-AP!$E$31),2,0)","v":{"$error":"#N/A"}},{"$f":"IF(OR(G49>$S84+AP!$E$27,G49<$S84-AP!$E$31),2,0)","v":{"$error":"#N/A"}},{"$f":"IF(OR(H49>$S84+AP!$E$27,H49<$S84-AP!$E$31),2,0)","v":{"$error":"#N/A"}},{"$f":"IF(OR(I49>$S84+AP!$E$27,I49<$S84-AP!$E$31),2,0)","v":{"$error":"#N/A"}}]
[null,null,null,null,null,null,null,null,null,null,null,null,null,null,null,null,null,100,{"$f":"$B$26","v":" "},{"$f":"IF(OR(D50>$S85+AP!$E$21,D50<$S85-AP!$E$25),2,0)","v":{"$error":"#N/A"}},{"$f":"IF(OR(E50>$S85+AP!$E$21,E50<$S85-AP!$E$25),2,0)","v":{"$error":"#N/A"}},{"$f":"IF(OR(F50>$S85+AP!$E$21,F50<$S85-AP!$E$25),2,0)","v":{"$error":"#N/A"}},{"$f":"IF(OR(G50>$S85+AP!$E$21,G50<$S85-AP!$E$25),2,0)","v":{"$error":"#N/A"}},{"$f":"IF(OR(H50>$S85+AP!$E$21,H50<$S85-AP!$E$25),2,0)","v":{"$error":"#N/A"}},{"$f":"IF(OR(I50>$S85+AP!$E$21,I50<$S85-AP!$E$25),2,0)","v":{"$error":"#N/A"}}]
[null,null,null,null,null,null,null,null,null,null,null,null,null,null,null,null,null,200,{"$f":"$B$27","v":" "},{"$f":"IF(OR(D51>$S86+AP!$E$14,D51<$S86-AP!$E$18),2,0)","v":{"$error":"#N/A"}},{"$f":"IF(OR(E51>$S86+AP!$E$14,E51<$S86-AP!$E$18),2,0)","v":{"$error":"#N/A"}},{"$f":"IF(OR(F51>$S86+AP!$E$14,F51<$S86-AP!$E$18),2,0)","v":{"$error":"#N/A"}},{"$f":"IF(OR(G51>$S86+AP!$E$14,G51<$S86-AP!$E$18),2,0)","v":{"$error":"#N/A"}},{"$f":"IF(OR(H51>$S86+AP!$E$14,H51<$S86-AP!$E$18),2,0)","v":{"$error":"#N/A"}},{"$f":"IF(OR(I51>$S86+AP!$E$14,I51<$S86-AP!$E$18),2,0)","v":{"$error":"#N/A"}}]
[null,null,null,null,null,null,null,null,null,null,null,null,null,null,null,null,null,"%AC",{"$f":"$B$28","v":" "},{"$f":"IF(OR(D52>AP!$L$6,D52<AP!$L$10),2,0)","v":{"$error":"#N/A"}},{"$f":"IF(OR(E52>AP!$L$6,E52<AP!$L$10),2,0)","v":{"$error":"#N/A"}},{"$f":"IF(OR(F52>AP!$L$6,F52<AP!$L$10),2,0)","v":{"$error":"#N/A"}},{"$f":"IF(OR(G52>AP!$L$6,G52<AP!$L$10),2,0)","v":{"$error":"#N/A"}},{"$f":"IF(OR(H52>AP!$L$6,H52<AP!$L$10),2,0)","v":{"$error":"#N/A"}},{"$f":"IF(OR(I52>AP!$L$6,I52<AP!$L$10),2,0)","v":{"$error":"#N/A"}}]
[null,null,null,null,null,null,null,null,null,null,null,null,null,null,null,null,null,null,"Max",{"$f":"MAX(T74:T87)","v":{"$error":"#N/A"}},{"$error":"#N/A"},{"$error":"#N/A"},{"$error":"#N/A"},{"$error":"#N/A"},{"$error":"#N/A"}]
[]
[null,null,null,null,null,null,null,null,null,null,null,null,null,null,null,null,null,null,"Single sample flag"]
[null,null,null,null,null,null,null,null,null,null,null,null,null,null,null,null,null,8,{"$f":"$B$22","v":" "},{"$f":"IF(OR($D$22>$S91+AP!$E$45,$D$22<$S91-AP!$E$51),3,0)","v":{"$error":"#VALUE!"}},{"$f":"IF(OR($F$22>$S91+AP!$E$45,$F$22<$S91-AP!$E$51),3,0)","v":{"$error":"#VALUE!"}},{"$f":"IF(OR($H$22>$S91+AP!$E$45,$H$22<$S91-AP!$E$51),3,0)","v":{"$error":"#VALUE!"}},{"$f":"IF(OR($J$22>$S91+AP!$E$45,$J$22<$S91-AP!$E$51),3,0)","v":{"$error":"#VALUE!"}},{"$f":"IF(OR($L$22>$S91+AP!$E$45,$L$22<$S91-AP!$E$51),3,0)","v":{"$error":"#VALUE!"}},{"$f":"IF(OR($N$22>$S91+AP!$E$45,$N$22<$S91-AP!$E$51),3,0)","v":{"$error":"#VALUE!"}}]
[null,null,null,null,null,null,null,null,null,null,null,null,null,null,null,null,null,200,{"$f":"$B$27","v":" "},{"$f":"IF(OR($D$27>$S92+AP!$E$13,$D$27<$S92-AP!$E$19),3,0)","v":{"$error":"#VALUE!"}},{"$f":"IF(OR($F$27>$S92+AP!$E$13,$F$27<$S92-AP!$E$19),3,0)","v":{"$error":"#VALUE!"}},{"$f":"IF(OR($H$27>$S92+AP!$E$13,$H$27<$S92-AP!$E$19),3,0)","v":{"$error":"#VALUE!"}},{"$f":"IF(OR($J$27>$S92+AP!$E$13,$J$27<$S92-AP!$E$19),3,0)","v":{"$error":"#VALUE!"}},{"$f":"IF(OR($L$27>$S92+AP!$E$13,$L$27<$S92-AP!$E$19),3,0)","v":{"$error":"#VALUE!"}},{"$f":"IF(OR($N$27>$S92+AP!$E$13,$N$27<$S92-AP!$E$19),3,0)","v":{"$error":"#VALUE!"}}]
[null,null,null,null,null,null,null,null,null,null,null,null,null,null,null,null,null,"%AC",{"$f":"$B$28","v":" "},{"$f":"IF(OR($C$28>AP!$L$5,$C$28<AP!$L$11),3,0)","v":0},{"$f":"IF(OR($E$28>AP!$L$5,$E$28<AP!$L$11),3,0)","v":0},{"$f":"IF(OR($G$28>AP!$L$5,$G$28<AP!$L$11),3,0)","v":0},{"$f":"IF(OR($I$28>AP!$L$5,$I$28<AP!$L$11),3,0)","v":0},{"$f":"IF(OR($K$28>AP!$L$5,$K$28<AP!$L$11),3,0)","v":0},{"$f":"IF(OR($M$28>AP!$L$5,$M$28<AP!$L$11),3,0)","v":0}]
[null,null,null,null,null,null,null,null,null,null,null,null,null,null,null,null,null,null,"Max",{"$f":"IF(ISBLANK(C27),\" \",MAX(T91:T93))","v":" "},{"$f":"IF(ISBLANK(E27),\" \",MAX(U91:U93))","v":" "},{"$f":"IF(ISBLANK(G27),\" \",MAX(V91:V93))","v":" "},{"$f":"IF(ISBLANK(I27),\" \",MAX(W91:W93))","v":" "},{"$f":"IF(ISBLANK(K27),\" \",MAX(X91:X93))","v":" "},{"$f":"IF(ISBLANK(M27),\" \",MAX(Y91:Y93))","v":" "}]

{"sheet":"S16","index":15,"n_rows":94,"n_cols":25,"rows_kept":94,"cut":false,"hidden":true,"merged":[[52,12,52,13],[52,0,52,1],[52,2,52,3],[52,4,52,5],[52,6,52,7],[52,8,52,9],[52,10,52,11],[37,0,37,2],[37,3,37,8],[37,9,37,10],[29,2,29,3],[29,4,29,5],[29,6,29,7],[29,8,29,9],[29,10,29,11],[29,12,29,13],[29,0,31,0],[30,2,30,3],[30,4,30,5],[30,6,30,7],[30,8,30,9],[30,10,30,11],[30,12,30,13],[31,2,31,3],[31,4,31,5],[31,6,31,7],[31,8,31,9],[31,10,31,11],[31,12,31,13],[12,8,12,9],[12,10,12,11],[28,12,28,13],[12,0,12,1],[12,2,12,3],[12,4,12,5],[12,6,12,7],[12,12,12,13],[27,2,27,3],[27,4,27,5],[27,6,27,7],[27,8,27,9],[28,0,28,1],[27,10,27,11],[28,4,28,5],[28,6,28,7],[28,8,28,9],[28,10,28,11],[27,12,27,13],[28,2,28,3],[9,0,9,1],[9,2,9,3],[9,4,9,5],[10,0,10,1],[10,2,10,3],[11,0,11,1],[11,2,11,3],[9,10,9,11],[9,12,9,13],[11,6,11,7],[11,12,11,13],[11,8,11,9],[11,10,11,11],[10,12,10,13],[10,10,10,11],[8,10,8,11],[8,12,8,13],[8,6,8,7],[10,4,10,5],[10,6,10,7],[10,8,10,9],[9,8,9,9],[9,6,9,7],[11,4,11,5],[53,0,68,1],[53,12,58,13],[53,10,58,11],[53,8,58,9],[53,6,58,7],[53,4,58,5],[53,2,58,3],[1,12,1,13],[2,10,2,11],[2,12,2,13],[5,10,5,11],[5,12,5,13],[5,0,5,1],[5,6,5,7],[0,0,3,1],[1,10,1,11],[8,0,8,1],[8,2,8,3],[6,10,6,11],[6,12,6,13],[7,0,7,2],[7,5,7,8],[8,4,8,5],[8,8,8,9],[59,12,68,13],[59,10,68,11],[59,8,68,9],[59,6,68,7],[59,4,68,5],[59,2,68,3],[55,18,55,24],[72,18,72,24],[89,18,89,24]]}
[]
[null,null,null,null,"COMMONWEALTH OF PENNSYLVANIA",null,null,null,null,null,"DISTRICT",null,{"$f":"IF(ISBLANK('S1'!M2),\" \",('S1'!M2))","v":" "}]
[null,null,null,null,"DEPARTMENT OF TRANSPORTATION",null,null,null,null,null,"PLANT CODE",null,{"$f":"IF(ISBLANK('S1'!M3),\" \",('S1'!M3))","v":" "}]
[null,null,null,null,"LABORATORY TEST SECTION"]
[{"$f":"'S1'!A5","v":"ESB-16"}]
["Material Class ",null,{"$f":"IF(ISBLANK('S1'!C6),\" \",('S1'!C6))","v":9.5},"mm",null,null,"Burnoff Results",null,null,null,"Design No.",null,{"$f":"IF(ISBLANK('S1'!M6),\" \",('S1'!M6))","v":" "}]
[null,null,null,null,null,null,null,null,null,null,"Gyrations @ Ndes",null,{"$f":"IF(ISBLANK('S1'!M7),\" \",'S1'!M7)","v":" "}]
["-200 Correction Factor (+ or -)",null,null,{"$f":"IF(ISBLANK('S1'!D8),\" \",('S1'!D8))","v":" "},null,"Red values indicate action area"]
["Sample No."]
["Date"]
["St. Wt. Before Wash"]
["Dry Wt. After Wash"]
["Wt. Loss",null,{"$f":"IF(ISBLANK(C11),\" \",IF(ISBLANK(C12),\" \",C11-C12))","v":" "},null,{"$f":"IF(ISBLANK(E11),\" \",IF(ISBLANK(E12),\" \",E11-E12))","v":" "},null,{"$f":"IF(ISBLANK(G11),\" \",IF(ISBLANK(G12),\" \",G11-G12))","v":" "},null,{"$f":"IF(ISBLANK(I11),\" \",IF(ISBLANK(I12),\" \",I11-I12))","v":" "},null,{"$f":"IF(ISBLANK(K11),\" \",IF(ISBLANK(K12),\" \",K11-K12))","v":" "},null,{"$f":"IF(ISBLANK(M11),\" \",IF(ISBLANK(M12),\" \",M11-M12))","v":" "}]
["Size","JMF","Weight","%Passing","Weight","%Passing","Weight","%Passing","Weight","%Pasing","Weight","%Pasing","Weight","%Pasing"]
[2,{"$f":"IF(ISBLANK('S1'!B15),\" \",'S1'!B15)","v":" "},null,{"$f":"IF(ISBLANK(C11),\" \",IF(ISBLANK(C12),\" \",IF(ISBLANK(C15),\" \",ROUND((C15+C13)/C11*100,0))))","v":" "},null,{"$f":"IF(ISBLANK(E11),\" \",IF(ISBLANK(E12),\" \",IF(ISBLANK(E15),\" \",ROUND((E15+E13)/E11*100,0))))","v":" "},null,{"$f":"IF(ISBLANK(G11),\" \",IF(ISBLANK(G12),\" \",IF(ISBLANK(G15),\" \",ROUND((G15+G13)/G11*100,0))))","v":" "},null,{"$f":"IF(ISBLANK(I11),\" \",IF(ISBLANK(I12),\" \",IF(ISBLANK(I15),\" \",ROUND((I15+I13)/I11*100,0))))","v":" "},null,{"$f":"IF(ISBLANK(K11),\" \",IF(ISBLANK(K12),\" \",IF(ISBLANK(K15),\" \",ROUND((K15+K13)/K11*100,0))))","v":" "},null,{"$f":"IF(ISBLANK(M11),\" \",IF(ISBLANK(M12),\" \",IF(ISBLANK(M15),\" \",ROUND((M15+M13)/M11*100,0))))","v":" "}]
[1.5,{"$f":"IF(ISBLANK('S1'!B16),\" \",'S1'!B16)","v":" "},null,{"$f":"IF(ISBLANK(C11),\"  \",IF(ISBLANK(C12),\" \",IF(ISBLANK(C16),\" \",ROUND((C16+C13)/C11*100,0))))","v":"  "},null,{"$f":"IF(ISBLANK(E11),\"  \",IF(ISBLANK(E12),\" \",IF(ISBLANK(E16),\" \",ROUND((E16+E13)/E11*100,0))))","v":"  "},null,{"$f":"IF(ISBLANK(G11),\"  \",IF(ISBLANK(G12),\" \",IF(ISBLANK(G16),\" \",ROUND((G16+G13)/G11*100,0))))","v":"  "},null,{"$f":"IF(ISBLANK(I11),\"  \",IF(ISBLANK(I12),\" \",IF(ISBLANK(I16),\" \",ROUND((I16+I13)/I11*100,0))))","v":"  "},null,{"$f":"IF(ISBLANK(K11),\"  \",IF(ISBLANK(K12),\" \",IF(ISBLANK(K16),\" \",ROUND((K16+K13)/K11*100,0))))","v":"  "},null,{"$f":"IF(ISBLANK(M11),\"  \",IF(ISBLANK(M12),\" \",IF(ISBLANK(M16),\" \",ROUND((M16+M13)/M11*100,0))))","v":"  "}]
[1,{"$f":"IF(ISBLANK('S1'!B17),\" \",'S1'!B17)","v":" "},null,{"$f":"IF(ISBLANK(C11),\"  \",IF(ISBLANK(C12),\" \",IF(ISBLANK(C17),\" \",ROUND((C17+C13)/C11*100,0))))","v":"  "},null,{"$f":"IF(ISBLANK(E11),\"  \",IF(ISBLANK(E12),\" \",IF(ISBLANK(E17),\" \",ROUND((E17+E13)/E11*100,0))))","v":"  "},null,{"$f":"IF(ISBLANK(G11),\"  \",IF(ISBLANK(G12),\" \",IF(ISBLANK(G17),\" \",ROUND((G17+G13)/G11*100,0))))","v":"  "},null,{"$f":"IF(ISBLANK(I11),\"  \",IF(ISBLANK(I12),\" \",IF(ISBLANK(I17),\" \",ROUND((I17+I13)/I11*100,0))))","v":"  "},null,{"$f":"IF(ISBLANK(K11),\"  \",IF(ISBLANK(K12),\" \",IF(ISBLANK(K17),\" \",ROUND((K17+K13)/K11*100,0))))","v":"  "},null,{"$f":"IF(ISBLANK(M11),\"  \",IF(ISBLANK(M12),\" \",IF(ISBLANK(M17),\" \",ROUND((M17+M13)/M11*100,0))))","v":"  "}]
[0.75,{"$f":"IF(ISBLANK('S1'!B18),\" \",'S1'!B18)","v":" "},null,{"$f":"IF(ISBLANK(C11),\"  \",IF(ISBLANK(C12),\" \",IF(ISBLANK(C18),\" \",ROUND((C18+C13)/C11*100,0))))","v":"  "},null,{"$f":"IF(ISBLANK(E11),\"  \",IF(ISBLANK(E12),\" \",IF(ISBLANK(E18),\" \",ROUND((E18+E13)/E11*100,0))))","v":"  "},null,{"$f":"IF(ISBLANK(G11),\"  \",IF(ISBLANK(G12),\" \",IF(ISBLANK(G18),\" \",ROUND((G18+G13)/G11*100,0))))","v":"  "},null,{"$f":"IF(ISBLANK(I11),\"  \",IF(ISBLANK(I12),\" \",IF(ISBLANK(I18),\" \",ROUND((I18+I13)/I11*100,0))))","v":"  "},null,{"$f":"IF(ISBLANK(K11),\"  \",IF(ISBLANK(K12),\" \",IF(ISBLANK(K18),\" \",ROUND((K18+K13)/K11*100,0))))","v":"  "},null,{"$f":"IF(ISBLANK(M11),\"  \",IF(ISBLANK(M12),\" \",IF(ISBLANK(M18),\" \",ROUND((M18+M13)/M11*100,0))))","v":"  "}]
[0.5,{"$f":"IF(ISBLANK('S1'!B19),\" \",'S1'!B19)","v":" "},null,{"$f":"IF(ISBLANK(C11),\"  \",IF(ISBLANK(C12),\" \",IF(ISBLANK(C19),\" \",ROUND((C19+C13)/C11*100,0))))","v":"  "},null,{"$f":"IF(ISBLANK(E11),\"  \",IF(ISBLANK(E12),\" \",IF(ISBLANK(E19),\" \",ROUND((E19+E13)/E11*100,0))))","v":"  "},null,{"$f":"IF(ISBLANK(G11),\"  \",IF(ISBLANK(G12),\" \",IF(ISBLANK(G19),\" \",ROUND((G19+G13)/G11*100,0))))","v":"  "},null,{"$f":"IF(ISBLANK(I11),\"  \",IF(ISBLANK(I12),\" \",IF(ISBLANK(I19),\" \",ROUND((I19+I13)/I11*100,0))))","v":"  "},null,{"$f":"IF(ISBLANK(K11),\"  \",IF(ISBLANK(K12),\" \",IF(ISBLANK(K19),\" \",ROUND((K19+K13)/K11*100,0))))","v":"  "},null,{"$f":"IF(ISBLANK(M11),\"  \",IF(ISBLANK(M12),\" \",IF(ISBLANK(M19),\" \",ROUND((M19+M13)/M11*100,0))))","v":"  "}]
[0.375,{"$f":"IF(ISBLANK('S1'!B20),\" \",'S1'!B20)","v":" "},null,{"$f":"IF(ISBLANK(C11),\"  \",IF(ISBLANK(C12),\" \",IF(ISBLANK(C20),\" \",ROUND((C20+C13)/C11*100,0))))","v":"  "},null,{"$f":"IF(ISBLANK(E11),\"  \",IF(ISBLANK(E12),\" \",IF(ISBLANK(E20),\" \",ROUND((E20+E13)/E11*100,0))))","v":"  "},null,{"$f":"IF(ISBLANK(G11),\"  \",IF(ISBLANK(G12),\" \",IF(ISBLANK(G20),\" \",ROUND((G20+G13)/G11*100,0))))","v":"  "},null,{"$f":"IF(ISBLANK(I11),\"  \",IF(ISBLANK(I12),\" \",IF(ISBLANK(I20),\" \",ROUND((I20+I13)/I11*100,0))))","v":"  "},null,{"$f":"IF(ISBLANK(K11),\"  \",IF(ISBLANK(K12),\" \",IF(ISBLANK(K20),\" \",ROUND((K20+K13)/K11*100,0))))","v":"  "},null,{"$f":"IF(ISBLANK(M11),\"  \",IF(ISBLANK(M12),\" \",IF(ISBLANK(M20),\" \",ROUND((M20+M13)/M11*100,0))))","v":"  "}]
[4,{"$f":"IF(ISBLANK('S1'!B21),\" \",'S1'!B21)","v":" "},null,{"$f":"IF(ISBLANK(C11),\"  \",IF(ISBLANK(C12),\" \",IF(ISBLANK(C21),\" \",ROUND((C21+C13)/C11*100,0))))","v":"  "},null,{"$f":"IF(ISBLANK(E11),\"  \",IF(ISBLANK(E12),\" \",IF(ISBLANK(E21),\" \",ROUND((E21+E13)/E11*100,0))))","v":"  "},null,{"$f":"IF(ISBLANK(G11),\"  \",IF(ISBLANK(G12),\" \",IF(ISBLANK(G21),\" \",ROUND((G21+G13)/G11*100,0))))","v":"  "},null,{"$f":"IF(ISBLANK(I11),\"  \",IF(ISBLANK(I12),\" \",IF(ISBLANK(I21),\" \",ROUND((I21+I13)/I11*100,0))))","v":"  "},null,{"$f":"IF(ISBLANK(K11),\"  \",IF(ISBLANK(K12),\" \",IF(ISBLANK(K21),\" \",ROUND((K21+K13)/K11*100,0))))","v":"  "},null,{"$f":"IF(ISBLANK(M11),\"  \",IF(ISBLANK(M12),\" \",IF(ISBLANK(M21),\" \",ROUND((M21+M13)/M11*100,0))))","v":"  "}]
[8,{"$f":"IF(ISBLANK('S1'!B22),\" \",'S1'!B22)","v":" "},null,{"$f":"IF(ISBLANK(C11),\"  \",IF(ISBLANK(C12),\" \",IF(ISBLANK(C22),\" \",ROUND((C22+C13)/C11*100,0))))","v":"  "},null,{"$f":"IF(ISBLANK(E11),\"  \",IF(ISBLANK(E12),\" \",IF(ISBLANK(E22),\" \",ROUND((E22+E13)/E11*100,0))))","v":"  "},null,{"$f":"IF(ISBLANK(G11),\"  \",IF(ISBLANK(G12),\" \",IF(ISBLANK(G22),\" \",ROUND((G22+G13)/G11*100,0))))","v":"  "},null,{"$f":"IF(ISBLANK(I11),\"  \",IF(ISBLANK(I12),\" \",IF(ISBLANK(I22),\" \",ROUND((I22+I13)/I11*100,0))))","v":"  "},null,{"$f":"IF(ISBLANK(K11),\"  \",IF(ISBLANK(K12),\" \",IF(ISBLANK(K22),\" \",ROUND((K22+K13)/K11*100,0))))","v":"  "},null,{"$f":"IF(ISBLANK(M11),\"  \",IF(ISBLANK(M12),\" \",IF(ISBLANK(M22),\" \",ROUND((M22+M13)/M11*100,0))))","v":"  "}]
[16,{"$f":"IF(ISBLANK('S1'!B23),\" \",'S1'!B23)","v":" "},null,{"$f":"IF(ISBLANK(C11),\"  \",IF(ISBLANK(C12),\" \",IF(ISBLANK(C23),\" \",ROUND((C23+C13)/C11*100,0))))","v":"  "},null,{"$f":"IF(ISBLANK(E11),\"  \",IF(ISBLANK(E12),\" \",IF(ISBLANK(E23),\" \",ROUND((E23+E13)/E11*100,0))))","v":"  "},null,{"$f":"IF(ISBLANK(G11),\"  \",IF(ISBLANK(G12),\" \",IF(ISBLANK(G23),\" \",ROUND((G23+G13)/G11*100,0))))","v":"  "},null,{"$f":"IF(ISBLANK(I11),\"  \",IF(ISBLANK(I12),\" \",IF(ISBLANK(I23),\" \",ROUND((I23+I13)/I11*100,0))))","v":"  "},null,{"$f":"IF(ISBLANK(K11),\"  \",IF(ISBLANK(K12),\" \",IF(ISBLANK(K23),\" \",ROUND((K23+K13)/K11*100,0))))","v":"  "},null,{"$f":"IF(ISBLANK(M11),\"  \",IF(ISBLANK(M12),\" \",IF(ISBLANK(M23),\" \",ROUND((M23+M13)/M11*100,0))))","v":"  "}]
[30,{"$f":"IF(ISBLANK('S1'!B24),\" \",'S1'!B24)","v":" "},null,{"$f":"IF(ISBLANK(C11),\"  \",IF(ISBLANK(C12),\" \",IF(ISBLANK(C24),\" \",ROUND((C24+C13)/C11*100,0))))","v":"  "},null,{"$f":"IF(ISBLANK(E11),\"  \",IF(ISBLANK(E12),\" \",IF(ISBLANK(E24),\" \",ROUND((E24+E13)/E11*100,0))))","v":"  "},null,{"$f":"IF(ISBLANK(G11),\"  \",IF(ISBLANK(G12),\" \",IF(ISBLANK(G24),\" \",ROUND((G24+G13)/G11*100,0))))","v":"  "},null,{"$f":"IF(ISBLANK(I11),\"  \",IF(ISBLANK(I12),\" \",IF(ISBLANK(I24),\" \",ROUND((I24+I13)/I11*100,0))))","v":"  "},null,{"$f":"IF(ISBLANK(K11),\"  \",IF(ISBLANK(K12),\" \",IF(ISBLANK(K24),\" \",ROUND((K24+K13)/K11*100,0))))","v":"  "},null,{"$f":"IF(ISBLANK(M11),\"  \",IF(ISBLANK(M12),\" \",IF(ISBLANK(M24),\" \",ROUND((M24+M13)/M11*100,0))))","v":"  "}]
[50,{"$f":"IF(ISBLANK('S1'!B25),\" \",'S1'!B25)","v":" "},null,{"$f":"IF(ISBLANK(C11),\"  \",IF(ISBLANK(C12),\" \",IF(ISBLANK(C25),\" \",ROUND((C25+C13)/C11*100,0))))","v":"  "},null,{"$f":"IF(ISBLANK(E11),\"  \",IF(ISBLANK(E12),\" \",IF(ISBLANK(E25),\" \",ROUND((E25+E13)/E11*100,0))))","v":"  "},null,{"$f":"IF(ISBLANK(G11),\"  \",IF(ISBLANK(G12),\" \",IF(ISBLANK(G25),\" \",ROUND((G25+G13)/G11*100,0))))","v":"  "},null,{"$f":"IF(ISBLANK(I11),\"  \",IF(ISBLANK(I12),\" \",IF(ISBLANK(I25),\" \",ROUND((I25+I13)/I11*100,0))))","v":"  "},null,{"$f":"IF(ISBLANK(K11),\"  \",IF(ISBLANK(K12),\" \",IF(ISBLANK(K25),\" \",ROUND((K25+K13)/K11*100,0))))","v":"  "},null,{"$f":"IF(ISBLANK(M11),\"  \",IF(ISBLANK(M12),\" \",IF(ISBLANK(M25),\" \",ROUND((M25+M13)/M11*100,0))))","v":"  "}]
[100,{"$f":"IF(ISBLANK('S1'!B26),\" \",'S1'!B26)","v":" "},null,{"$f":"IF(ISBLANK(C11),\"  \",IF(ISBLANK(C12),\" \",IF(ISBLANK(C26),\" \",ROUND((C26+C13)/C11*100,0))))","v":"  "},null,{"$f":"IF(ISBLANK(E11),\"  \",IF(ISBLANK(E12),\" \",IF(ISBLANK(E26),\" \",ROUND((E26+E13)/E11*100,0))))","v":"  "},null,{"$f":"IF(ISBLANK(G11),\"  \",IF(ISBLANK(G12),\" \",IF(ISBLANK(G26),\" \",ROUND((G26+G13)/G11*100,0))))","v":"  "},null,{"$f":"IF(ISBLANK(I11),\"  \",IF(ISBLANK(I12),\" \",IF(ISBLANK(I26),\" \",ROUND((I26+I13)/I11*100,0))))","v":"  "},null,{"$f":"IF(ISBLANK(K11),\"  \",IF(ISBLANK(K12),\" \",IF(ISBLANK(K26),\" \",ROUND((K26+K13)/K11*100,0))))","v":"  "},null,{"$f":"IF(ISBLANK(M11),\"  \",IF(ISBLANK(M12),\" \",IF(ISBLANK(M26),\" \",ROUND((M26+M13)/M11*100,0))))","v":"  "}]
[200,{"$f":"IF(ISBLANK('S1'!B27),\" \",'S1'!B27)","v":" "},null,{"$f":"IF(ISBLANK(C11),\"  \",IF(ISBLANK(C12),\" \",IF(ISBLANK(C27),\" \",ROUND((C27+C13)/C11*100+$D$8,1))))","v":"  "},null,{"$f":"IF(ISBLANK(E11),\"  \",IF(ISBLANK(E12),\" \",IF(ISBLANK(E27),\" \",ROUND((E27+E13)/E11*100+$D$8,1))))","v":"  "},null,{"$f":"IF(ISBLANK(G11),\"  \",IF(ISBLANK(G12),\" \",IF(ISBLANK(G27),\" \",ROUND((G27+G13)/G11*100+$D$8,1))))","v":"  "},null,{"$f":"IF(ISBLANK(I11),\"  \",IF(ISBLANK(I12),\" \",IF(ISBLANK(I27),\" \",ROUND((I27+I13)/I11*100+$D$8,1))))","v":"  "},null,{"$f":"IF(ISBLANK(K11),\"  \",IF(ISBLANK(K12),\" \",IF(ISBLANK(K27),\" \",ROUND((K27+K13)/K11*100+$D$8,1))))","v":"  "},null,{"$f":"IF(ISBLANK(M11),\"  \",IF(ISBLANK(M12),\" \",IF(ISBLANK(M27),\" \",ROUND((M27+M13)/M11*100+$D$8,1))))","v":"  "}]
["%AC",{"$f":"IF(ISBLANK('S1'!B28),\" \",'S1'!B28)","v":" "}]
["Percent Loss / Gain",null,{"$f":"IF(ISBLANK(C12),\"\",IF(ISBLANK(C20),\"\",(C12-C71)/C12*100))","v":""},null,{"$f":"IF(ISBLANK(E12),\"\",IF(ISBLANK(E20),\"\",(E12-E71)/E12*100))","v":""},null,{"$f":"IF(ISBLANK(G12),\"\",IF(ISBLANK(G20),\"\",(G12-G71)/G12*100))","v":""},null,{"$f":"IF(ISBLANK(I12),\"\",IF(ISBLANK(I20),\"\",(I12-I71)/I12*100))","v":""},null,{"$f":"IF(ISBLANK(K12),\"\",IF(ISBLANK(K20),\"\",(K12-K71)/K12*100))","v":""},null,{"$f":"IF(ISBLANK(M12),\"\",IF(ISBLANK(M20),\"\",(M12-M71)/M12*100))","v":""}]
["Apparent Moisture","Orig Wt"]
[null,"Const Wt"]
[null,"% moisture",{"$f":"IF(ISBLANK(C30),\" \",IF(ISBLANK(C31),\" \",((C30-C31)/C31)*100))","v":" "},null,{"$f":"IF(ISBLANK(E30),\" \",IF(ISBLANK(E31),\" \",((E30-E31)/E31)*100))","v":" "},null,{"$f":"IF(ISBLANK(G30),\" \",IF(ISBLANK(G31),\" \",((G30-G31)/G31)*100))","v":" "},null,{"$f":"IF(ISBLANK(I30),\" \",IF(ISBLANK(I31),\" \",((I30-I31)/I31)*100))","v":" "},null,{"$f":"IF(ISBLANK(K30),\" \",IF(ISBLANK(K31),\" \",((K30-K31)/K31)*100))","v":" "},null,{"$f":"IF(ISBLANK(M30),\" \",IF(ISBLANK(M31),\" \",((M30-M31)/M31)*100))","v":" "}]
[]
[]
[]
[]
[]
["Sets up Min and Max for charts",null,null,"Running Avg for Conditional Format",null,null,null,null,null,"AP upper & lower Tolerances"]
[2,{"$f":"B15-8","v":{"$error":"#VALUE!"}},{"$f":"B15+8","v":{"$error":"#VALUE!"}},{"$f":"'S17'!$AC95","v":{"$error":"#N/A"}},{"$f":"'S17'!$AC96","v":{"$error":"#N/A"}},{"$f":"'S17'!$AC97","v":{"$error":"#N/A"}},{"$f":"'S17'!$AC98","v":{"$error":"#N/A"}},{"$f":"'S17'!$AC99","v":{"$error":"#N/A"}},{"$f":"'S17'!$AC100","v":{"$error":"#N/A"}},{"$f":"AP!E90","v":5},{"$f":"AP!E92","v":5}]
[1.5,{"$f":"B16-8","v":{"$error":"#VALUE!"}},{"$f":"B16+8","v":{"$error":"#VALUE!"}},{"$f":"'S17'!$AA95","v":{"$error":"#N/A"}},{"$f":"'S17'!$AA96","v":{"$error":"#N/A"}},{"$f":"'S17'!$AA97","v":{"$error":"#N/A"}},{"$f":"'S17'!$AA98","v":{"$error":"#N/A"}},{"$f":"'S17'!$AA99","v":{"$error":"#N/A"}},{"$f":"'S17'!$AA100","v":{"$error":"#N/A"}},{"$f":"AP!E84","v":5},{"$f":"AP!E86","v":5}]
[1,{"$f":"B17-8","v":{"$error":"#VALUE!"}},{"$f":"B17+8","v":{"$error":"#VALUE!"}},{"$f":"'S17'!$Y95","v":{"$error":"#N/A"}},{"$f":"'S17'!$Y96","v":{"$error":"#N/A"}},{"$f":"'S17'!$Y97","v":{"$error":"#N/A"}},{"$f":"'S17'!$Y98","v":{"$error":"#N/A"}},{"$f":"'S17'!$Y99","v":{"$error":"#N/A"}},{"$f":"'S17'!$Y100","v":{"$error":"#N/A"}},{"$f":"AP!E78","v":5},{"$f":"AP!E80","v":5}]
[0.75,{"$f":"B18-8","v":{"$error":"#VALUE!"}},{"$f":"B18+8","v":{"$error":"#VALUE!"}},{"$f":"'S17'!$W95","v":{"$error":"#N/A"}},{"$f":"'S17'!$W96","v":{"$error":"#N/A"}},{"$f":"'S17'!$W97","v":{"$error":"#N/A"}},{"$f":"'S17'!$W98","v":{"$error":"#N/A"}},{"$f":"'S17'!$W99","v":{"$error":"#N/A"}},{"$f":"'S17'!$W100","v":{"$error":"#N/A"}},{"$f":"AP!E72","v":5},{"$f":"AP!E74","v":5}]
[0.5,{"$f":"B19-8","v":{"$error":"#VALUE!"}},{"$f":"B19+8","v":{"$error":"#VALUE!"}},{"$f":"'S17'!$U95","v":{"$error":"#N/A"}},{"$f":"'S17'!U96","v":{"$error":"#N/A"}},{"$f":"'S17'!U97","v":{"$error":"#N/A"}},{"$f":"'S17'!U98","v":{"$error":"#N/A"}},{"$f":"'S17'!U99","v":{"$error":"#N/A"}},{"$f":"'S17'!U100","v":{"$error":"#N/A"}},{"$f":"AP!E66","v":5},{"$f":"AP!E68","v":5}]
[0.375,{"$f":"B20-7","v":{"$error":"#VALUE!"}},{"$f":"B20+7","v":{"$error":"#VALUE!"}},{"$f":"'S17'!$S95","v":{"$error":"#N/A"}},{"$f":"'S17'!$S96","v":{"$error":"#N/A"}},{"$f":"'S17'!$S97","v":{"$error":"#N/A"}},{"$f":"'S17'!$S98","v":{"$error":"#N/A"}},{"$f":"'S17'!$S99","v":{"$error":"#N/A"}},{"$f":"'S17'!$S100","v":{"$error":"#N/A"}},{"$f":"AP!E60","v":3},{"$f":"AP!E62","v":3}]
["#4",{"$error":"#VALUE!"},{"$error":"#VALUE!"},{"$f":"'S17'!$Q95","v":{"$error":"#N/A"}},{"$f":"'S17'!Q96","v":{"$error":"#N/A"}},{"$f":"'S17'!Q97","v":{"$error":"#N/A"}},{"$f":"'S17'!Q98","v":{"$error":"#N/A"}},{"$f":"'S17'!Q99","v":{"$error":"#N/A"}},{"$f":"'S17'!Q100","v":{"$error":"#N/A"}},{"$f":"AP!E54","v":3},{"$f":"AP!E56","v":3}]
["#8",{"$error":"#VALUE!"},{"$error":"#VALUE!"},{"$f":"'S17'!$O95","v":{"$error":"#N/A"}},{"$f":"'S17'!O96","v":{"$error":"#N/A"}},{"$f":"'S17'!O97","v":{"$error":"#N/A"}},{"$f":"'S17'!O98","v":{"$error":"#N/A"}},{"$f":"'S17'!O99","v":{"$error":"#N/A"}},{"$f":"'S17'!O100","v":{"$error":"#N/A"}},{"$f":"AP!E47","v":3},{"$f":"AP!E49","v":3}]
["#16",{"$error":"#VALUE!"},{"$error":"#VALUE!"},{"$f":"'S17'!$M95","v":{"$error":"#N/A"}},{"$f":"'S17'!$M96","v":{"$error":"#N/A"}},{"$f":"'S17'!$M97","v":{"$error":"#N/A"}},{"$f":"'S17'!$M98","v":{"$error":"#N/A"}},{"$f":"'S17'!$M99","v":{"$error":"#N/A"}},{"$f":"'S17'!$M100","v":{"$error":"#N/A"}},{"$f":"AP!E40","v":3},{"$f":"AP!E42","v":3}]
["#30",{"$error":"#VALUE!"},{"$error":"#VALUE!"},{"$f":"'S17'!$K95","v":{"$error":"#N/A"}},{"$f":"'S17'!$K96","v":{"$error":"#N/A"}},{"$f":"'S17'!$K97","v":{"$error":"#N/A"}},{"$f":"'S17'!$K98","v":{"$error":"#N/A"}},{"$f":"'S17'!$K99","v":{"$error":"#N/A"}},{"$f":"'S17'!$K100","v":{"$error":"#N/A"}},{"$f":"AP!E34","v":3},{"$f":"AP!E36","v":3}]
["#50",{"$error":"#VALUE!"},{"$error":"#VALUE!"},{"$f":"'S17'!$I95","v":{"$error":"#N/A"}},{"$f":"'S17'!$I96","v":{"$error":"#N/A"}},{"$f":"'S17'!$I97","v":{"$error":"#N/A"}},{"$f":"'S17'!$I98","v":{"$error":"#N/A"}},{"$f":"'S17'!$I99","v":{"$error":"#N/A"}},{"$f":"'S17'!$I100","v":{"$error":"#N/A"}},{"$f":"AP!E28","v":3},{"$f":"AP!E30","v":3}]
["#100",{"$error":"#VALUE!"},{"$error":"#VALUE!"},{"$f":"'S17'!$G95","v":{"$error":"#N/A"}},{"$f":"'S17'!$G96","v":{"$error":"#N/A"}},{"$f":"'S17'!$G97","v":{"$error":"#N/A"}},{"$f":"'S17'!$G98","v":{"$error":"#N/A"}},{"$f":"'S17'!$G99","v":{"$error":"#N/A"}},{"$f":"'S17'!$G100","v":{"$error":"#N/A"}},{"$f":"AP!E22","v":3},{"$f":"AP!E24","v":3}]
["#200",{"$f":"B27-4","v":{"$error":"#VALUE!"}},{"$f":"B27+4","v":{"$error":"#VALUE!"}},{"$f":"'S17'!E95","v":{"$error":"#N/A"}},{"$f":"'S17'!E96","v":{"$error":"#N/A"}},{"$f":"'S17'!E97","v":{"$error":"#N/A"}},{"$f":"'S17'!E98","v":{"$error":"#N/A"}},{"$f":"'S17'!E99","v":{"$error":"#N/A"}},{"$f":"'S17'!E100","v":{"$error":"#N/A"}},{"$f":"AP!E15","v":1},{"$f":"AP!E17","v":1}]
["AC",{"$f":"IF(C6<24,B28-0.8,B28-0.9)","v":{"$error":"#VALUE!"}},{"$f":"IF(C6<24,B28+0.8,B28+0.9)","v":{"$error":"#VALUE!"}},{"$f":"ROUND('S17'!C95,1)","v":{"$error":"#N/A"}},{"$f":"ROUND('S17'!C96,1)","v":{"$error":"#N/A"}},{"$f":"ROUND('S17'!C97,1)","v":{"$error":"#N/A"}},{"$f":"ROUND('S17'!C98,1)","v":{"$error":"#N/A"}},{"$f":"ROUND('S17'!C99,1)","v":{"$error":"#N/A"}},{"$f":"ROUND('S17'!C100,1)","v":{"$error":"#N/A"}},{"$f":"AP!E7","v":0.2},{"$f":"AP!E9","v":0.2}]
["Tested By"]
["Remarks",null,{"$f":"IF(AND(T94=3,'S15'!M54=\"Single sample deviation, resample within 150 tons. Document corrective action\"),\"Deviation on 150 ton sample, suspend production of JMF\",IF(AND(T88=2,'S15'!M54=\"Multiple sample deviation, resample within 150 tons. Document corrective action\"),\"Deviation on 150 ton sample, suspend production of JMF\",IF(AND(T88=2,'S15'!M54=\"Single sample deviation, resample within 150 tons. Document corrective action\"),\"Deviation on 150 ton sample, suspend production of JMF\",IF(T94=3,\"Single sample deviation, resample within 150 tons. Document corrective action\",IF(T88=2,\"Multiple sample deviation, resample within 150 tons. Document corrective action\",IF(T71=1,\"Action area, document corrective action\",\" \"))))))","v":{"$error":"#N/A"}},null,{"$f":"IF(AND(U94=3,C54=\"Single sample deviation, resample within 150 tons. Document corrective action\"),\"Deviation on 150 ton sample, suspend production of JMF\",IF(AND(U88=2,C54=\"Multiple sample deviation, resample within 150 tons. Document corrective action\"),\"Deviation on 150 ton sample, suspend production of JMF\",IF(AND(U88=2,C54=\"Single sample deviation, resample within 150 tons. Document corrective action\"),\"Deviation on 150 ton sample, suspend production of JMF\",IF(U94=3,\"Single sample deviation, resample within 150 tons. Document corrective action\",IF(U88=2,\"Multiple sample deviation, resample within 150 tons. Document corrective action\",IF(U71=1,\"Action area, document corrective action\",\" \"))))))","v":{"$error":"#N/A"}},null,{"$f":"IF(AND(V94=3,E54=\"Single sample deviation, resample within 150 tons. Document corrective action\"),\"Deviation on 150 ton sample, suspend production of JMF\",IF(AND(V88=2,E54=\"Multiple sample deviation, resample within 150 tons. Document corrective action\"),\"Deviation on 150 ton sample, suspend production of JMF\",IF(AND(V88=2,E54=\"Single sample deviation, resample within 150 tons. Document corrective action\"),\"Deviation on 150 ton sample, suspend production of JMF\",IF(V94=3,\"Single sample deviation, resample within 150 tons. Document corrective action\",IF(V88=2,\"Multiple sample deviation, resample within 150 tons. Document corrective action\",IF(V71=1,\"Action area, document corrective action\",\" \"))))))","v":{"$error":"#N/A"}},null,{"$f":"IF(AND(W94=3,G54=\"Single sample deviation, resample within 150 tons. Document corrective action\"),\"Deviation on 150 ton sample, suspend production of JMF\",IF(AND(W88=2,G54=\"Multiple sample deviation, resample within 150 tons. Document corrective action\"),\"Deviation on 150 ton sample, suspend production of JMF\",IF(AND(W88=2,G54=\"Single sample deviation, resample within 150 tons. Document corrective action\"),\"Deviation on 150 ton sample, suspend production of JMF\",IF(W94=3,\"Single sample deviation, resample within 150 tons. Document corrective action\",IF(W88=2,\"Multiple sample deviation, resample within 150 tons. Document corrective action\",IF(W71=1,\"Action area, document corrective action\",\" \"))))))","v":{"$error":"#N/A"}},null,{"$f":"IF(AND(X94=3,I54=\"Single sample deviation, resample within 150 tons. Document corrective action\"),\"Deviation on 150 ton sample, suspend production of JMF\",IF(AND(X88=2,I54=\"Multiple sample deviation, resample within 150 tons. Document corrective action\"),\"Deviation on 150 ton sample, suspend production of JMF\",IF(AND(X88=2,I54=\"Single sample deviation, resample within 150 tons. Document corrective action\"),\"Deviation on 150 ton sample, suspend production of JMF\",IF(X94=3,\"Single sample deviation, resample within 150 tons. Document corrective action\",IF(X88=2,\"Multiple sample deviation, resample within 150 tons. Document corrective action\",IF(X71=1,\"Action area, document corrective action\",\" \"))))))","v":{"$error":"#N/A"}},null,{"$f":"IF(AND(Y94=3,K54=\"Single sample deviation, resample within 150 tons. Document corrective action\"),\"Deviation on 150 ton sample, suspend production of JMF\",IF(AND(Y88=2,K54=\"Multiple sample deviation, resample within 150 tons. Document corrective action\"),\"Deviation on 150 ton sample, suspend production of JMF\",IF(AND(Y88=2,K54=\"Single sample deviation, resample within 150 tons. Document corrective action\"),\"Deviation on 150 ton sample, suspend production of JMF\",IF(Y94=3,\"Single sample deviation, resample within 150 tons. Document corrective action\",IF(Y88=2,\"Multiple sample deviation, resample within 150 tons. Document corrective action\",IF(Y71=1,\"Action area, document corrective action\",\" \"))))))","v":{"$error":"#N/A"}}]
[]
[null,null,null,null,null,null,null,null,null,null,null,null,null,null,null,null,null,null,"Action points flags"]
[null,null,null,null,null,null,null,null,null,null,null,null,null,null,null,null,null,2,{"$f":"$B$15","v":" "},{"$f":"IF(ISBLANK(C15),0,IF(OR(D39>=$S57+$J39,D39<=$S57-$K39),1,0))","v":0},{"$f":"IF(ISBLANK(E15),0,IF(OR(E39>=$S57+$J39,E39<=$S57-$K39),1,0))","v":0},{"$f":"IF(ISBLANK(G15),0,IF(OR(F39>=$S57+$J39,F39<=$S57-$K39),1,0))","v":0},{"$f":"IF(ISBLANK(I15),0,IF(OR(G39>=$S57+$J39,G39<=$S57-$K39),1,0))","v":0},{"$f":"IF(ISBLANK(K15),0,IF(OR(H39>=$S57+$J39,H39<=$S57-$K39),1,0))","v":0},{"$f":"IF(ISBLANK(M15),0,IF(OR(I39>=$S57+$J39,I39<=$S57-$K39),1,0))","v":0}]
[null,null,null,null,null,null,null,null,null,null,null,null,null,null,null,null,null,1.5,{"$f":"$B$16","v":" "},{"$f":"IF(ISBLANK(C16),0,IF(OR(D40>=$S58+$J40,D40<=$S58-$K40),1,0))","v":0},{"$f":"IF(ISBLANK(E16),0,IF(OR(E40>=$S58+$J40,E40<=$S58-$K40),1,0))","v":0},{"$f":"IF(ISBLANK(G16),0,IF(OR(F40>=$S58+$J40,F40<=$S58-$K40),1,0))","v":0},{"$f":"IF(ISBLANK(I16),0,IF(OR(G40>=$S58+$J40,G40<=$S58-$K40),1,0))","v":0},{"$f":"IF(ISBLANK(K16),0,IF(OR(H40>=$S58+$J40,H40<=$S58-$K40),1,0))","v":0},{"$f":"IF(ISBLANK(M16),0,IF(OR(I40>=$S58+$J40,I40<=$S58-$K40),1,0))","v":0}]
[null,null,null,null,null,null,null,null,null,null,null,null,null,null,null,null,null,1,{"$f":"$B$17","v":" "},{"$f":"IF(ISBLANK(C17),0,IF(OR(D41>=$S59+$J41,D41<=$S59-$K41),1,0))","v":0},{"$f":"IF(ISBLANK(E17),0,IF(OR(E41>=$S59+$J41,E41<=$S59-$K41),1,0))","v":0},{"$f":"IF(ISBLANK(G17),0,IF(OR(F41>=$S59+$J41,F41<=$S59-$K41),1,0))","v":0},{"$f":"IF(ISBLANK(I17),0,IF(OR(G41>=$S59+$J41,G41<=$S59-$K41),1,0))","v":0},{"$f":"IF(ISBLANK(K17),0,IF(OR(H41>=$S59+$J41,H41<=$S59-$K41),1,0))","v":0},{"$f":"IF(ISBLANK(M17),0,IF(OR(I41>=$S59+$J41,I41<=$S59-$K41),1,0))","v":0}]
[null,null,null,null,null,null,null,null,null,null,null,null,null,null,null,null,null,0.75,{"$f":"$B$18","v":" "},{"$f":"IF(ISBLANK(C18),0,IF(OR(D42>=$S60+$J42,D42<=$S60-$K42),1,0))","v":0},{"$f":"IF(ISBLANK(E18),0,IF(OR(E42>=$S60+$J42,E42<=$S60-$K42),1,0))","v":0},{"$f":"IF(ISBLANK(G18),0,IF(OR(F42>=$S60+$J42,F42<=$S60-$K42),1,0))","v":0},{"$f":"IF(ISBLANK(I18),0,IF(OR(G42>=$S60+$J42,G42<=$S60-$K42),1,0))","v":0},{"$f":"IF(ISBLANK(K18),0,IF(OR(H42>=$S60+$J42,H42<=$S60-$K42),1,0))","v":0},{"$f":"IF(ISBLANK(M18),0,IF(OR(I42>=$S60+$J42,I42<=$S60-$K42),1,0))","v":0}]
[null,null,null,null,null,null,null,null,null,null,null,null,null,null,null,null,null,0.5,{"$f":"$B$19","v":" "},{"$f":"IF(ISBLANK(C19),0,IF(OR(D43>=$S61+$J43,D43<=$S61-$K43),1,0))","v":0},{"$f":"IF(ISBLANK(E19),0,IF(OR(E43>=$S61+$J43,E43<=$S61-$K43),1,0))","v":0},{"$f":"IF(ISBLANK(G19),0,IF(OR(F43>=$S61+$J43,F43<=$S61-$K43),1,0))","v":0},{"$f":"IF(ISBLANK(I19),0,IF(OR(G43>=$S61+$J43,G43<=$S61-$K43),1,0))","v":0},{"$f":"IF(ISBLANK(K19),0,IF(OR(H43>=$S61+$J43,H43<=$S61-$K43),1,0))","v":0},{"$f":"IF(ISBLANK(M19),0,IF(OR(I43>=$S61+$J43,I43<=$S61-$K43),1,0))","v":0}]
[null,null,null,null,null,null,null,null,null,null,null,null,null,null,null,null,null,0.375,{"$f":"$B$20","v":" "},{"$f":"IF(OR(D44>=$S62+$J44,D44<=$S62-$K44),1,0)","v":{"$error":"#N/A"}},{"$error":"#N/A"},{"$error":"#N/A"},{"$error":"#N/A"},{"$error":"#N/A"},{"$error":"#N/A"}]
[null,null,null,null,null,null,null,null,null,null,null,null,null,null,null,null,null,4,{"$f":"$B$21","v":" "},{"$error":"#N/A"},{"$error":"#N/A"},{"$error":"#N/A"},{"$error":"#N/A"},{"$error":"#N/A"},{"$error":"#N/A"}]
[null,null,null,null,null,null,null,null,null,null,null,null,null,null,null,null,null,8,{"$f":"$B$22","v":" "},{"$error":"#N/A"},{"$error":"#N/A"},{"$error":"#N/A"},{"$error":"#N/A"},{"$error":"#N/A"},{"$error":"#N/A"}]
[null,null,null,null,null,null,null,null,null,null,null,null,null,null,null,null,null,16,{"$f":"$B$23","v":" "},{"$error":"#N/A"},{"$error":"#N/A"},{"$error":"#N/A"},{"$error":"#N/A"},{"$error":"#N/A"},{"$error":"#N/A"}]
[null,null,null,null,null,null,null,null,null,null,null,null,null,null,null,null,null,30,{"$f":"$B$24","v":" "},{"$error":"#N/A"},{"$error":"#N/A"},{"$error":"#N/A"},{"$error":"#N/A"},{"$error":"#N/A"},{"$error":"#N/A"}]
[null,null,null,null,null,null,null,null,null,null,null,null,null,null,null,null,null,50,{"$f":"$B$25","v":" "},{"$error":"#N/A"},{"$error":"#N/A"},{"$error":"#N/A"},{"$error":"#N/A"},{"$error":"#N/A"},{"$error":"#N/A"}]
[null,null,null,null,null,null,null,null,null,null,null,null,null,null,null,null,null,100,{"$f":"$B$26","v":" "},{"$error":"#N/A"},{"$error":"#N/A"},{"$error":"#N/A"},{"$error":"#N/A"},{"$error":"#N/A"},{"$error":"#N/A"}]
[null,null,null,null,null,null,null,null,null,null,null,null,null,null,null,null,null,200,{"$f":"$B$27","v":" "},{"$error":"#N/A"},{"$error":"#N/A"},{"$error":"#N/A"},{"$error":"#N/A"},{"$error":"#N/A"},{"$error":"#N/A"}]
[null,null,null,null,null,null,null,null,null,null,null,null,null,null,null,null,null,"%AC",{"$f":"$B$28","v":" "},{"$error":"#N/A"},{"$error":"#N/A"},{"$error":"#N/A"},{"$error":"#N/A"},{"$error":"#N/A"},{"$error":"#N/A"}]
[null,null,{"$f":"MAX(C15:C23)","v":0},null,{"$f":"MAX(E15:E23)","v":0},null,{"$f":"MAX(G15:G23)","v":0},null,{"$f":"MAX(I15:I23)","v":0},null,{"$f":"MAX(K15:K23)","v":0},null,{"$f":"MAX(M15:M23)","v":0},null,null,null,null,null,"Max",{"$f":"MAX(T56:T70)","v":{"$error":"#N/A"}},{"$error":"#N/A"},{"$error":"#N/A"},{"$error":"#N/A"},{"$error":"#N/A"},{"$error":"#N/A"}]
[]
[null,null,null,null,null,null,null,null,null,null,null,null,null,null,null,null,null,null,"Multiple sample flag"]
[null,null,null,null,null,null,null,null,null,null,null,null,null,null,null,null,null,2,{"$f":"$B$15","v":" "},{"$f":"IF(ISBLANK(C15),0,IF(OR(D39>$S74+AP!$E$89,D39<$S74-AP!$E$93),2,0))","v":0},{"$f":"IF(ISBLANK(E15),0,IF(OR(E39>$S74+AP!$E$89,E39<$S74-AP!$E$93),2,0))","v":0},{"$f":"IF(ISBLANK(G15),0,IF(OR(F39>$S74+AP!$E$89,F39<$S74-AP!$E$93),2,0))","v":0},{"$f":"IF(ISBLANK(I15),0,IF(OR(G39>$S74+AP!$E$89,G39<$S74-AP!$E$93),2,0))","v":0},{"$f":"IF(ISBLANK(K15),0,IF(OR(H39>$S74+AP!$E$89,H39<$S74-AP!$E$93),2,0))","v":0},{"$f":"IF(ISBLANK(M15),0,IF(OR(I39>$S74+AP!$E$89,I39<$S74-AP!$E$93),2,0))","v":0}]
[null,null,null,null,null,null,null,null,null,null,null,null,null,null,null,null,null,1.5,{"$f":"$B$16","v":" "},{"$f":"IF(ISBLANK(C16),0,IF(OR(D40>$S75+AP!$E$83,D40<$S75-AP!$E$87),2,0))","v":0},{"$f":"IF(ISBLANK(E16),0,IF(OR(E40>$S75+AP!$E$89,E40<$S75-AP!$E$93),2,0))","v":0},{"$f":"IF(ISBLANK(G16),0,IF(OR(F40>$S75+AP!$E$89,F40<$S75-AP!$E$93),2,0))","v":0},{"$f":"IF(ISBLANK(I16),0,IF(OR(G40>$S75+AP!$E$89,G40<$S75-AP!$E$93),2,0))","v":0},{"$f":"IF(ISBLANK(K16),0,IF(OR(H40>$S75+AP!$E$89,H40<$S75-AP!$E$93),2,0))","v":0},{"$f":"IF(ISBLANK(M16),0,IF(OR(I40>$S75+AP!$E$89,I40<$S75-AP!$E$93),2,0))","v":0}]
[null,null,null,null,null,null,null,null,null,null,null,null,null,null,null,null,null,1,{"$f":"$B$17","v":" "},{"$f":"IF(ISBLANK(C17),0,IF(OR(D41>$S76+AP!$E$83,D41<$S76-AP!$E$87),2,0))","v":0},{"$f":"IF(ISBLANK(E17),0,IF(OR(E41>$S76+AP!$E$89,E41<$S76-AP!$E$93),2,0))","v":0},{"$f":"IF(ISBLANK(G17),0,IF(OR(F41>$S76+AP!$E$89,F41<$S76-AP!$E$93),2,0))","v":0},{"$f":"IF(ISBLANK(I17),0,IF(OR(G41>$S76+AP!$E$89,G41<$S76-AP!$E$93),2,0))","v":0},{"$f":"IF(ISBLANK(K17),0,IF(OR(H41>$S76+AP!$E$89,H41<$S76-AP!$E$93),2,0))","v":0},{"$f":"IF(ISBLANK(M17),0,IF(OR(I41>$S76+AP!$E$89,I41<$S76-AP!$E$93),2,0))","v":0}]
[null,null,null,null,null,null,null,null,null,null,null,null,null,null,null,null,null,0.75,{"$f":"$B$18","v":" "},{"$f":"IF(ISBLANK(C18),0,IF(OR(D42>$S77+AP!$E$83,D42<$S77-AP!$E$87),2,0))","v":0},{"$f":"IF(ISBLANK(E18),0,IF(OR(E42>$S77+AP!$E$89,E42<$S77-AP!$E$93),2,0))","v":0},{"$f":"IF(ISBLANK(G18),0,IF(OR(F42>$S77+AP!$E$89,F42<$S77-AP!$E$93),2,0))","v":0},{"$f":"IF(ISBLANK(I18),0,IF(OR(G42>$S77+AP!$E$89,G42<$S77-AP!$E$93),2,0))","v":0},{"$f":"IF(ISBLANK(K18),0,IF(OR(H42>$S77+AP!$E$89,H42<$S77-AP!$E$93),2,0))","v":0},{"$f":"IF(ISBLANK(M18),0,IF(OR(I42>$S77+AP!$E$89,I42<$S77-AP!$E$93),2,0))","v":0}]
[null,null,null,null,null,null,null,null,null,null,null,null,null,null,null,null,null,0.5,{"$f":"$B$19","v":" "},{"$f":"IF(ISBLANK(C19),0,IF(OR(D43>$S78+AP!$E$83,D43<$S78-AP!$E$87),2,0))","v":0},{"$f":"IF(ISBLANK(E19),0,IF(OR(E43>$S78+AP!$E$89,E43<$S78-AP!$E$93),2,0))","v":0},{"$f":"IF(ISBLANK(G19),0,IF(OR(F43>$S78+AP!$E$89,F43<$S78-AP!$E$93),2,0))","v":0},{"$f":"IF(ISBLANK(I19),0,IF(OR(G43>$S78+AP!$E$89,G43<$S78-AP!$E$93),2,0))","v":0},{"$f":"IF(ISBLANK(K19),0,IF(OR(H43>$S78+AP!$E$89,H43<$S78-AP!$E$93),2,0))","v":0},{"$f":"IF(ISBLANK(M19),0,IF(OR(I43>$S78+AP!$E$89,I43<$S78-AP!$E$93),2,0))","v":0}]
[null,null,null,null,null,null,null,null,null,null,null,null,null,null,null,null,null,0.375,{"$f":"$B$20","v":" "},{"$f":"IF(OR(D44>$S79+AP!$E$59,D44<$S79-AP!$E$63),2,0)","v":{"$error":"#N/A"}},{"$f":"IF(OR(E44>$S79+AP!$E$59,E44<$S79-AP!$E$63),2,0)","v":{"$error":"#N/A"}},{"$f":"IF(OR(F44>$S79+AP!$E$59,F44<$S79-AP!$E$63),2,0)","v":{"$error":"#N/A"}},{"$f":"IF(OR(G44>$S79+AP!$E$59,G44<$S79-AP!$E$63),2,0)","v":{"$error":"#N/A"}},{"$f":"IF(OR(H44>$S79+AP!$E$59,H44<$S79-AP!$E$63),2,0)","v":{"$error":"#N/A"}},{"$f":"IF(OR(I44>$S79+AP!$E$59,I44<$S79-AP!$E$63),2,0)","v":{"$error":"#N/A"}}]
[null,null,null,null,null,null,null,null,null,null,null,null,null,null,null,null,null,4,{"$f":"$B$21","v":" "},{"$f":"IF(OR(D45>$S80+AP!$E$53,D45<$S80-AP!$E$57),2,0)","v":{"$error":"#N/A"}},{"$f":"IF(OR(E45>$S80+AP!$E$53,E45<$S80-AP!$E$57),2,0)","v":{"$error":"#N/A"}},{"$f":"IF(OR(F45>$S80+AP!$E$53,F45<$S80-AP!$E$57),2,0)","v":{"$error":"#N/A"}},{"$f":"IF(OR(G45>$S80+AP!$E$53,G45<$S80-AP!$E$57),2,0)","v":{"$error":"#N/A"}},{"$f":"IF(OR(H45>$S80+AP!$E$53,H45<$S80-AP!$E$57),2,0)","v":{"$error":"#N/A"}},{"$f":"IF(OR(I45>$S80+AP!$E$53,I45<$S80-AP!$E$57),2,0)","v":{"$error":"#N/A"}}]
[null,null,null,null,null,null,null,null,null,null,null,null,null,null,null,null,null,8,{"$f":"$B$22","v":" "},{"$f":"IF(OR(D46>$S81+AP!$E$46,D46<$S81-AP!$E$50),2,0)","v":{"$error":"#N/A"}},{"$f":"IF(OR(E46>$S81+AP!$E$46,E46<$S81-AP!$E$50),2,0)","v":{"$error":"#N/A"}},{"$f":"IF(OR(F46>$S81+AP!$E$46,F46<$S81-AP!$E$50),2,0)","v":{"$error":"#N/A"}},{"$f":"IF(OR(G46>$S81+AP!$E$46,G46<$S81-AP!$E$50),2,0)","v":{"$error":"#N/A"}},{"$f":"IF(OR(H46>$S81+AP!$E$46,H46<$S81-AP!$E$50),2,0)","v":{"$error":"#N/A"}},{"$f":"IF(OR(I46>$S81+AP!$E$46,I46<$S81-AP!$E$50),2,0)","v":{"$error":"#N/A"}}]
[null,null,null,null,null,null,null,null,null,null,null,null,null,null,null,null,null,16,{"$f":"$B$23","v":" "},{"$f":"IF(OR(D47>$S82+AP!$E$39,D47<$S82-AP!$E$43),2,0)","v":{"$error":"#N/A"}},{"$f":"IF(OR(E47>$S82+AP!$E$39,E47<$S82-AP!$E$43),2,0)","v":{"$error":"#N/A"}},{"$f":"IF(OR(F47>$S82+AP!$E$39,F47<$S82-AP!$E$43),2,0)","v":{"$error":"#N/A"}},{"$f":"IF(OR(G47>$S82+AP!$E$39,G47<$S82-AP!$E$43),2,0)","v":{"$error":"#N/A"}},{"$f":"IF(OR(H47>$S82+AP!$E$39,H47<$S82-AP!$E$43),2,0)","v":{"$error":"#N/A"}},{"$f":"IF(OR(I47>$S82+AP!$E$39,I47<$S82-AP!$E$43),2,0)","v":{"$error":"#N/A"}}]
[null,null,null,null,null,null,null,null,null,null,null,null,null,null,null,null,null,30,{"$f":"$B$24","v":" "},{"$f":"IF(OR(D48>$S83+AP!$E$33,D48<$S83-AP!$E$37),2,0)","v":{"$error":"#N/A"}},{"$f":"IF(OR(E48>$S83+AP!$E$33,E48<$S83-AP!$E$37),2,0)","v":{"$error":"#N/A"}},{"$f":"IF(OR(F48>$S83+AP!$E$33,F48<$S83-AP!$E$37),2,0)","v":{"$error":"#N/A"}},{"$f":"IF(OR(G48>$S83+AP!$E$33,G48<$S83-AP!$E$37),2,0)","v":{"$error":"#N/A"}},{"$f":"IF(OR(H48>$S83+AP!$E$33,H48<$S83-AP!$E$37),2,0)","v":{"$error":"#N/A"}},{"$f":"IF(OR(I48>$S83+AP!$E$33,I48<$S83-AP!$E$37),2,0)","v":{"$error":"#N/A"}}]
[null,null,null,null,null,null,null,null,null,null,null,null,null,null,null,null,null,50,{"$f":"$B$25","v":" "},{"$f":"IF(OR(D49>$S84+AP!$E$27,D49<$S84-AP!$E$31),2,0)","v":{"$error":"#N/A"}},{"$f":"IF(OR(E49>$S84+AP!$E$27,E49<$S84-AP!$E$31),2,0)","v":{"$error":"#N/A"}},{"$f":"IF(OR(F49>$S84+AP!$E$27,F49<$S84-AP!$E$31),2,0)","v":{"$error":"#N/A"}},{"$f":"IF(OR(G49>$S84+AP!$E$27,G49<$S84-AP!$E$31),2,0)","v":{"$error":"#N/A"}},{"$f":"IF(OR(H49>$S84+AP!$E$27,H49<$S84-AP!$E$31),2,0)","v":{"$error":"#N/A"}},{"$f":"IF(OR(I49>$S84+AP!$E$27,I49<$S84-AP!$E$31),2,0)","v":{"$error":"#N/A"}}]
[null,null,null,null,null,null,null,null,null,null,null,null,null,null,null,null,null,100,{"$f":"$B$26","v":" "},{"$f":"IF(OR(D50>$S85+AP!$E$21,D50<$S85-AP!$E$25),2,0)","v":{"$error":"#N/A"}},{"$f":"IF(OR(E50>$S85+AP!$E$21,E50<$S85-AP!$E$25),2,0)","v":{"$error":"#N/A"}},{"$f":"IF(OR(F50>$S85+AP!$E$21,F50<$S85-AP!$E$25),2,0)","v":{"$error":"#N/A"}},{"$f":"IF(OR(G50>$S85+AP!$E$21,G50<$S85-AP!$E$25),2,0)","v":{"$error":"#N/A"}},{"$f":"IF(OR(H50>$S85+AP!$E$21,H50<$S85-AP!$E$25),2,0)","v":{"$error":"#N/A"}},{"$f":"IF(OR(I50>$S85+AP!$E$21,I50<$S85-AP!$E$25),2,0)","v":{"$error":"#N/A"}}]
[null,null,null,null,null,null,null,null,null,null,null,null,null,null,null,null,null,200,{"$f":"$B$27","v":" "},{"$f":"IF(OR(D51>$S86+AP!$E$14,D51<$S86-AP!$E$18),2,0)","v":{"$error":"#N/A"}},{"$f":"IF(OR(E51>$S86+AP!$E$14,E51<$S86-AP!$E$18),2,0)","v":{"$error":"#N/A"}},{"$f":"IF(OR(F51>$S86+AP!$E$14,F51<$S86-AP!$E$18),2,0)","v":{"$error":"#N/A"}},{"$f":"IF(OR(G51>$S86+AP!$E$14,G51<$S86-AP!$E$18),2,0)","v":{"$error":"#N/A"}},{"$f":"IF(OR(H51>$S86+AP!$E$14,H51<$S86-AP!$E$18),2,0)","v":{"$error":"#N/A"}},{"$f":"IF(OR(I51>$S86+AP!$E$14,I51<$S86-AP!$E$18),2,0)","v":{"$error":"#N/A"}}]
[null,null,null,null,null,null,null,null,null,null,null,null,null,null,null,null,null,"%AC",{"$f":"$B$28","v":" "},{"$f":"IF(OR(D52>AP!$L$6,D52<AP!$L$10),2,0)","v":{"$error":"#N/A"}},{"$f":"IF(OR(E52>AP!$L$6,E52<AP!$L$10),2,0)","v":{"$error":"#N/A"}},{"$f":"IF(OR(F52>AP!$L$6,F52<AP!$L$10),2,0)","v":{"$error":"#N/A"}},{"$f":"IF(OR(G52>AP!$L$6,G52<AP!$L$10),2,0)","v":{"$error":"#N/A"}},{"$f":"IF(OR(H52>AP!$L$6,H52<AP!$L$10),2,0)","v":{"$error":"#N/A"}},{"$f":"IF(OR(I52>AP!$L$6,I52<AP!$L$10),2,0)","v":{"$error":"#N/A"}}]
[null,null,null,null,null,null,null,null,null,null,null,null,null,null,null,null,null,null,"Max",{"$f":"MAX(T74:T87)","v":{"$error":"#N/A"}},{"$error":"#N/A"},{"$error":"#N/A"},{"$error":"#N/A"},{"$error":"#N/A"},{"$error":"#N/A"}]
[]
[null,null,null,null,null,null,null,null,null,null,null,null,null,null,null,null,null,null,"Single sample flag"]
[null,null,null,null,null,null,null,null,null,null,null,null,null,null,null,null,null,8,{"$f":"$B$22","v":" "},{"$f":"IF(OR($D$22>$S91+AP!$E$45,$D$22<$S91-AP!$E$51),3,0)","v":{"$error":"#VALUE!"}},{"$f":"IF(OR($F$22>$S91+AP!$E$45,$F$22<$S91-AP!$E$51),3,0)","v":{"$error":"#VALUE!"}},{"$f":"IF(OR($H$22>$S91+AP!$E$45,$H$22<$S91-AP!$E$51),3,0)","v":{"$error":"#VALUE!"}},{"$f":"IF(OR($J$22>$S91+AP!$E$45,$J$22<$S91-AP!$E$51),3,0)","v":{"$error":"#VALUE!"}},{"$f":"IF(OR($L$22>$S91+AP!$E$45,$L$22<$S91-AP!$E$51),3,0)","v":{"$error":"#VALUE!"}},{"$f":"IF(OR($N$22>$S91+AP!$E$45,$N$22<$S91-AP!$E$51),3,0)","v":{"$error":"#VALUE!"}}]
[null,null,null,null,null,null,null,null,null,null,null,null,null,null,null,null,null,200,{"$f":"$B$27","v":" "},{"$f":"IF(OR($D$27>$S92+AP!$E$13,$D$27<$S92-AP!$E$19),3,0)","v":{"$error":"#VALUE!"}},{"$f":"IF(OR($F$27>$S92+AP!$E$13,$F$27<$S92-AP!$E$19),3,0)","v":{"$error":"#VALUE!"}},{"$f":"IF(OR($H$27>$S92+AP!$E$13,$H$27<$S92-AP!$E$19),3,0)","v":{"$error":"#VALUE!"}},{"$f":"IF(OR($J$27>$S92+AP!$E$13,$J$27<$S92-AP!$E$19),3,0)","v":{"$error":"#VALUE!"}},{"$f":"IF(OR($L$27>$S92+AP!$E$13,$L$27<$S92-AP!$E$19),3,0)","v":{"$error":"#VALUE!"}},{"$f":"IF(OR($N$27>$S92+AP!$E$13,$N$27<$S92-AP!$E$19),3,0)","v":{"$error":"#VALUE!"}}]
[null,null,null,null,null,null,null,null,null,null,null,null,null,null,null,null,null,"%AC",{"$f":"$B$28","v":" "},{"$f":"IF(OR($C$28>AP!$L$5,$C$28<AP!$L$11),3,0)","v":0},{"$f":"IF(OR($E$28>AP!$L$5,$E$28<AP!$L$11),3,0)","v":0},{"$f":"IF(OR($G$28>AP!$L$5,$G$28<AP!$L$11),3,0)","v":0},{"$f":"IF(OR($I$28>AP!$L$5,$I$28<AP!$L$11),3,0)","v":0},{"$f":"IF(OR($K$28>AP!$L$5,$K$28<AP!$L$11),3,0)","v":0},{"$f":"IF(OR($M$28>AP!$L$5,$M$28<AP!$L$11),3,0)","v":0}]
[null,null,null,null,null,null,null,null,null,null,null,null,null,null,null,null,null,null,"Max",{"$f":"IF(ISBLANK(C27),\" \",MAX(T91:T93))","v":" "},{"$f":"IF(ISBLANK(E27),\" \",MAX(U91:U93))","v":" "},{"$f":"IF(ISBLANK(G27),\" \",MAX(V91:V93))","v":" "},{"$f":"IF(ISBLANK(I27),\" \",MAX(W91:W93))","v":" "},{"$f":"IF(ISBLANK(K27),\" \",MAX(X91:X93))","v":" "},{"$f":"IF(ISBLANK(M27),\" \",MAX(Y91:Y93))","v":" "}]

{"sheet":"QA","index":16,"n_rows":69,"n_cols":20,"rows_kept":69,"cut":false,"hidden":false,"merged":[[19,18,19,19],[25,16,25,17],[25,18,25,19],[31,16,31,17],[31,18,31,19],[19,16,19,17],[42,18,42,19],[42,16,42,17],[42,0,42,13],[29,4,35,4],[29,5,35,6],[29,13,35,13],[29,0,35,1],[29,2,35,3],[27,11,27,12],[28,11,28,12],[29,11,35,12],[28,8,28,9],[29,10,35,10],[28,5,28,6],[27,5,27,6],[12,5,12,6],[27,8,27,9],[29,8,35,9],[29,7,35,7],[0,0,3,1],[5,0,5,1],[2,4,2,8],[5,4,5,9],[3,4,3,8],[12,0,12,1],[28,0,28,1],[28,2,28,3],[27,2,27,3],[12,2,12,3],[9,7,11,7],[9,4,11,4],[9,5,9,6],[7,0,7,2],[8,0,8,1],[8,2,8,3],[8,5,8,6],[10,5,10,6],[11,5,11,6],[9,2,9,3],[10,2,10,3],[11,0,11,1],[9,0,9,1],[11,2,11,3],[10,0,10,1],[8,8,8,9],[0,18,0,19],[7,18,7,19],[5,12,5,13],[0,16,0,17],[7,16,7,17],[1,12,1,13],[2,10,2,11],[2,12,2,13],[1,10,1,11],[1,4,1,8],[6,12,6,13],[6,10,6,11],[5,10,5,11],[8,11,8,12],[10,11,10,12],[11,11,11,12],[9,11,9,12],[9,13,11,13],[9,8,9,9],[9,10,11,10],[10,8,10,9],[13,18,13,19],[13,16,13,17],[12,8,12,9],[11,8,11,9],[12,11,12,12]]}
[null,null,null,null,null,null,null,null,null,null,null,null,null,null,null,null,"AC",null,200]
[null,null,null,null,"COMMONWEALTH OF PENNSYLVANIA",null,null,null,null,null,"DISTRICT",null,{"$f":"IF(ISBLANK('S1'!M2),\" \",('S1'!M2))","v":" "},null,null,null,"Comp","QA","Comp","QA"]
[null,null,null,null,"DEPARTMENT OF TRANSPORTATION",null,null,null,null,null,"PLANT CODE",null,{"$f":"IF(ISBLANK('S1'!M3),\" \",('S1'!M3))","v":" "},null,null,1,{"$f":"IF(ISBLANK($C28),NA(),$C28)","v":{"$error":"#N/A"}},{"$f":"IF(ISBLANK($E28),NA(),$E28)","v":{"$error":"#N/A"}},{"$f":"IF(ISTEXT($D$27),NA(),$D$27)","v":{"$error":"#N/A"}},{"$f":"IF(ISBLANK($E27),NA(),$E27)","v":{"$error":"#N/A"}}]
[null,null,null,null,"LABORATORY TEST SECTION",null,null,null,null,null,null,null,null,null,null,2,{"$f":"IF(ISBLANK($F28),NA(),$F28)","v":{"$error":"#N/A"}},{"$f":"IF(ISBLANK($H28),NA(),$H28)","v":{"$error":"#N/A"}},{"$f":"IF(ISTEXT($G$27),NA(),$G$27)","v":{"$error":"#N/A"}},{"$f":"IF(ISBLANK($H27),NA(),$H27)","v":{"$error":"#N/A"}}]
[{"$f":"'S1'!A5","v":"ESB-16"},null,null,null,null,null,null,null,null,null,null,null,null,null,null,3,{"$f":"IF(ISBLANK($I28),NA(),$I28)","v":{"$error":"#N/A"}},{"$f":"IF(ISBLANK($K28),NA(),$K28)","v":{"$error":"#N/A"}},{"$f":"IF(ISTEXT($J$27),NA(),$J$27)","v":{"$error":"#N/A"}},{"$f":"IF(ISBLANK($K27),NA(),$K27)","v":{"$error":"#N/A"}}]
["Material Class ",null,{"$f":"IF(ISBLANK('S1'!C6),\" \",('S1'!C6))","v":9.5},"mm","QA and Companion Burnoff Results",null,null,null,null,null,"Design No.",null,{"$f":"IF(ISBLANK('S1'!M6),\" \",('S1'!M6))","v":" "},null,null,4,{"$f":"IF(ISBLANK($L28),NA(),$L28)","v":{"$error":"#N/A"}},{"$f":"IF(ISBLANK($N28),NA(),$N28)","v":{"$error":"#N/A"}},{"$f":"IF(ISTEXT($M$27),NA(),$M$27)","v":{"$error":"#N/A"}},{"$f":"IF(ISBLANK(N27),NA(),N27)","v":{"$error":"#N/A"}}]
[null,null,null,null,null,null,null,null,null,null,"Gyrations @ Ndes",null,{"$f":"IF(ISBLANK('S1'!M7),\" \",'S1'!M7)","v":" "}]
["-200 Correction Factor (+ or -)",null,null,{"$f":"IF(ISBLANK('S1'!D8),\" \",('S1'!D8))","v":" "},null,null,null,null,null,null,null,null,null,null,null,null,100,null,50]
[null,null,null,null,"QA",null,null,"QA",null,null,"QA",null,null,"QA",null,null,{"$f":"IF(ISTEXT($D26),NA(),$D26)","v":{"$error":"#N/A"}},{"$f":"IF(ISBLANK($E26),NA(),$E26)","v":{"$error":"#N/A"}},{"$f":"IF(ISTEXT($D25),NA(),$D25)","v":{"$error":"#N/A"}},{"$f":"IF(ISBLANK($E25),NA(),$E25)","v":{"$error":"#N/A"}}]
["Date",null,null,null,null,null,null,null,null,null,null,null,null,null,null,null,{"$f":"IF(ISTEXT($G26),NA(),$G26)","v":{"$error":"#N/A"}},{"$f":"IF(ISBLANK($H26),NA(),$H26)","v":{"$error":"#N/A"}},{"$f":"IF(ISTEXT($G25),NA(),$G25)","v":{"$error":"#N/A"}},{"$f":"IF(ISBLANK($H25),NA(),$H25)","v":{"$error":"#N/A"}}]
["St. Wt. Before Wash",null,null,null,null,null,null,null,null,null,null,null,null,null,null,null,{"$f":"IF(ISTEXT($J26),NA(),$J26)","v":{"$error":"#N/A"}},{"$f":"IF(ISBLANK($K26),NA(),$K26)","v":{"$error":"#N/A"}},{"$f":"IF(ISTEXT($J25),NA(),$J25)","v":{"$error":"#N/A"}},{"$f":"IF(ISBLANK($K25),NA(),$K25)","v":{"$error":"#N/A"}}]
["Dry Wt. After Wash",null,null,null,null,null,null,null,null,null,null,null,null,null,null,null,{"$f":"IF(ISTEXT($M26),NA(),$M26)","v":{"$error":"#N/A"}},{"$f":"IF(ISBLANK($N26),NA(),$N26)","v":{"$error":"#N/A"}},{"$f":"IF(ISTEXT($M25),NA(),$M25)","v":{"$error":"#N/A"}},{"$f":"IF(ISBLANK($N25),NA(),$N25)","v":{"$error":"#N/A"}}]
["Wt. Loss",null,{"$f":"IF(ISBLANK(C11),\" \",IF(ISBLANK(C12),\" \",C11-C12))","v":" "},null,null,{"$f":"IF(ISBLANK(F11),\" \",IF(ISBLANK(F12),\" \",F11-F12))","v":" "},null,null,{"$f":"IF(ISBLANK(I11),\" \",IF(ISBLANK(I12),\" \",I11-I12))","v":" "},null,null,{"$f":"IF(ISBLANK(L11),\" \",IF(ISBLANK(L12),\" \",L11-L12))","v":" "}]
["Size","JMF","Weight","%Passing","%Passing","Weight","% Passing","%Passing","Weight","% Passing","%Passing","Weight","% Passing","%Passing",null,null,30,null,16]
[2,{"$f":"IF(ISBLANK('S1'!B15),\" \",'S1'!B15)","v":" "},null,{"$f":"IF(ISBLANK(C11),\" \",IF(ISBLANK(C12),\" \",IF(ISBLANK(C15),\" \",ROUND((C15+C13)/C11*100,0))))","v":" "},null,null,{"$f":"IF(ISBLANK(F11),\" \",IF(ISBLANK(F12),\" \",IF(ISBLANK(F15),\" \",ROUND((F15+F13)/F11*100,0))))","v":" "},null,null,{"$f":"IF(ISBLANK(I11),\" \",IF(ISBLANK(I12),\" \",IF(ISBLANK(I15),\" \",ROUND((I15+I13)/I11*100,0))))","v":" "},null,null,{"$f":"IF(ISBLANK(L11),\" \",IF(ISBLANK(L12),\" \",IF(ISBLANK(L15),\" \",ROUND((L15+L13)/L11*100,0))))","v":" "},null,null,null,{"$f":"IF(ISTEXT($D24),NA(),$D24)","v":{"$error":"#N/A"}},{"$f":"IF(ISBLANK($E24),NA(),$E24)","v":{"$error":"#N/A"}},{"$f":"IF(ISTEXT($D23),NA(),$D23)","v":{"$error":"#N/A"}},{"$f":"IF(ISBLANK($E23),NA(),$E23)","v":{"$error":"#N/A"}}]
[1.5,{"$f":"IF(ISBLANK('S1'!B16),\" \",'S1'!B16)","v":" "},null,{"$f":"IF(ISBLANK(C11),\"  \",IF(ISBLANK(C12),\" \",IF(ISBLANK(C16),\" \",ROUND((C16+C13)/C11*100,0))))","v":"  "},null,null,{"$f":"IF(ISBLANK(F11),\"  \",IF(ISBLANK(F12),\" \",IF(ISBLANK(F16),\" \",ROUND((F16+F13)/F11*100,0))))","v":"  "},null,null,{"$f":"IF(ISBLANK(I11),\"  \",IF(ISBLANK(I12),\" \",IF(ISBLANK(I16),\" \",ROUND((I16+I13)/I11*100,0))))","v":"  "},null,null,{"$f":"IF(ISBLANK(L11),\"  \",IF(ISBLANK(L12),\" \",IF(ISBLANK(L16),\" \",ROUND((L16+L13)/L11*100,0))))","v":"  "},null,null,null,{"$f":"IF(ISTEXT($G24),NA(),$G24)","v":{"$error":"#N/A"}},{"$f":"IF(ISBLANK($H24),NA(),$H24)","v":{"$error":"#N/A"}},{"$f":"IF(ISTEXT($G23),NA(),$G23)","v":{"$error":"#N/A"}},{"$f":"IF(ISBLANK($H23),NA(),$H23)","v":{"$error":"#N/A"}}]
[1,{"$f":"IF(ISBLANK('S1'!B17),\" \",'S1'!B17)","v":" "},null,{"$f":"IF(ISBLANK(C11),\"  \",IF(ISBLANK(C12),\" \",IF(ISBLANK(C17),\" \",ROUND((C17+C13)/C11*100,0))))","v":"  "},null,null,{"$f":"IF(ISBLANK(F11),\"  \",IF(ISBLANK(F12),\" \",IF(ISBLANK(F17),\" \",ROUND((F17+F13)/F11*100,0))))","v":"  "},null,null,{"$f":"IF(ISBLANK(I11),\"  \",IF(ISBLANK(I12),\" \",IF(ISBLANK(I17),\" \",ROUND((I17+I13)/I11*100,0))))","v":"  "},null,null,{"$f":"IF(ISBLANK(L11),\"  \",IF(ISBLANK(L12),\" \",IF(ISBLANK(L17),\" \",ROUND((L17+L13)/L11*100,0))))","v":"  "},null,null,null,{"$f":"IF(ISTEXT($J24),NA(),$J24)","v":{"$error":"#N/A"}},{"$f":"IF(ISBLANK($K24),NA(),$K24)","v":{"$error":"#N/A"}},{"$f":"IF(ISTEXT($J23),NA(),$J23)","v":{"$error":"#N/A"}},{"$f":"IF(ISBLANK($K23),NA(),$K23)","v":{"$error":"#N/A"}}]
[0.75,{"$f":"IF(ISBLANK('S1'!B18),\" \",'S1'!B18)","v":" "},null,{"$f":"IF(ISBLANK(C11),\"  \",IF(ISBLANK(C12),\" \",IF(ISBLANK(C18),\" \",ROUND((C18+C13)/C11*100,0))))","v":"  "},null,null,{"$f":"IF(ISBLANK(F11),\"  \",IF(ISBLANK(F12),\" \",IF(ISBLANK(F18),\" \",ROUND((F18+F13)/F11*100,0))))","v":"  "},null,null,{"$f":"IF(ISBLANK(I11),\"  \",IF(ISBLANK(I12),\" \",IF(ISBLANK(I18),\" \",ROUND((I18+I13)/I11*100,0))))","v":"  "},null,null,{"$f":"IF(ISBLANK(L11),\"  \",IF(ISBLANK(L12),\" \",IF(ISBLANK(L18),\" \",ROUND((L18+L13)/L11*100,0))))","v":"  "},null,null,null,{"$f":"IF(ISTEXT($M24),NA(),$M24)","v":{"$error":"#N/A"}},{"$f":"IF(ISBLANK($N24),NA(),$N24)","v":{"$error":"#N/A"}},{"$f":"IF(ISTEXT($M23),NA(),$M23)","v":{"$error":"#N/A"}},{"$f":"IF(ISBLANK($N23),NA(),$N23)","v":{"$error":"#N/A"}}]
[0.5,{"$f":"IF(ISBLANK('S1'!B19),\" \",'S1'!B19)","v":" "},null,{"$f":"IF(ISBLANK(C11),\"  \",IF(ISBLANK(C12),\" \",IF(ISBLANK(C19),\" \",ROUND((C19+C13)/C11*100,0))))","v":"  "},null,null,{"$f":"IF(ISBLANK(F11),\"  \",IF(ISBLANK(F12),\" \",IF(ISBLANK(F19),\" \",ROUND((F19+F13)/F11*100,0))))","v":"  "},null,null,{"$f":"IF(ISBLANK(I11),\"  \",IF(ISBLANK(I12),\" \",IF(ISBLANK(I19),\" \",ROUND((I19+I13)/I11*100,0))))","v":"  "},null,null,{"$f":"IF(ISBLANK(L11),\"  \",IF(ISBLANK(L12),\" \",IF(ISBLANK(L19),\" \",ROUND((L19+L13)/L11*100,0))))","v":"  "}]
[0.375,{"$f":"IF(ISBLANK('S1'!B20),\" \",'S1'!B20)","v":" "},null,{"$f":"IF(ISBLANK(C11),\"  \",IF(ISBLANK(C12),\" \",IF(ISBLANK(C20),\" \",ROUND((C20+C13)/C11*100,0))))","v":"  "},null,null,{"$f":"IF(ISBLANK(F11),\"  \",IF(ISBLANK(F12),\" \",IF(ISBLANK(F20),\" \",ROUND((F20+F13)/F11*100,0))))","v":"  "},null,null,{"$f":"IF(ISBLANK(I11),\"  \",IF(ISBLANK(I12),\" \",IF(ISBLANK(I20),\" \",ROUND((I20+I13)/I11*100,0))))","v":"  "},null,null,{"$f":"IF(ISBLANK(L11),\"  \",IF(ISBLANK(L12),\" \",IF(ISBLANK(L20),\" \",ROUND((L20+L13)/L11*100,0))))","v":"  "},null,null,null,8,null,4]
[4,{"$f":"IF(ISBLANK('S1'!B21),\" \",'S1'!B21)","v":" "},null,{"$f":"IF(ISBLANK(C11),\"  \",IF(ISBLANK(C12),\" \",IF(ISBLANK(C21),\" \",ROUND((C21+C13)/C11*100,0))))","v":"  "},null,null,{"$f":"IF(ISBLANK(F11),\"  \",IF(ISBLANK(F12),\" \",IF(ISBLANK(F21),\" \",ROUND((F21+F13)/F11*100,0))))","v":"  "},null,null,{"$f":"IF(ISBLANK(I11),\"  \",IF(ISBLANK(I12),\" \",IF(ISBLANK(I21),\" \",ROUND((I21+I13)/I11*100,0))))","v":"  "},null,null,{"$f":"IF(ISBLANK(L11),\"  \",IF(ISBLANK(L12),\" \",IF(ISBLANK(L21),\" \",ROUND((L21+L13)/L11*100,0))))","v":"  "},null,null,null,{"$f":"IF(ISTEXT($D22),NA(),$D22)","v":{"$error":"#N/A"}},{"$f":"IF(ISBLANK($E22),NA(),$E22)","v":{"$error":"#N/A"}},{"$f":"IF(ISTEXT($D21),NA(),$D21)","v":{"$error":"#N/A"}},{"$f":"IF(ISBLANK($E21),NA(),$E21)","v":{"$error":"#N/A"}}]
[8,{"$f":"IF(ISBLANK('S1'!B22),\" \",'S1'!B22)","v":" "},null,{"$f":"IF(ISBLANK(C11),\"  \",IF(ISBLANK(C12),\" \",IF(ISBLANK(C22),\" \",ROUND((C22+C13)/C11*100,0))))","v":"  "},null,null,{"$f":"IF(ISBLANK(F11),\"  \",IF(ISBLANK(F12),\" \",IF(ISBLANK(F22),\" \",ROUND((F22+F13)/F11*100,0))))","v":"  "},null,null,{"$f":"IF(ISBLANK(I11),\"  \",IF(ISBLANK(I12),\" \",IF(ISBLANK(I22),\" \",ROUND((I22+I13)/I11*100,0))))","v":"  "},null,null,{"$f":"IF(ISBLANK(L11),\"  \",IF(ISBLANK(L12),\" \",IF(ISBLANK(L22),\" \",ROUND((L22+L13)/L11*100,0))))","v":"  "},null,null,null,{"$f":"IF(ISTEXT($G22),NA(),$G22)","v":{"$error":"#N/A"}},{"$f":"IF(ISBLANK($H22),NA(),$H22)","v":{"$error":"#N/A"}},{"$f":"IF(ISTEXT($G21),NA(),$G21)","v":{"$error":"#N/A"}},{"$f":"IF(ISBLANK($H21),NA(),$H21)","v":{"$error":"#N/A"}}]
[16,{"$f":"IF(ISBLANK('S1'!B23),\" \",'S1'!B23)","v":" "},null,{"$f":"IF(ISBLANK(C11),\"  \",IF(ISBLANK(C12),\" \",IF(ISBLANK(C23),\" \",ROUND((C23+C13)/C11*100,0))))","v":"  "},null,null,{"$f":"IF(ISBLANK(F11),\"  \",IF(ISBLANK(F12),\" \",IF(ISBLANK(F23),\" \",ROUND((F23+F13)/F11*100,0))))","v":"  "},null,null,{"$f":"IF(ISBLANK(I11),\"  \",IF(ISBLANK(I12),\" \",IF(ISBLANK(I23),\" \",ROUND((I23+I13)/I11*100,0))))","v":"  "},null,null,{"$f":"IF(ISBLANK(L11),\"  \",IF(ISBLANK(L12),\" \",IF(ISBLANK(L23),\" \",ROUND((L23+L13)/L11*100,0))))","v":"  "},null,null,null,{"$f":"IF(ISTEXT($J22),NA(),$J22)","v":{"$error":"#N/A"}},{"$f":"IF(ISBLANK($K22),NA(),$K22)","v":{"$error":"#N/A"}},{"$f":"IF(ISTEXT($J21),NA(),$J21)","v":{"$error":"#N/A"}},{"$f":"IF(ISBLANK($K21),NA(),$K21)","v":{"$error":"#N/A"}}]
[30,{"$f":"IF(ISBLANK('S1'!B24),\" \",'S1'!B24)","v":" "},null,{"$f":"IF(ISBLANK(C11),\"  \",IF(ISBLANK(C12),\" \",IF(ISBLANK(C24),\" \",ROUND((C24+C13)/C11*100,0))))","v":"  "},null,null,{"$f":"IF(ISBLANK(F11),\"  \",IF(ISBLANK(F12),\" \",IF(ISBLANK(F24),\" \",ROUND((F24+F13)/F11*100,0))))","v":"  "},null,null,{"$f":"IF(ISBLANK(I11),\"  \",IF(ISBLANK(I12),\" \",IF(ISBLANK(I24),\" \",ROUND((I24+I13)/I11*100,0))))","v":"  "},null,null,{"$f":"IF(ISBLANK(L11),\"  \",IF(ISBLANK(L12),\" \",IF(ISBLANK(L24),\" \",ROUND((L24+L13)/L11*100,0))))","v":"  "},null,null,null,{"$f":"IF(ISTEXT($M22),NA(),$M22)","v":{"$error":"#N/A"}},{"$f":"IF(ISBLANK($N22),NA(),$N22)","v":{"$error":"#N/A"}},{"$f":"IF(ISTEXT($M21),NA(),$M21)","v":{"$error":"#N/A"}},{"$f":"IF(ISBLANK($N21),NA(),$N21)","v":{"$error":"#N/A"}}]
[50,{"$f":"IF(ISBLANK('S1'!B25),\" \",'S1'!B25)","v":" "},null,{"$f":"IF(ISBLANK(C11),\"  \",IF(ISBLANK(C12),\" \",IF(ISBLANK(C25),\" \",ROUND((C25+C13)/C11*100,0))))","v":"  "},null,null,{"$f":"IF(ISBLANK(F11),\"  \",IF(ISBLANK(F12),\" \",IF(ISBLANK(F25),\" \",ROUND((F25+F13)/F11*100,0))))","v":"  "},null,null,{"$f":"IF(ISBLANK(I11),\"  \",IF(ISBLANK(I12),\" \",IF(ISBLANK(I25),\" \",ROUND((I25+I13)/I11*100,0))))","v":"  "},null,null,{"$f":"IF(ISBLANK(L11),\"  \",IF(ISBLANK(L12),\" \",IF(ISBLANK(L25),\" \",ROUND((L25+L13)/L11*100,0))))","v":"  "}]
[100,{"$f":"IF(ISBLANK('S1'!B26),\" \",'S1'!B26)","v":" "},null,{"$f":"IF(ISBLANK(C11),\"  \",IF(ISBLANK(C12),\" \",IF(ISBLANK(C26),\" \",ROUND((C26+C13)/C11*100,0))))","v":"  "},null,null,{"$f":"IF(ISBLANK(F11),\"  \",IF(ISBLANK(F12),\" \",IF(ISBLANK(F26),\" \",ROUND((F26+F13)/F11*100,0))))","v":"  "},null,null,{"$f":"IF(ISBLANK(I11),\"  \",IF(ISBLANK(I12),\" \",IF(ISBLANK(I26),\" \",ROUND((I26+I13)/I11*100,0))))","v":"  "},null,null,{"$f":"IF(ISBLANK(L11),\"  \",IF(ISBLANK(L12),\" \",IF(ISBLANK(L26),\" \",ROUND((L26+L13)/L11*100,0))))","v":"  "},null,null,null,0.375,null,0.5]
[200,{"$f":"IF(ISBLANK('S1'!B27),\" \",'S1'!B27)","v":" "},null,{"$f":"IF(ISBLANK(C11),\"  \",IF(ISBLANK(C12),\" \",IF(ISBLANK(C27),\" \",ROUND((C27+C13)/C11*100+$D$8,1))))","v":"  "},null,null,{"$f":"IF(ISBLANK(F11),\"  \",IF(ISBLANK(F12),\" \",IF(ISBLANK(F27),\" \",ROUND((F27+F13)/F11*100+$D$8,1))))","v":"  "},null,null,{"$f":"IF(ISBLANK(I11),\"  \",IF(ISBLANK(I12),\" \",IF(ISBLANK(I27),\" \",ROUND((I27+I13)/I11*100+$D$8,1))))","v":"  "},null,null,{"$f":"IF(ISBLANK(L11),\"  \",IF(ISBLANK(L12),\" \",IF(ISBLANK(L27),\" \",ROUND((L27+L13)/L11*100+$D$8,1))))","v":"  "},null,null,null,{"$f":"IF(ISTEXT($D20),NA(),$D20)","v":{"$error":"#N/A"}},{"$f":"IF(ISBLANK($E20),NA(),$E20)","v":{"$error":"#N/A"}},{"$f":"IF(ISTEXT($D19),NA(),$D19)","v":{"$error":"#N/A"}},{"$f":"IF(ISBLANK($E19),NA(),$E19)","v":{"$error":"#N/A"}}]
["%AC",{"$f":"IF(ISBLANK('S1'!B28),\" \",'S1'!B28)","v":" "},null,null,null,null,null,null,null,null,null,null,null,null,null,null,{"$f":"IF(ISTEXT($G20),NA(),$G20)","v":{"$error":"#N/A"}},{"$f":"IF(ISBLANK($H20),NA(),$H20)","v":{"$error":"#N/A"}},{"$f":"IF(ISTEXT($G19),NA(),$G19)","v":{"$error":"#N/A"}},{"$f":"IF(ISBLANK($H19),NA(),$H19)","v":{"$error":"#N/A"}}]
["Tested By",null,null,null,null,null,null,null,null,null,null,null,null,null,null,null,{"$f":"IF(ISTEXT($J20),NA(),$J20)","v":{"$error":"#N/A"}},{"$f":"IF(ISBLANK($K20),NA(),$K20)","v":{"$error":"#N/A"}},{"$f":"IF(ISTEXT($J19),NA(),$J19)","v":{"$error":"#N/A"}},{"$f":"IF(ISBLANK($K19),NA(),$K19)","v":{"$error":"#N/A"}}]
["Remarks                                                                                                                                                             ",null,null,null,null,null,null,null,null,null,null,null,null,null,null,null,{"$f":"IF(ISTEXT($M20),NA(),$M20)","v":{"$error":"#N/A"}},{"$f":"IF(ISBLANK($N20),NA(),$N20)","v":{"$error":"#N/A"}},{"$f":"IF(ISTEXT($M19),NA(),$M19)","v":{"$error":"#N/A"}},{"$f":"IF(ISBLANK($N19),NA(),$N19)","v":{"$error":"#N/A"}}]
[]
[null,null,null,null,null,null,null,null,null,null,null,null,null,null,null,null,0.75,null,1]
[null,null,null,null,null,null,null,null,null,null,null,null,null,null,null,null,{"$f":"IF(ISTEXT($D18),NA(),$D18)","v":{"$error":"#N/A"}},{"$f":"IF(ISBLANK($E18),NA(),$E18)","v":{"$error":"#N/A"}},{"$f":"IF(ISTEXT($D17),NA(),$D17)","v":{"$error":"#N/A"}},{"$f":"IF(ISBLANK($E17),NA(),$E17)","v":{"$error":"#N/A"}}]
[null,null,null,null,null,null,null,null,null,null,null,null,null,null,null,null,{"$f":"IF(ISTEXT($G18),NA(),$G18)","v":{"$error":"#N/A"}},{"$f":"IF(ISBLANK($H18),NA(),$H18)","v":{"$error":"#N/A"}},{"$f":"IF(ISTEXT($G17),NA(),$G17)","v":{"$error":"#N/A"}},{"$f":"IF(ISBLANK($H17),NA(),$H17)","v":{"$error":"#N/A"}}]
[null,null,null,null,null,null,null,null,null,null,null,null,null,null,null,null,{"$f":"IF(ISTEXT($J18),NA(),$J18)","v":{"$error":"#N/A"}},{"$f":"IF(ISBLANK($K18),NA(),$K18)","v":{"$error":"#N/A"}},{"$f":"IF(ISTEXT($J17),NA(),$J17)","v":{"$error":"#N/A"}},{"$f":"IF(ISBLANK($K17),NA(),$K17)","v":{"$error":"#N/A"}}]
[null,null,null,null,null,null,null,null,null,null,null,null,null,null,null,null,{"$f":"IF(ISTEXT($M18),NA(),$M18)","v":{"$error":"#N/A"}},{"$f":"IF(ISBLANK($N18),NA(),$N18)","v":{"$error":"#N/A"}},{"$f":"IF(ISTEXT($M17),NA(),$M17)","v":{"$error":"#N/A"}},{"$f":"IF(ISBLANK($N17),NA(),$N17)","v":{"$error":"#N/A"}}]
[]
[0.5,{"$f":"IF(B19>99,84,B19-10)","v":84},{"$f":"IF(B19>99,100,B19+10)","v":100},{"$f":"'S17'!U8","v":{"$error":"#N/A"}},{"$f":"'S17'!U9","v":{"$error":"#N/A"}},{"$f":"'S17'!U10","v":{"$error":"#N/A"}},{"$f":"'S17'!U11","v":{"$error":"#N/A"}},{"$f":"'S17'!U12","v":{"$error":"#N/A"}},{"$f":"'S17'!U13","v":{"$error":"#N/A"}}]
["#4",{"$f":"B21-8","v":{"$error":"#VALUE!"}},{"$f":"B21+8","v":{"$error":"#VALUE!"}},{"$f":"'S17'!Q8","v":{"$error":"#N/A"}},{"$f":"'S17'!Q9","v":{"$error":"#N/A"}},{"$f":"'S17'!Q10","v":{"$error":"#N/A"}},{"$f":"'S17'!Q11","v":{"$error":"#N/A"}},{"$f":"'S17'!Q12","v":{"$error":"#N/A"}},{"$f":"'S17'!Q13","v":{"$error":"#N/A"}}]
["#8",{"$f":"B22-6","v":{"$error":"#VALUE!"}},{"$f":"B22+6","v":{"$error":"#VALUE!"}},{"$f":"'S17'!O8","v":{"$error":"#N/A"}},{"$f":"'S17'!O9","v":{"$error":"#N/A"}},{"$f":"'S17'!O10","v":{"$error":"#N/A"}},{"$f":"'S17'!O11","v":{"$error":"#N/A"}},{"$f":"'S17'!O12","v":{"$error":"#N/A"}},{"$f":"'S17'!O13","v":{"$error":"#N/A"}}]
["#200",{"$f":"B27-2","v":{"$error":"#VALUE!"}},{"$f":"B27+2","v":{"$error":"#VALUE!"}},{"$f":"'S17'!E8","v":{"$error":"#N/A"}},{"$f":"'S17'!E9","v":{"$error":"#N/A"}},{"$f":"'S17'!E10","v":{"$error":"#N/A"}},{"$f":"'S17'!E11","v":{"$error":"#N/A"}},{"$f":"'S17'!E12","v":{"$error":"#N/A"}},{"$f":"'S17'!E13","v":{"$error":"#N/A"}}]
["AC",{"$f":"B28-0.4","v":{"$error":"#VALUE!"}},{"$f":"B28+0.4","v":{"$error":"#VALUE!"}},{"$f":"'S17'!C8","v":{"$error":"#N/A"}},{"$f":"'S17'!C9","v":{"$error":"#N/A"}},{"$f":"'S17'!C10","v":{"$error":"#N/A"}},{"$f":"'S17'!C11","v":{"$error":"#N/A"}},{"$f":"'S17'!C12","v":{"$error":"#N/A"}},{"$f":"'S17'!C13","v":{"$error":"#N/A"}}]
["See Charts Below",null,null,null,null,null,null,null,null,null,null,null,null,null,null,null,1.5,null,2]
[null,null,null,null,null,null,null,null,null,null,null,null,null,null,null,null,{"$f":"IF(ISTEXT($D16),NA(),$D16)","v":{"$error":"#N/A"}},{"$f":"IF(ISBLANK($E16),NA(),$E16)","v":{"$error":"#N/A"}},{"$f":"IF(ISTEXT($D15),NA(),$D15)","v":{"$error":"#N/A"}},{"$f":"IF(ISBLANK($E15),NA(),$E15)","v":{"$error":"#N/A"}}]
[null,null,null,null,null,null,null,null,null,null,null,null,null,null,null,null,{"$f":"IF(ISTEXT($G16),NA(),$G16)","v":{"$error":"#N/A"}},{"$f":"IF(ISBLANK($H16),NA(),$H16)","v":{"$error":"#N/A"}},{"$f":"IF(ISTEXT($G15),NA(),$G15)","v":{"$error":"#N/A"}},{"$f":"IF(ISBLANK($H15),NA(),$H15)","v":{"$error":"#N/A"}}]
[null,null,null,null,null,null,null,null,null,null,null,null,null,null,null,null,{"$f":"IF(ISTEXT($J16),NA(),$J16)","v":{"$error":"#N/A"}},{"$f":"IF(ISBLANK($K16),NA(),$K16)","v":{"$error":"#N/A"}},{"$f":"IF(ISTEXT($J15),NA(),$J15)","v":{"$error":"#N/A"}},{"$f":"IF(ISBLANK($K15),NA(),$K15)","v":{"$error":"#N/A"}}]
[null,null,null,null,null,null,null,null,null,null,null,null,null,null,null,null,{"$f":"IF(ISTEXT($M16),NA(),$M16)","v":{"$error":"#N/A"}},{"$f":"IF(ISBLANK($N16),NA(),$N16)","v":{"$error":"#N/A"}},{"$f":"IF(ISTEXT($M15),NA(),$M15)","v":{"$error":"#N/A"}},{"$f":"IF(ISBLANK($N15),NA(),$N15)","v":{"$error":"#N/A"}}]
[]
[]
[]
[]
[]
[]
[]
[]
[]
[]
[]
[]
[]
[]
[]
[]
[]
[]
[]
[]
[]
[null,null,null,null,null,null,null,null,null,null,null,200]

{"sheet":"C1-24","index":17,"n_rows":5,"n_cols":10,"rows_kept":5,"cut":false,"hidden":false,"merged":[[2,2,2,6],[4,0,4,1],[4,9,4,10],[4,7,4,8],[0,0,3,1],[1,7,1,8],[1,9,1,10],[3,2,3,6],[2,7,2,8],[2,9,2,10],[1,2,1,6]]}
[null,null,{"$f":"'S1'!A5","v":"ESB-16"}]
[null,null,"COMMONWEALTH OF PENNSYLVANIA",null,null,null,null,"DISTRICT",null,{"$f":"IF(ISBLANK('S1'!M2),\" \",'S1'!M2)","v":" "}]
[null,null,"DEPARTMENT OF TRANSPORTATION",null,null,null,null,"PLANT CODE",null,{"$f":"IF(ISBLANK('S1'!M3),\" \",'S1'!M3)","v":" "}]
[null,null,"LABORATORY TEST SECTION"]
["Material Class",null,{"$f":"IF(ISBLANK('S1'!C6),\" \",'S1'!C6)","v":9.5},"mm",null,null,null,"Design No.",null,{"$f":"IF(ISBLANK('S1'!M6),\" \",'S1'!M6)","v":" "}]

{"sheet":"C25-48","index":18,"n_rows":6,"n_cols":10,"rows_kept":6,"cut":false,"hidden":true,"merged":[[3,2,3,6],[5,0,5,1],[5,7,5,8],[5,9,5,10],[0,0,3,1],[1,2,1,6],[1,7,1,8],[1,9,1,10],[2,2,2,6],[2,7,2,8],[2,9,2,10]]}
[null,null,{"$f":"'S1'!A5","v":"ESB-16"}]
[null,null,"COMMONWEALTH OF PENNSYLVANIA",null,null,null,null,"DISTRICT",null,{"$f":"IF(ISBLANK('S1'!M2),\" \",'S1'!M2)","v":" "}]
[null,null,"DEPARTMENT OF TRANSPORTATION",null,null,null,null,"PLANT CODE",null,{"$f":"IF(ISBLANK('S1'!M3),\" \",'S1'!M3)","v":" "}]
[null,null,"LABORATORY TEST SECTION"]
[]
["Material Class",null,{"$f":"IF(ISBLANK('S1'!C6),\" \",'S1'!C6)","v":9.5},"mm",null,null,null,"Design No.",null,{"$f":"IF(ISBLANK('S1'!M6),\" \",'S1'!M6)","v":" "}]

{"sheet":"C49-72","index":19,"n_rows":6,"n_cols":10,"rows_kept":6,"cut":false,"hidden":true,"merged":[[2,2,2,6],[2,7,2,8],[2,9,2,10],[3,2,3,6],[5,0,5,1],[5,7,5,8],[5,9,5,10],[4,7,4,8],[4,9,4,10],[0,0,3,1],[1,2,1,6],[1,7,1,8],[1,9,1,10]]}
[null,null,{"$f":"'S1'!A5","v":"ESB-16"}]
[null,null,"COMMONWEALTH OF PENNSYLVANIA",null,null,null,null,"DISTRICT",null,{"$f":"IF(ISBLANK('S1'!M2),\" \",'S1'!M2)","v":" "}]
[null,null,"DEPARTMENT OF TRANSPORTATION",null,null,null,null,"PLANT CODE",null,{"$f":"IF(ISBLANK('S1'!M3),\" \",'S1'!M3)","v":" "}]
[null,null,"LABORATORY TEST SECTION"]
[]
["Material Class",null,{"$f":"IF(ISBLANK('S1'!C6),\" \",'S1'!C6)","v":9.5},"mm",null,null,null,"Design No.",null,{"$f":"IF(ISBLANK('S1'!M6),\" \",'S1'!M6)","v":" "}]

{"sheet":"C73-96","index":20,"n_rows":6,"n_cols":10,"rows_kept":6,"cut":false,"hidden":true,"merged":[[5,0,5,1],[5,7,5,8],[5,9,5,10],[0,0,3,1],[1,2,1,6],[1,7,1,8],[1,9,1,10],[2,2,2,6],[2,7,2,8],[2,9,2,10],[3,2,3,6],[4,7,4,8],[4,9,4,10]]}
[null,null,{"$f":"'S1'!A5","v":"ESB-16"}]
[null,null,"COMMONWEALTH OF PENNSYLVANIA",null,null,null,null,"DISTRICT",null,{"$f":"IF(ISBLANK('S1'!M2),\" \",'S1'!M2)","v":" "}]
[null,null,"DEPARTMENT OF TRANSPORTATION",null,null,null,null,"PLANT CODE",null,{"$f":"IF(ISBLANK('S1'!M3),\" \",'S1'!M3)","v":" "}]
[null,null,"LABORATORY TEST SECTION"]
[]
["Material Class",null,{"$f":"IF(ISBLANK('S1'!C6),\" \",'S1'!C6)","v":9.5},"mm",null,null,null,"Design No.",null,{"$f":"IF(ISBLANK('S1'!M6),\" \",'S1'!M6)","v":" "}]

{"sheet":"S17","index":21,"n_rows":130,"n_cols":30,"rows_kept":130,"cut":false,"hidden":true,"merged":[[120,0,120,9],[0,19,0,20],[0,15,0,16],[0,13,0,14],[0,3,0,4],[0,1,0,2],[0,5,0,6],[0,7,0,8],[0,27,0,28],[0,9,0,10],[0,21,0,22],[0,23,0,24],[0,25,0,26],[0,11,0,12],[0,17,0,18]]}
["Samp No","AC",null,200,null,100,null,50,null,30,null,16,null,8,null,4,null,0.375,null,0.5,null,0.75,null,1,null,1.5,null,2]
[{"$f":"IF(ISBLANK('S1'!C9),\" \",('S1'!$C$9))","v":" "},{"$f":"IF(ISBLANK('S1'!$C$28),NA(),'S1'!$C$28)","v":{"$error":"#N/A"}},{"$f":"B2","v":{"$error":"#N/A"}},{"$f":"IF(ISTEXT('S1'!$D$27),NA(),'S1'!$D$27)","v":{"$error":"#N/A"}},{"$f":"D2","v":{"$error":"#N/A"}},{"$f":"IF(ISTEXT('S1'!$D$26),NA(),'S1'!$D$26)","v":{"$error":"#N/A"}},{"$f":"F2","v":{"$error":"#N/A"}},{"$f":"IF(ISTEXT('S1'!$D$25),NA(),'S1'!$D$25)","v":{"$error":"#N/A"}},{"$f":"H2","v":{"$error":"#N/A"}},{"$f":"IF(ISTEXT('S1'!$D$24),NA(),'S1'!$D$24)","v":{"$error":"#N/A"}},{"$f":"J2","v":{"$error":"#N/A"}},{"$f":"IF(ISTEXT('S1'!$D$23),NA(),'S1'!$D$23)","v":{"$error":"#N/A"}},{"$f":"L2","v":{"$error":"#N/A"}},{"$f":"IF(ISTEXT('S1'!$D$22),NA(),'S1'!$D$22)","v":{"$error":"#N/A"}},{"$f":"N2","v":{"$error":"#N/A"}},{"$f":"IF(ISTEXT('S1'!$D$21),NA(),'S1'!$D$21)","v":{"$error":"#N/A"}},{"$f":"P2","v":{"$error":"#N/A"}},{"$f":"IF(ISTEXT('S1'!$D$20),NA(),'S1'!$D$20)","v":{"$error":"#N/A"}},{"$f":"R2","v":{"$error":"#N/A"}},{"$f":"IF(ISTEXT('S1'!$D$19),NA(),'S1'!$D$19)","v":{"$error":"#N/A"}},{"$f":"T2","v":{"$error":"#N/A"}},{"$f":"IF(ISTEXT('S1'!$D$18),NA(),'S1'!$D$18)","v":{"$error":"#N/A"}},{"$f":"V2","v":{"$error":"#N/A"}},{"$f":"IF(ISTEXT('S1'!$D$17),NA(),'S1'!$D$17)","v":{"$error":"#N/A"}},{"$f":"X2","v":{"$error":"#N/A"}},{"$f":"IF(ISTEXT('S1'!$D$16),NA(),'S1'!$D$16)","v":{"$error":"#N/A"}},{"$f":"Z2","v":{"$error":"#N/A"}},{"$f":"IF(ISTEXT('S1'!$D$15),NA(),'S1'!$D$15)","v":{"$error":"#N/A"}},{"$f":"AB2","v":{"$error":"#N/A"}},1]
[{"$f":"IF(ISBLANK('S1'!E9),\" \",('S1'!$E$9))","v":" "},{"$f":"IF(ISBLANK('S1'!$E$28),NA(),'S1'!$E$28)","v":{"$error":"#N/A"}},{"$f":"ROUND(AVERAGE(B2:B3),1)","v":{"$error":"#N/A"}},{"$f":"IF(ISTEXT('S1'!$F$27),NA(),'S1'!$F$27)","v":{"$error":"#N/A"}},{"$f":"ROUND(AVERAGE(D2:D3),1)","v":{"$error":"#N/A"}},{"$f":"IF(ISTEXT('S1'!$F$26),NA(),'S1'!$F$26)","v":{"$error":"#N/A"}},{"$f":"ROUND(AVERAGE(F2:F3),0)","v":{"$error":"#N/A"}},{"$f":"IF(ISTEXT('S1'!$F$25),NA(),'S1'!$F$25)","v":{"$error":"#N/A"}},{"$f":"ROUND(AVERAGE(H2:H3),0)","v":{"$error":"#N/A"}},{"$f":"IF(ISTEXT('S1'!$F$24),NA(),'S1'!$F$24)","v":{"$error":"#N/A"}},{"$f":"ROUND(AVERAGE(J2:J3),0)","v":{"$error":"#N/A"}},{"$f":"IF(ISTEXT('S1'!$F$23),NA(),'S1'!$F$23)","v":{"$error":"#N/A"}},{"$f":"ROUND(AVERAGE(L2:L3),0)","v":{"$error":"#N/A"}},{"$f":"IF(ISTEXT('S1'!$F$22),NA(),'S1'!$F$22)","v":{"$error":"#N/A"}},{"$f":"ROUND(AVERAGE(N2:N3),0)","v":{"$error":"#N/A"}},{"$f":"IF(ISTEXT('S1'!$F$21),NA(),'S1'!$F$21)","v":{"$error":"#N/A"}},{"$f":"ROUND(AVERAGE(P2:P3),0)","v":{"$error":"#N/A"}},{"$f":"IF(ISTEXT('S1'!$F$20),NA(),'S1'!$F$20)","v":{"$error":"#N/A"}},{"$f":"ROUND(AVERAGE(R2:R3),0)","v":{"$error":"#N/A"}},{"$f":"IF(ISTEXT('S1'!$F$19),NA(),'S1'!$F$19)","v":{"$error":"#N/A"}},{"$f":"ROUND(AVERAGE(T2:T3),0)","v":{"$error":"#N/A"}},{"$f":"IF(ISTEXT('S1'!$F$18),NA(),'S1'!$F$18)","v":{"$error":"#N/A"}},{"$f":"ROUND(AVERAGE(V2:V3),0)","v":{"$error":"#N/A"}},{"$f":"IF(ISTEXT('S1'!$F$17),NA(),'S1'!$F$17)","v":{"$error":"#N/A"}},{"$f":"ROUND(AVERAGE(X2:X3),0)","v":{"$error":"#N/A"}},{"$f":"IF(ISTEXT('S1'!$F$16),NA(),'S1'!$F$16)","v":{"$error":"#N/A"}},{"$f":"ROUND(AVERAGE(Z2:Z3),0)","v":{"$error":"#N/A"}},{"$f":"IF(ISTEXT('S1'!$F$15),NA(),'S1'!$F$15)","v":{"$error":"#N/A"}},{"$f":"ROUND(AVERAGE(AB2:AB3),0)","v":{"$error":"#N/A"}},2]
[{"$f":"IF(ISBLANK('S1'!G9),\" \",('S1'!$G$9))","v":" "},{"$f":"IF(ISBLANK('S1'!$G$28),NA(),'S1'!$G$28)","v":{"$error":"#N/A"}},{"$f":"ROUND(AVERAGE(B2:B4),1)","v":{"$error":"#N/A"}},{"$f":"IF(ISTEXT('S1'!$H$27),NA(),'S1'!$H$27)","v":{"$error":"#N/A"}},{"$f":"ROUND(AVERAGE(D2:D4),1)","v":{"$error":"#N/A"}},{"$f":"IF(ISTEXT('S1'!$H$26),NA(),'S1'!$H$26)","v":{"$error":"#N/A"}},{"$f":"ROUND(AVERAGE(F2:F4),0)","v":{"$error":"#N/A"}},{"$f":"IF(ISTEXT('S1'!$H$25),NA(),'S1'!$H$25)","v":{"$error":"#N/A"}},{"$f":"ROUND(AVERAGE(H2:H4),0)","v":{"$error":"#N/A"}},{"$f":"IF(ISTEXT('S1'!$H$24),NA(),'S1'!$H$24)","v":{"$error":"#N/A"}},{"$f":"ROUND(AVERAGE(J2:J4),0)","v":{"$error":"#N/A"}},{"$f":"IF(ISTEXT('S1'!$H$23),NA(),'S1'!$H$23)","v":{"$error":"#N/A"}},{"$f":"ROUND(AVERAGE(L2:L4),0)","v":{"$error":"#N/A"}},{"$f":"IF(ISTEXT('S1'!$H$22),NA(),'S1'!$H$22)","v":{"$error":"#N/A"}},{"$f":"ROUND(AVERAGE(N2:N4),0)","v":{"$error":"#N/A"}},{"$f":"IF(ISTEXT('S1'!$H$21),NA(),'S1'!$H$21)","v":{"$error":"#N/A"}},{"$f":"ROUND(AVERAGE(P2:P4),0)","v":{"$error":"#N/A"}},{"$f":"IF(ISTEXT('S1'!$H$20),NA(),'S1'!$H$20)","v":{"$error":"#N/A"}},{"$f":"ROUND(AVERAGE(R2:R4),0)","v":{"$error":"#N/A"}},{"$f":"IF(ISTEXT('S1'!$H$19),NA(),'S1'!$H$19)","v":{"$error":"#N/A"}},{"$f":"ROUND(AVERAGE(T2:T4),0)","v":{"$error":"#N/A"}},{"$f":"IF(ISTEXT('S1'!$H$18),NA(),'S1'!$H$18)","v":{"$error":"#N/A"}},{"$f":"ROUND(AVERAGE(V2:V4),0)","v":{"$error":"#N/A"}},{"$f":"IF(ISTEXT('S1'!$H$17),NA(),'S1'!$H$17)","v":{"$error":"#N/A"}},{"$f":"ROUND(AVERAGE(X2:X4),0)","v":{"$error":"#N/A"}},{"$f":"IF(ISTEXT('S1'!$H$16),NA(),'S1'!$H$16)","v":{"$error":"#N/A"}},{"$f":"ROUND(AVERAGE(Z2:Z4),0)","v":{"$error":"#N/A"}},{"$f":"IF(ISTEXT('S1'!$H$15),NA(),'S1'!$H$15)","v":{"$error":"#N/A"}},{"$f":"ROUND(AVERAGE(AB2:AB4),0)","v":{"$error":"#N/A"}},3]
[{"$f":"IF(ISBLANK('S1'!I9),\" \",('S1'!$I$9))","v":" "},{"$f":"IF(ISBLANK('S1'!$I$28),NA(),'S1'!$I$28)","v":{"$error":"#N/A"}},{"$f":"ROUND(AVERAGE(B2:B5),1)","v":{"$error":"#N/A"}},{"$f":"IF(ISTEXT('S1'!$J$27),NA(),'S1'!$J$27)","v":{"$error":"#N/A"}},{"$f":"ROUND(AVERAGE(D2:D5),1)","v":{"$error":"#N/A"}},{"$f":"IF(ISTEXT('S1'!$J$26),NA(),'S1'!$J$26)","v":{"$error":"#N/A"}},{"$f":"ROUND(AVERAGE(F2:F5),0)","v":{"$error":"#N/A"}},{"$f":"IF(ISTEXT('S1'!$J$25),NA(),'S1'!$J$25)","v":{"$error":"#N/A"}},{"$f":"ROUND(AVERAGE(H2:H5),0)","v":{"$error":"#N/A"}},{"$f":"IF(ISTEXT('S1'!$J$24),NA(),'S1'!$J$24)","v":{"$error":"#N/A"}},{"$f":"ROUND(AVERAGE(J2:J5),0)","v":{"$error":"#N/A"}},{"$f":"IF(ISTEXT('S1'!$J$23),NA(),'S1'!$J$23)","v":{"$error":"#N/A"}},{"$f":"ROUND(AVERAGE(L2:L5),0)","v":{"$error":"#N/A"}},{"$f":"IF(ISTEXT('S1'!$J$22),NA(),'S1'!$J$22)","v":{"$error":"#N/A"}},{"$f":"ROUND(AVERAGE(N2:N5),0)","v":{"$error":"#N/A"}},{"$f":"IF(ISTEXT('S1'!$J$21),NA(),'S1'!$J$21)","v":{"$error":"#N/A"}},{"$f":"ROUND(AVERAGE(P2:P5),0)","v":{"$error":"#N/A"}},{"$f":"IF(ISTEXT('S1'!$J$20),NA(),'S1'!$J$20)","v":{"$error":"#N/A"}},{"$f":"ROUND(AVERAGE(R2:R5),0)","v":{"$error":"#N/A"}},{"$f":"IF(ISTEXT('S1'!$J$19),NA(),'S1'!$J$19)","v":{"$error":"#N/A"}},{"$f":"ROUND(AVERAGE(T2:T5),0)","v":{"$error":"#N/A"}},{"$f":"IF(ISTEXT('S1'!$J$18),NA(),'S1'!$J$18)","v":{"$error":"#N/A"}},{"$f":"ROUND(AVERAGE(V2:V5),0)","v":{"$error":"#N/A"}},{"$f":"IF(ISTEXT('S1'!$J$17),NA(),'S1'!$J$17)","v":{"$error":"#N/A"}},{"$f":"ROUND(AVERAGE(X2:X5),0)","v":{"$error":"#N/A"}},{"$f":"IF(ISTEXT('S1'!$J$16),NA(),'S1'!$J$16)","v":{"$error":"#N/A"}},{"$f":"ROUND(AVERAGE(Z2:Z5),0)","v":{"$error":"#N/A"}},{"$f":"IF(ISTEXT('S1'!$J$15),NA(),'S1'!$J$15)","v":{"$error":"#N/A"}},{"$f":"ROUND(AVERAGE(AB2:AB5),0)","v":{"$error":"#N/A"}},4]
[{"$f":"IF(ISBLANK('S1'!K9),\" \",('S1'!$K$9))","v":" "},{"$f":"IF(ISBLANK('S1'!$K$28),NA(),'S1'!$K$28)","v":{"$error":"#N/A"}},{"$f":"ROUND(AVERAGE(B2:B6),1)","v":{"$error":"#N/A"}},{"$f":"IF(ISTEXT('S1'!$L$27),NA(),'S1'!$L$27)","v":{"$error":"#N/A"}},{"$f":"ROUND(AVERAGE(D2:D6),1)","v":{"$error":"#N/A"}},{"$f":"IF(ISTEXT('S1'!$L$26),NA(),'S1'!$L$26)","v":{"$error":"#N/A"}},{"$f":"ROUND(AVERAGE(F2:F6),0)","v":{"$error":"#N/A"}},{"$f":"IF(ISTEXT('S1'!$L$25),NA(),'S1'!$L$25)","v":{"$error":"#N/A"}},{"$f":"ROUND(AVERAGE(H2:H6),0)","v":{"$error":"#N/A"}},{"$f":"IF(ISTEXT('S1'!$L$24),NA(),'S1'!$L$24)","v":{"$error":"#N/A"}},{"$f":"ROUND(AVERAGE(J2:J6),0)","v":{"$error":"#N/A"}},{"$f":"IF(ISTEXT('S1'!$L$23),NA(),'S1'!$L$23)","v":{"$error":"#N/A"}},{"$f":"ROUND(AVERAGE(L2:L6),0)","v":{"$error":"#N/A"}},{"$f":"IF(ISTEXT('S1'!$L$22),NA(),'S1'!$L$22)","v":{"$error":"#N/A"}},{"$f":"ROUND(AVERAGE(N2:N6),0)","v":{"$error":"#N/A"}},{"$f":"IF(ISTEXT('S1'!$L$21),NA(),'S1'!$L$21)","v":{"$error":"#N/A"}},{"$f":"ROUND(AVERAGE(P2:P6),0)","v":{"$error":"#N/A"}},{"$f":"IF(ISTEXT('S1'!$L$20),NA(),'S1'!$L$20)","v":{"$error":"#N/A"}},{"$f":"ROUND(AVERAGE(R2:R6),0)","v":{"$error":"#N/A"}},{"$f":"IF(ISTEXT('S1'!$L$19),NA(),'S1'!$L$19)","v":{"$error":"#N/A"}},{"$f":"ROUND(AVERAGE(T2:T6),0)","v":{"$error":"#N/A"}},{"$f":"IF(ISTEXT('S1'!$L$18),NA(),'S1'!$L$18)","v":{"$error":"#N/A"}},{"$f":"ROUND(AVERAGE(V2:V6),0)","v":{"$error":"#N/A"}},{"$f":"IF(ISTEXT('S1'!$L$17),NA(),'S1'!$L$17)","v":{"$error":"#N/A"}},{"$f":"ROUND(AVERAGE(X2:X6),0)","v":{"$error":"#N/A"}},{"$f":"IF(ISTEXT('S1'!$L$16),NA(),'S1'!$L$16)","v":{"$error":"#N/A"}},{"$f":"ROUND(AVERAGE(Z2:Z6),0)","v":{"$error":"#N/A"}},{"$f":"IF(ISTEXT('S1'!$L$15),NA(),'S1'!$L$15)","v":{"$error":"#N/A"}},{"$f":"ROUND(AVERAGE(AB2:AB6),0)","v":{"$error":"#N/A"}},5]
[{"$f":"IF(ISBLANK('S1'!M9),\" \",('S1'!$M$9))","v":" "},{"$f":"IF(ISBLANK('S1'!$M$28),NA(),'S1'!$M$28)","v":{"$error":"#N/A"}},{"$f":"ROUND(AVERAGE(B3:B7),1)","v":{"$error":"#N/A"}},{"$f":"IF(ISTEXT('S1'!$N$27),NA(),'S1'!$N$27)","v":{"$error":"#N/A"}},{"$f":"ROUND(AVERAGE(D3:D7),1)","v":{"$error":"#N/A"}},{"$f":"IF(ISTEXT('S1'!$N$26),NA(),'S1'!$N$26)","v":{"$error":"#N/A"}},{"$f":"ROUND(AVERAGE(F3:F7),0)","v":{"$error":"#N/A"}},{"$f":"IF(ISTEXT('S1'!$N$25),NA(),'S1'!$N$25)","v":{"$error":"#N/A"}},{"$f":"ROUND(AVERAGE(H3:H7),0)","v":{"$error":"#N/A"}},{"$f":"IF(ISTEXT('S1'!$N$24),NA(),'S1'!$N$24)","v":{"$error":"#N/A"}},{"$error":"#N/A"},{"$f":"IF(ISTEXT('S1'!$N$23),NA(),'S1'!$N$23)","v":{"$error":"#N/A"}},{"$error":"#N/A"},{"$f":"IF(ISTEXT('S1'!$N$22),NA(),'S1'!$N$22)","v":{"$error":"#N/A"}},{"$error":"#N/A"},{"$f":"IF(ISTEXT('S1'!$N$21),NA(),'S1'!$N$21)","v":{"$error":"#N/A"}},{"$error":"#N/A"},{"$f":"IF(ISTEXT('S1'!$N$20),NA(),'S1'!$N$20)","v":{"$error":"#N/A"}},{"$error":"#N/A"},{"$f":"IF(ISTEXT('S1'!$N$19),NA(),'S1'!$N$19)","v":{"$error":"#N/A"}},{"$error":"#N/A"},{"$f":"IF(ISTEXT('S1'!$N$18),NA(),'S1'!$N$18)","v":{"$error":"#N/A"}},{"$error":"#N/A"},{"$f":"IF(ISTEXT('S1'!$N$17),NA(),'S1'!$N$17)","v":{"$error":"#N/A"}},{"$error":"#N/A"},{"$f":"IF(ISTEXT('S1'!$N$16),NA(),'S1'!$N$16)","v":{"$error":"#N/A"}},{"$error":"#N/A"},{"$f":"IF(ISTEXT('S1'!$N$15),NA(),'S1'!$N$15)","v":{"$error":"#N/A"}},{"$error":"#N/A"},6]
[{"$f":"IF(ISBLANK('S2'!C9),\" \",('S2'!$C$9))","v":" "},{"$f":"IF(ISBLANK('S2'!$C$28),NA(),'S2'!$C$28)","v":{"$error":"#N/A"}},{"$f":"ROUND(AVERAGE(B4:B8),1)","v":{"$error":"#N/A"}},{"$f":"IF(ISTEXT('S2'!$D$27),NA(),'S2'!$D$27)","v":{"$error":"#N/A"}},{"$f":"ROUND(AVERAGE(D4:D8),1)","v":{"$error":"#N/A"}},{"$f":"IF(ISTEXT('S2'!$D$26),NA(),'S2'!$D$26)","v":{"$error":"#N/A"}},{"$f":"ROUND(AVERAGE(F4:F8),0)","v":{"$error":"#N/A"}},{"$f":"IF(ISTEXT('S2'!$D$25),NA(),'S2'!$D$25)","v":{"$error":"#N/A"}},{"$error":"#N/A"},{"$f":"IF(ISTEXT('S2'!$D$24),NA(),'S2'!$D$24)","v":{"$error":"#N/A"}},{"$error":"#N/A"},{"$f":"IF(ISTEXT('S2'!$D$23),NA(),'S2'!$D$23)","v":{"$error":"#N/A"}},{"$error":"#N/A"},{"$f":"IF(ISTEXT('S2'!$D$22),NA(),'S2'!$D$22)","v":{"$error":"#N/A"}},{"$error":"#N/A"},{"$f":"IF(ISTEXT('S2'!$D$21),NA(),'S2'!$D$21)","v":{"$error":"#N/A"}},{"$error":"#N/A"},{"$f":"IF(ISTEXT('S2'!$D$20),NA(),'S2'!$D$20)","v":{"$error":"#N/A"}},{"$error":"#N/A"},{"$f":"IF(ISTEXT('S2'!$D$19),NA(),'S2'!$D$19)","v":{"$error":"#N/A"}},{"$error":"#N/A"},{"$f":"IF(ISTEXT('S2'!$D$18),NA(),'S2'!$D$18)","v":{"$error":"#N/A"}},{"$error":"#N/A"},{"$f":"IF(ISTEXT('S2'!$D$17),NA(),'S2'!$D$17)","v":{"$error":"#N/A"}},{"$error":"#N/A"},{"$f":"IF(ISTEXT('S2'!$D$16),NA(),'S2'!$D$16)","v":{"$error":"#N/A"}},{"$error":"#N/A"},{"$f":"IF(ISTEXT('S2'!$D$15),NA(),'S2'!$D$15)","v":{"$error":"#N/A"}},{"$error":"#N/A"},7]
[{"$f":"IF(ISBLANK('S2'!E9),\" \",('S2'!$E$9))","v":" "},{"$f":"IF(ISBLANK('S2'!$E$28),NA(),'S2'!$E$28)","v":{"$error":"#N/A"}},{"$f":"ROUND(AVERAGE(B5:B9),1)","v":{"$error":"#N/A"}},{"$f":"IF(ISTEXT('S2'!$F$27),NA(),'S2'!$F$27)","v":{"$error":"#N/A"}},{"$error":"#N/A"},{"$f":"IF(ISTEXT('S2'!$F$26),NA(),'S2'!$F$26)","v":{"$error":"#N/A"}},{"$error":"#N/A"},{"$f":"IF(ISTEXT('S2'!$F$25),NA(),'S2'!$F$25)","v":{"$error":"#N/A"}},{"$error":"#N/A"},{"$f":"IF(ISTEXT('S2'!$F$24),NA(),'S2'!$F$24)","v":{"$error":"#N/A"}},{"$error":"#N/A"},{"$f":"IF(ISTEXT('S2'!$F$23),NA(),'S2'!$F$23)","v":{"$error":"#N/A"}},{"$error":"#N/A"},{"$f":"IF(ISTEXT('S2'!$F$22),NA(),'S2'!$F$22)","v":{"$error":"#N/A"}},{"$error":"#N/A"},{"$f":"IF(ISTEXT('S2'!$F$21),NA(),'S2'!$F$21)","v":{"$error":"#N/A"}},{"$error":"#N/A"},{"$f":"IF(ISTEXT('S2'!$F$20),NA(),'S2'!$F$20)","v":{"$error":"#N/A"}},{"$error":"#N/A"},{"$f":"IF(ISTEXT('S2'!$F$19),NA(),'S2'!$F$19)","v":{"$error":"#N/A"}},{"$error":"#N/A"},{"$f":"IF(ISTEXT('S2'!$F$18),NA(),'S2'!$F$18)","v":{"$error":"#N/A"}},{"$error":"#N/A"},{"$f":"IF(ISTEXT('S2'!$F$17),NA(),'S2'!$F$17)","v":{"$error":"#N/A"}},{"$error":"#N/A"},{"$f":"IF(ISTEXT('S2'!$F$16),NA(),'S2'!$F$16)","v":{"$error":"#N/A"}},{"$error":"#N/A"},{"$f":"IF(ISTEXT('S2'!$F$15),NA(),'S2'!$F$15)","v":{"$error":"#N/A"}},{"$error":"#N/A"},8]
[{"$f":"IF(ISBLANK('S2'!G9),\" \",('S2'!$G$9))","v":" "},{"$f":"IF(ISBLANK('S2'!$G$28),NA(),'S2'!$G$28)","v":{"$error":"#N/A"}},{"$error":"#N/A"},{"$f":"IF(ISTEXT('S2'!$H$27),NA(),'S2'!$H$27)","v":{"$error":"#N/A"}},{"$error":"#N/A"},{"$f":"IF(ISTEXT('S2'!$H$26),NA(),'S2'!$H$26)","v":{"$error":"#N/A"}},{"$error":"#N/A"},{"$f":"IF(ISTEXT('S2'!$H$25),NA(),'S2'!$H$25)","v":{"$error":"#N/A"}},{"$error":"#N/A"},{"$f":"IF(ISTEXT('S2'!$H$24),NA(),'S2'!$H$24)","v":{"$error":"#N/A"}},{"$error":"#N/A"},{"$f":"IF(ISTEXT('S2'!$H$23),NA(),'S2'!$H$23)","v":{"$error":"#N/A"}},{"$error":"#N/A"},{"$f":"IF(ISTEXT('S2'!$H$22),NA(),'S2'!$H$22)","v":{"$error":"#N/A"}},{"$error":"#N/A"},{"$f":"IF(ISTEXT('S2'!$H$21),NA(),'S2'!$H$21)","v":{"$error":"#N/A"}},{"$error":"#N/A"},{"$f":"IF(ISTEXT('S2'!$H$20),NA(),'S2'!$H$20)","v":{"$error":"#N/A"}},{"$error":"#N/A"},{"$f":"IF(ISTEXT('S2'!$H$19),NA(),'S2'!$H$19)","v":{"$error":"#N/A"}},{"$error":"#N/A"},{"$f":"IF(ISTEXT('S2'!$H$18),NA(),'S2'!$H$18)","v":{"$error":"#N/A"}},{"$error":"#N/A"},{"$f":"IF(ISTEXT('S2'!$H$17),NA(),'S2'!$H$17)","v":{"$error":"#N/A"}},{"$error":"#N/A"},{"$f":"IF(ISTEXT('S2'!$H$16),NA(),'S2'!$H$16)","v":{"$error":"#N/A"}},{"$error":"#N/A"},{"$f":"IF(ISTEXT('S2'!$H$15),NA(),'S2'!$H$15)","v":{"$error":"#N/A"}},{"$error":"#N/A"},9]
[{"$f":"IF(ISBLANK('S2'!I9),\" \",('S2'!$I$9))","v":" "},{"$f":"IF(ISBLANK('S2'!$I$28),NA(),'S2'!$I$28)","v":{"$error":"#N/A"}},{"$error":"#N/A"},{"$f":"IF(ISTEXT('S2'!$J$27),NA(),'S2'!$J$27)","v":{"$error":"#N/A"}},{"$error":"#N/A"},{"$f":"IF(ISTEXT('S2'!$J$26),NA(),'S2'!$J$26)","v":{"$error":"#N/A"}},{"$error":"#N/A"},{"$f":"IF(ISTEXT('S2'!$J$25),NA(),'S2'!$J$25)","v":{"$error":"#N/A"}},{"$error":"#N/A"},{"$f":"IF(ISTEXT('S2'!$J$24),NA(),'S2'!$J$24)","v":{"$error":"#N/A"}},{"$error":"#N/A"},{"$f":"IF(ISTEXT('S2'!$J$23),NA(),'S2'!$J$23)","v":{"$error":"#N/A"}},{"$error":"#N/A"},{"$f":"IF(ISTEXT('S2'!$J$22),NA(),'S2'!$J$22)","v":{"$error":"#N/A"}},{"$error":"#N/A"},{"$f":"IF(ISTEXT('S2'!$J$21),NA(),'S2'!$J$21)","v":{"$error":"#N/A"}},{"$error":"#N/A"},{"$f":"IF(ISTEXT('S2'!$J$20),NA(),'S2'!$J$20)","v":{"$error":"#N/A"}},{"$error":"#N/A"},{"$f":"IF(ISTEXT('S2'!$J$19),NA(),'S2'!$J$19)","v":{"$error":"#N/A"}},{"$error":"#N/A"},{"$f":"IF(ISTEXT('S2'!$J$18),NA(),'S2'!$J$18)","v":{"$error":"#N/A"}},{"$error":"#N/A"},{"$f":"IF(ISTEXT('S2'!$J$17),NA(),'S2'!$J$17)","v":{"$error":"#N/A"}},{"$error":"#N/A"},{"$f":"IF(ISTEXT('S2'!$J$16),NA(),'S2'!$J$16)","v":{"$error":"#N/A"}},{"$error":"#N/A"},{"$f":"IF(ISTEXT('S2'!$J$15),NA(),'S2'!$J$15)","v":{"$error":"#N/A"}},{"$error":"#N/A"},10]
[{"$f":"IF(ISBLANK('S2'!K9),\" \",('S2'!$K$9))","v":" "},{"$f":"IF(ISBLANK('S2'!$K$28),NA(),'S2'!$K$28)","v":{"$error":"#N/A"}},{"$error":"#N/A"},{"$f":"IF(ISTEXT('S2'!$L$27),NA(),'S2'!$L$27)","v":{"$error":"#N/A"}},{"$error":"#N/A"},{"$f":"IF(ISTEXT('S2'!$L$26),NA(),'S2'!$L$26)","v":{"$error":"#N/A"}},{"$error":"#N/A"},{"$f":"IF(ISTEXT('S2'!$L$25),NA(),'S2'!$L$25)","v":{"$error":"#N/A"}},{"$error":"#N/A"},{"$f":"IF(ISTEXT('S2'!$L$24),NA(),'S2'!$L$24)","v":{"$error":"#N/A"}},{"$error":"#N/A"},{"$f":"IF(ISTEXT('S2'!$L$23),NA(),'S2'!$L$23)","v":{"$error":"#N/A"}},{"$error":"#N/A"},{"$f":"IF(ISTEXT('S2'!$L$22),NA(),'S2'!$L$22)","v":{"$error":"#N/A"}},{"$error":"#N/A"},{"$f":"IF(ISTEXT('S2'!$L$21),NA(),'S2'!$L$21)","v":{"$error":"#N/A"}},{"$error":"#N/A"},{"$f":"IF(ISTEXT('S2'!$L$20),NA(),'S2'!$L$20)","v":{"$error":"#N/A"}},{"$error":"#N/A"},{"$f":"IF(ISTEXT('S2'!$L$19),NA(),'S2'!$L$19)","v":{"$error":"#N/A"}},{"$error":"#N/A"},{"$f":"IF(ISTEXT('S2'!$L$18),NA(),'S2'!$L$18)","v":{"$error":"#N/A"}},{"$error":"#N/A"},{"$f":"IF(ISTEXT('S2'!$L$17),NA(),'S2'!$L$17)","v":{"$error":"#N/A"}},{"$error":"#N/A"},{"$f":"IF(ISTEXT('S2'!$L$16),NA(),'S2'!$L$16)","v":{"$error":"#N/A"}},{"$error":"#N/A"},{"$f":"IF(ISTEXT('S2'!$L$15),NA(),'S2'!$L$15)","v":{"$error":"#N/A"}},{"$error":"#N/A"},11]
[{"$f":"IF(ISBLANK('S2'!M9),\" \",('S2'!$M$9))","v":" "},{"$f":"IF(ISBLANK('S2'!$M$28),NA(),'S2'!$M$28)","v":{"$error":"#N/A"}},{"$error":"#N/A"},{"$f":"IF(ISTEXT('S2'!$N$27),NA(),'S2'!$N$27)","v":{"$error":"#N/A"}},{"$error":"#N/A"},{"$f":"IF(ISTEXT('S2'!$N$26),NA(),'S2'!$N$26)","v":{"$error":"#N/A"}},{"$error":"#N/A"},{"$f":"IF(ISTEXT('S2'!$N$25),NA(),'S2'!$N$25)","v":{"$error":"#N/A"}},{"$error":"#N/A"},{"$f":"IF(ISTEXT('S2'!$N$24),NA(),'S2'!$N$24)","v":{"$error":"#N/A"}},{"$error":"#N/A"},{"$f":"IF(ISTEXT('S2'!$N$23),NA(),'S2'!$N$23)","v":{"$error":"#N/A"}},{"$error":"#N/A"},{"$f":"IF(ISTEXT('S2'!$N$22),NA(),'S2'!$N$22)","v":{"$error":"#N/A"}},{"$error":"#N/A"},{"$f":"IF(ISTEXT('S2'!$N$21),NA(),'S2'!$N$21)","v":{"$error":"#N/A"}},{"$error":"#N/A"},{"$f":"IF(ISTEXT('S2'!$N$20),NA(),'S2'!$N$20)","v":{"$error":"#N/A"}},{"$error":"#N/A"},{"$f":"IF(ISTEXT('S2'!$N$19),NA(),'S2'!$N$19)","v":{"$error":"#N/A"}},{"$error":"#N/A"},{"$f":"IF(ISTEXT('S2'!$N$18),NA(),'S2'!$N$18)","v":{"$error":"#N/A"}},{"$error":"#N/A"},{"$f":"IF(ISTEXT('S2'!$N$17),NA(),'S2'!$N$17)","v":{"$error":"#N/A"}},{"$error":"#N/A"},{"$f":"IF(ISTEXT('S2'!$N$16),NA(),'S2'!$N$16)","v":{"$error":"#N/A"}},{"$error":"#N/A"},{"$f":"IF(ISTEXT('S2'!$N$15),NA(),'S2'!$N$15)","v":{"$error":"#N/A"}},{"$error":"#N/A"},12]
[{"$f":"IF(ISBLANK('S3'!C9),\" \",('S3'!$C$9))","v":" "},{"$f":"IF(ISBLANK('S3'!$C$28),NA(),'S3'!$C$28)","v":{"$error":"#N/A"}},{"$error":"#N/A"},{"$f":"IF(ISTEXT('S3'!$D$27),NA(),'S3'!$D$27)","v":{"$error":"#N/A"}},{"$error":"#N/A"},{"$f":"IF(ISTEXT('S3'!$D$26),NA(),'S3'!$D$26)","v":{"$error":"#N/A"}},{"$error":"#N/A"},{"$f":"IF(ISTEXT('S3'!$D$25),NA(),'S3'!$D$25)","v":{"$error":"#N/A"}},{"$error":"#N/A"},{"$f":"IF(ISTEXT('S3'!$D$24),NA(),'S3'!$D$24)","v":{"$error":"#N/A"}},{"$error":"#N/A"},{"$f":"IF(ISTEXT('S3'!$D$23),NA(),'S3'!$D$23)","v":{"$error":"#N/A"}},{"$error":"#N/A"},{"$f":"IF(ISTEXT('S3'!$D$22),NA(),'S3'!$D$22)","v":{"$error":"#N/A"}},{"$error":"#N/A"},{"$f":"IF(ISTEXT('S3'!$D$21),NA(),'S3'!$D$21)","v":{"$error":"#N/A"}},{"$error":"#N/A"},{"$f":"IF(ISTEXT('S3'!$D$20),NA(),'S3'!$D$20)","v":{"$error":"#N/A"}},{"$error":"#N/A"},{"$f":"IF(ISTEXT('S3'!$D$19),NA(),'S3'!$D$19)","v":{"$error":"#N/A"}},{"$error":"#N/A"},{"$f":"IF(ISTEXT('S3'!$D$18),NA(),'S3'!$D$18)","v":{"$error":"#N/A"}},{"$error":"#N/A"},{"$f":"IF(ISTEXT('S3'!$D$17),NA(),'S3'!$D$17)","v":{"$error":"#N/A"}},{"$error":"#N/A"},{"$f":"IF(ISTEXT('S3'!$D$16),NA(),'S3'!$D$16)","v":{"$error":"#N/A"}},{"$error":"#N/A"},{"$f":"IF(ISTEXT('S3'!$D$15),NA(),'S3'!$D$15)","v":{"$error":"#N/A"}},{"$error":"#N/A"},13]
[{"$f":"IF(ISBLANK('S3'!E9),\" \",('S3'!$E$9))","v":" "},{"$f":"IF(ISBLANK('S3'!$E$28),NA(),'S3'!$E$28)","v":{"$error":"#N/A"}},{"$error":"#N/A"},{"$f":"IF(ISTEXT('S3'!$F$27),NA(),'S3'!$F$27)","v":{"$error":"#N/A"}},{"$error":"#N/A"},{"$f":"IF(ISTEXT('S3'!$F$26),NA(),'S3'!$F$26)","v":{"$error":"#N/A"}},{"$error":"#N/A"},{"$f":"IF(ISTEXT('S3'!$F$25),NA(),'S3'!$F$25)","v":{"$error":"#N/A"}},{"$error":"#N/A"},{"$f":"IF(ISTEXT('S3'!$F$24),NA(),'S3'!$F$24)","v":{"$error":"#N/A"}},{"$error":"#N/A"},{"$f":"IF(ISTEXT('S3'!$F$23),NA(),'S3'!$F$23)","v":{"$error":"#N/A"}},{"$error":"#N/A"},{"$f":"IF(ISTEXT('S3'!$F$22),NA(),'S3'!$F$22)","v":{"$error":"#N/A"}},{"$error":"#N/A"},{"$f":"IF(ISTEXT('S3'!$F$21),NA(),'S3'!$F$21)","v":{"$error":"#N/A"}},{"$error":"#N/A"},{"$f":"IF(ISTEXT('S3'!$F$20),NA(),'S3'!$F$20)","v":{"$error":"#N/A"}},{"$error":"#N/A"},{"$f":"IF(ISTEXT('S3'!$F$19),NA(),'S3'!$F$19)","v":{"$error":"#N/A"}},{"$error":"#N/A"},{"$f":"IF(ISTEXT('S3'!$F$18),NA(),'S3'!$F$18)","v":{"$error":"#N/A"}},{"$error":"#N/A"},{"$f":"IF(ISTEXT('S3'!$F$17),NA(),'S3'!$F$17)","v":{"$error":"#N/A"}},{"$error":"#N/A"},{"$f":"IF(ISTEXT('S3'!$F$16),NA(),'S3'!$F$16)","v":{"$error":"#N/A"}},{"$error":"#N/A"},{"$f":"IF(ISTEXT('S3'!$F$15),NA(),'S3'!$F$15)","v":{"$error":"#N/A"}},{"$error":"#N/A"},14]
[{"$f":"IF(ISBLANK('S3'!G9),\" \",('S3'!$G$9))","v":" "},{"$f":"IF(ISBLANK('S3'!$G$28),NA(),'S3'!$G$28)","v":{"$error":"#N/A"}},{"$error":"#N/A"},{"$f":"IF(ISTEXT('S3'!$H$27),NA(),'S3'!$H$27)","v":{"$error":"#N/A"}},{"$error":"#N/A"},{"$f":"IF(ISTEXT('S3'!$H$26),NA(),'S3'!$H$26)","v":{"$error":"#N/A"}},{"$error":"#N/A"},{"$f":"IF(ISTEXT('S3'!$H$25),NA(),'S3'!$H$25)","v":{"$error":"#N/A"}},{"$error":"#N/A"},{"$f":"IF(ISTEXT('S3'!$H$24),NA(),'S3'!$H$24)","v":{"$error":"#N/A"}},{"$error":"#N/A"},{"$f":"IF(ISTEXT('S3'!$H$23),NA(),'S3'!$H$23)","v":{"$error":"#N/A"}},{"$error":"#N/A"},{"$f":"IF(ISTEXT('S3'!$H$22),NA(),'S3'!$H$22)","v":{"$error":"#N/A"}},{"$error":"#N/A"},{"$f":"IF(ISTEXT('S3'!$H$21),NA(),'S3'!$H$21)","v":{"$error":"#N/A"}},{"$error":"#N/A"},{"$f":"IF(ISTEXT('S3'!$H$20),NA(),'S3'!$H$20)","v":{"$error":"#N/A"}},{"$error":"#N/A"},{"$f":"IF(ISTEXT('S3'!$H$19),NA(),'S3'!$H$19)","v":{"$error":"#N/A"}},{"$error":"#N/A"},{"$f":"IF(ISTEXT('S3'!$H$18),NA(),'S3'!$H$18)","v":{"$error":"#N/A"}},{"$error":"#N/A"},{"$f":"IF(ISTEXT('S3'!$H$17),NA(),'S3'!$H$17)","v":{"$error":"#N/A"}},{"$error":"#N/A"},{"$f":"IF(ISTEXT('S3'!$H$16),NA(),'S3'!$H$16)","v":{"$error":"#N/A"}},{"$error":"#N/A"},{"$f":"IF(ISTEXT('S3'!$H$15),NA(),'S3'!$H$15)","v":{"$error":"#N/A"}},{"$error":"#N/A"},15]
[{"$f":"IF(ISBLANK('S3'!I9),\" \",('S3'!$I$9))","v":" "},{"$f":"IF(ISBLANK('S3'!$I$28),NA(),'S3'!$I$28)","v":{"$error":"#N/A"}},{"$error":"#N/A"},{"$f":"IF(ISTEXT('S3'!$J$27),NA(),'S3'!$J$27)","v":{"$error":"#N/A"}},{"$error":"#N/A"},{"$f":"IF(ISTEXT('S3'!$J$26),NA(),'S3'!$J$26)","v":{"$error":"#N/A"}},{"$error":"#N/A"},{"$f":"IF(ISTEXT('S3'!$J$25),NA(),'S3'!$J$25)","v":{"$error":"#N/A"}},{"$error":"#N/A"},{"$f":"IF(ISTEXT('S3'!$J$24),NA(),'S3'!$J$24)","v":{"$error":"#N/A"}},{"$error":"#N/A"},{"$f":"IF(ISTEXT('S3'!$J$23),NA(),'S3'!$J$23)","v":{"$error":"#N/A"}},{"$error":"#N/A"},{"$f":"IF(ISTEXT('S3'!$J$22),NA(),'S3'!$J$22)","v":{"$error":"#N/A"}},{"$error":"#N/A"},{"$f":"IF(ISTEXT('S3'!$J$21),NA(),'S3'!$J$21)","v":{"$error":"#N/A"}},{"$error":"#N/A"},{"$f":"IF(ISTEXT('S3'!$J$20),NA(),'S3'!$J$20)","v":{"$error":"#N/A"}},{"$error":"#N/A"},{"$f":"IF(ISTEXT('S3'!$J$19),NA(),'S3'!$J$19)","v":{"$error":"#N/A"}},{"$error":"#N/A"},{"$f":"IF(ISTEXT('S3'!$J$18),NA(),'S3'!$J$18)","v":{"$error":"#N/A"}},{"$error":"#N/A"},{"$f":"IF(ISTEXT('S3'!$J$17),NA(),'S3'!$J$17)","v":{"$error":"#N/A"}},{"$error":"#N/A"},{"$f":"IF(ISTEXT('S3'!$J$16),NA(),'S3'!$J$16)","v":{"$error":"#N/A"}},{"$error":"#N/A"},{"$f":"IF(ISTEXT('S3'!$J$15),NA(),'S3'!$J$15)","v":{"$error":"#N/A"}},{"$error":"#N/A"},16]
[{"$f":"IF(ISBLANK('S3'!K9),\" \",('S3'!$K$9))","v":" "},{"$f":"IF(ISBLANK('S3'!$K$28),NA(),'S3'!$K$28)","v":{"$error":"#N/A"}},{"$error":"#N/A"},{"$f":"IF(ISTEXT('S3'!$L$27),NA(),'S3'!$L$27)","v":{"$error":"#N/A"}},{"$error":"#N/A"},{"$f":"IF(ISTEXT('S3'!$L$26),NA(),'S3'!$L$26)","v":{"$error":"#N/A"}},{"$error":"#N/A"},{"$f":"IF(ISTEXT('S3'!$L$25),NA(),'S3'!$L$25)","v":{"$error":"#N/A"}},{"$error":"#N/A"},{"$f":"IF(ISTEXT('S3'!$L$24),NA(),'S3'!$L$24)","v":{"$error":"#N/A"}},{"$error":"#N/A"},{"$f":"IF(ISTEXT('S3'!$L$23),NA(),'S3'!$L$23)","v":{"$error":"#N/A"}},{"$error":"#N/A"},{"$f":"IF(ISTEXT('S3'!$L$22),NA(),'S3'!$L$22)","v":{"$error":"#N/A"}},{"$error":"#N/A"},{"$f":"IF(ISTEXT('S3'!$L$21),NA(),'S3'!$L$21)","v":{"$error":"#N/A"}},{"$error":"#N/A"},{"$f":"IF(ISTEXT('S3'!$L$20),NA(),'S3'!$L$20)","v":{"$error":"#N/A"}},{"$error":"#N/A"},{"$f":"IF(ISTEXT('S3'!$L$19),NA(),'S3'!$L$19)","v":{"$error":"#N/A"}},{"$error":"#N/A"},{"$f":"IF(ISTEXT('S3'!$L$18),NA(),'S3'!$L$18)","v":{"$error":"#N/A"}},{"$error":"#N/A"},{"$f":"IF(ISTEXT('S3'!$L$17),NA(),'S3'!$L$17)","v":{"$error":"#N/A"}},{"$error":"#N/A"},{"$f":"IF(ISTEXT('S3'!$L$16),NA(),'S3'!$L$16)","v":{"$error":"#N/A"}},{"$error":"#N/A"},{"$f":"IF(ISTEXT('S3'!$L$15),NA(),'S3'!$L$15)","v":{"$error":"#N/A"}},{"$error":"#N/A"},17]
[{"$f":"IF(ISBLANK('S3'!M9),\" \",('S3'!$M$9))","v":" "},{"$f":"IF(ISBLANK('S3'!$M$28),NA(),'S3'!$M$28)","v":{"$error":"#N/A"}},{"$error":"#N/A"},{"$f":"IF(ISTEXT('S3'!$N$27),NA(),'S3'!$N$27)","v":{"$error":"#N/A"}},{"$error":"#N/A"},{"$f":"IF(ISTEXT('S3'!$N$26),NA(),'S3'!$N$26)","v":{"$error":"#N/A"}},{"$error":"#N/A"},{"$f":"IF(ISTEXT('S3'!$N$25),NA(),'S3'!$N$25)","v":{"$error":"#N/A"}},{"$error":"#N/A"},{"$f":"IF(ISTEXT('S3'!$N$24),NA(),'S3'!$N$24)","v":{"$error":"#N/A"}},{"$error":"#N/A"},{"$f":"IF(ISTEXT('S3'!$N$23),NA(),'S3'!$N$23)","v":{"$error":"#N/A"}},{"$error":"#N/A"},{"$f":"IF(ISTEXT('S3'!$N$22),NA(),'S3'!$N$22)","v":{"$error":"#N/A"}},{"$error":"#N/A"},{"$f":"IF(ISTEXT('S3'!$N$21),NA(),'S3'!$N$21)","v":{"$error":"#N/A"}},{"$error":"#N/A"},{"$f":"IF(ISTEXT('S3'!$N$20),NA(),'S3'!$N$20)","v":{"$error":"#N/A"}},{"$error":"#N/A"},{"$f":"IF(ISTEXT('S3'!$N$19),NA(),'S3'!$N$19)","v":{"$error":"#N/A"}},{"$error":"#N/A"},{"$f":"IF(ISTEXT('S3'!$N$18),NA(),'S3'!$N$18)","v":{"$error":"#N/A"}},{"$error":"#N/A"},{"$f":"IF(ISTEXT('S3'!$N$17),NA(),'S3'!$N$17)","v":{"$error":"#N/A"}},{"$error":"#N/A"},{"$f":"IF(ISTEXT('S3'!$N$16),NA(),'S3'!$N$16)","v":{"$error":"#N/A"}},{"$error":"#N/A"},{"$f":"IF(ISTEXT('S3'!$N$15),NA(),'S3'!$N$15)","v":{"$error":"#N/A"}},{"$error":"#N/A"},18]
[{"$f":"IF(ISBLANK('S4'!C9),\" \",('S4'!$C$9))","v":" "},{"$f":"IF(ISBLANK('S4'!$C$28),NA(),'S4'!$C$28)","v":{"$error":"#N/A"}},{"$error":"#N/A"},{"$f":"IF(ISTEXT('S4'!$D$27),NA(),'S4'!$D$27)","v":{"$error":"#N/A"}},{"$error":"#N/A"},{"$f":"IF(ISTEXT('S4'!$D$26),NA(),'S4'!$D$26)","v":{"$error":"#N/A"}},{"$error":"#N/A"},{"$f":"IF(ISTEXT('S4'!$D$25),NA(),'S4'!$D$25)","v":{"$error":"#N/A"}},{"$error":"#N/A"},{"$f":"IF(ISTEXT('S4'!$D$24),NA(),'S4'!$D$24)","v":{"$error":"#N/A"}},{"$error":"#N/A"},{"$f":"IF(ISTEXT('S4'!$D$23),NA(),'S4'!$D$23)","v":{"$error":"#N/A"}},{"$error":"#N/A"},{"$f":"IF(ISTEXT('S4'!$D$22),NA(),'S4'!$D$22)","v":{"$error":"#N/A"}},{"$error":"#N/A"},{"$f":"IF(ISTEXT('S4'!$D$21),NA(),'S4'!$D$21)","v":{"$error":"#N/A"}},{"$error":"#N/A"},{"$f":"IF(ISTEXT('S4'!$D$20),NA(),'S4'!$D$20)","v":{"$error":"#N/A"}},{"$error":"#N/A"},{"$f":"IF(ISTEXT('S4'!$D$19),NA(),'S4'!$D$19)","v":{"$error":"#N/A"}},{"$error":"#N/A"},{"$f":"IF(ISTEXT('S4'!$D$18),NA(),'S4'!$D$18)","v":{"$error":"#N/A"}},{"$error":"#N/A"},{"$f":"IF(ISTEXT('S4'!$D$17),NA(),'S4'!$D$17)","v":{"$error":"#N/A"}},{"$error":"#N/A"},{"$f":"IF(ISTEXT('S4'!$D$16),NA(),'S4'!$D$16)","v":{"$error":"#N/A"}},{"$error":"#N/A"},{"$f":"IF(ISTEXT('S4'!$D$15),NA(),'S4'!$D$15)","v":{"$error":"#N/A"}},{"$error":"#N/A"},19]
[{"$f":"IF(ISBLANK('S4'!E9),\" \",('S4'!$E$9))","v":" "},{"$f":"IF(ISBLANK('S4'!$E$28),NA(),'S4'!$E$28)","v":{"$error":"#N/A"}},{"$error":"#N/A"},{"$f":"IF(ISTEXT('S4'!$F$27),NA(),'S4'!$F$27)","v":{"$error":"#N/A"}},{"$error":"#N/A"},{"$f":"IF(ISTEXT('S4'!$F$26),NA(),'S4'!$F$26)","v":{"$error":"#N/A"}},{"$error":"#N/A"},{"$f":"IF(ISTEXT('S4'!$F$25),NA(),'S4'!$F$25)","v":{"$error":"#N/A"}},{"$error":"#N/A"},{"$f":"IF(ISTEXT('S4'!$F$24),NA(),'S4'!$F$24)","v":{"$error":"#N/A"}},{"$error":"#N/A"},{"$f":"IF(ISTEXT('S4'!$F$23),NA(),'S4'!$F$23)","v":{"$error":"#N/A"}},{"$error":"#N/A"},{"$f":"IF(ISTEXT('S4'!$F$22),NA(),'S4'!$F$22)","v":{"$error":"#N/A"}},{"$error":"#N/A"},{"$f":"IF(ISTEXT('S4'!$F$21),NA(),'S4'!$F$21)","v":{"$error":"#N/A"}},{"$error":"#N/A"},{"$f":"IF(ISTEXT('S4'!$F$20),NA(),'S4'!$F$20)","v":{"$error":"#N/A"}},{"$error":"#N/A"},{"$f":"IF(ISTEXT('S4'!$F$19),NA(),'S4'!$F$19)","v":{"$error":"#N/A"}},{"$error":"#N/A"},{"$f":"IF(ISTEXT('S4'!$F$18),NA(),'S4'!$F$18)","v":{"$error":"#N/A"}},{"$error":"#N/A"},{"$f":"IF(ISTEXT('S4'!$F$17),NA(),'S4'!$F$17)","v":{"$error":"#N/A"}},{"$error":"#N/A"},{"$f":"IF(ISTEXT('S4'!$F$16),NA(),'S4'!$F$16)","v":{"$error":"#N/A"}},{"$error":"#N/A"},{"$f":"IF(ISTEXT('S4'!$F$15),NA(),'S4'!$F$15)","v":{"$error":"#N/A"}},{"$error":"#N/A"},20]
[{"$f":"IF(ISBLANK('S4'!G9),\" \",('S4'!$G$9))","v":" "},{"$f":"IF(ISBLANK('S4'!$G$28),NA(),'S4'!$G$28)","v":{"$error":"#N/A"}},{"$error":"#N/A"},{"$f":"IF(ISTEXT('S4'!$H$27),NA(),'S4'!$H$27)","v":{"$error":"#N/A"}},{"$error":"#N/A"},{"$f":"IF(ISTEXT('S4'!$H$26),NA(),'S4'!$H$26)","v":{"$error":"#N/A"}},{"$error":"#N/A"},{"$f":"IF(ISTEXT('S4'!$H$25),NA(),'S4'!$H$25)","v":{"$error":"#N/A"}},{"$error":"#N/A"},{"$f":"IF(ISTEXT('S4'!$H$24),NA(),'S4'!$H$24)","v":{"$error":"#N/A"}},{"$error":"#N/A"},{"$f":"IF(ISTEXT('S4'!$H$23),NA(),'S4'!$H$23)","v":{"$error":"#N/A"}},{"$error":"#N/A"},{"$f":"IF(ISTEXT('S4'!$H$22),NA(),'S4'!$H$22)","v":{"$error":"#N/A"}},{"$error":"#N/A"},{"$f":"IF(ISTEXT('S4'!$H$21),NA(),'S4'!$H$21)","v":{"$error":"#N/A"}},{"$error":"#N/A"},{"$f":"IF(ISTEXT('S4'!$H$20),NA(),'S4'!$H$20)","v":{"$error":"#N/A"}},{"$error":"#N/A"},{"$f":"IF(ISTEXT('S4'!$H$19),NA(),'S4'!$H$19)","v":{"$error":"#N/A"}},{"$error":"#N/A"},{"$f":"IF(ISTEXT('S4'!$H$18),NA(),'S4'!$H$18)","v":{"$error":"#N/A"}},{"$error":"#N/A"},{"$f":"IF(ISTEXT('S4'!$H$17),NA(),'S4'!$H$17)","v":{"$error":"#N/A"}},{"$error":"#N/A"},{"$f":"IF(ISTEXT('S4'!$H$16),NA(),'S4'!$H$16)","v":{"$error":"#N/A"}},{"$error":"#N/A"},{"$f":"IF(ISTEXT('S4'!$H$15),NA(),'S4'!$H$15)","v":{"$error":"#N/A"}},{"$error":"#N/A"},21]
[{"$f":"IF(ISBLANK('S4'!I9),\" \",('S4'!$I$9))","v":" "},{"$f":"IF(ISBLANK('S4'!$I$28),NA(),'S4'!$I$28)","v":{"$error":"#N/A"}},{"$error":"#N/A"},{"$f":"IF(ISTEXT('S4'!$J$27),NA(),'S4'!$J$27)","v":{"$error":"#N/A"}},{"$error":"#N/A"},{"$f":"IF(ISTEXT('S4'!$J$26),NA(),'S4'!$J$26)","v":{"$error":"#N/A"}},{"$error":"#N/A"},{"$f":"IF(ISTEXT('S4'!$J$25),NA(),'S4'!$J$25)","v":{"$error":"#N/A"}},{"$error":"#N/A"},{"$f":"IF(ISTEXT('S4'!$J$24),NA(),'S4'!$J$24)","v":{"$error":"#N/A"}},{"$error":"#N/A"},{"$f":"IF(ISTEXT('S4'!$J$23),NA(),'S4'!$J$23)","v":{"$error":"#N/A"}},{"$error":"#N/A"},{"$f":"IF(ISTEXT('S4'!$J$22),NA(),'S4'!$J$22)","v":{"$error":"#N/A"}},{"$error":"#N/A"},{"$f":"IF(ISTEXT('S4'!$J$21),NA(),'S4'!$J$21)","v":{"$error":"#N/A"}},{"$error":"#N/A"},{"$f":"IF(ISTEXT('S4'!$J$20),NA(),'S4'!$J$20)","v":{"$error":"#N/A"}},{"$error":"#N/A"},{"$f":"IF(ISTEXT('S4'!$J$19),NA(),'S4'!$J$19)","v":{"$error":"#N/A"}},{"$error":"#N/A"},{"$f":"IF(ISTEXT('S4'!$J$18),NA(),'S4'!$J$18)","v":{"$error":"#N/A"}},{"$error":"#N/A"},{"$f":"IF(ISTEXT('S4'!$J$17),NA(),'S4'!$J$17)","v":{"$error":"#N/A"}},{"$error":"#N/A"},{"$f":"IF(ISTEXT('S4'!$J$16),NA(),'S4'!$J$16)","v":{"$error":"#N/A"}},{"$error":"#N/A"},{"$f":"IF(ISTEXT('S4'!$J$15),NA(),'S4'!$J$15)","v":{"$error":"#N/A"}},{"$error":"#N/A"},22]
[{"$f":"IF(ISBLANK('S4'!K9),\" \",('S4'!$K$9))","v":" "},{"$f":"IF(ISBLANK('S4'!$K$28),NA(),'S4'!$K$28)","v":{"$error":"#N/A"}},{"$error":"#N/A"},{"$f":"IF(ISTEXT('S4'!$L$27),NA(),'S4'!$L$27)","v":{"$error":"#N/A"}},{"$error":"#N/A"},{"$f":"IF(ISTEXT('S4'!$L$26),NA(),'S4'!$L$26)","v":{"$error":"#N/A"}},{"$error":"#N/A"},{"$f":"IF(ISTEXT('S4'!$L$25),NA(),'S4'!$L$25)","v":{"$error":"#N/A"}},{"$error":"#N/A"},{"$f":"IF(ISTEXT('S4'!$L$24),NA(),'S4'!$L$24)","v":{"$error":"#N/A"}},{"$error":"#N/A"},{"$f":"IF(ISTEXT('S4'!$L$23),NA(),'S4'!$L$23)","v":{"$error":"#N/A"}},{"$error":"#N/A"},{"$f":"IF(ISTEXT('S4'!$L$22),NA(),'S4'!$L$22)","v":{"$error":"#N/A"}},{"$error":"#N/A"},{"$f":"IF(ISTEXT('S4'!$L$21),NA(),'S4'!$L$21)","v":{"$error":"#N/A"}},{"$error":"#N/A"},{"$f":"IF(ISTEXT('S4'!$L$20),NA(),'S4'!$L$20)","v":{"$error":"#N/A"}},{"$error":"#N/A"},{"$f":"IF(ISTEXT('S4'!$L$19),NA(),'S4'!$L$19)","v":{"$error":"#N/A"}},{"$error":"#N/A"},{"$f":"IF(ISTEXT('S4'!$L$18),NA(),'S4'!$L$18)","v":{"$error":"#N/A"}},{"$error":"#N/A"},{"$f":"IF(ISTEXT('S4'!$L$17),NA(),'S4'!$L$17)","v":{"$error":"#N/A"}},{"$error":"#N/A"},{"$f":"IF(ISTEXT('S4'!$L$16),NA(),'S4'!$L$16)","v":{"$error":"#N/A"}},{"$error":"#N/A"},{"$f":"IF(ISTEXT('S4'!$L$15),NA(),'S4'!$L$15)","v":{"$error":"#N/A"}},{"$error":"#N/A"},23]
[{"$f":"IF(ISBLANK('S4'!M9),\" \",('S4'!$M$9))","v":" "},{"$f":"IF(ISBLANK('S4'!$M$28),NA(),'S4'!$M$28)","v":{"$error":"#N/A"}},{"$f":"ROUND(AVERAGE(B21:B25),1)","v":{"$error":"#N/A"}},{"$f":"IF(ISTEXT('S4'!$N$27),NA(),'S4'!$N$27)","v":{"$error":"#N/A"}},{"$f":"ROUND(AVERAGE(D21:D25),1)","v":{"$error":"#N/A"}},{"$f":"IF(ISTEXT('S4'!$N$26),NA(),'S4'!$N$26)","v":{"$error":"#N/A"}},{"$f":"ROUND(AVERAGE(F21:F25),0)","v":{"$error":"#N/A"}},{"$f":"IF(ISTEXT('S4'!$N$25),NA(),'S4'!$N$25)","v":{"$error":"#N/A"}},{"$f":"ROUND(AVERAGE(H21:H25),0)","v":{"$error":"#N/A"}},{"$f":"IF(ISTEXT('S4'!$N$24),NA(),'S4'!$N$24)","v":{"$error":"#N/A"}},{"$error":"#N/A"},{"$f":"IF(ISTEXT('S4'!$N$23),NA(),'S4'!$N$23)","v":{"$error":"#N/A"}},{"$error":"#N/A"},{"$f":"IF(ISTEXT('S4'!$N$22),NA(),'S4'!$N$22)","v":{"$error":"#N/A"}},{"$error":"#N/A"},{"$f":"IF(ISTEXT('S4'!$N$21),NA(),'S4'!$N$21)","v":{"$error":"#N/A"}},{"$error":"#N/A"},{"$f":"IF(ISTEXT('S4'!$N$20),NA(),'S4'!$N$20)","v":{"$error":"#N/A"}},{"$error":"#N/A"},{"$f":"IF(ISTEXT('S4'!$N$19),NA(),'S4'!$N$19)","v":{"$error":"#N/A"}},{"$error":"#N/A"},{"$f":"IF(ISTEXT('S4'!$N$18),NA(),'S4'!$N$18)","v":{"$error":"#N/A"}},{"$error":"#N/A"},{"$f":"IF(ISTEXT('S4'!$N$17),NA(),'S4'!$N$17)","v":{"$error":"#N/A"}},{"$error":"#N/A"},{"$f":"IF(ISTEXT('S4'!$N$16),NA(),'S4'!$N$16)","v":{"$error":"#N/A"}},{"$error":"#N/A"},{"$f":"IF(ISTEXT('S4'!$N$15),NA(),'S4'!$N$15)","v":{"$error":"#N/A"}},{"$error":"#N/A"},24]
[]
[{"$f":"IF(ISBLANK('S5'!C9),\" \",('S5'!$C$9))","v":" "},{"$f":"IF(ISBLANK('S5'!$C$28),NA(),'S5'!$C$28)","v":{"$error":"#N/A"}},{"$f":"ROUND(AVERAGE(B22:B27),1)","v":{"$error":"#N/A"}},{"$f":"IF(ISTEXT('S5'!$D$27),NA(),'S5'!$D$27)","v":{"$error":"#N/A"}},{"$f":"ROUND(AVERAGE(D22:D27),1)","v":{"$error":"#N/A"}},{"$f":"IF(ISTEXT('S5'!$D$26),NA(),'S5'!$D$26)","v":{"$error":"#N/A"}},{"$f":"ROUND(AVERAGE(F22:F27),0)","v":{"$error":"#N/A"}},{"$f":"IF(ISTEXT('S5'!$D$25),NA(),'S5'!$D$25)","v":{"$error":"#N/A"}},{"$f":"ROUND(AVERAGE(H22:H27),0)","v":{"$error":"#N/A"}},{"$f":"IF(ISTEXT('S5'!$D$24),NA(),'S5'!$D$24)","v":{"$error":"#N/A"}},{"$f":"ROUND(AVERAGE(J22:J27),0)","v":{"$error":"#N/A"}},{"$f":"IF(ISTEXT('S5'!$D$23),NA(),'S5'!$D$23)","v":{"$error":"#N/A"}},{"$f":"ROUND(AVERAGE(L22:L27),0)","v":{"$error":"#N/A"}},{"$f":"IF(ISTEXT('S5'!$D$22),NA(),'S5'!$D$22)","v":{"$error":"#N/A"}},{"$f":"ROUND(AVERAGE(N22:N27),0)","v":{"$error":"#N/A"}},{"$f":"IF(ISTEXT('S5'!$D$21),NA(),'S5'!$D$21)","v":{"$error":"#N/A"}},{"$f":"ROUND(AVERAGE(P22:P27),0)","v":{"$error":"#N/A"}},{"$f":"IF(ISTEXT('S5'!$D$20),NA(),'S5'!$D$20)","v":{"$error":"#N/A"}},{"$f":"ROUND(AVERAGE(R22:R27),0)","v":{"$error":"#N/A"}},{"$f":"IF(ISTEXT('S5'!$D$19),NA(),'S5'!$D$19)","v":{"$error":"#N/A"}},{"$f":"ROUND(AVERAGE(T22:T27),0)","v":{"$error":"#N/A"}},{"$f":"IF(ISTEXT('S5'!$D$18),NA(),'S5'!$D$18)","v":{"$error":"#N/A"}},{"$f":"ROUND(AVERAGE(V22:V27),0)","v":{"$error":"#N/A"}},{"$f":"IF(ISTEXT('S5'!$D$17),NA(),'S5'!$D$17)","v":{"$error":"#N/A"}},{"$f":"ROUND(AVERAGE(X22:X27),0)","v":{"$error":"#N/A"}},{"$f":"IF(ISTEXT('S5'!$D$16),NA(),'S5'!$D$16)","v":{"$error":"#N/A"}},{"$f":"ROUND(AVERAGE(Z22:Z27),0)","v":{"$error":"#N/A"}},{"$f":"IF(ISTEXT('S5'!$D$15),NA(),'S5'!$D$15)","v":{"$error":"#N/A"}},{"$f":"ROUND(AVERAGE(AB22:AB27),0)","v":{"$error":"#N/A"}},25]
[{"$f":"IF(ISBLANK('S5'!E9),\" \",('S5'!$E$9))","v":" "},{"$f":"IF(ISBLANK('S5'!$E$28),NA(),'S5'!$E$28)","v":{"$error":"#N/A"}},{"$f":"ROUND(AVERAGE(B23:B28),1)","v":{"$error":"#N/A"}},{"$f":"IF(ISTEXT('S5'!$F$27),NA(),'S5'!$F$27)","v":{"$error":"#N/A"}},{"$f":"ROUND(AVERAGE(D23:D28),1)","v":{"$error":"#N/A"}},{"$f":"IF(ISTEXT('S5'!$F$26),NA(),'S5'!$F$26)","v":{"$error":"#N/A"}},{"$f":"ROUND(AVERAGE(F23:F28),0)","v":{"$error":"#N/A"}},{"$f":"IF(ISTEXT('S5'!$F$25),NA(),'S5'!$F$25)","v":{"$error":"#N/A"}},{"$f":"ROUND(AVERAGE(H23:H28),0)","v":{"$error":"#N/A"}},{"$f":"IF(ISTEXT('S5'!$F$24),NA(),'S5'!$F$24)","v":{"$error":"#N/A"}},{"$f":"ROUND(AVERAGE(J23:J28),0)","v":{"$error":"#N/A"}},{"$f":"IF(ISTEXT('S5'!$F$23),NA(),'S5'!$F$23)","v":{"$error":"#N/A"}},{"$f":"ROUND(AVERAGE(L23:L28),0)","v":{"$error":"#N/A"}},{"$f":"IF(ISTEXT('S5'!$F$22),NA(),'S5'!$F$22)","v":{"$error":"#N/A"}},{"$f":"ROUND(AVERAGE(N23:N28),0)","v":{"$error":"#N/A"}},{"$f":"IF(ISTEXT('S5'!$F$21),NA(),'S5'!$F$21)","v":{"$error":"#N/A"}},{"$f":"ROUND(AVERAGE(P23:P28),0)","v":{"$error":"#N/A"}},{"$f":"IF(ISTEXT('S5'!$F$20),NA(),'S5'!$F$20)","v":{"$error":"#N/A"}},{"$f":"ROUND(AVERAGE(R23:R28),0)","v":{"$error":"#N/A"}},{"$f":"IF(ISTEXT('S5'!$F$19),NA(),'S5'!$F$19)","v":{"$error":"#N/A"}},{"$f":"ROUND(AVERAGE(T23:T28),0)","v":{"$error":"#N/A"}},{"$f":"IF(ISTEXT('S5'!$F$18),NA(),'S5'!$F$18)","v":{"$error":"#N/A"}},{"$f":"ROUND(AVERAGE(V23:V28),0)","v":{"$error":"#N/A"}},{"$f":"IF(ISTEXT('S5'!$F$17),NA(),'S5'!$F$17)","v":{"$error":"#N/A"}},{"$f":"ROUND(AVERAGE(X23:X28),0)","v":{"$error":"#N/A"}},{"$f":"IF(ISTEXT('S5'!$F$16),NA(),'S5'!$F$16)","v":{"$error":"#N/A"}},{"$f":"ROUND(AVERAGE(Z23:Z28),0)","v":{"$error":"#N/A"}},{"$f":"IF(ISTEXT('S5'!$F$15),NA(),'S5'!$F$15)","v":{"$error":"#N/A"}},{"$f":"ROUND(AVERAGE(AB23:AB28),0)","v":{"$error":"#N/A"}},26]
[{"$f":"IF(ISBLANK('S5'!G9),\" \",('S5'!$G$9))","v":" "},{"$f":"IF(ISBLANK('S5'!$G$28),NA(),'S5'!$G$28)","v":{"$error":"#N/A"}},{"$f":"ROUND(AVERAGE(B24:B29),1)","v":{"$error":"#N/A"}},{"$f":"IF(ISTEXT('S5'!$H$27),NA(),'S5'!$H$27)","v":{"$error":"#N/A"}},{"$f":"ROUND(AVERAGE(D24:D29),1)","v":{"$error":"#N/A"}},{"$f":"IF(ISTEXT('S5'!$H$26),NA(),'S5'!$H$26)","v":{"$error":"#N/A"}},{"$f":"ROUND(AVERAGE(F24:F29),0)","v":{"$error":"#N/A"}},{"$f":"IF(ISTEXT('S5'!$H$25),NA(),'S5'!$H$25)","v":{"$error":"#N/A"}},{"$f":"ROUND(AVERAGE(H24:H29),0)","v":{"$error":"#N/A"}},{"$f":"IF(ISTEXT('S5'!$H$24),NA(),'S5'!$H$24)","v":{"$error":"#N/A"}},{"$f":"ROUND(AVERAGE(J24:J29),0)","v":{"$error":"#N/A"}},{"$f":"IF(ISTEXT('S5'!$H$23),NA(),'S5'!$H$23)","v":{"$error":"#N/A"}},{"$f":"ROUND(AVERAGE(L24:L29),0)","v":{"$error":"#N/A"}},{"$f":"IF(ISTEXT('S5'!$H$22),NA(),'S5'!$H$22)","v":{"$error":"#N/A"}},{"$f":"ROUND(AVERAGE(N24:N29),0)","v":{"$error":"#N/A"}},{"$f":"IF(ISTEXT('S5'!$H$21),NA(),'S5'!$H$21)","v":{"$error":"#N/A"}},{"$f":"ROUND(AVERAGE(P24:P29),0)","v":{"$error":"#N/A"}},{"$f":"IF(ISTEXT('S5'!$H$20),NA(),'S5'!$H$20)","v":{"$error":"#N/A"}},{"$f":"ROUND(AVERAGE(R24:R29),0)","v":{"$error":"#N/A"}},{"$f":"IF(ISTEXT('S5'!$H$19),NA(),'S5'!$H$19)","v":{"$error":"#N/A"}},{"$f":"ROUND(AVERAGE(T24:T29),0)","v":{"$error":"#N/A"}},{"$f":"IF(ISTEXT('S5'!$H$18),NA(),'S5'!$H$18)","v":{"$error":"#N/A"}},{"$f":"ROUND(AVERAGE(V24:V29),0)","v":{"$error":"#N/A"}},{"$f":"IF(ISTEXT('S5'!$H$17),NA(),'S5'!$H$17)","v":{"$error":"#N/A"}},{"$f":"ROUND(AVERAGE(X24:X29),0)","v":{"$error":"#N/A"}},{"$f":"IF(ISTEXT('S5'!$H$16),NA(),'S5'!$H$16)","v":{"$error":"#N/A"}},{"$f":"ROUND(AVERAGE(Z24:Z29),0)","v":{"$error":"#N/A"}},{"$f":"IF(ISTEXT('S5'!$H$15),NA(),'S5'!$H$15)","v":{"$error":"#N/A"}},{"$f":"ROUND(AVERAGE(AB24:AB29),0)","v":{"$error":"#N/A"}},27]
[{"$f":"IF(ISBLANK('S5'!I9),\" \",('S5'!$I$9))","v":" "},{"$f":"IF(ISBLANK('S5'!$I$28),NA(),'S5'!$I$28)","v":{"$error":"#N/A"}},{"$f":"ROUND(AVERAGE(B25:B30),1)","v":{"$error":"#N/A"}},{"$f":"IF(ISTEXT('S5'!$J$27),NA(),'S5'!$J$27)","v":{"$error":"#N/A"}},{"$f":"ROUND(AVERAGE(D25:D30),1)","v":{"$error":"#N/A"}},{"$f":"IF(ISTEXT('S5'!$J$26),NA(),'S5'!$J$26)","v":{"$error":"#N/A"}},{"$f":"ROUND(AVERAGE(F25:F30),0)","v":{"$error":"#N/A"}},{"$f":"IF(ISTEXT('S5'!$J$25),NA(),'S5'!$J$25)","v":{"$error":"#N/A"}},{"$f":"ROUND(AVERAGE(H25:H30),0)","v":{"$error":"#N/A"}},{"$f":"IF(ISTEXT('S5'!$J$24),NA(),'S5'!$J$24)","v":{"$error":"#N/A"}},{"$f":"ROUND(AVERAGE(J25:J30),0)","v":{"$error":"#N/A"}},{"$f":"IF(ISTEXT('S5'!$J$23),NA(),'S5'!$J$23)","v":{"$error":"#N/A"}},{"$f":"ROUND(AVERAGE(L25:L30),0)","v":{"$error":"#N/A"}},{"$f":"IF(ISTEXT('S5'!$J$22),NA(),'S5'!$J$22)","v":{"$error":"#N/A"}},{"$f":"ROUND(AVERAGE(N25:N30),0)","v":{"$error":"#N/A"}},{"$f":"IF(ISTEXT('S5'!$J$21),NA(),'S5'!$J$21)","v":{"$error":"#N/A"}},{"$f":"ROUND(AVERAGE(P25:P30),0)","v":{"$error":"#N/A"}},{"$f":"IF(ISTEXT('S5'!$J$20),NA(),'S5'!$J$20)","v":{"$error":"#N/A"}},{"$f":"ROUND(AVERAGE(R25:R30),0)","v":{"$error":"#N/A"}},{"$f":"IF(ISTEXT('S5'!$J$19),NA(),'S5'!$J$19)","v":{"$error":"#N/A"}},{"$f":"ROUND(AVERAGE(T25:T30),0)","v":{"$error":"#N/A"}},{"$f":"IF(ISTEXT('S5'!$J$18),NA(),'S5'!$J$18)","v":{"$error":"#N/A"}},{"$f":"ROUND(AVERAGE(V25:V30),0)","v":{"$error":"#N/A"}},{"$f":"IF(ISTEXT('S5'!$J$17),NA(),'S5'!$J$17)","v":{"$error":"#N/A"}},{"$f":"ROUND(AVERAGE(X25:X30),0)","v":{"$error":"#N/A"}},{"$f":"IF(ISTEXT('S5'!$J$16),NA(),'S5'!$J$16)","v":{"$error":"#N/A"}},{"$f":"ROUND(AVERAGE(Z25:Z30),0)","v":{"$error":"#N/A"}},{"$f":"IF(ISTEXT('S5'!$J$15),NA(),'S5'!$J$15)","v":{"$error":"#N/A"}},{"$f":"ROUND(AVERAGE(AB25:AB30),0)","v":{"$error":"#N/A"}},28]
[{"$f":"IF(ISBLANK('S5'!K9),\" \",('S5'!$K$9))","v":" "},{"$f":"IF(ISBLANK('S5'!$K$28),NA(),'S5'!$K$28)","v":{"$error":"#N/A"}},{"$f":"ROUND(AVERAGE(B27:B31),1)","v":{"$error":"#N/A"}},{"$f":"IF(ISTEXT('S5'!$L$27),NA(),'S5'!$L$27)","v":{"$error":"#N/A"}},{"$f":"ROUND(AVERAGE(D27:D31),1)","v":{"$error":"#N/A"}},{"$f":"IF(ISTEXT('S5'!$L$26),NA(),'S5'!$L$26)","v":{"$error":"#N/A"}},{"$f":"ROUND(AVERAGE(F27:F31),0)","v":{"$error":"#N/A"}},{"$f":"IF(ISTEXT('S5'!$L$25),NA(),'S5'!$L$25)","v":{"$error":"#N/A"}},{"$f":"ROUND(AVERAGE(H27:H31),0)","v":{"$error":"#N/A"}},{"$f":"IF(ISTEXT('S5'!$L$24),NA(),'S5'!$L$24)","v":{"$error":"#N/A"}},{"$f":"ROUND(AVERAGE(J27:J31),0)","v":{"$error":"#N/A"}},{"$f":"IF(ISTEXT('S5'!$L$23),NA(),'S5'!$L$23)","v":{"$error":"#N/A"}},{"$f":"ROUND(AVERAGE(L27:L31),0)","v":{"$error":"#N/A"}},{"$f":"IF(ISTEXT('S5'!$L$22),NA(),'S5'!$L$22)","v":{"$error":"#N/A"}},{"$f":"ROUND(AVERAGE(N27:N31),0)","v":{"$error":"#N/A"}},{"$f":"IF(ISTEXT('S5'!$L$21),NA(),'S5'!$L$21)","v":{"$error":"#N/A"}},{"$f":"ROUND(AVERAGE(P27:P31),0)","v":{"$error":"#N/A"}},{"$f":"IF(ISTEXT('S5'!$L$20),NA(),'S5'!$L$20)","v":{"$error":"#N/A"}},{"$f":"ROUND(AVERAGE(R27:R31),0)","v":{"$error":"#N/A"}},{"$f":"IF(ISTEXT('S5'!$L$19),NA(),'S5'!$L$19)","v":{"$error":"#N/A"}},{"$f":"ROUND(AVERAGE(T27:T31),0)","v":{"$error":"#N/A"}},{"$f":"IF(ISTEXT('S5'!$L$18),NA(),'S5'!$L$18)","v":{"$error":"#N/A"}},{"$f":"ROUND(AVERAGE(V27:V31),0)","v":{"$error":"#N/A"}},{"$f":"IF(ISTEXT('S5'!$L$17),NA(),'S5'!$L$17)","v":{"$error":"#N/A"}},{"$f":"ROUND(AVERAGE(X27:X31),0)","v":{"$error":"#N/A"}},{"$f":"IF(ISTEXT('S5'!$L$16),NA(),'S5'!$L$16)","v":{"$error":"#N/A"}},{"$f":"ROUND(AVERAGE(Z27:Z31),0)","v":{"$error":"#N/A"}},{"$f":"IF(ISTEXT('S5'!$L$15),NA(),'S5'!$L$15)","v":{"$error":"#N/A"}},{"$f":"ROUND(AVERAGE(AB27:AB31),0)","v":{"$error":"#N/A"}},29]
[{"$f":"IF(ISBLANK('S5'!M9),\" \",('S5'!$M$9))","v":" "},{"$f":"IF(ISBLANK('S5'!$M$28),NA(),'S5'!$M$28)","v":{"$error":"#N/A"}},{"$f":"ROUND(AVERAGE(B28:B32),1)","v":{"$error":"#N/A"}},{"$f":"IF(ISTEXT('S5'!$N$27),NA(),'S5'!$N$27)","v":{"$error":"#N/A"}},{"$error":"#N/A"},{"$f":"IF(ISTEXT('S5'!$N$26),NA(),'S5'!$N$26)","v":{"$error":"#N/A"}},{"$f":"ROUND(AVERAGE(F28:F32),0)","v":{"$error":"#N/A"}},{"$f":"IF(ISTEXT('S5'!$N$25),NA(),'S5'!$N$25)","v":{"$error":"#N/A"}},{"$error":"#N/A"},{"$f":"IF(ISTEXT('S5'!$N$24),NA(),'S5'!$N$24)","v":{"$error":"#N/A"}},{"$error":"#N/A"},{"$f":"IF(ISTEXT('S5'!$N$23),NA(),'S5'!$N$23)","v":{"$error":"#N/A"}},{"$error":"#N/A"},{"$f":"IF(ISTEXT('S5'!$N$22),NA(),'S5'!$N$22)","v":{"$error":"#N/A"}},{"$error":"#N/A"},{"$f":"IF(ISTEXT('S5'!$N$21),NA(),'S5'!$N$21)","v":{"$error":"#N/A"}},{"$error":"#N/A"},{"$f":"IF(ISTEXT('S5'!$N$20),NA(),'S5'!$N$20)","v":{"$error":"#N/A"}},{"$error":"#N/A"},{"$f":"IF(ISTEXT('S5'!$N$19),NA(),'S5'!$N$19)","v":{"$error":"#N/A"}},{"$error":"#N/A"},{"$f":"IF(ISTEXT('S5'!$N$18),NA(),'S5'!$N$18)","v":{"$error":"#N/A"}},{"$error":"#N/A"},{"$f":"IF(ISTEXT('S5'!$N$17),NA(),'S5'!$N$17)","v":{"$error":"#N/A"}},{"$error":"#N/A"},{"$f":"IF(ISTEXT('S5'!$N$16),NA(),'S5'!$N$16)","v":{"$error":"#N/A"}},{"$error":"#N/A"},{"$f":"IF(ISTEXT('S5'!$N$15),NA(),'S5'!$N$15)","v":{"$error":"#N/A"}},{"$error":"#N/A"},30]
[{"$f":"IF(ISBLANK('S6'!C9),\" \",('S6'!$C$9))","v":" "},{"$f":"IF(ISBLANK('S6'!$C$28),NA(),'S6'!$C$28)","v":{"$error":"#N/A"}},{"$error":"#N/A"},{"$f":"IF(ISTEXT('S6'!$D$27),NA(),'S6'!$D$27)","v":{"$error":"#N/A"}},{"$error":"#N/A"},{"$f":"IF(ISTEXT('S6'!$D$26),NA(),'S6'!$D$26)","v":{"$error":"#N/A"}},{"$error":"#N/A"},{"$f":"IF(ISTEXT('S6'!$D$25),NA(),'S6'!$D$25)","v":{"$error":"#N/A"}},{"$error":"#N/A"},{"$f":"IF(ISTEXT('S6'!$D$24),NA(),'S6'!$D$24)","v":{"$error":"#N/A"}},{"$error":"#N/A"},{"$f":"IF(ISTEXT('S6'!$D$23),NA(),'S6'!$D$23)","v":{"$error":"#N/A"}},{"$error":"#N/A"},{"$f":"IF(ISTEXT('S6'!$D$22),NA(),'S6'!$D$22)","v":{"$error":"#N/A"}},{"$error":"#N/A"},{"$f":"IF(ISTEXT('S6'!$D$21),NA(),'S6'!$D$21)","v":{"$error":"#N/A"}},{"$error":"#N/A"},{"$f":"IF(ISTEXT('S6'!$D$20),NA(),'S6'!$D$20)","v":{"$error":"#N/A"}},{"$error":"#N/A"},{"$f":"IF(ISTEXT('S6'!$D$19),NA(),'S6'!$D$19)","v":{"$error":"#N/A"}},{"$error":"#N/A"},{"$f":"IF(ISTEXT('S6'!$D$18),NA(),'S6'!$D$18)","v":{"$error":"#N/A"}},{"$error":"#N/A"},{"$f":"IF(ISTEXT('S6'!$D$17),NA(),'S6'!$D$17)","v":{"$error":"#N/A"}},{"$error":"#N/A"},{"$f":"IF(ISTEXT('S6'!$D$16),NA(),'S6'!$D$16)","v":{"$error":"#N/A"}},{"$error":"#N/A"},{"$f":"IF(ISTEXT('S6'!$D$15),NA(),'S6'!$D$15)","v":{"$error":"#N/A"}},{"$error":"#N/A"},31]
[{"$f":"IF(ISBLANK('S6'!E9),\" \",('S6'!$E$9))","v":" "},{"$f":"IF(ISBLANK('S6'!$E$28),NA(),'S6'!$E$28)","v":{"$error":"#N/A"}},{"$error":"#N/A"},{"$f":"IF(ISTEXT('S6'!$F$27),NA(),'S6'!$F$27)","v":{"$error":"#N/A"}},{"$error":"#N/A"},{"$f":"IF(ISTEXT('S6'!$F$26),NA(),'S6'!$F$26)","v":{"$error":"#N/A"}},{"$error":"#N/A"},{"$f":"IF(ISTEXT('S6'!$F$25),NA(),'S6'!$F$25)","v":{"$error":"#N/A"}},{"$error":"#N/A"},{"$f":"IF(ISTEXT('S6'!$F$24),NA(),'S6'!$F$24)","v":{"$error":"#N/A"}},{"$error":"#N/A"},{"$f":"IF(ISTEXT('S6'!$F$23),NA(),'S6'!$F$23)","v":{"$error":"#N/A"}},{"$error":"#N/A"},{"$f":"IF(ISTEXT('S6'!$F$22),NA(),'S6'!$F$22)","v":{"$error":"#N/A"}},{"$error":"#N/A"},{"$f":"IF(ISTEXT('S6'!$F$21),NA(),'S6'!$F$21)","v":{"$error":"#N/A"}},{"$error":"#N/A"},{"$f":"IF(ISTEXT('S6'!$F$20),NA(),'S6'!$F$20)","v":{"$error":"#N/A"}},{"$error":"#N/A"},{"$f":"IF(ISTEXT('S6'!$F$19),NA(),'S6'!$F$19)","v":{"$error":"#N/A"}},{"$error":"#N/A"},{"$f":"IF(ISTEXT('S6'!$F$18),NA(),'S6'!$F$18)","v":{"$error":"#N/A"}},{"$error":"#N/A"},{"$f":"IF(ISTEXT('S6'!$F$17),NA(),'S6'!$F$17)","v":{"$error":"#N/A"}},{"$error":"#N/A"},{"$f":"IF(ISTEXT('S6'!$F$16),NA(),'S6'!$F$16)","v":{"$error":"#N/A"}},{"$error":"#N/A"},{"$f":"IF(ISTEXT('S6'!$F$15),NA(),'S6'!$F$15)","v":{"$error":"#N/A"}},{"$error":"#N/A"},32]
[{"$f":"IF(ISBLANK('S6'!G9),\" \",('S6'!$G$9))","v":" "},{"$f":"IF(ISBLANK('S6'!$G$28),NA(),'S6'!$G$28)","v":{"$error":"#N/A"}},{"$error":"#N/A"},{"$f":"IF(ISTEXT('S6'!$H$27),NA(),'S6'!$H$27)","v":{"$error":"#N/A"}},{"$error":"#N/A"},{"$f":"IF(ISTEXT('S6'!$H$26),NA(),'S6'!$H$26)","v":{"$error":"#N/A"}},{"$error":"#N/A"},{"$f":"IF(ISTEXT('S6'!$H$25),NA(),'S6'!$H$25)","v":{"$error":"#N/A"}},{"$error":"#N/A"},{"$f":"IF(ISTEXT('S6'!$H$24),NA(),'S6'!$H$24)","v":{"$error":"#N/A"}},{"$error":"#N/A"},{"$f":"IF(ISTEXT('S6'!$H$23),NA(),'S6'!$H$23)","v":{"$error":"#N/A"}},{"$error":"#N/A"},{"$f":"IF(ISTEXT('S6'!$H$22),NA(),'S6'!$H$22)","v":{"$error":"#N/A"}},{"$error":"#N/A"},{"$f":"IF(ISTEXT('S6'!$H$21),NA(),'S6'!$H$21)","v":{"$error":"#N/A"}},{"$error":"#N/A"},{"$f":"IF(ISTEXT('S6'!$H$20),NA(),'S6'!$H$20)","v":{"$error":"#N/A"}},{"$error":"#N/A"},{"$f":"IF(ISTEXT('S6'!$H$19),NA(),'S6'!$H$19)","v":{"$error":"#N/A"}},{"$error":"#N/A"},{"$f":"IF(ISTEXT('S6'!$H$18),NA(),'S6'!$H$18)","v":{"$error":"#N/A"}},{"$error":"#N/A"},{"$f":"IF(ISTEXT('S6'!$H$17),NA(),'S6'!$H$17)","v":{"$error":"#N/A"}},{"$error":"#N/A"},{"$f":"IF(ISTEXT('S6'!$H$16),NA(),'S6'!$H$16)","v":{"$error":"#N/A"}},{"$error":"#N/A"},{"$f":"IF(ISTEXT('S6'!$H$15),NA(),'S6'!$H$15)","v":{"$error":"#N/A"}},{"$error":"#N/A"},33]
[{"$f":"IF(ISBLANK('S6'!I9),\" \",('S6'!$I$9))","v":" "},{"$f":"IF(ISBLANK('S6'!$I$28),NA(),'S6'!$I$28)","v":{"$error":"#N/A"}},{"$error":"#N/A"},{"$f":"IF(ISTEXT('S6'!$J$27),NA(),'S6'!$J$27)","v":{"$error":"#N/A"}},{"$error":"#N/A"},{"$f":"IF(ISTEXT('S6'!$J$26),NA(),'S6'!$J$26)","v":{"$error":"#N/A"}},{"$error":"#N/A"},{"$f":"IF(ISTEXT('S6'!$J$25),NA(),'S6'!$J$25)","v":{"$error":"#N/A"}},{"$error":"#N/A"},{"$f":"IF(ISTEXT('S6'!$J$24),NA(),'S6'!$J$24)","v":{"$error":"#N/A"}},{"$error":"#N/A"},{"$f":"IF(ISTEXT('S6'!$J$23),NA(),'S6'!$J$23)","v":{"$error":"#N/A"}},{"$error":"#N/A"},{"$f":"IF(ISTEXT('S6'!$J$22),NA(),'S6'!$J$22)","v":{"$error":"#N/A"}},{"$error":"#N/A"},{"$f":"IF(ISTEXT('S6'!$J$21),NA(),'S6'!$J$21)","v":{"$error":"#N/A"}},{"$error":"#N/A"},{"$f":"IF(ISTEXT('S6'!$J$20),NA(),'S6'!$J$20)","v":{"$error":"#N/A"}},{"$error":"#N/A"},{"$f":"IF(ISTEXT('S6'!$J$19),NA(),'S6'!$J$19)","v":{"$error":"#N/A"}},{"$error":"#N/A"},{"$f":"IF(ISTEXT('S6'!$J$18),NA(),'S6'!$J$18)","v":{"$error":"#N/A"}},{"$error":"#N/A"},{"$f":"IF(ISTEXT('S6'!$J$17),NA(),'S6'!$J$17)","v":{"$error":"#N/A"}},{"$error":"#N/A"},{"$f":"IF(ISTEXT('S6'!$J$16),NA(),'S6'!$J$16)","v":{"$error":"#N/A"}},{"$error":"#N/A"},{"$f":"IF(ISTEXT('S6'!$J$15),NA(),'S6'!$J$15)","v":{"$error":"#N/A"}},{"$error":"#N/A"},34]
[{"$f":"IF(ISBLANK('S6'!K9),\" \",('S6'!$K$9))","v":" "},{"$f":"IF(ISBLANK('S6'!$K$28),NA(),'S6'!$K$28)","v":{"$error":"#N/A"}},{"$error":"#N/A"},{"$f":"IF(ISTEXT('S6'!$L$27),NA(),'S6'!$L$27)","v":{"$error":"#N/A"}},{"$error":"#N/A"},{"$f":"IF(ISTEXT('S6'!$L$26),NA(),'S6'!$L$26)","v":{"$error":"#N/A"}},{"$error":"#N/A"},{"$f":"IF(ISTEXT('S6'!$L$25),NA(),'S6'!$L$25)","v":{"$error":"#N/A"}},{"$error":"#N/A"},{"$f":"IF(ISTEXT('S6'!$L$24),NA(),'S6'!$L$24)","v":{"$error":"#N/A"}},{"$error":"#N/A"},{"$f":"IF(ISTEXT('S6'!$L$23),NA(),'S6'!$L$23)","v":{"$error":"#N/A"}},{"$error":"#N/A"},{"$f":"IF(ISTEXT('S6'!$L$22),NA(),'S6'!$L$22)","v":{"$error":"#N/A"}},{"$error":"#N/A"},{"$f":"IF(ISTEXT('S6'!$L$21),NA(),'S6'!$L$21)","v":{"$error":"#N/A"}},{"$error":"#N/A"},{"$f":"IF(ISTEXT('S6'!$L$20),NA(),'S6'!$L$20)","v":{"$error":"#N/A"}},{"$error":"#N/A"},{"$f":"IF(ISTEXT('S6'!$L$19),NA(),'S6'!$L$19)","v":{"$error":"#N/A"}},{"$error":"#N/A"},{"$f":"IF(ISTEXT('S6'!$L$18),NA(),'S6'!$L$18)","v":{"$error":"#N/A"}},{"$error":"#N/A"},{"$f":"IF(ISTEXT('S6'!$L$17),NA(),'S6'!$L$17)","v":{"$error":"#N/A"}},{"$error":"#N/A"},{"$f":"IF(ISTEXT('S6'!$L$16),NA(),'S6'!$L$16)","v":{"$error":"#N/A"}},{"$error":"#N/A"},{"$f":"IF(ISTEXT('S6'!$L$15),NA(),'S6'!$L$15)","v":{"$error":"#N/A"}},{"$error":"#N/A"},35]
[{"$f":"IF(ISBLANK('S6'!M9),\" \",('S6'!$M$9))","v":" "},{"$f":"IF(ISBLANK('S6'!$M$28),NA(),'S6'!$M$28)","v":{"$error":"#N/A"}},{"$error":"#N/A"},{"$f":"IF(ISTEXT('S6'!$N$27),NA(),'S6'!$N$27)","v":{"$error":"#N/A"}},{"$error":"#N/A"},{"$f":"IF(ISTEXT('S6'!$N$26),NA(),'S6'!$N$26)","v":{"$error":"#N/A"}},{"$error":"#N/A"},{"$f":"IF(ISTEXT('S6'!$N$25),NA(),'S6'!$N$25)","v":{"$error":"#N/A"}},{"$error":"#N/A"},{"$f":"IF(ISTEXT('S6'!$N$24),NA(),'S6'!$N$24)","v":{"$error":"#N/A"}},{"$error":"#N/A"},{"$f":"IF(ISTEXT('S6'!$N$23),NA(),'S6'!$N$23)","v":{"$error":"#N/A"}},{"$error":"#N/A"},{"$f":"IF(ISTEXT('S6'!$N$22),NA(),'S6'!$N$22)","v":{"$error":"#N/A"}},{"$error":"#N/A"},{"$f":"IF(ISTEXT('S6'!$N$21),NA(),'S6'!$N$21)","v":{"$error":"#N/A"}},{"$error":"#N/A"},{"$f":"IF(ISTEXT('S6'!$N$20),NA(),'S6'!$N$20)","v":{"$error":"#N/A"}},{"$error":"#N/A"},{"$f":"IF(ISTEXT('S6'!$N$19),NA(),'S6'!$N$19)","v":{"$error":"#N/A"}},{"$error":"#N/A"},{"$f":"IF(ISTEXT('S6'!$N$18),NA(),'S6'!$N$18)","v":{"$error":"#N/A"}},{"$error":"#N/A"},{"$f":"IF(ISTEXT('S6'!$N$17),NA(),'S6'!$N$17)","v":{"$error":"#N/A"}},{"$error":"#N/A"},{"$f":"IF(ISTEXT('S6'!$N$16),NA(),'S6'!$N$16)","v":{"$error":"#N/A"}},{"$error":"#N/A"},{"$f":"IF(ISTEXT('S6'!$N$15),NA(),'S6'!$N$15)","v":{"$error":"#N/A"}},{"$error":"#N/A"},36]
[{"$f":"IF(ISBLANK('S7'!C9),\" \",('S7'!$C$9))","v":" "},{"$f":"IF(ISBLANK('S7'!$C$28),NA(),'S7'!$C$28)","v":{"$error":"#N/A"}},{"$error":"#N/A"},{"$f":"IF(ISTEXT('S7'!$D$27),NA(),'S7'!$D$27)","v":{"$error":"#N/A"}},{"$error":"#N/A"},{"$f":"IF(ISTEXT('S7'!$D$26),NA(),'S7'!$D$26)","v":{"$error":"#N/A"}},{"$error":"#N/A"},{"$f":"IF(ISTEXT('S7'!$D$25),NA(),'S7'!$D$25)","v":{"$error":"#N/A"}},{"$error":"#N/A"},{"$f":"IF(ISTEXT('S7'!$D$24),NA(),'S7'!$D$24)","v":{"$error":"#N/A"}},{"$error":"#N/A"},{"$f":"IF(ISTEXT('S7'!$D$23),NA(),'S7'!$D$23)","v":{"$error":"#N/A"}},{"$error":"#N/A"},{"$f":"IF(ISTEXT('S7'!$D$22),NA(),'S7'!$D$22)","v":{"$error":"#N/A"}},{"$error":"#N/A"},{"$f":"IF(ISTEXT('S7'!$D$21),NA(),'S7'!$D$21)","v":{"$error":"#N/A"}},{"$error":"#N/A"},{"$f":"IF(ISTEXT('S7'!$D$20),NA(),'S7'!$D$20)","v":{"$error":"#N/A"}},{"$error":"#N/A"},{"$f":"IF(ISTEXT('S7'!$D$19),NA(),'S7'!$D$19)","v":{"$error":"#N/A"}},{"$error":"#N/A"},{"$f":"IF(ISTEXT('S7'!$D$18),NA(),'S7'!$D$18)","v":{"$error":"#N/A"}},{"$error":"#N/A"},{"$f":"IF(ISTEXT('S7'!$D$17),NA(),'S7'!$D$17)","v":{"$error":"#N/A"}},{"$error":"#N/A"},{"$f":"IF(ISTEXT('S7'!$D$16),NA(),'S7'!$D$16)","v":{"$error":"#N/A"}},{"$error":"#N/A"},{"$f":"IF(ISTEXT('S7'!$D$15),NA(),'S7'!$D$15)","v":{"$error":"#N/A"}},{"$error":"#N/A"},37]
[{"$f":"IF(ISBLANK('S7'!E9),\" \",('S7'!$E$9))","v":" "},{"$f":"IF(ISBLANK('S7'!$E$28),NA(),'S7'!$E$28)","v":{"$error":"#N/A"}},{"$error":"#N/A"},{"$f":"IF(ISTEXT('S7'!$F$27),NA(),'S7'!$F$27)","v":{"$error":"#N/A"}},{"$error":"#N/A"},{"$f":"IF(ISTEXT('S7'!$F$26),NA(),'S7'!$F$26)","v":{"$error":"#N/A"}},{"$error":"#N/A"},{"$f":"IF(ISTEXT('S7'!$F$25),NA(),'S7'!$F$25)","v":{"$error":"#N/A"}},{"$error":"#N/A"},{"$f":"IF(ISTEXT('S7'!$F$24),NA(),'S7'!$F$24)","v":{"$error":"#N/A"}},{"$error":"#N/A"},{"$f":"IF(ISTEXT('S7'!$F$23),NA(),'S7'!$F$23)","v":{"$error":"#N/A"}},{"$error":"#N/A"},{"$f":"IF(ISTEXT('S7'!$F$22),NA(),'S7'!$F$22)","v":{"$error":"#N/A"}},{"$error":"#N/A"},{"$f":"IF(ISTEXT('S7'!$F$21),NA(),'S7'!$F$21)","v":{"$error":"#N/A"}},{"$error":"#N/A"},{"$f":"IF(ISTEXT('S7'!$F$20),NA(),'S7'!$F$20)","v":{"$error":"#N/A"}},{"$error":"#N/A"},{"$f":"IF(ISTEXT('S7'!$F$19),NA(),'S7'!$F$19)","v":{"$error":"#N/A"}},{"$error":"#N/A"},{"$f":"IF(ISTEXT('S7'!$F$18),NA(),'S7'!$F$18)","v":{"$error":"#N/A"}},{"$error":"#N/A"},{"$f":"IF(ISTEXT('S7'!$F$17),NA(),'S7'!$F$17)","v":{"$error":"#N/A"}},{"$error":"#N/A"},{"$f":"IF(ISTEXT('S7'!$F$16),NA(),'S7'!$F$16)","v":{"$error":"#N/A"}},{"$error":"#N/A"},{"$f":"IF(ISTEXT('S7'!$F$15),NA(),'S7'!$F$15)","v":{"$error":"#N/A"}},{"$error":"#N/A"},38]
[{"$f":"IF(ISBLANK('S7'!G9),\" \",('S7'!$G$9))","v":" "},{"$f":"IF(ISBLANK('S7'!$G$28),NA(),'S7'!$G$28)","v":{"$error":"#N/A"}},{"$error":"#N/A"},{"$f":"IF(ISTEXT('S7'!$H$27),NA(),'S7'!$H$27)","v":{"$error":"#N/A"}},{"$error":"#N/A"},{"$f":"IF(ISTEXT('S7'!$H$26),NA(),'S7'!$H$26)","v":{"$error":"#N/A"}},{"$error":"#N/A"},{"$f":"IF(ISTEXT('S7'!$H$25),NA(),'S7'!$H$25)","v":{"$error":"#N/A"}},{"$error":"#N/A"},{"$f":"IF(ISTEXT('S7'!$H$24),NA(),'S7'!$H$24)","v":{"$error":"#N/A"}},{"$error":"#N/A"},{"$f":"IF(ISTEXT('S7'!$H$23),NA(),'S7'!$H$23)","v":{"$error":"#N/A"}},{"$error":"#N/A"},{"$f":"IF(ISTEXT('S7'!$H$22),NA(),'S7'!$H$22)","v":{"$error":"#N/A"}},{"$error":"#N/A"},{"$f":"IF(ISTEXT('S7'!$H$21),NA(),'S7'!$H$21)","v":{"$error":"#N/A"}},{"$error":"#N/A"},{"$f":"IF(ISTEXT('S7'!$H$20),NA(),'S7'!$H$20)","v":{"$error":"#N/A"}},{"$error":"#N/A"},{"$f":"IF(ISTEXT('S7'!$H$19),NA(),'S7'!$H$19)","v":{"$error":"#N/A"}},{"$error":"#N/A"},{"$f":"IF(ISTEXT('S7'!$H$18),NA(),'S7'!$H$18)","v":{"$error":"#N/A"}},{"$error":"#N/A"},{"$f":"IF(ISTEXT('S7'!$H$17),NA(),'S7'!$H$17)","v":{"$error":"#N/A"}},{"$error":"#N/A"},{"$f":"IF(ISTEXT('S7'!$H$16),NA(),'S7'!$H$16)","v":{"$error":"#N/A"}},{"$error":"#N/A"},{"$f":"IF(ISTEXT('S7'!$H$15),NA(),'S7'!$H$15)","v":{"$error":"#N/A"}},{"$error":"#N/A"},39]
[{"$f":"IF(ISBLANK('S7'!I9),\" \",('S7'!$I$9))","v":" "},{"$f":"IF(ISBLANK('S7'!$I$28),NA(),'S7'!$I$28)","v":{"$error":"#N/A"}},{"$error":"#N/A"},{"$f":"IF(ISTEXT('S7'!$J$27),NA(),'S7'!$J$27)","v":{"$error":"#N/A"}},{"$error":"#N/A"},{"$f":"IF(ISTEXT('S7'!$J$26),NA(),'S7'!$J$26)","v":{"$error":"#N/A"}},{"$error":"#N/A"},{"$f":"IF(ISTEXT('S7'!$J$25),NA(),'S7'!$J$25)","v":{"$error":"#N/A"}},{"$error":"#N/A"},{"$f":"IF(ISTEXT('S7'!$J$24),NA(),'S7'!$J$24)","v":{"$error":"#N/A"}},{"$error":"#N/A"},{"$f":"IF(ISTEXT('S7'!$J$23),NA(),'S7'!$J$23)","v":{"$error":"#N/A"}},{"$error":"#N/A"},{"$f":"IF(ISTEXT('S7'!$J$22),NA(),'S7'!$J$22)","v":{"$error":"#N/A"}},{"$error":"#N/A"},{"$f":"IF(ISTEXT('S7'!$J$21),NA(),'S7'!$J$21)","v":{"$error":"#N/A"}},{"$error":"#N/A"},{"$f":"IF(ISTEXT('S7'!$J$20),NA(),'S7'!$J$20)","v":{"$error":"#N/A"}},{"$error":"#N/A"},{"$f":"IF(ISTEXT('S7'!$J$19),NA(),'S7'!$J$19)","v":{"$error":"#N/A"}},{"$error":"#N/A"},{"$f":"IF(ISTEXT('S7'!$J$18),NA(),'S7'!$J$18)","v":{"$error":"#N/A"}},{"$error":"#N/A"},{"$f":"IF(ISTEXT('S7'!$J$17),NA(),'S7'!$J$17)","v":{"$error":"#N/A"}},{"$error":"#N/A"},{"$f":"IF(ISTEXT('S7'!$J$16),NA(),'S7'!$J$16)","v":{"$error":"#N/A"}},{"$error":"#N/A"},{"$f":"IF(ISTEXT('S7'!$J$15),NA(),'S7'!$J$15)","v":{"$error":"#N/A"}},{"$error":"#N/A"},40]
[{"$f":"IF(ISBLANK('S7'!K9),\" \",('S7'!$K$9))","v":" "},{"$f":"IF(ISBLANK('S7'!$K$28),NA(),'S7'!$K$28)","v":{"$error":"#N/A"}},{"$error":"#N/A"},{"$f":"IF(ISTEXT('S7'!$L$27),NA(),'S7'!$L$27)","v":{"$error":"#N/A"}},{"$error":"#N/A"},{"$f":"IF(ISTEXT('S7'!$L$26),NA(),'S7'!$L$26)","v":{"$error":"#N/A"}},{"$error":"#N/A"},{"$f":"IF(ISTEXT('S7'!$L$25),NA(),'S7'!$L$25)","v":{"$error":"#N/A"}},{"$error":"#N/A"},{"$f":"IF(ISTEXT('S7'!$L$24),NA(),'S7'!$L$24)","v":{"$error":"#N/A"}},{"$error":"#N/A"},{"$f":"IF(ISTEXT('S7'!$L$23),NA(),'S7'!$L$23)","v":{"$error":"#N/A"}},{"$error":"#N/A"},{"$f":"IF(ISTEXT('S7'!$L$22),NA(),'S7'!$L$22)","v":{"$error":"#N/A"}},{"$error":"#N/A"},{"$f":"IF(ISTEXT('S7'!$L$21),NA(),'S7'!$L$21)","v":{"$error":"#N/A"}},{"$error":"#N/A"},{"$f":"IF(ISTEXT('S7'!$L$20),NA(),'S7'!$L$20)","v":{"$error":"#N/A"}},{"$error":"#N/A"},{"$f":"IF(ISTEXT('S7'!$L$19),NA(),'S7'!$L$19)","v":{"$error":"#N/A"}},{"$error":"#N/A"},{"$f":"IF(ISTEXT('S7'!$L$18),NA(),'S7'!$L$18)","v":{"$error":"#N/A"}},{"$error":"#N/A"},{"$f":"IF(ISTEXT('S7'!$L$17),NA(),'S7'!$L$17)","v":{"$error":"#N/A"}},{"$error":"#N/A"},{"$f":"IF(ISTEXT('S7'!$L$16),NA(),'S7'!$L$16)","v":{"$error":"#N/A"}},{"$error":"#N/A"},{"$f":"IF(ISTEXT('S7'!$L$15),NA(),'S7'!$L$15)","v":{"$error":"#N/A"}},{"$error":"#N/A"},41]
[{"$f":"IF(ISBLANK('S7'!M9),\" \",('S7'!$M$9))","v":" "},{"$f":"IF(ISBLANK('S7'!$M$28),NA(),'S7'!$M$28)","v":{"$error":"#N/A"}},{"$error":"#N/A"},{"$f":"IF(ISTEXT('S7'!$N$27),NA(),'S7'!$N$27)","v":{"$error":"#N/A"}},{"$f":"ROUND(AVERAGE(D40:D44),1)","v":{"$error":"#N/A"}},{"$f":"IF(ISTEXT('S7'!$N$26),NA(),'S7'!$N$26)","v":{"$error":"#N/A"}},{"$error":"#N/A"},{"$f":"IF(ISTEXT('S7'!$N$25),NA(),'S7'!$N$25)","v":{"$error":"#N/A"}},{"$error":"#N/A"},{"$f":"IF(ISTEXT('S7'!$N$24),NA(),'S7'!$N$24)","v":{"$error":"#N/A"}},{"$error":"#N/A"},{"$f":"IF(ISTEXT('S7'!$N$23),NA(),'S7'!$N$23)","v":{"$error":"#N/A"}},{"$error":"#N/A"},{"$f":"IF(ISTEXT('S7'!$N$22),NA(),'S7'!$N$22)","v":{"$error":"#N/A"}},{"$error":"#N/A"},{"$f":"IF(ISTEXT('S7'!$N$21),NA(),'S7'!$N$21)","v":{"$error":"#N/A"}},{"$error":"#N/A"},{"$f":"IF(ISTEXT('S7'!$N$20),NA(),'S7'!$N$20)","v":{"$error":"#N/A"}},{"$error":"#N/A"},{"$f":"IF(ISTEXT('S7'!$N$19),NA(),'S7'!$N$19)","v":{"$error":"#N/A"}},{"$error":"#N/A"},{"$f":"IF(ISTEXT('S7'!$N$18),NA(),'S7'!$N$18)","v":{"$error":"#N/A"}},{"$error":"#N/A"},{"$f":"IF(ISTEXT('S7'!$N$17),NA(),'S7'!$N$17)","v":{"$error":"#N/A"}},{"$error":"#N/A"},{"$f":"IF(ISTEXT('S7'!$N$16),NA(),'S7'!$N$16)","v":{"$error":"#N/A"}},{"$error":"#N/A"},{"$f":"IF(ISTEXT('S7'!$N$15),NA(),'S7'!$N$15)","v":{"$error":"#N/A"}},{"$error":"#N/A"},42]
[{"$f":"IF(ISBLANK('S8'!C9),\" \",('S8'!$C$9))","v":" "},{"$f":"IF(ISBLANK('S8'!$C$28),NA(),'S8'!$C$28)","v":{"$error":"#N/A"}},{"$error":"#N/A"},{"$f":"IF(ISTEXT('S8'!$D$27),NA(),'S8'!$D$27)","v":{"$error":"#N/A"}},{"$error":"#N/A"},{"$f":"IF(ISTEXT('S8'!$D$26),NA(),'S8'!$D$26)","v":{"$error":"#N/A"}},{"$error":"#N/A"},{"$f":"IF(ISTEXT('S8'!$D$25),NA(),'S8'!$D$25)","v":{"$error":"#N/A"}},{"$error":"#N/A"},{"$f":"IF(ISTEXT('S8'!$D$24),NA(),'S8'!$D$24)","v":{"$error":"#N/A"}},{"$error":"#N/A"},{"$f":"IF(ISTEXT('S8'!$D$23),NA(),'S8'!$D$23)","v":{"$error":"#N/A"}},{"$error":"#N/A"},{"$f":"IF(ISTEXT('S8'!$D$22),NA(),'S8'!$D$22)","v":{"$error":"#N/A"}},{"$error":"#N/A"},{"$f":"IF(ISTEXT('S8'!D21),NA(),'S8'!D21)","v":{"$error":"#N/A"}},{"$error":"#N/A"},{"$f":"IF(ISTEXT('S8'!$D$20),NA(),'S8'!$D$20)","v":{"$error":"#N/A"}},{"$error":"#N/A"},{"$f":"IF(ISTEXT('S8'!$D$19),NA(),'S8'!$D$19)","v":{"$error":"#N/A"}},{"$error":"#N/A"},{"$f":"IF(ISTEXT('S8'!$D$18),NA(),'S8'!$D$18)","v":{"$error":"#N/A"}},{"$error":"#N/A"},{"$f":"IF(ISTEXT('S8'!$D$17),NA(),'S8'!$D$17)","v":{"$error":"#N/A"}},{"$error":"#N/A"},{"$f":"IF(ISTEXT('S8'!$D$16),NA(),'S8'!$D$16)","v":{"$error":"#N/A"}},{"$error":"#N/A"},{"$f":"IF(ISTEXT('S8'!$D$15),NA(),'S8'!$D$15)","v":{"$error":"#N/A"}},{"$error":"#N/A"},43]
[{"$f":"IF(ISBLANK('S8'!E9),\" \",('S8'!$E$9))","v":" "},{"$f":"IF(ISBLANK('S8'!$E$28),NA(),'S8'!$E$28)","v":{"$error":"#N/A"}},{"$error":"#N/A"},{"$f":"IF(ISTEXT('S8'!$F$27),NA(),'S8'!$F$27)","v":{"$error":"#N/A"}},{"$error":"#N/A"},{"$f":"IF(ISTEXT('S8'!$F$26),NA(),'S8'!$F$26)","v":{"$error":"#N/A"}},{"$error":"#N/A"},{"$f":"IF(ISTEXT('S8'!$F$25),NA(),'S8'!$F$25)","v":{"$error":"#N/A"}},{"$error":"#N/A"},{"$f":"IF(ISTEXT('S8'!$F$24),NA(),'S8'!$F$24)","v":{"$error":"#N/A"}},{"$error":"#N/A"},{"$f":"IF(ISTEXT('S8'!$F$23),NA(),'S8'!$F$23)","v":{"$error":"#N/A"}},{"$error":"#N/A"},{"$f":"IF(ISTEXT('S8'!$F$22),NA(),'S8'!$F$22)","v":{"$error":"#N/A"}},{"$error":"#N/A"},{"$f":"IF(ISTEXT('S8'!F21),NA(),'S7'!F21)","v":{"$error":"#N/A"}},{"$error":"#N/A"},{"$f":"IF(ISTEXT('S8'!$F$20),NA(),'S8'!$F$20)","v":{"$error":"#N/A"}},{"$error":"#N/A"},{"$f":"IF(ISTEXT('S8'!$F$19),NA(),'S8'!$F$19)","v":{"$error":"#N/A"}},{"$error":"#N/A"},{"$f":"IF(ISTEXT('S8'!$F$18),NA(),'S8'!$F$18)","v":{"$error":"#N/A"}},{"$error":"#N/A"},{"$f":"IF(ISTEXT('S8'!$F$17),NA(),'S8'!$F$17)","v":{"$error":"#N/A"}},{"$error":"#N/A"},{"$f":"IF(ISTEXT('S8'!$F$16),NA(),'S8'!$F$16)","v":{"$error":"#N/A"}},{"$error":"#N/A"},{"$f":"IF(ISTEXT('S8'!$F$15),NA(),'S8'!$F$15)","v":{"$error":"#N/A"}},{"$error":"#N/A"},44]
[{"$f":"IF(ISBLANK('S8'!G9),\" \",('S8'!$G$9))","v":" "},{"$f":"IF(ISBLANK('S8'!$G$28),NA(),'S8'!$G$28)","v":{"$error":"#N/A"}},{"$error":"#N/A"},{"$f":"IF(ISTEXT('S8'!$H$27),NA(),'S8'!$H$27)","v":{"$error":"#N/A"}},{"$error":"#N/A"},{"$f":"IF(ISTEXT('S8'!$H$26),NA(),'S8'!$H$26)","v":{"$error":"#N/A"}},{"$error":"#N/A"},{"$f":"IF(ISTEXT('S8'!$H$25),NA(),'S8'!$H$25)","v":{"$error":"#N/A"}},{"$error":"#N/A"},{"$f":"IF(ISTEXT('S8'!$H$24),NA(),'S8'!$H$24)","v":{"$error":"#N/A"}},{"$error":"#N/A"},{"$f":"IF(ISTEXT('S8'!$H$23),NA(),'S8'!$H$23)","v":{"$error":"#N/A"}},{"$error":"#N/A"},{"$f":"IF(ISTEXT('S8'!$H$22),NA(),'S8'!$H$22)","v":{"$error":"#N/A"}},{"$error":"#N/A"},{"$f":"IF(ISTEXT('S8'!H21),NA(),'S8'!H21)","v":{"$error":"#N/A"}},{"$error":"#N/A"},{"$f":"IF(ISTEXT('S8'!$H$20),NA(),'S8'!$H$20)","v":{"$error":"#N/A"}},{"$error":"#N/A"},{"$f":"IF(ISTEXT('S8'!$H$19),NA(),'S8'!$H$19)","v":{"$error":"#N/A"}},{"$error":"#N/A"},{"$f":"IF(ISTEXT('S8'!$H$18),NA(),'S8'!$H$18)","v":{"$error":"#N/A"}},{"$error":"#N/A"},{"$f":"IF(ISTEXT('S8'!$H$17),NA(),'S8'!$H$17)","v":{"$error":"#N/A"}},{"$error":"#N/A"},{"$f":"IF(ISTEXT('S8'!$H$16),NA(),'S8'!$H$16)","v":{"$error":"#N/A"}},{"$error":"#N/A"},{"$f":"IF(ISTEXT('S8'!$H$15),NA(),'S8'!$H$15)","v":{"$error":"#N/A"}},{"$error":"#N/A"},45]
[{"$f":"IF(ISBLANK('S8'!I9),\" \",('S8'!$I$9))","v":" "},{"$f":"IF(ISBLANK('S8'!$I$28),NA(),'S8'!$I$28)","v":{"$error":"#N/A"}},{"$error":"#N/A"},{"$f":"IF(ISTEXT('S8'!$J$27),NA(),'S8'!$J$27)","v":{"$error":"#N/A"}},{"$error":"#N/A"},{"$f":"IF(ISTEXT('S8'!$J$26),NA(),'S8'!$J$26)","v":{"$error":"#N/A"}},{"$error":"#N/A"},{"$f":"IF(ISTEXT('S8'!$J$25),NA(),'S8'!$J$25)","v":{"$error":"#N/A"}},{"$error":"#N/A"},{"$f":"IF(ISTEXT('S8'!$J$24),NA(),'S8'!$J$24)","v":{"$error":"#N/A"}},{"$error":"#N/A"},{"$f":"IF(ISTEXT('S8'!$J$23),NA(),'S8'!$J$23)","v":{"$error":"#N/A"}},{"$error":"#N/A"},{"$f":"IF(ISTEXT('S8'!$J$22),NA(),'S8'!$J$22)","v":{"$error":"#N/A"}},{"$error":"#N/A"},{"$f":"IF(ISTEXT('S8'!J21),NA(),'S8'!J21)","v":{"$error":"#N/A"}},{"$error":"#N/A"},{"$f":"IF(ISTEXT('S8'!$J$20),NA(),'S8'!$J$20)","v":{"$error":"#N/A"}},{"$error":"#N/A"},{"$f":"IF(ISTEXT('S8'!$J$19),NA(),'S8'!$J$19)","v":{"$error":"#N/A"}},{"$error":"#N/A"},{"$f":"IF(ISTEXT('S8'!$J$18),NA(),'S8'!$J$18)","v":{"$error":"#N/A"}},{"$error":"#N/A"},{"$f":"IF(ISTEXT('S8'!$J$17),NA(),'S8'!$J$17)","v":{"$error":"#N/A"}},{"$error":"#N/A"},{"$f":"IF(ISTEXT('S8'!$J$16),NA(),'S8'!$J$16)","v":{"$error":"#N/A"}},{"$error":"#N/A"},{"$f":"IF(ISTEXT('S8'!$J$15),NA(),'S8'!$J$15)","v":{"$error":"#N/A"}},{"$error":"#N/A"},46]
[{"$f":"IF(ISBLANK('S8'!K9),\" \",('S8'!$K$9))","v":" "},{"$f":"IF(ISBLANK('S8'!$K$28),NA(),'S8'!$K$28)","v":{"$error":"#N/A"}},{"$error":"#N/A"},{"$f":"IF(ISTEXT('S8'!$L$27),NA(),'S8'!$L$27)","v":{"$error":"#N/A"}},{"$error":"#N/A"},{"$f":"IF(ISTEXT('S8'!$L$26),NA(),'S8'!$L$26)","v":{"$error":"#N/A"}},{"$error":"#N/A"},{"$f":"IF(ISTEXT('S8'!$L$25),NA(),'S8'!$L$25)","v":{"$error":"#N/A"}},{"$error":"#N/A"},{"$f":"IF(ISTEXT('S8'!$L$24),NA(),'S8'!$L$24)","v":{"$error":"#N/A"}},{"$error":"#N/A"},{"$f":"IF(ISTEXT('S8'!$L$23),NA(),'S8'!$L$23)","v":{"$error":"#N/A"}},{"$error":"#N/A"},{"$f":"IF(ISTEXT('S8'!$L$22),NA(),'S8'!$L$22)","v":{"$error":"#N/A"}},{"$error":"#N/A"},{"$f":"IF(ISTEXT('S8'!L21),NA(),'S8'!L21)","v":{"$error":"#N/A"}},{"$error":"#N/A"},{"$f":"IF(ISTEXT('S8'!$L$20),NA(),'S8'!$L$20)","v":{"$error":"#N/A"}},{"$error":"#N/A"},{"$f":"IF(ISTEXT('S8'!$L$19),NA(),'S8'!$L$19)","v":{"$error":"#N/A"}},{"$error":"#N/A"},{"$f":"IF(ISTEXT('S8'!$L$18),NA(),'S8'!$L$18)","v":{"$error":"#N/A"}},{"$error":"#N/A"},{"$f":"IF(ISTEXT('S8'!$L$17),NA(),'S8'!$L$17)","v":{"$error":"#N/A"}},{"$error":"#N/A"},{"$f":"IF(ISTEXT('S8'!$L$16),NA(),'S8'!$L$16)","v":{"$error":"#N/A"}},{"$error":"#N/A"},{"$f":"IF(ISTEXT('S8'!$L$15),NA(),'S8'!$L$15)","v":{"$error":"#N/A"}},{"$error":"#N/A"},47]
[{"$f":"IF(ISBLANK('S8'!M9),\" \",('S8'!$M$9))","v":" "},{"$f":"IF(ISBLANK('S8'!$M$28),NA(),'S8'!$M$28)","v":{"$error":"#N/A"}},{"$f":"ROUND(AVERAGE(B46:B50),1)","v":{"$error":"#N/A"}},{"$f":"IF(ISTEXT('S8'!$N$27),NA(),'S8'!$N$27)","v":{"$error":"#N/A"}},{"$f":"ROUND(AVERAGE(D46:D50),1)","v":{"$error":"#N/A"}},{"$f":"IF(ISTEXT('S8'!$N$26),NA(),'S8'!$N$26)","v":{"$error":"#N/A"}},{"$error":"#N/A"},{"$f":"IF(ISTEXT('S8'!$N$25),NA(),'S8'!$N$25)","v":{"$error":"#N/A"}},{"$error":"#N/A"},{"$f":"IF(ISTEXT('S8'!$N$24),NA(),'S8'!$N$24)","v":{"$error":"#N/A"}},{"$error":"#N/A"},{"$f":"IF(ISTEXT('S8'!$N$23),NA(),'S8'!$N$23)","v":{"$error":"#N/A"}},{"$error":"#N/A"},{"$f":"IF(ISTEXT('S8'!$N$22),NA(),'S8'!$N$22)","v":{"$error":"#N/A"}},{"$error":"#N/A"},{"$f":"IF(ISTEXT('S8'!$N$21),NA(),'S8'!$N$21)","v":{"$error":"#N/A"}},{"$error":"#N/A"},{"$f":"IF(ISTEXT('S8'!$N$20),NA(),'S8'!$N$20)","v":{"$error":"#N/A"}},{"$error":"#N/A"},{"$f":"IF(ISTEXT('S8'!$N$19),NA(),'S8'!$N$19)","v":{"$error":"#N/A"}},{"$error":"#N/A"},{"$f":"IF(ISTEXT('S8'!$N$18),NA(),'S8'!$N$18)","v":{"$error":"#N/A"}},{"$error":"#N/A"},{"$f":"IF(ISTEXT('S8'!$N$17),NA(),'S8'!$N$17)","v":{"$error":"#N/A"}},{"$error":"#N/A"},{"$f":"IF(ISTEXT('S8'!$N$16),NA(),'S8'!$N$16)","v":{"$error":"#N/A"}},{"$error":"#N/A"},{"$f":"IF(ISTEXT('S8'!$N$15),NA(),'S8'!$N$15)","v":{"$error":"#N/A"}},{"$error":"#N/A"},48]
[]
[{"$f":"IF(ISBLANK('S9'!C9),\" \",('S9'!$C$9))","v":" "},{"$f":"IF(ISBLANK('S9'!$C$28),NA(),'S9'!$C$28)","v":{"$error":"#N/A"}},{"$f":"ROUND(AVERAGE(B47:B52),1)","v":{"$error":"#N/A"}},{"$f":"IF(ISTEXT('S9'!$D$27),NA(),'S9'!$D$27)","v":{"$error":"#N/A"}},{"$f":"ROUND(AVERAGE(D47:D52),1)","v":{"$error":"#N/A"}},{"$f":"IF(ISTEXT('S9'!$D$26),NA(),'S9'!$D$26)","v":{"$error":"#N/A"}},{"$f":"ROUND(AVERAGE(F47:F52),0)","v":{"$error":"#N/A"}},{"$f":"IF(ISTEXT('S9'!$D$25),NA(),'S9'!$D$25)","v":{"$error":"#N/A"}},{"$f":"ROUND(AVERAGE(H47:H52),0)","v":{"$error":"#N/A"}},{"$f":"IF(ISTEXT('S9'!$D$24),NA(),'S9'!$D$24)","v":{"$error":"#N/A"}},{"$f":"ROUND(AVERAGE(J47:J52),0)","v":{"$error":"#N/A"}},{"$f":"IF(ISTEXT('S9'!$D$23),NA(),'S9'!$D$23)","v":{"$error":"#N/A"}},{"$f":"ROUND(AVERAGE(L47:L52),0)","v":{"$error":"#N/A"}},{"$f":"IF(ISTEXT('S9'!$D$22),NA(),'S9'!$D$22)","v":{"$error":"#N/A"}},{"$f":"ROUND(AVERAGE(N47:N52),0)","v":{"$error":"#N/A"}},{"$f":"IF(ISTEXT('S9'!$D$21),NA(),'S9'!$D$21)","v":{"$error":"#N/A"}},{"$f":"ROUND(AVERAGE(P47:P52),0)","v":{"$error":"#N/A"}},{"$f":"IF(ISTEXT('S9'!$D$20),NA(),'S9'!$D$20)","v":{"$error":"#N/A"}},{"$f":"ROUND(AVERAGE(R47:R52),0)","v":{"$error":"#N/A"}},{"$f":"IF(ISTEXT('S9'!$D$19),NA(),'S9'!$D$19)","v":{"$error":"#N/A"}},{"$f":"ROUND(AVERAGE(T47:T52),0)","v":{"$error":"#N/A"}},{"$f":"IF(ISTEXT('S9'!$D$18),NA(),'S9'!$D$18)","v":{"$error":"#N/A"}},{"$f":"ROUND(AVERAGE(V47:V52),0)","v":{"$error":"#N/A"}},{"$f":"IF(ISTEXT('S9'!$D$17),NA(),'S9'!$D$17)","v":{"$error":"#N/A"}},{"$f":"ROUND(AVERAGE(X47:X52),0)","v":{"$error":"#N/A"}},{"$f":"IF(ISTEXT('S9'!$D$16),NA(),'S9'!$D$16)","v":{"$error":"#N/A"}},{"$f":"ROUND(AVERAGE(Z47:Z52),0)","v":{"$error":"#N/A"}},{"$f":"IF(ISTEXT('S9'!$D$15),NA(),'S9'!$D$15)","v":{"$error":"#N/A"}},{"$f":"ROUND(AVERAGE(AB47:AB52),0)","v":{"$error":"#N/A"}},49]
[{"$f":"IF(ISBLANK('S9'!E9),\" \",('S9'!$E$9))","v":" "},{"$f":"IF(ISBLANK('S9'!$E$28),NA(),'S9'!$E$28)","v":{"$error":"#N/A"}},{"$f":"ROUND(AVERAGE(B48:B53),1)","v":{"$error":"#N/A"}},{"$f":"IF(ISTEXT('S9'!$F$27),NA(),'S9'!$F$27)","v":{"$error":"#N/A"}},{"$f":"ROUND(AVERAGE(D48:D53),1)","v":{"$error":"#N/A"}},{"$f":"IF(ISTEXT('S9'!$F$26),NA(),'S9'!$F$26)","v":{"$error":"#N/A"}},{"$f":"ROUND(AVERAGE(F48:F53),0)","v":{"$error":"#N/A"}},{"$f":"IF(ISTEXT('S9'!$F$25),NA(),'S9'!$F$25)","v":{"$error":"#N/A"}},{"$f":"ROUND(AVERAGE(H48:H53),0)","v":{"$error":"#N/A"}},{"$f":"IF(ISTEXT('S9'!$F$24),NA(),'S9'!$F$24)","v":{"$error":"#N/A"}},{"$f":"ROUND(AVERAGE(J48:J53),0)","v":{"$error":"#N/A"}},{"$f":"IF(ISTEXT('S9'!$F$23),NA(),'S9'!$F$23)","v":{"$error":"#N/A"}},{"$f":"ROUND(AVERAGE(L48:L53),0)","v":{"$error":"#N/A"}},{"$f":"IF(ISTEXT('S9'!$F$22),NA(),'S9'!$F$22)","v":{"$error":"#N/A"}},{"$f":"ROUND(AVERAGE(N48:N53),0)","v":{"$error":"#N/A"}},{"$f":"IF(ISTEXT('S9'!$F$21),NA(),'S9'!$F$21)","v":{"$error":"#N/A"}},{"$f":"ROUND(AVERAGE(P48:P53),0)","v":{"$error":"#N/A"}},{"$f":"IF(ISTEXT('S9'!$F$20),NA(),'S9'!$F$20)","v":{"$error":"#N/A"}},{"$f":"ROUND(AVERAGE(R48:R53),0)","v":{"$error":"#N/A"}},{"$f":"IF(ISTEXT('S9'!$F$19),NA(),'S9'!$F$19)","v":{"$error":"#N/A"}},{"$f":"ROUND(AVERAGE(T48:T53),0)","v":{"$error":"#N/A"}},{"$f":"IF(ISTEXT('S9'!$F$18),NA(),'S9'!$F$18)","v":{"$error":"#N/A"}},{"$f":"ROUND(AVERAGE(V48:V53),0)","v":{"$error":"#N/A"}},{"$f":"IF(ISTEXT('S9'!$F$17),NA(),'S9'!$F$17)","v":{"$error":"#N/A"}},{"$f":"ROUND(AVERAGE(X48:X53),0)","v":{"$error":"#N/A"}},{"$f":"IF(ISTEXT('S9'!$F$16),NA(),'S9'!$F$16)","v":{"$error":"#N/A"}},{"$f":"ROUND(AVERAGE(Z48:Z53),0)","v":{"$error":"#N/A"}},{"$f":"IF(ISTEXT('S9'!$F$15),NA(),'S9'!$F$15)","v":{"$error":"#N/A"}},{"$f":"ROUND(AVERAGE(AB48:AB53),0)","v":{"$error":"#N/A"}},50]
[{"$f":"IF(ISBLANK('S9'!G9),\" \",('S9'!$G$9))","v":" "},{"$f":"IF(ISBLANK('S9'!$G$28),NA(),'S9'!$G$28)","v":{"$error":"#N/A"}},{"$f":"ROUND(AVERAGE(B49:B54),1)","v":{"$error":"#N/A"}},{"$f":"IF(ISTEXT('S9'!$H$27),NA(),'S9'!$H$27)","v":{"$error":"#N/A"}},{"$f":"ROUND(AVERAGE(D49:D54),1)","v":{"$error":"#N/A"}},{"$f":"IF(ISTEXT('S9'!$H$26),NA(),'S9'!$H$26)","v":{"$error":"#N/A"}},{"$f":"ROUND(AVERAGE(F49:F54),0)","v":{"$error":"#N/A"}},{"$f":"IF(ISTEXT('S9'!$H$25),NA(),'S9'!$H$25)","v":{"$error":"#N/A"}},{"$f":"ROUND(AVERAGE(H49:H54),0)","v":{"$error":"#N/A"}},{"$f":"IF(ISTEXT('S9'!$H$24),NA(),'S9'!$H$24)","v":{"$error":"#N/A"}},{"$f":"ROUND(AVERAGE(J49:J54),0)","v":{"$error":"#N/A"}},{"$f":"IF(ISTEXT('S9'!$H$23),NA(),'S9'!$H$23)","v":{"$error":"#N/A"}},{"$f":"ROUND(AVERAGE(L49:L54),0)","v":{"$error":"#N/A"}},{"$f":"IF(ISTEXT('S9'!$H$22),NA(),'S9'!$H$22)","v":{"$error":"#N/A"}},{"$f":"ROUND(AVERAGE(N49:N54),0)","v":{"$error":"#N/A"}},{"$f":"IF(ISTEXT('S9'!$H$21),NA(),'S9'!$H$21)","v":{"$error":"#N/A"}},{"$f":"ROUND(AVERAGE(P49:P54),0)","v":{"$error":"#N/A"}},{"$f":"IF(ISTEXT('S9'!$H$20),NA(),'S9'!$H$20)","v":{"$error":"#N/A"}},{"$f":"ROUND(AVERAGE(R49:R54),0)","v":{"$error":"#N/A"}},{"$f":"IF(ISTEXT('S9'!$H$19),NA(),'S9'!$H$19)","v":{"$error":"#N/A"}},{"$f":"ROUND(AVERAGE(T49:T54),0)","v":{"$error":"#N/A"}},{"$f":"IF(ISTEXT('S9'!$H$18),NA(),'S9'!$H$18)","v":{"$error":"#N/A"}},{"$f":"ROUND(AVERAGE(V49:V54),0)","v":{"$error":"#N/A"}},{"$f":"IF(ISTEXT('S9'!$H$17),NA(),'S9'!$H$17)","v":{"$error":"#N/A"}},{"$f":"ROUND(AVERAGE(X49:X54),0)","v":{"$error":"#N/A"}},{"$f":"IF(ISTEXT('S9'!$H$16),NA(),'S9'!$H$16)","v":{"$error":"#N/A"}},{"$f":"ROUND(AVERAGE(Z49:Z54),0)","v":{"$error":"#N/A"}},{"$f":"IF(ISTEXT('S9'!$H$15),NA(),'S9'!$H$15)","v":{"$error":"#N/A"}},{"$f":"ROUND(AVERAGE(AB49:AB54),0)","v":{"$error":"#N/A"}},51]
[{"$f":"IF(ISBLANK('S9'!I9),\" \",('S9'!$I$9))","v":" "},{"$f":"IF(ISBLANK('S9'!$I$28),NA(),'S9'!$I$28)","v":{"$error":"#N/A"}},{"$f":"ROUND(AVERAGE(B50:B55),1)","v":{"$error":"#N/A"}},{"$f":"IF(ISTEXT('S9'!$J$27),NA(),'S9'!$J$27)","v":{"$error":"#N/A"}},{"$f":"ROUND(AVERAGE(D50:D55),1)","v":{"$error":"#N/A"}},{"$f":"IF(ISTEXT('S9'!$J$26),NA(),'S9'!$J$26)","v":{"$error":"#N/A"}},{"$f":"ROUND(AVERAGE(F50:F55),0)","v":{"$error":"#N/A"}},{"$f":"IF(ISTEXT('S9'!$J$25),NA(),'S9'!$J$25)","v":{"$error":"#N/A"}},{"$f":"ROUND(AVERAGE(H50:H55),0)","v":{"$error":"#N/A"}},{"$f":"IF(ISTEXT('S9'!$J$24),NA(),'S9'!$J$24)","v":{"$error":"#N/A"}},{"$f":"ROUND(AVERAGE(J50:J55),0)","v":{"$error":"#N/A"}},{"$f":"IF(ISTEXT('S9'!$J$23),NA(),'S9'!$J$23)","v":{"$error":"#N/A"}},{"$f":"ROUND(AVERAGE(L50:L55),0)","v":{"$error":"#N/A"}},{"$f":"IF(ISTEXT('S9'!$J$22),NA(),'S9'!$J$22)","v":{"$error":"#N/A"}},{"$f":"ROUND(AVERAGE(N50:N55),0)","v":{"$error":"#N/A"}},{"$f":"IF(ISTEXT('S9'!$J$21),NA(),'S9'!$J$21)","v":{"$error":"#N/A"}},{"$f":"ROUND(AVERAGE(P50:P55),0)","v":{"$error":"#N/A"}},{"$f":"IF(ISTEXT('S9'!$J$20),NA(),'S9'!$J$20)","v":{"$error":"#N/A"}},{"$f":"ROUND(AVERAGE(R50:R55),0)","v":{"$error":"#N/A"}},{"$f":"IF(ISTEXT('S9'!$J$19),NA(),'S9'!$J$19)","v":{"$error":"#N/A"}},{"$f":"ROUND(AVERAGE(T50:T55),0)","v":{"$error":"#N/A"}},{"$f":"IF(ISTEXT('S9'!$J$18),NA(),'S9'!$J$18)","v":{"$error":"#N/A"}},{"$f":"ROUND(AVERAGE(V50:V55),0)","v":{"$error":"#N/A"}},{"$f":"IF(ISTEXT('S9'!$J$17),NA(),'S9'!$J$17)","v":{"$error":"#N/A"}},{"$f":"ROUND(AVERAGE(X50:X55),0)","v":{"$error":"#N/A"}},{"$f":"IF(ISTEXT('S9'!$J$16),NA(),'S9'!$J$16)","v":{"$error":"#N/A"}},{"$f":"ROUND(AVERAGE(Z50:Z55),0)","v":{"$error":"#N/A"}},{"$f":"IF(ISTEXT('S9'!$J$15),NA(),'S9'!$J$15)","v":{"$error":"#N/A"}},{"$f":"ROUND(AVERAGE(AB50:AB55),0)","v":{"$error":"#N/A"}},52]
[{"$f":"IF(ISBLANK('S9'!K9),\" \",('S9'!$K$9))","v":" "},{"$f":"IF(ISBLANK('S9'!$K$28),NA(),'S9'!$K$28)","v":{"$error":"#N/A"}},{"$f":"ROUND(AVERAGE(B52:B56),1)","v":{"$error":"#N/A"}},{"$f":"IF(ISTEXT('S9'!$L$27),NA(),'S9'!$L$27)","v":{"$error":"#N/A"}},{"$f":"ROUND(AVERAGE(D52:D56),1)","v":{"$error":"#N/A"}},{"$f":"IF(ISTEXT('S9'!$L$26),NA(),'S9'!$L$26)","v":{"$error":"#N/A"}},{"$f":"ROUND(AVERAGE(F52:F56),0)","v":{"$error":"#N/A"}},{"$f":"IF(ISTEXT('S9'!$L$25),NA(),'S9'!$L$25)","v":{"$error":"#N/A"}},{"$f":"ROUND(AVERAGE(H52:H56),0)","v":{"$error":"#N/A"}},{"$f":"IF(ISTEXT('S9'!$L$24),NA(),'S9'!$L$24)","v":{"$error":"#N/A"}},{"$f":"ROUND(AVERAGE(J52:J56),0)","v":{"$error":"#N/A"}},{"$f":"IF(ISTEXT('S9'!$L$23),NA(),'S9'!$L$23)","v":{"$error":"#N/A"}},{"$f":"ROUND(AVERAGE(L52:L56),0)","v":{"$error":"#N/A"}},{"$f":"IF(ISTEXT('S9'!$L$22),NA(),'S9'!$L$22)","v":{"$error":"#N/A"}},{"$f":"ROUND(AVERAGE(N52:N56),0)","v":{"$error":"#N/A"}},{"$f":"IF(ISTEXT('S9'!$L$21),NA(),'S9'!$L$21)","v":{"$error":"#N/A"}},{"$f":"ROUND(AVERAGE(P52:P56),0)","v":{"$error":"#N/A"}},{"$f":"IF(ISTEXT('S9'!$L$20),NA(),'S9'!$L$20)","v":{"$error":"#N/A"}},{"$f":"ROUND(AVERAGE(R52:R56),0)","v":{"$error":"#N/A"}},{"$f":"IF(ISTEXT('S9'!$L$19),NA(),'S9'!$L$19)","v":{"$error":"#N/A"}},{"$f":"ROUND(AVERAGE(T52:T56),0)","v":{"$error":"#N/A"}},{"$f":"IF(ISTEXT('S9'!$L$18),NA(),'S9'!$L$18)","v":{"$error":"#N/A"}},{"$f":"ROUND(AVERAGE(V52:V56),0)","v":{"$error":"#N/A"}},{"$f":"IF(ISTEXT('S9'!$L$17),NA(),'S9'!$L$17)","v":{"$error":"#N/A"}},{"$f":"ROUND(AVERAGE(X52:X56),0)","v":{"$error":"#N/A"}},{"$f":"IF(ISTEXT('S9'!$L$16),NA(),'S9'!$L$16)","v":{"$error":"#N/A"}},{"$f":"ROUND(AVERAGE(Z52:Z56),0)","v":{"$error":"#N/A"}},{"$f":"IF(ISTEXT('S9'!$L$15),NA(),'S9'!$L$15)","v":{"$error":"#N/A"}},{"$f":"ROUND(AVERAGE(AB52:AB56),0)","v":{"$error":"#N/A"}},53]
[{"$f":"IF(ISBLANK('S9'!M9),\" \",('S9'!$M$9))","v":" "},{"$f":"IF(ISBLANK('S9'!$M$28),NA(),'S9'!$M$28)","v":{"$error":"#N/A"}},{"$f":"ROUND(AVERAGE(B53:B57),1)","v":{"$error":"#N/A"}},{"$f":"IF(ISTEXT('S9'!$N$27),NA(),'S9'!$N$27)","v":{"$error":"#N/A"}},{"$error":"#N/A"},{"$f":"IF(ISTEXT('S9'!$N$26),NA(),'S9'!$N$26)","v":{"$error":"#N/A"}},{"$f":"ROUND(AVERAGE(F53:F57),0)","v":{"$error":"#N/A"}},{"$f":"IF(ISTEXT('S9'!$N$25),NA(),'S9'!$N$25)","v":{"$error":"#N/A"}},{"$error":"#N/A"},{"$f":"IF(ISTEXT('S9'!$N$24),NA(),'S9'!$N$24)","v":{"$error":"#N/A"}},{"$error":"#N/A"},{"$f":"IF(ISTEXT('S9'!$N$23),NA(),'S9'!$N$23)","v":{"$error":"#N/A"}},{"$error":"#N/A"},{"$f":"IF(ISTEXT('S9'!$N$22),NA(),'S9'!$N$22)","v":{"$error":"#N/A"}},{"$error":"#N/A"},{"$f":"IF(ISTEXT('S9'!$N$21),NA(),'S9'!$N$21)","v":{"$error":"#N/A"}},{"$error":"#N/A"},{"$f":"IF(ISTEXT('S9'!$N$20),NA(),'S9'!$N$20)","v":{"$error":"#N/A"}},{"$error":"#N/A"},{"$f":"IF(ISTEXT('S9'!$N$19),NA(),'S9'!$N$19)","v":{"$error":"#N/A"}},{"$error":"#N/A"},{"$f":"IF(ISTEXT('S9'!$N$18),NA(),'S9'!$N$18)","v":{"$error":"#N/A"}},{"$error":"#N/A"},{"$f":"IF(ISTEXT('S9'!$N$17),NA(),'S9'!$N$17)","v":{"$error":"#N/A"}},{"$error":"#N/A"},{"$f":"IF(ISTEXT('S9'!$N$16),NA(),'S9'!$N$16)","v":{"$error":"#N/A"}},{"$error":"#N/A"},{"$f":"IF(ISTEXT('S9'!$N$15),NA(),'S9'!$N$15)","v":{"$error":"#N/A"}},{"$error":"#N/A"},54]
[{"$f":"IF(ISBLANK('S10'!C9),\" \",('S10'!$C$9))","v":" "},{"$f":"IF(ISBLANK('S10'!$C$28),NA(),'S10'!$C$28)","v":{"$error":"#N/A"}},{"$error":"#N/A"},{"$f":"IF(ISTEXT('S10'!$D$27),NA(),'S10'!$D$27)","v":{"$error":"#N/A"}},{"$error":"#N/A"},{"$f":"IF(ISTEXT('S10'!$D$26),NA(),'S10'!$D$26)","v":{"$error":"#N/A"}},{"$error":"#N/A"},{"$f":"IF(ISTEXT('S10'!$D$25),NA(),'S10'!$D$25)","v":{"$error":"#N/A"}},{"$error":"#N/A"},{"$f":"IF(ISTEXT('S10'!$D$24),NA(),'S10'!$D$24)","v":{"$error":"#N/A"}},{"$error":"#N/A"},{"$f":"IF(ISTEXT('S10'!$D$23),NA(),'S10'!$D$23)","v":{"$error":"#N/A"}},{"$error":"#N/A"},{"$f":"IF(ISTEXT('S10'!$D$22),NA(),'S10'!$D$22)","v":{"$error":"#N/A"}},{"$error":"#N/A"},{"$f":"IF(ISTEXT('S10'!$D$21),NA(),'S10'!$D$21)","v":{"$error":"#N/A"}},{"$error":"#N/A"},{"$f":"IF(ISTEXT('S10'!$D$20),NA(),'S10'!$D$20)","v":{"$error":"#N/A"}},{"$error":"#N/A"},{"$f":"IF(ISTEXT('S10'!$D$19),NA(),'S10'!$D$19)","v":{"$error":"#N/A"}},{"$error":"#N/A"},{"$f":"IF(ISTEXT('S10'!$D$18),NA(),'S10'!$D$18)","v":{"$error":"#N/A"}},{"$error":"#N/A"},{"$f":"IF(ISTEXT('S10'!$D$17),NA(),'S10'!$D$17)","v":{"$error":"#N/A"}},{"$error":"#N/A"},{"$f":"IF(ISTEXT('S10'!$D$16),NA(),'S10'!$D$16)","v":{"$error":"#N/A"}},{"$error":"#N/A"},{"$f":"IF(ISTEXT('S10'!$D$15),NA(),'S10'!$D$15)","v":{"$error":"#N/A"}},{"$error":"#N/A"},55]
[{"$f":"IF(ISBLANK('S10'!E9),\" \",('S10'!$E$9))","v":" "},{"$f":"IF(ISBLANK('S10'!$E$28),NA(),'S10'!$E$28)","v":{"$error":"#N/A"}},{"$error":"#N/A"},{"$f":"IF(ISTEXT('S10'!$F$27),NA(),'S10'!$F$27)","v":{"$error":"#N/A"}},{"$error":"#N/A"},{"$f":"IF(ISTEXT('S10'!$F$26),NA(),'S10'!$F$26)","v":{"$error":"#N/A"}},{"$error":"#N/A"},{"$f":"IF(ISTEXT('S10'!$F$25),NA(),'S10'!$F$25)","v":{"$error":"#N/A"}},{"$error":"#N/A"},{"$f":"IF(ISTEXT('S10'!$F$24),NA(),'S10'!$F$24)","v":{"$error":"#N/A"}},{"$error":"#N/A"},{"$f":"IF(ISTEXT('S10'!$F$23),NA(),'S10'!$F$23)","v":{"$error":"#N/A"}},{"$error":"#N/A"},{"$f":"IF(ISTEXT('S10'!$F$22),NA(),'S10'!$F$22)","v":{"$error":"#N/A"}},{"$error":"#N/A"},{"$f":"IF(ISTEXT('S10'!$F$21),NA(),'S10'!$F$21)","v":{"$error":"#N/A"}},{"$error":"#N/A"},{"$f":"IF(ISTEXT('S10'!$F$20),NA(),'S10'!$F$20)","v":{"$error":"#N/A"}},{"$error":"#N/A"},{"$f":"IF(ISTEXT('S10'!$F$19),NA(),'S10'!$F$19)","v":{"$error":"#N/A"}},{"$error":"#N/A"},{"$f":"IF(ISTEXT('S10'!$F$18),NA(),'S10'!$F$18)","v":{"$error":"#N/A"}},{"$error":"#N/A"},{"$f":"IF(ISTEXT('S10'!$F$17),NA(),'S10'!$F$17)","v":{"$error":"#N/A"}},{"$error":"#N/A"},{"$f":"IF(ISTEXT('S10'!$F$16),NA(),'S10'!$F$16)","v":{"$error":"#N/A"}},{"$error":"#N/A"},{"$f":"IF(ISTEXT('S10'!$F$15),NA(),'S10'!$F$15)","v":{"$error":"#N/A"}},{"$error":"#N/A"},56]
[{"$f":"IF(ISBLANK('S10'!G9),\" \",('S10'!$G$9))","v":" "},{"$f":"IF(ISBLANK('S10'!$G$28),NA(),'S10'!$G$28)","v":{"$error":"#N/A"}},{"$error":"#N/A"},{"$f":"IF(ISTEXT('S10'!$H$27),NA(),'S10'!$H$27)","v":{"$error":"#N/A"}},{"$error":"#N/A"},{"$f":"IF(ISTEXT('S10'!$H$26),NA(),'S10'!$H$26)","v":{"$error":"#N/A"}},{"$error":"#N/A"},{"$f":"IF(ISTEXT('S10'!$H$25),NA(),'S10'!$H$25)","v":{"$error":"#N/A"}},{"$error":"#N/A"},{"$f":"IF(ISTEXT('S10'!$H$24),NA(),'S10'!$H$24)","v":{"$error":"#N/A"}},{"$error":"#N/A"},{"$f":"IF(ISTEXT('S10'!$H$23),NA(),'S10'!$H$23)","v":{"$error":"#N/A"}},{"$error":"#N/A"},{"$f":"IF(ISTEXT('S10'!$H$22),NA(),'S10'!$H$22)","v":{"$error":"#N/A"}},{"$error":"#N/A"},{"$f":"IF(ISTEXT('S10'!$H$21),NA(),'S10'!$H$21)","v":{"$error":"#N/A"}},{"$error":"#N/A"},{"$f":"IF(ISTEXT('S10'!$H$20),NA(),'S10'!$H$20)","v":{"$error":"#N/A"}},{"$error":"#N/A"},{"$f":"IF(ISTEXT('S10'!$H$19),NA(),'S10'!$H$19)","v":{"$error":"#N/A"}},{"$error":"#N/A"},{"$f":"IF(ISTEXT('S10'!$H$18),NA(),'S10'!$H$18)","v":{"$error":"#N/A"}},{"$error":"#N/A"},{"$f":"IF(ISTEXT('S10'!$H$17),NA(),'S10'!$H$17)","v":{"$error":"#N/A"}},{"$error":"#N/A"},{"$f":"IF(ISTEXT('S10'!$H$16),NA(),'S10'!$H$16)","v":{"$error":"#N/A"}},{"$error":"#N/A"},{"$f":"IF(ISTEXT('S10'!$H$15),NA(),'S10'!$H$15)","v":{"$error":"#N/A"}},{"$error":"#N/A"},57]
[{"$f":"IF(ISBLANK('S10'!I9),\" \",('S10'!$I$9))","v":" "},{"$f":"IF(ISBLANK('S10'!$I$28),NA(),'S10'!$I$28)","v":{"$error":"#N/A"}},{"$error":"#N/A"},{"$f":"IF(ISTEXT('S10'!$J$27),NA(),'S10'!$J$27)","v":{"$error":"#N/A"}},{"$error":"#N/A"},{"$f":"IF(ISTEXT('S10'!$J$26),NA(),'S10'!$J$26)","v":{"$error":"#N/A"}},{"$error":"#N/A"},{"$f":"IF(ISTEXT('S10'!$J$25),NA(),'S10'!$J$25)","v":{"$error":"#N/A"}},{"$error":"#N/A"},{"$f":"IF(ISTEXT('S10'!$J$24),NA(),'S10'!$J$24)","v":{"$error":"#N/A"}},{"$error":"#N/A"},{"$f":"IF(ISTEXT('S10'!$J$23),NA(),'S10'!$J$23)","v":{"$error":"#N/A"}},{"$error":"#N/A"},{"$f":"IF(ISTEXT('S10'!$J$22),NA(),'S10'!$J$22)","v":{"$error":"#N/A"}},{"$error":"#N/A"},{"$f":"IF(ISTEXT('S10'!$J$21),NA(),'S10'!$J$21)","v":{"$error":"#N/A"}},{"$error":"#N/A"},{"$f":"IF(ISTEXT('S10'!$J$20),NA(),'S10'!$J$20)","v":{"$error":"#N/A"}},{"$error":"#N/A"},{"$f":"IF(ISTEXT('S10'!$J$19),NA(),'S10'!$J$19)","v":{"$error":"#N/A"}},{"$error":"#N/A"},{"$f":"IF(ISTEXT('S10'!$J$18),NA(),'S10'!$J$18)","v":{"$error":"#N/A"}},{"$error":"#N/A"},{"$f":"IF(ISTEXT('S10'!$J$17),NA(),'S10'!$J$17)","v":{"$error":"#N/A"}},{"$error":"#N/A"},{"$f":"IF(ISTEXT('S10'!$J$16),NA(),'S10'!$J$16)","v":{"$error":"#N/A"}},{"$error":"#N/A"},{"$f":"IF(ISTEXT('S10'!$J$15),NA(),'S10'!$J$15)","v":{"$error":"#N/A"}},{"$error":"#N/A"},58]
[{"$f":"IF(ISBLANK('S10'!K9),\" \",('S10'!$K$9))","v":" "},{"$f":"IF(ISBLANK('S10'!$K$28),NA(),'S10'!$K$28)","v":{"$error":"#N/A"}},{"$error":"#N/A"},{"$f":"IF(ISTEXT('S10'!$L$27),NA(),'S10'!$L$27)","v":{"$error":"#N/A"}},{"$error":"#N/A"},{"$f":"IF(ISTEXT('S10'!$L$26),NA(),'S10'!$L$26)","v":{"$error":"#N/A"}},{"$error":"#N/A"},{"$f":"IF(ISTEXT('S10'!$L$25),NA(),'S10'!$L$25)","v":{"$error":"#N/A"}},{"$error":"#N/A"},{"$f":"IF(ISTEXT('S10'!$L$24),NA(),'S10'!$L$24)","v":{"$error":"#N/A"}},{"$error":"#N/A"},{"$f":"IF(ISTEXT('S10'!$L$23),NA(),'S10'!$L$23)","v":{"$error":"#N/A"}},{"$error":"#N/A"},{"$f":"IF(ISTEXT('S10'!$L$22),NA(),'S10'!$L$22)","v":{"$error":"#N/A"}},{"$error":"#N/A"},{"$f":"IF(ISTEXT('S10'!$L$21),NA(),'S10'!$L$21)","v":{"$error":"#N/A"}},{"$error":"#N/A"},{"$f":"IF(ISTEXT('S10'!$L$20),NA(),'S10'!$L$20)","v":{"$error":"#N/A"}},{"$error":"#N/A"},{"$f":"IF(ISTEXT('S10'!$L$19),NA(),'S10'!$L$19)","v":{"$error":"#N/A"}},{"$error":"#N/A"},{"$f":"IF(ISTEXT('S10'!$L$18),NA(),'S10'!$L$18)","v":{"$error":"#N/A"}},{"$error":"#N/A"},{"$f":"IF(ISTEXT('S10'!$L$17),NA(),'S10'!$L$17)","v":{"$error":"#N/A"}},{"$error":"#N/A"},{"$f":"IF(ISTEXT('S10'!$L$16),NA(),'S10'!$L$16)","v":{"$error":"#N/A"}},{"$error":"#N/A"},{"$f":"IF(ISTEXT('S10'!$L$15),NA(),'S10'!$L$15)","v":{"$error":"#N/A"}},{"$error":"#N/A"},59]
[{"$f":"IF(ISBLANK('S10'!M9),\" \",('S10'!$M$9))","v":" "},{"$f":"IF(ISBLANK('S10'!$M$28),NA(),'S10'!$M$28)","v":{"$error":"#N/A"}},{"$error":"#N/A"},{"$f":"IF(ISTEXT('S10'!$N$27),NA(),'S10'!$N$27)","v":{"$error":"#N/A"}},{"$error":"#N/A"},{"$f":"IF(ISTEXT('S10'!$N$26),NA(),'S10'!$N$26)","v":{"$error":"#N/A"}},{"$error":"#N/A"},{"$f":"IF(ISTEXT('S10'!$N$25),NA(),'S10'!$N$25)","v":{"$error":"#N/A"}},{"$error":"#N/A"},{"$f":"IF(ISTEXT('S10'!$N$24),NA(),'S10'!$N$24)","v":{"$error":"#N/A"}},{"$error":"#N/A"},{"$f":"IF(ISTEXT('S10'!$N$23),NA(),'S10'!$N$23)","v":{"$error":"#N/A"}},{"$error":"#N/A"},{"$f":"IF(ISTEXT('S10'!$N$22),NA(),'S10'!$N$22)","v":{"$error":"#N/A"}},{"$error":"#N/A"},{"$f":"IF(ISTEXT('S10'!$N$21),NA(),'S10'!$N$21)","v":{"$error":"#N/A"}},{"$error":"#N/A"},{"$f":"IF(ISTEXT('S10'!$N$20),NA(),'S10'!$N$20)","v":{"$error":"#N/A"}},{"$error":"#N/A"},{"$f":"IF(ISTEXT('S10'!$N$19),NA(),'S10'!$N$19)","v":{"$error":"#N/A"}},{"$error":"#N/A"},{"$f":"IF(ISTEXT('S10'!$N$18),NA(),'S10'!$N$18)","v":{"$error":"#N/A"}},{"$error":"#N/A"},{"$f":"IF(ISTEXT('S10'!$N$17),NA(),'S10'!$N$17)","v":{"$error":"#N/A"}},{"$error":"#N/A"},{"$f":"IF(ISTEXT('S10'!$N$16),NA(),'S10'!$N$16)","v":{"$error":"#N/A"}},{"$error":"#N/A"},{"$f":"IF(ISTEXT('S10'!$N$15),NA(),'S10'!$N$15)","v":{"$error":"#N/A"}},{"$error":"#N/A"},60]
[{"$f":"IF(ISBLANK('S11'!C9),\" \",('S11'!$C$9))","v":" "},{"$f":"IF(ISBLANK('S11'!$C$28),NA(),'S11'!$C$28)","v":{"$error":"#N/A"}},{"$error":"#N/A"},{"$f":"IF(ISTEXT('S11'!$D$27),NA(),'S11'!$D$27)","v":{"$error":"#N/A"}},{"$error":"#N/A"},{"$f":"IF(ISTEXT('S11'!$D$26),NA(),'S11'!$D$26)","v":{"$error":"#N/A"}},{"$error":"#N/A"},{"$f":"IF(ISTEXT('S11'!$D$25),NA(),'S11'!$D$25)","v":{"$error":"#N/A"}},{"$error":"#N/A"},{"$f":"IF(ISTEXT('S11'!$D$24),NA(),'S11'!$D$24)","v":{"$error":"#N/A"}},{"$error":"#N/A"},{"$f":"IF(ISTEXT('S11'!$D$23),NA(),'S11'!$D$23)","v":{"$error":"#N/A"}},{"$error":"#N/A"},{"$f":"IF(ISTEXT('S11'!$D$22),NA(),'S11'!$D$22)","v":{"$error":"#N/A"}},{"$error":"#N/A"},{"$f":"IF(ISTEXT('S11'!$D$21),NA(),'S11'!$D$21)","v":{"$error":"#N/A"}},{"$error":"#N/A"},{"$f":"IF(ISTEXT('S11'!$D$20),NA(),'S11'!$D$20)","v":{"$error":"#N/A"}},{"$error":"#N/A"},{"$f":"IF(ISTEXT('S11'!$D$19),NA(),'S11'!$D$19)","v":{"$error":"#N/A"}},{"$error":"#N/A"},{"$f":"IF(ISTEXT('S11'!$D$18),NA(),'S11'!$D$18)","v":{"$error":"#N/A"}},{"$error":"#N/A"},{"$f":"IF(ISTEXT('S11'!$D$17),NA(),'S11'!$D$17)","v":{"$error":"#N/A"}},{"$error":"#N/A"},{"$f":"IF(ISTEXT('S11'!$D$16),NA(),'S11'!$D$16)","v":{"$error":"#N/A"}},{"$error":"#N/A"},{"$f":"IF(ISTEXT('S11'!$D$15),NA(),'S11'!$D$15)","v":{"$error":"#N/A"}},{"$error":"#N/A"},61]
[{"$f":"IF(ISBLANK('S11'!E9),\" \",('S11'!$E$9))","v":" "},{"$f":"IF(ISBLANK('S11'!$E$28),NA(),'S11'!$E$28)","v":{"$error":"#N/A"}},{"$error":"#N/A"},{"$f":"IF(ISTEXT('S11'!$F$27),NA(),'S11'!$F$27)","v":{"$error":"#N/A"}},{"$error":"#N/A"},{"$f":"IF(ISTEXT('S11'!$F$26),NA(),'S11'!$F$26)","v":{"$error":"#N/A"}},{"$error":"#N/A"},{"$f":"IF(ISTEXT('S11'!$F$25),NA(),'S11'!$F$25)","v":{"$error":"#N/A"}},{"$error":"#N/A"},{"$f":"IF(ISTEXT('S11'!$F$24),NA(),'S11'!$F$24)","v":{"$error":"#N/A"}},{"$error":"#N/A"},{"$f":"IF(ISTEXT('S11'!$F$23),NA(),'S11'!$F$23)","v":{"$error":"#N/A"}},{"$error":"#N/A"},{"$f":"IF(ISTEXT('S11'!$F$22),NA(),'S11'!$F$22)","v":{"$error":"#N/A"}},{"$error":"#N/A"},{"$f":"IF(ISTEXT('S11'!$F$21),NA(),'S11'!$F$21)","v":{"$error":"#N/A"}},{"$error":"#N/A"},{"$f":"IF(ISTEXT('S11'!$F$20),NA(),'S11'!$F$20)","v":{"$error":"#N/A"}},{"$error":"#N/A"},{"$f":"IF(ISTEXT('S11'!$F$19),NA(),'S11'!$F$19)","v":{"$error":"#N/A"}},{"$error":"#N/A"},{"$f":"IF(ISTEXT('S11'!$F$18),NA(),'S11'!$F$18)","v":{"$error":"#N/A"}},{"$error":"#N/A"},{"$f":"IF(ISTEXT('S11'!$F$17),NA(),'S11'!$F$17)","v":{"$error":"#N/A"}},{"$error":"#N/A"},{"$f":"IF(ISTEXT('S11'!$F$16),NA(),'S11'!$F$16)","v":{"$error":"#N/A"}},{"$error":"#N/A"},{"$f":"IF(ISTEXT('S11'!$F$15),NA(),'S11'!$F$15)","v":{"$error":"#N/A"}},{"$error":"#N/A"},62]
[{"$f":"IF(ISBLANK('S11'!G9),\" \",('S11'!$G$9))","v":" "},{"$f":"IF(ISBLANK('S11'!$G$28),NA(),'S11'!$G$28)","v":{"$error":"#N/A"}},{"$error":"#N/A"},{"$f":"IF(ISTEXT('S11'!$H$27),NA(),'S11'!$H$27)","v":{"$error":"#N/A"}},{"$error":"#N/A"},{"$f":"IF(ISTEXT('S11'!$H$26),NA(),'S11'!$H$26)","v":{"$error":"#N/A"}},{"$error":"#N/A"},{"$f":"IF(ISTEXT('S11'!$H$25),NA(),'S11'!$H$25)","v":{"$error":"#N/A"}},{"$error":"#N/A"},{"$f":"IF(ISTEXT('S11'!$H$24),NA(),'S11'!$H$24)","v":{"$error":"#N/A"}},{"$error":"#N/A"},{"$f":"IF(ISTEXT('S11'!$H$23),NA(),'S11'!$H$23)","v":{"$error":"#N/A"}},{"$error":"#N/A"},{"$f":"IF(ISTEXT('S11'!$H$22),NA(),'S11'!$H$22)","v":{"$error":"#N/A"}},{"$error":"#N/A"},{"$f":"IF(ISTEXT('S11'!$H$21),NA(),'S11'!$H$21)","v":{"$error":"#N/A"}},{"$error":"#N/A"},{"$f":"IF(ISTEXT('S11'!$H$20),NA(),'S11'!$H$20)","v":{"$error":"#N/A"}},{"$error":"#N/A"},{"$f":"IF(ISTEXT('S11'!$H$19),NA(),'S11'!$H$19)","v":{"$error":"#N/A"}},{"$error":"#N/A"},{"$f":"IF(ISTEXT('S11'!$H$18),NA(),'S11'!$H$18)","v":{"$error":"#N/A"}},{"$error":"#N/A"},{"$f":"IF(ISTEXT('S11'!$H$17),NA(),'S11'!$H$17)","v":{"$error":"#N/A"}},{"$error":"#N/A"},{"$f":"IF(ISTEXT('S11'!$H$16),NA(),'S11'!$H$16)","v":{"$error":"#N/A"}},{"$error":"#N/A"},{"$f":"IF(ISTEXT('S11'!$H$15),NA(),'S11'!$H$15)","v":{"$error":"#N/A"}},{"$error":"#N/A"},63]
[{"$f":"IF(ISBLANK('S11'!I9),\" \",('S11'!$I$9))","v":" "},{"$f":"IF(ISBLANK('S11'!$I$28),NA(),'S11'!$I$28)","v":{"$error":"#N/A"}},{"$error":"#N/A"},{"$f":"IF(ISTEXT('S11'!$J$27),NA(),'S11'!$J$27)","v":{"$error":"#N/A"}},{"$error":"#N/A"},{"$f":"IF(ISTEXT('S11'!$J$26),NA(),'S11'!$J$26)","v":{"$error":"#N/A"}},{"$error":"#N/A"},{"$f":"IF(ISTEXT('S11'!$J$25),NA(),'S11'!$J$25)","v":{"$error":"#N/A"}},{"$error":"#N/A"},{"$f":"IF(ISTEXT('S11'!$J$24),NA(),'S11'!$J$24)","v":{"$error":"#N/A"}},{"$error":"#N/A"},{"$f":"IF(ISTEXT('S11'!$J$23),NA(),'S11'!$J$23)","v":{"$error":"#N/A"}},{"$error":"#N/A"},{"$f":"IF(ISTEXT('S11'!$J$22),NA(),'S11'!$J$22)","v":{"$error":"#N/A"}},{"$error":"#N/A"},{"$f":"IF(ISTEXT('S11'!$J$21),NA(),'S11'!$J$21)","v":{"$error":"#N/A"}},{"$error":"#N/A"},{"$f":"IF(ISTEXT('S11'!$J$20),NA(),'S11'!$J$20)","v":{"$error":"#N/A"}},{"$error":"#N/A"},{"$f":"IF(ISTEXT('S11'!$J$19),NA(),'S11'!$J$19)","v":{"$error":"#N/A"}},{"$error":"#N/A"},{"$f":"IF(ISTEXT('S11'!$J$18),NA(),'S11'!$J$18)","v":{"$error":"#N/A"}},{"$error":"#N/A"},{"$f":"IF(ISTEXT('S11'!$J$17),NA(),'S11'!$J$17)","v":{"$error":"#N/A"}},{"$error":"#N/A"},{"$f":"IF(ISTEXT('S11'!$J$16),NA(),'S11'!$J$16)","v":{"$error":"#N/A"}},{"$error":"#N/A"},{"$f":"IF(ISTEXT('S11'!$J$15),NA(),'S11'!$J$15)","v":{"$error":"#N/A"}},{"$error":"#N/A"},64]
[{"$f":"IF(ISBLANK('S11'!K9),\" \",('S11'!$K$9))","v":" "},{"$f":"IF(ISBLANK('S11'!$K$28),NA(),'S11'!$K$28)","v":{"$error":"#N/A"}},{"$error":"#N/A"},{"$f":"IF(ISTEXT('S11'!$L$27),NA(),'S11'!$L$27)","v":{"$error":"#N/A"}},{"$error":"#N/A"},{"$f":"IF(ISTEXT('S11'!$L$26),NA(),'S11'!$L$26)","v":{"$error":"#N/A"}},{"$error":"#N/A"},{"$f":"IF(ISTEXT('S11'!$L$25),NA(),'S11'!$L$25)","v":{"$error":"#N/A"}},{"$error":"#N/A"},{"$f":"IF(ISTEXT('S11'!$L$24),NA(),'S11'!$L$24)","v":{"$error":"#N/A"}},{"$error":"#N/A"},{"$f":"IF(ISTEXT('S11'!$L$23),NA(),'S11'!$L$23)","v":{"$error":"#N/A"}},{"$error":"#N/A"},{"$f":"IF(ISTEXT('S11'!$L$22),NA(),'S11'!$L$22)","v":{"$error":"#N/A"}},{"$error":"#N/A"},{"$f":"IF(ISTEXT('S11'!$L$21),NA(),'S11'!$L$21)","v":{"$error":"#N/A"}},{"$error":"#N/A"},{"$f":"IF(ISTEXT('S11'!$L$20),NA(),'S11'!$L$20)","v":{"$error":"#N/A"}},{"$error":"#N/A"},{"$f":"IF(ISTEXT('S11'!$L$19),NA(),'S11'!$L$19)","v":{"$error":"#N/A"}},{"$error":"#N/A"},{"$f":"IF(ISTEXT('S11'!$L$18),NA(),'S11'!$L$18)","v":{"$error":"#N/A"}},{"$error":"#N/A"},{"$f":"IF(ISTEXT('S11'!$L$17),NA(),'S11'!$L$17)","v":{"$error":"#N/A"}},{"$error":"#N/A"},{"$f":"IF(ISTEXT('S11'!$L$16),NA(),'S11'!$L$16)","v":{"$error":"#N/A"}},{"$error":"#N/A"},{"$f":"IF(ISTEXT('S11'!$L$15),NA(),'S11'!$L$15)","v":{"$error":"#N/A"}},{"$error":"#N/A"},65]
[{"$f":"IF(ISBLANK('S11'!M9),\" \",('S11'!$M$9))","v":" "},{"$f":"IF(ISBLANK('S11'!$M$28),NA(),'S11'!$M$28)","v":{"$error":"#N/A"}},{"$error":"#N/A"},{"$f":"IF(ISTEXT('S11'!$N$27),NA(),'S11'!$N$27)","v":{"$error":"#N/A"}},{"$error":"#N/A"},{"$f":"IF(ISTEXT('S11'!$N$26),NA(),'S11'!$N$26)","v":{"$error":"#N/A"}},{"$error":"#N/A"},{"$f":"IF(ISTEXT('S11'!$N$25),NA(),'S11'!$N$25)","v":{"$error":"#N/A"}},{"$error":"#N/A"},{"$f":"IF(ISTEXT('S11'!$N$24),NA(),'S11'!$N$24)","v":{"$error":"#N/A"}},{"$error":"#N/A"},{"$f":"IF(ISTEXT('S11'!$N$23),NA(),'S11'!$N$23)","v":{"$error":"#N/A"}},{"$error":"#N/A"},{"$f":"IF(ISTEXT('S11'!$N$22),NA(),'S11'!$N$22)","v":{"$error":"#N/A"}},{"$error":"#N/A"},{"$f":"IF(ISTEXT('S11'!$N$21),NA(),'S11'!$N$21)","v":{"$error":"#N/A"}},{"$error":"#N/A"},{"$f":"IF(ISTEXT('S11'!$N$20),NA(),'S11'!$N$20)","v":{"$error":"#N/A"}},{"$error":"#N/A"},{"$f":"IF(ISTEXT('S11'!$N$19),NA(),'S11'!$N$19)","v":{"$error":"#N/A"}},{"$error":"#N/A"},{"$f":"IF(ISTEXT('S11'!$N$18),NA(),'S11'!$N$18)","v":{"$error":"#N/A"}},{"$error":"#N/A"},{"$f":"IF(ISTEXT('S11'!$N$17),NA(),'S11'!$N$17)","v":{"$error":"#N/A"}},{"$error":"#N/A"},{"$f":"IF(ISTEXT('S11'!$N$16),NA(),'S11'!$N$16)","v":{"$error":"#N/A"}},{"$error":"#N/A"},{"$f":"IF(ISTEXT('S11'!$N$15),NA(),'S11'!$N$15)","v":{"$error":"#N/A"}},{"$error":"#N/A"},66]
[{"$f":"IF(ISBLANK('S12'!C9),\" \",('S12'!$C$9))","v":" "},{"$f":"IF(ISBLANK('S12'!$C$28),NA(),'S12'!$C$28)","v":{"$error":"#N/A"}},{"$error":"#N/A"},{"$f":"IF(ISTEXT('S12'!$D$27),NA(),'S12'!$D$27)","v":{"$error":"#N/A"}},{"$error":"#N/A"},{"$f":"IF(ISTEXT('S12'!$D$26),NA(),'S12'!$D$26)","v":{"$error":"#N/A"}},{"$error":"#N/A"},{"$f":"IF(ISTEXT('S12'!$D$25),NA(),'S12'!$D$25)","v":{"$error":"#N/A"}},{"$error":"#N/A"},{"$f":"IF(ISTEXT('S12'!$D$24),NA(),'S12'!$D$24)","v":{"$error":"#N/A"}},{"$error":"#N/A"},{"$f":"IF(ISTEXT('S12'!$D$23),NA(),'S12'!$D$23)","v":{"$error":"#N/A"}},{"$error":"#N/A"},{"$f":"IF(ISTEXT('S12'!$D$22),NA(),'S12'!$D$22)","v":{"$error":"#N/A"}},{"$error":"#N/A"},{"$f":"IF(ISTEXT('S12'!$D$21),NA(),'S12'!$D$21)","v":{"$error":"#N/A"}},{"$error":"#N/A"},{"$f":"IF(ISTEXT('S12'!$D$20),NA(),'S12'!$D$20)","v":{"$error":"#N/A"}},{"$error":"#N/A"},{"$f":"IF(ISTEXT('S12'!$D$19),NA(),'S12'!$D$19)","v":{"$error":"#N/A"}},{"$error":"#N/A"},{"$f":"IF(ISTEXT('S12'!$D$18),NA(),'S12'!$D$18)","v":{"$error":"#N/A"}},{"$error":"#N/A"},{"$f":"IF(ISTEXT('S12'!$D$17),NA(),'S12'!$D$17)","v":{"$error":"#N/A"}},{"$error":"#N/A"},{"$f":"IF(ISTEXT('S12'!$D$16),NA(),'S12'!$D$16)","v":{"$error":"#N/A"}},{"$error":"#N/A"},{"$f":"IF(ISTEXT('S12'!$D$15),NA(),'S12'!$D$15)","v":{"$error":"#N/A"}},{"$error":"#N/A"},67]
[{"$f":"IF(ISBLANK('S12'!E9),\" \",('S12'!$E$9))","v":" "},{"$f":"IF(ISBLANK('S12'!$E$28),NA(),'S12'!$E$28)","v":{"$error":"#N/A"}},{"$error":"#N/A"},{"$f":"IF(ISTEXT('S12'!$F$27),NA(),'S12'!$F$27)","v":{"$error":"#N/A"}},{"$error":"#N/A"},{"$f":"IF(ISTEXT('S12'!$F$26),NA(),'S12'!$F$26)","v":{"$error":"#N/A"}},{"$error":"#N/A"},{"$f":"IF(ISTEXT('S12'!$F$25),NA(),'S12'!$F$25)","v":{"$error":"#N/A"}},{"$error":"#N/A"},{"$f":"IF(ISTEXT('S12'!$F$24),NA(),'S12'!$F$24)","v":{"$error":"#N/A"}},{"$error":"#N/A"},{"$f":"IF(ISTEXT('S12'!$F$23),NA(),'S12'!$F$23)","v":{"$error":"#N/A"}},{"$error":"#N/A"},{"$f":"IF(ISTEXT('S12'!$F$22),NA(),'S12'!$F$22)","v":{"$error":"#N/A"}},{"$error":"#N/A"},{"$f":"IF(ISTEXT('S12'!$F$21),NA(),'S12'!$F$21)","v":{"$error":"#N/A"}},{"$error":"#N/A"},{"$f":"IF(ISTEXT('S12'!$F$20),NA(),'S12'!$F$20)","v":{"$error":"#N/A"}},{"$error":"#N/A"},{"$f":"IF(ISTEXT('S12'!$F$19),NA(),'S12'!$F$19)","v":{"$error":"#N/A"}},{"$error":"#N/A"},{"$f":"IF(ISTEXT('S12'!$F$18),NA(),'S12'!$F$18)","v":{"$error":"#N/A"}},{"$error":"#N/A"},{"$f":"IF(ISTEXT('S12'!$F$17),NA(),'S12'!$F$17)","v":{"$error":"#N/A"}},{"$error":"#N/A"},{"$f":"IF(ISTEXT('S12'!$F$16),NA(),'S12'!$F$16)","v":{"$error":"#N/A"}},{"$error":"#N/A"},{"$f":"IF(ISTEXT('S12'!$F$15),NA(),'S12'!$F$15)","v":{"$error":"#N/A"}},{"$error":"#N/A"},68]
[{"$f":"IF(ISBLANK('S12'!G9),\" \",('S12'!$G$9))","v":" "},{"$f":"IF(ISBLANK('S12'!$G$28),NA(),'S12'!$G$28)","v":{"$error":"#N/A"}},{"$error":"#N/A"},{"$f":"IF(ISTEXT('S12'!$H$27),NA(),'S12'!$H$27)","v":{"$error":"#N/A"}},{"$error":"#N/A"},{"$f":"IF(ISTEXT('S12'!$H$26),NA(),'S12'!$H$26)","v":{"$error":"#N/A"}},{"$error":"#N/A"},{"$f":"IF(ISTEXT('S12'!$H$25),NA(),'S12'!$H$25)","v":{"$error":"#N/A"}},{"$error":"#N/A"},{"$f":"IF(ISTEXT('S12'!$H$24),NA(),'S12'!$H$24)","v":{"$error":"#N/A"}},{"$error":"#N/A"},{"$f":"IF(ISTEXT('S12'!$H$23),NA(),'S12'!$H$23)","v":{"$error":"#N/A"}},{"$error":"#N/A"},{"$f":"IF(ISTEXT('S12'!$H$22),NA(),'S12'!$H$22)","v":{"$error":"#N/A"}},{"$error":"#N/A"},{"$f":"IF(ISTEXT('S12'!$H$21),NA(),'S12'!$H$21)","v":{"$error":"#N/A"}},{"$error":"#N/A"},{"$f":"IF(ISTEXT('S12'!$H$20),NA(),'S12'!$H$20)","v":{"$error":"#N/A"}},{"$error":"#N/A"},{"$f":"IF(ISTEXT('S12'!$H$19),NA(),'S12'!$H$19)","v":{"$error":"#N/A"}},{"$error":"#N/A"},{"$f":"IF(ISTEXT('S12'!$H$18),NA(),'S12'!$H$18)","v":{"$error":"#N/A"}},{"$error":"#N/A"},{"$f":"IF(ISTEXT('S12'!$H$17),NA(),'S12'!$H$17)","v":{"$error":"#N/A"}},{"$error":"#N/A"},{"$f":"IF(ISTEXT('S12'!$H$16),NA(),'S12'!$H$16)","v":{"$error":"#N/A"}},{"$error":"#N/A"},{"$f":"IF(ISTEXT('S12'!$H$15),NA(),'S12'!$H$15)","v":{"$error":"#N/A"}},{"$error":"#N/A"},69]
[{"$f":"IF(ISBLANK('S12'!I9),\" \",('S12'!$I$9))","v":" "},{"$f":"IF(ISBLANK('S12'!$I$28),NA(),'S12'!$I$28)","v":{"$error":"#N/A"}},{"$error":"#N/A"},{"$f":"IF(ISTEXT('S12'!$J$27),NA(),'S12'!$J$27)","v":{"$error":"#N/A"}},{"$error":"#N/A"},{"$f":"IF(ISTEXT('S12'!$J$26),NA(),'S12'!$J$26)","v":{"$error":"#N/A"}},{"$error":"#N/A"},{"$f":"IF(ISTEXT('S12'!$J$25),NA(),'S12'!$J$25)","v":{"$error":"#N/A"}},{"$error":"#N/A"},{"$f":"IF(ISTEXT('S12'!$J$24),NA(),'S12'!$J$24)","v":{"$error":"#N/A"}},{"$error":"#N/A"},{"$f":"IF(ISTEXT('S12'!$J$23),NA(),'S12'!$J$23)","v":{"$error":"#N/A"}},{"$error":"#N/A"},{"$f":"IF(ISTEXT('S12'!$J$22),NA(),'S12'!$J$22)","v":{"$error":"#N/A"}},{"$error":"#N/A"},{"$f":"IF(ISTEXT('S12'!$J$21),NA(),'S12'!$J$21)","v":{"$error":"#N/A"}},{"$error":"#N/A"},{"$f":"IF(ISTEXT('S12'!$J$20),NA(),'S12'!$J$20)","v":{"$error":"#N/A"}},{"$error":"#N/A"},{"$f":"IF(ISTEXT('S12'!$J$19),NA(),'S12'!$J$19)","v":{"$error":"#N/A"}},{"$error":"#N/A"},{"$f":"IF(ISTEXT('S12'!$J$18),NA(),'S12'!$J$18)","v":{"$error":"#N/A"}},{"$error":"#N/A"},{"$f":"IF(ISTEXT('S12'!$J$17),NA(),'S12'!$J$17)","v":{"$error":"#N/A"}},{"$error":"#N/A"},{"$f":"IF(ISTEXT('S12'!$J$16),NA(),'S12'!$J$16)","v":{"$error":"#N/A"}},{"$error":"#N/A"},{"$f":"IF(ISTEXT('S12'!$J$15),NA(),'S12'!$J$15)","v":{"$error":"#N/A"}},{"$error":"#N/A"},70]
[{"$f":"IF(ISBLANK('S12'!K9),\" \",('S12'!$K$9))","v":" "},{"$f":"IF(ISBLANK('S12'!$K$28),NA(),'S12'!$K$28)","v":{"$error":"#N/A"}},{"$error":"#N/A"},{"$f":"IF(ISTEXT('S12'!$L$27),NA(),'S12'!$L$27)","v":{"$error":"#N/A"}},{"$error":"#N/A"},{"$f":"IF(ISTEXT('S12'!$L$26),NA(),'S12'!$L$26)","v":{"$error":"#N/A"}},{"$error":"#N/A"},{"$f":"IF(ISTEXT('S12'!$L$25),NA(),'S12'!$L$25)","v":{"$error":"#N/A"}},{"$error":"#N/A"},{"$f":"IF(ISTEXT('S12'!$L$24),NA(),'S12'!$L$24)","v":{"$error":"#N/A"}},{"$error":"#N/A"},{"$f":"IF(ISTEXT('S12'!$L$23),NA(),'S12'!$L$23)","v":{"$error":"#N/A"}},{"$error":"#N/A"},{"$f":"IF(ISTEXT('S12'!$L$22),NA(),'S12'!$L$22)","v":{"$error":"#N/A"}},{"$error":"#N/A"},{"$f":"IF(ISTEXT('S12'!$L$21),NA(),'S12'!$L$21)","v":{"$error":"#N/A"}},{"$error":"#N/A"},{"$f":"IF(ISTEXT('S12'!$L$20),NA(),'S12'!$L$20)","v":{"$error":"#N/A"}},{"$error":"#N/A"},{"$f":"IF(ISTEXT('S12'!$L$19),NA(),'S12'!$L$19)","v":{"$error":"#N/A"}},{"$error":"#N/A"},{"$f":"IF(ISTEXT('S12'!$L$18),NA(),'S12'!$L$18)","v":{"$error":"#N/A"}},{"$error":"#N/A"},{"$f":"IF(ISTEXT('S12'!$L$17),NA(),'S12'!$L$17)","v":{"$error":"#N/A"}},{"$error":"#N/A"},{"$f":"IF(ISTEXT('S12'!$L$16),NA(),'S12'!$L$16)","v":{"$error":"#N/A"}},{"$error":"#N/A"},{"$f":"IF(ISTEXT('S12'!$L$15),NA(),'S12'!$L$15)","v":{"$error":"#N/A"}},{"$error":"#N/A"},71]
[{"$f":"IF(ISBLANK('S12'!M9),\" \",('S12'!$M$9))","v":" "},{"$f":"IF(ISBLANK('S12'!$M$28),NA(),'S12'!$M$28)","v":{"$error":"#N/A"}},{"$f":"ROUND(AVERAGE(B71:B75),1)","v":{"$error":"#N/A"}},{"$f":"IF(ISTEXT('S12'!$N$27),NA(),'S12'!$N$27)","v":{"$error":"#N/A"}},{"$f":"ROUND(AVERAGE(D71:D75),1)","v":{"$error":"#N/A"}},{"$f":"IF(ISTEXT('S12'!$N$26),NA(),'S12'!$N$26)","v":{"$error":"#N/A"}},{"$f":"ROUND(AVERAGE(F71:F75),0)","v":{"$error":"#N/A"}},{"$f":"IF(ISTEXT('S12'!$N$25),NA(),'S12'!$N$25)","v":{"$error":"#N/A"}},{"$f":"ROUND(AVERAGE(H71:H75),0)","v":{"$error":"#N/A"}},{"$f":"IF(ISTEXT('S12'!$N$24),NA(),'S12'!$N$24)","v":{"$error":"#N/A"}},{"$error":"#N/A"},{"$f":"IF(ISTEXT('S12'!$N$23),NA(),'S12'!$N$23)","v":{"$error":"#N/A"}},{"$error":"#N/A"},{"$f":"IF(ISTEXT('S12'!$N$22),NA(),'S12'!$N$22)","v":{"$error":"#N/A"}},{"$error":"#N/A"},{"$f":"IF(ISTEXT('S12'!$N$21),NA(),'S12'!$N$21)","v":{"$error":"#N/A"}},{"$error":"#N/A"},{"$f":"IF(ISTEXT('S12'!$N$20),NA(),'S12'!$N$20)","v":{"$error":"#N/A"}},{"$error":"#N/A"},{"$f":"IF(ISTEXT('S12'!$N$19),NA(),'S12'!$N$19)","v":{"$error":"#N/A"}},{"$error":"#N/A"},{"$f":"IF(ISTEXT('S12'!$N$18),NA(),'S12'!$N$18)","v":{"$error":"#N/A"}},{"$error":"#N/A"},{"$f":"IF(ISTEXT('S12'!$N$17),NA(),'S12'!$N$17)","v":{"$error":"#N/A"}},{"$error":"#N/A"},{"$f":"IF(ISTEXT('S12'!$N$16),NA(),'S12'!$N$16)","v":{"$error":"#N/A"}},{"$error":"#N/A"},{"$f":"IF(ISTEXT('S12'!$N$15),NA(),'S12'!$N$15)","v":{"$error":"#N/A"}},{"$error":"#N/A"},72]
[]
[{"$f":"IF(ISBLANK('S13'!C9),\" \",('S13'!$C$9))","v":" "},{"$f":"IF(ISBLANK('S13'!$C$28),NA(),'S13'!$C$28)","v":{"$error":"#N/A"}},{"$f":"ROUND(AVERAGE(B72:B77),1)","v":{"$error":"#N/A"}},{"$f":"IF(ISTEXT('S13'!$D$27),NA(),'S13'!$D$27)","v":{"$error":"#N/A"}},{"$f":"ROUND(AVERAGE(D72:D77),1)","v":{"$error":"#N/A"}},{"$f":"IF(ISTEXT('S13'!$D$26),NA(),'S13'!$D$26)","v":{"$error":"#N/A"}},{"$f":"ROUND(AVERAGE(F72:F77),0)","v":{"$error":"#N/A"}},{"$f":"IF(ISTEXT('S13'!$D$25),NA(),'S13'!$D$25)","v":{"$error":"#N/A"}},{"$f":"ROUND(AVERAGE(H72:H77),0)","v":{"$error":"#N/A"}},{"$f":"IF(ISTEXT('S13'!$D$24),NA(),'S13'!$D$24)","v":{"$error":"#N/A"}},{"$f":"ROUND(AVERAGE(J72:J77),0)","v":{"$error":"#N/A"}},{"$f":"IF(ISTEXT('S13'!$D$23),NA(),'S13'!$D$23)","v":{"$error":"#N/A"}},{"$f":"ROUND(AVERAGE(L72:L77),0)","v":{"$error":"#N/A"}},{"$f":"IF(ISTEXT('S13'!$D$22),NA(),'S13'!$D$22)","v":{"$error":"#N/A"}},{"$f":"ROUND(AVERAGE(N72:N77),0)","v":{"$error":"#N/A"}},{"$f":"IF(ISTEXT('S13'!$D$21),NA(),'S13'!$D$21)","v":{"$error":"#N/A"}},{"$f":"ROUND(AVERAGE(P72:P77),0)","v":{"$error":"#N/A"}},{"$f":"IF(ISTEXT('S13'!$D$20),NA(),'S13'!$D$20)","v":{"$error":"#N/A"}},{"$f":"ROUND(AVERAGE(R72:R77),0)","v":{"$error":"#N/A"}},{"$f":"IF(ISTEXT('S13'!$D$19),NA(),'S13'!$D$19)","v":{"$error":"#N/A"}},{"$f":"ROUND(AVERAGE(T72:T77),0)","v":{"$error":"#N/A"}},{"$f":"IF(ISTEXT('S13'!$D$18),NA(),'S13'!$D$18)","v":{"$error":"#N/A"}},{"$f":"ROUND(AVERAGE(V72:V77),0)","v":{"$error":"#N/A"}},{"$f":"IF(ISTEXT('S13'!$D$17),NA(),'S13'!$D$17)","v":{"$error":"#N/A"}},{"$f":"ROUND(AVERAGE(X72:X77),0)","v":{"$error":"#N/A"}},{"$f":"IF(ISTEXT('S13'!$D$16),NA(),'S13'!$D$16)","v":{"$error":"#N/A"}},{"$f":"ROUND(AVERAGE(Z72:Z77),0)","v":{"$error":"#N/A"}},{"$f":"IF(ISTEXT('S13'!$D$15),NA(),'S13'!$D$15)","v":{"$error":"#N/A"}},{"$f":"ROUND(AVERAGE(AB72:AB77),0)","v":{"$error":"#N/A"}},73]
[{"$f":"IF(ISBLANK('S13'!E9),\" \",('S13'!$E$9))","v":" "},{"$f":"IF(ISBLANK('S13'!$E$28),NA(),'S13'!$E$28)","v":{"$error":"#N/A"}},{"$f":"ROUND(AVERAGE(B73:B78),1)","v":{"$error":"#N/A"}},{"$f":"IF(ISTEXT('S13'!$F$27),NA(),'S13'!$F$27)","v":{"$error":"#N/A"}},{"$f":"ROUND(AVERAGE(D73:D78),1)","v":{"$error":"#N/A"}},{"$f":"IF(ISTEXT('S13'!$F$26),NA(),'S13'!$F$26)","v":{"$error":"#N/A"}},{"$f":"ROUND(AVERAGE(F73:F78),0)","v":{"$error":"#N/A"}},{"$f":"IF(ISTEXT('S13'!$F$25),NA(),'S13'!$F$25)","v":{"$error":"#N/A"}},{"$f":"ROUND(AVERAGE(H73:H78),0)","v":{"$error":"#N/A"}},{"$f":"IF(ISTEXT('S13'!$F$24),NA(),'S13'!$F$24)","v":{"$error":"#N/A"}},{"$f":"ROUND(AVERAGE(J73:J78),0)","v":{"$error":"#N/A"}},{"$f":"IF(ISTEXT('S13'!$F$23),NA(),'S13'!$F$23)","v":{"$error":"#N/A"}},{"$f":"ROUND(AVERAGE(L73:L78),0)","v":{"$error":"#N/A"}},{"$f":"IF(ISTEXT('S13'!$F$22),NA(),'S13'!$F$22)","v":{"$error":"#N/A"}},{"$f":"ROUND(AVERAGE(N73:N78),0)","v":{"$error":"#N/A"}},{"$f":"IF(ISTEXT('S13'!$F$21),NA(),'S13'!$F$21)","v":{"$error":"#N/A"}},{"$f":"ROUND(AVERAGE(P73:P78),0)","v":{"$error":"#N/A"}},{"$f":"IF(ISTEXT('S13'!$F$20),NA(),'S13'!$F$20)","v":{"$error":"#N/A"}},{"$f":"ROUND(AVERAGE(R73:R78),0)","v":{"$error":"#N/A"}},{"$f":"IF(ISTEXT('S13'!$F$19),NA(),'S13'!$F$19)","v":{"$error":"#N/A"}},{"$f":"ROUND(AVERAGE(T73:T78),0)","v":{"$error":"#N/A"}},{"$f":"IF(ISTEXT('S13'!$F$18),NA(),'S13'!$F$18)","v":{"$error":"#N/A"}},{"$f":"ROUND(AVERAGE(V73:V78),0)","v":{"$error":"#N/A"}},{"$f":"IF(ISTEXT('S13'!$F$17),NA(),'S13'!$F$17)","v":{"$error":"#N/A"}},{"$f":"ROUND(AVERAGE(X73:X78),0)","v":{"$error":"#N/A"}},{"$f":"IF(ISTEXT('S13'!$F$16),NA(),'S13'!$F$16)","v":{"$error":"#N/A"}},{"$f":"ROUND(AVERAGE(Z73:Z78),0)","v":{"$error":"#N/A"}},{"$f":"IF(ISTEXT('S13'!$F$15),NA(),'S13'!$F$15)","v":{"$error":"#N/A"}},{"$f":"ROUND(AVERAGE(AB73:AB78),0)","v":{"$error":"#N/A"}},74]
[{"$f":"IF(ISBLANK('S13'!G9),\" \",('S13'!$G$9))","v":" "},{"$f":"IF(ISBLANK('S13'!$G$28),NA(),'S13'!$G$28)","v":{"$error":"#N/A"}},{"$f":"ROUND(AVERAGE(B74:B79),1)","v":{"$error":"#N/A"}},{"$f":"IF(ISTEXT('S13'!$H$27),NA(),'S13'!$H$27)","v":{"$error":"#N/A"}},{"$f":"ROUND(AVERAGE(D74:D79),1)","v":{"$error":"#N/A"}},{"$f":"IF(ISTEXT('S13'!$H$26),NA(),'S13'!$H$26)","v":{"$error":"#N/A"}},{"$f":"ROUND(AVERAGE(F74:F79),0)","v":{"$error":"#N/A"}},{"$f":"IF(ISTEXT('S13'!$H$25),NA(),'S13'!$H$25)","v":{"$error":"#N/A"}},{"$f":"ROUND(AVERAGE(H74:H79),0)","v":{"$error":"#N/A"}},{"$f":"IF(ISTEXT('S13'!$H$24),NA(),'S13'!$H$24)","v":{"$error":"#N/A"}},{"$f":"ROUND(AVERAGE(J74:J79),0)","v":{"$error":"#N/A"}},{"$f":"IF(ISTEXT('S13'!$H$23),NA(),'S13'!$H$23)","v":{"$error":"#N/A"}},{"$f":"ROUND(AVERAGE(L74:L79),0)","v":{"$error":"#N/A"}},{"$f":"IF(ISTEXT('S13'!$H$22),NA(),'S13'!$H$22)","v":{"$error":"#N/A"}},{"$f":"ROUND(AVERAGE(N74:N79),0)","v":{"$error":"#N/A"}},{"$f":"IF(ISTEXT('S13'!$H$21),NA(),'S13'!$H$21)","v":{"$error":"#N/A"}},{"$f":"ROUND(AVERAGE(P74:P79),0)","v":{"$error":"#N/A"}},{"$f":"IF(ISTEXT('S13'!$H$20),NA(),'S13'!$H$20)","v":{"$error":"#N/A"}},{"$f":"ROUND(AVERAGE(R74:R79),0)","v":{"$error":"#N/A"}},{"$f":"IF(ISTEXT('S13'!$H$19),NA(),'S13'!$H$19)","v":{"$error":"#N/A"}},{"$f":"ROUND(AVERAGE(T74:T79),0)","v":{"$error":"#N/A"}},{"$f":"IF(ISTEXT('S13'!$H$18),NA(),'S13'!$H$18)","v":{"$error":"#N/A"}},{"$f":"ROUND(AVERAGE(V74:V79),0)","v":{"$error":"#N/A"}},{"$f":"IF(ISTEXT('S13'!$H$17),NA(),'S13'!$H$17)","v":{"$error":"#N/A"}},{"$f":"ROUND(AVERAGE(X74:X79),0)","v":{"$error":"#N/A"}},{"$f":"IF(ISTEXT('S13'!$H$16),NA(),'S13'!$H$16)","v":{"$error":"#N/A"}},{"$f":"ROUND(AVERAGE(Z74:Z79),0)","v":{"$error":"#N/A"}},{"$f":"IF(ISTEXT('S13'!$H$15),NA(),'S13'!$H$15)","v":{"$error":"#N/A"}},{"$f":"ROUND(AVERAGE(AB74:AB79),0)","v":{"$error":"#N/A"}},75]
[{"$f":"IF(ISBLANK('S13'!I9),\" \",('S13'!$I$9))","v":" "},{"$f":"IF(ISBLANK('S13'!$I$28),NA(),'S13'!$I$28)","v":{"$error":"#N/A"}},{"$f":"ROUND(AVERAGE(B75:B80),1)","v":{"$error":"#N/A"}},{"$f":"IF(ISTEXT('S13'!$J$27),NA(),'S13'!$J$27)","v":{"$error":"#N/A"}},{"$f":"ROUND(AVERAGE(D75:D80),1)","v":{"$error":"#N/A"}},{"$f":"IF(ISTEXT('S13'!$J$26),NA(),'S13'!$J$26)","v":{"$error":"#N/A"}},{"$f":"ROUND(AVERAGE(F75:F80),0)","v":{"$error":"#N/A"}},{"$f":"IF(ISTEXT('S13'!$J$25),NA(),'S13'!$J$25)","v":{"$error":"#N/A"}},{"$f":"ROUND(AVERAGE(H75:H80),0)","v":{"$error":"#N/A"}},{"$f":"IF(ISTEXT('S13'!$J$24),NA(),'S13'!$J$24)","v":{"$error":"#N/A"}},{"$f":"ROUND(AVERAGE(J75:J80),0)","v":{"$error":"#N/A"}},{"$f":"IF(ISTEXT('S13'!$J$23),NA(),'S13'!$J$23)","v":{"$error":"#N/A"}},{"$f":"ROUND(AVERAGE(L75:L80),0)","v":{"$error":"#N/A"}},{"$f":"IF(ISTEXT('S13'!$J$22),NA(),'S13'!$J$22)","v":{"$error":"#N/A"}},{"$f":"ROUND(AVERAGE(N75:N80),0)","v":{"$error":"#N/A"}},{"$f":"IF(ISTEXT('S13'!$J$21),NA(),'S13'!$J$21)","v":{"$error":"#N/A"}},{"$f":"ROUND(AVERAGE(P75:P80),0)","v":{"$error":"#N/A"}},{"$f":"IF(ISTEXT('S13'!$J$20),NA(),'S13'!$J$20)","v":{"$error":"#N/A"}},{"$f":"ROUND(AVERAGE(R75:R80),0)","v":{"$error":"#N/A"}},{"$f":"IF(ISTEXT('S13'!$J$19),NA(),'S13'!$J$19)","v":{"$error":"#N/A"}},{"$f":"ROUND(AVERAGE(T75:T80),0)","v":{"$error":"#N/A"}},{"$f":"IF(ISTEXT('S13'!$J$18),NA(),'S13'!$J$18)","v":{"$error":"#N/A"}},{"$f":"ROUND(AVERAGE(V75:V80),0)","v":{"$error":"#N/A"}},{"$f":"IF(ISTEXT('S13'!$J$17),NA(),'S13'!$J$17)","v":{"$error":"#N/A"}},{"$f":"ROUND(AVERAGE(X75:X80),0)","v":{"$error":"#N/A"}},{"$f":"IF(ISTEXT('S13'!$J$16),NA(),'S13'!$J$16)","v":{"$error":"#N/A"}},{"$f":"ROUND(AVERAGE(Z75:Z80),0)","v":{"$error":"#N/A"}},{"$f":"IF(ISTEXT('S13'!$J$15),NA(),'S13'!$J$15)","v":{"$error":"#N/A"}},{"$f":"ROUND(AVERAGE(AB75:AB80),0)","v":{"$error":"#N/A"}},76]
[{"$f":"IF(ISBLANK('S13'!K9),\" \",('S13'!$K$9))","v":" "},{"$f":"IF(ISBLANK('S13'!$K$28),NA(),'S13'!$K$28)","v":{"$error":"#N/A"}},{"$f":"ROUND(AVERAGE(B77:B81),1)","v":{"$error":"#N/A"}},{"$f":"IF(ISTEXT('S13'!$L$27),NA(),'S13'!$L$27)","v":{"$error":"#N/A"}},{"$f":"ROUND(AVERAGE(D77:D81),1)","v":{"$error":"#N/A"}},{"$f":"IF(ISTEXT('S13'!$L$26),NA(),'S13'!$L$26)","v":{"$error":"#N/A"}},{"$f":"ROUND(AVERAGE(F77:F81),0)","v":{"$error":"#N/A"}},{"$f":"IF(ISTEXT('S13'!$L$25),NA(),'S13'!$L$25)","v":{"$error":"#N/A"}},{"$f":"ROUND(AVERAGE(H77:H81),0)","v":{"$error":"#N/A"}},{"$f":"IF(ISTEXT('S13'!$L$24),NA(),'S13'!$L$24)","v":{"$error":"#N/A"}},{"$f":"ROUND(AVERAGE(J77:J81),0)","v":{"$error":"#N/A"}},{"$f":"IF(ISTEXT('S13'!$L$23),NA(),'S13'!$L$23)","v":{"$error":"#N/A"}},{"$f":"ROUND(AVERAGE(L77:L81),0)","v":{"$error":"#N/A"}},{"$f":"IF(ISTEXT('S13'!$L$22),NA(),'S13'!$L$22)","v":{"$error":"#N/A"}},{"$f":"ROUND(AVERAGE(N77:N81),0)","v":{"$error":"#N/A"}},{"$f":"IF(ISTEXT('S13'!$L$21),NA(),'S13'!$L$21)","v":{"$error":"#N/A"}},{"$f":"ROUND(AVERAGE(P77:P81),0)","v":{"$error":"#N/A"}},{"$f":"IF(ISTEXT('S13'!$L$20),NA(),'S13'!$L$20)","v":{"$error":"#N/A"}},{"$f":"ROUND(AVERAGE(R77:R81),0)","v":{"$error":"#N/A"}},{"$f":"IF(ISTEXT('S13'!$L$19),NA(),'S13'!$L$19)","v":{"$error":"#N/A"}},{"$f":"ROUND(AVERAGE(T77:T81),0)","v":{"$error":"#N/A"}},{"$f":"IF(ISTEXT('S13'!$L$18),NA(),'S13'!$L$18)","v":{"$error":"#N/A"}},{"$f":"ROUND(AVERAGE(V77:V81),0)","v":{"$error":"#N/A"}},{"$f":"IF(ISTEXT('S13'!$L$17),NA(),'S13'!$L$17)","v":{"$error":"#N/A"}},{"$f":"ROUND(AVERAGE(X77:X81),0)","v":{"$error":"#N/A"}},{"$f":"IF(ISTEXT('S13'!$L$16),NA(),'S13'!$L$16)","v":{"$error":"#N/A"}},{"$f":"ROUND(AVERAGE(Z77:Z81),0)","v":{"$error":"#N/A"}},{"$f":"IF(ISTEXT('S13'!$L$15),NA(),'S13'!$L$15)","v":{"$error":"#N/A"}},{"$f":"ROUND(AVERAGE(AB77:AB81),0)","v":{"$error":"#N/A"}},77]
[{"$f":"IF(ISBLANK('S13'!M9),\" \",('S13'!$M$9))","v":" "},{"$f":"IF(ISBLANK('S13'!$M$28),NA(),'S13'!$M$28)","v":{"$error":"#N/A"}},{"$f":"ROUND(AVERAGE(B78:B82),1)","v":{"$error":"#N/A"}},{"$f":"IF(ISTEXT('S13'!$N$27),NA(),'S13'!$N$27)","v":{"$error":"#N/A"}},{"$f":"ROUND(AVERAGE(D78:D82),1)","v":{"$error":"#N/A"}},{"$f":"IF(ISTEXT('S13'!$N$26),NA(),'S13'!$N$26)","v":{"$error":"#N/A"}},{"$f":"ROUND(AVERAGE(F78:F82),0)","v":{"$error":"#N/A"}},{"$f":"IF(ISTEXT('S13'!$N$25),NA(),'S13'!$N$25)","v":{"$error":"#N/A"}},{"$f":"ROUND(AVERAGE(H78:H82),0)","v":{"$error":"#N/A"}},{"$f":"IF(ISTEXT('S13'!$N$24),NA(),'S13'!$N$24)","v":{"$error":"#N/A"}},{"$error":"#N/A"},{"$f":"IF(ISTEXT('S13'!$N$23),NA(),'S13'!$N$23)","v":{"$error":"#N/A"}},{"$error":"#N/A"},{"$f":"IF(ISTEXT('S13'!$N$22),NA(),'S13'!$N$22)","v":{"$error":"#N/A"}},{"$error":"#N/A"},{"$f":"IF(ISTEXT('S13'!$N$21),NA(),'S13'!$N$21)","v":{"$error":"#N/A"}},{"$error":"#N/A"},{"$f":"IF(ISTEXT('S13'!$N$20),NA(),'S13'!$N$20)","v":{"$error":"#N/A"}},{"$error":"#N/A"},{"$f":"IF(ISTEXT('S13'!$N$19),NA(),'S13'!$N$19)","v":{"$error":"#N/A"}},{"$error":"#N/A"},{"$f":"IF(ISTEXT('S13'!$N$18),NA(),'S13'!$N$18)","v":{"$error":"#N/A"}},{"$error":"#N/A"},{"$f":"IF(ISTEXT('S13'!$N$17),NA(),'S13'!$N$17)","v":{"$error":"#N/A"}},{"$error":"#N/A"},{"$f":"IF(ISTEXT('S13'!$N$16),NA(),'S13'!$N$16)","v":{"$error":"#N/A"}},{"$error":"#N/A"},{"$f":"IF(ISTEXT('S13'!$N$15),NA(),'S13'!$N$15)","v":{"$error":"#N/A"}},{"$error":"#N/A"},78]
[{"$f":"IF(ISBLANK('S14'!C9),\" \",('S14'!$C$9))","v":" "},{"$f":"IF(ISBLANK('S14'!$C$28),NA(),'S14'!$C$28)","v":{"$error":"#N/A"}},{"$error":"#N/A"},{"$f":"IF(ISTEXT('S14'!$D$27),NA(),'S14'!$D$27)","v":{"$error":"#N/A"}},{"$error":"#N/A"},{"$f":"IF(ISTEXT('S14'!$D$26),NA(),'S14'!$D$26)","v":{"$error":"#N/A"}},{"$error":"#N/A"},{"$f":"IF(ISTEXT('S14'!$D$25),NA(),'S14'!$D$25)","v":{"$error":"#N/A"}},{"$error":"#N/A"},{"$f":"IF(ISTEXT('S14'!$D$24),NA(),'S14'!$D$24)","v":{"$error":"#N/A"}},{"$error":"#N/A"},{"$f":"IF(ISTEXT('S14'!$D$23),NA(),'S14'!$D$23)","v":{"$error":"#N/A"}},{"$error":"#N/A"},{"$f":"IF(ISTEXT('S14'!$D$22),NA(),'S14'!$D$22)","v":{"$error":"#N/A"}},{"$error":"#N/A"},{"$f":"IF(ISTEXT('S14'!$D$21),NA(),'S14'!$D$21)","v":{"$error":"#N/A"}},{"$error":"#N/A"},{"$f":"IF(ISTEXT('S14'!$D$20),NA(),'S14'!$D$20)","v":{"$error":"#N/A"}},{"$error":"#N/A"},{"$f":"IF(ISTEXT('S14'!$D$19),NA(),'S14'!$D$19)","v":{"$error":"#N/A"}},{"$error":"#N/A"},{"$f":"IF(ISTEXT('S14'!$D$18),NA(),'S14'!$D$18)","v":{"$error":"#N/A"}},{"$error":"#N/A"},{"$f":"IF(ISTEXT('S14'!$D$17),NA(),'S14'!$D$17)","v":{"$error":"#N/A"}},{"$error":"#N/A"},{"$f":"IF(ISTEXT('S14'!$D$16),NA(),'S14'!$D$16)","v":{"$error":"#N/A"}},{"$error":"#N/A"},{"$f":"IF(ISTEXT('S14'!$D$15),NA(),'S14'!$D$15)","v":{"$error":"#N/A"}},{"$error":"#N/A"},79]
[{"$f":"IF(ISBLANK('S14'!E9),\" \",('S14'!$E$9))","v":" "},{"$f":"IF(ISBLANK('S14'!$E$28),NA(),'S14'!$E$28)","v":{"$error":"#N/A"}},{"$error":"#N/A"},{"$f":"IF(ISTEXT('S14'!$F$27),NA(),'S14'!$F$27)","v":{"$error":"#N/A"}},{"$error":"#N/A"},{"$f":"IF(ISTEXT('S14'!$F$26),NA(),'S14'!$F$26)","v":{"$error":"#N/A"}},{"$error":"#N/A"},{"$f":"IF(ISTEXT('S14'!$F$25),NA(),'S14'!$F$25)","v":{"$error":"#N/A"}},{"$error":"#N/A"},{"$f":"IF(ISTEXT('S14'!$F$24),NA(),'S14'!$F$24)","v":{"$error":"#N/A"}},{"$error":"#N/A"},{"$f":"IF(ISTEXT('S14'!$F$23),NA(),'S14'!$F$23)","v":{"$error":"#N/A"}},{"$error":"#N/A"},{"$f":"IF(ISTEXT('S14'!$F$22),NA(),'S14'!$F$22)","v":{"$error":"#N/A"}},{"$error":"#N/A"},{"$f":"IF(ISTEXT('S14'!$F$21),NA(),'S14'!$F$21)","v":{"$error":"#N/A"}},{"$error":"#N/A"},{"$f":"IF(ISTEXT('S14'!$F$20),NA(),'S14'!$F$20)","v":{"$error":"#N/A"}},{"$error":"#N/A"},{"$f":"IF(ISTEXT('S14'!$F$19),NA(),'S14'!$F$19)","v":{"$error":"#N/A"}},{"$error":"#N/A"},{"$f":"IF(ISTEXT('S14'!$F$18),NA(),'S14'!$F$18)","v":{"$error":"#N/A"}},{"$error":"#N/A"},{"$f":"IF(ISTEXT('S14'!$F$17),NA(),'S14'!$F$17)","v":{"$error":"#N/A"}},{"$error":"#N/A"},{"$f":"IF(ISTEXT('S14'!$F$16),NA(),'S14'!$F$16)","v":{"$error":"#N/A"}},{"$error":"#N/A"},{"$f":"IF(ISTEXT('S14'!$F$15),NA(),'S14'!$F$15)","v":{"$error":"#N/A"}},{"$error":"#N/A"},80]
[{"$f":"IF(ISBLANK('S14'!G9),\" \",('S14'!$G$9))","v":" "},{"$f":"IF(ISBLANK('S14'!$G$28),NA(),'S14'!$G$28)","v":{"$error":"#N/A"}},{"$error":"#N/A"},{"$f":"IF(ISTEXT('S14'!$H$27),NA(),'S14'!$H$27)","v":{"$error":"#N/A"}},{"$error":"#N/A"},{"$f":"IF(ISTEXT('S14'!$H$26),NA(),'S14'!$H$26)","v":{"$error":"#N/A"}},{"$error":"#N/A"},{"$f":"IF(ISTEXT('S14'!$H$25),NA(),'S14'!$H$25)","v":{"$error":"#N/A"}},{"$error":"#N/A"},{"$f":"IF(ISTEXT('S14'!$H$24),NA(),'S14'!$H$24)","v":{"$error":"#N/A"}},{"$error":"#N/A"},{"$f":"IF(ISTEXT('S14'!$H$23),NA(),'S14'!$H$23)","v":{"$error":"#N/A"}},{"$error":"#N/A"},{"$f":"IF(ISTEXT('S14'!$H$22),NA(),'S14'!$H$22)","v":{"$error":"#N/A"}},{"$error":"#N/A"},{"$f":"IF(ISTEXT('S14'!$H$21),NA(),'S14'!$H$21)","v":{"$error":"#N/A"}},{"$error":"#N/A"},{"$f":"IF(ISTEXT('S14'!$H$20),NA(),'S14'!$H$20)","v":{"$error":"#N/A"}},{"$error":"#N/A"},{"$f":"IF(ISTEXT('S14'!$H$19),NA(),'S14'!$H$19)","v":{"$error":"#N/A"}},{"$error":"#N/A"},{"$f":"IF(ISTEXT('S14'!$H$18),NA(),'S14'!$H$18)","v":{"$error":"#N/A"}},{"$error":"#N/A"},{"$f":"IF(ISTEXT('S14'!$H$17),NA(),'S14'!$H$17)","v":{"$error":"#N/A"}},{"$error":"#N/A"},{"$f":"IF(ISTEXT('S14'!$H$16),NA(),'S14'!$H$16)","v":{"$error":"#N/A"}},{"$error":"#N/A"},{"$f":"IF(ISTEXT('S14'!$H$15),NA(),'S14'!$H$15)","v":{"$error":"#N/A"}},{"$error":"#N/A"},81]
[{"$f":"IF(ISBLANK('S14'!I9),\" \",('S14'!$I$9))","v":" "},{"$f":"IF(ISBLANK('S14'!$I$28),NA(),'S14'!$I$28)","v":{"$error":"#N/A"}},{"$error":"#N/A"},{"$f":"IF(ISTEXT('S14'!$J$27),NA(),'S14'!$J$27)","v":{"$error":"#N/A"}},{"$error":"#N/A"},{"$f":"IF(ISTEXT('S14'!$J$26),NA(),'S14'!$J$26)","v":{"$error":"#N/A"}},{"$error":"#N/A"},{"$f":"IF(ISTEXT('S14'!$J$25),NA(),'S14'!$J$25)","v":{"$error":"#N/A"}},{"$error":"#N/A"},{"$f":"IF(ISTEXT('S14'!$J$24),NA(),'S14'!$J$24)","v":{"$error":"#N/A"}},{"$error":"#N/A"},{"$f":"IF(ISTEXT('S14'!$J$23),NA(),'S14'!$J$23)","v":{"$error":"#N/A"}},{"$error":"#N/A"},{"$f":"IF(ISTEXT('S14'!$J$22),NA(),'S14'!$J$22)","v":{"$error":"#N/A"}},{"$error":"#N/A"},{"$f":"IF(ISTEXT('S14'!$J$21),NA(),'S14'!$J$21)","v":{"$error":"#N/A"}},{"$error":"#N/A"},{"$f":"IF(ISTEXT('S14'!$J$20),NA(),'S14'!$J$20)","v":{"$error":"#N/A"}},{"$error":"#N/A"},{"$f":"IF(ISTEXT('S14'!$J$19),NA(),'S14'!$J$19)","v":{"$error":"#N/A"}},{"$error":"#N/A"},{"$f":"IF(ISTEXT('S14'!$J$18),NA(),'S14'!$J$18)","v":{"$error":"#N/A"}},{"$error":"#N/A"},{"$f":"IF(ISTEXT('S14'!$J$17),NA(),'S14'!$J$17)","v":{"$error":"#N/A"}},{"$error":"#N/A"},{"$f":"IF(ISTEXT('S14'!$J$16),NA(),'S14'!$J$16)","v":{"$error":"#N/A"}},{"$error":"#N/A"},{"$f":"IF(ISTEXT('S14'!$J$15),NA(),'S14'!$J$15)","v":{"$error":"#N/A"}},{"$error":"#N/A"},82]
[{"$f":"IF(ISBLANK('S14'!K9),\" \",('S14'!$K$9))","v":" "},{"$f":"IF(ISBLANK('S14'!$K$28),NA(),'S14'!$K$28)","v":{"$error":"#N/A"}},{"$error":"#N/A"},{"$f":"IF(ISTEXT('S14'!$L$27),NA(),'S14'!$L$27)","v":{"$error":"#N/A"}},{"$error":"#N/A"},{"$f":"IF(ISTEXT('S14'!$L$26),NA(),'S14'!$L$26)","v":{"$error":"#N/A"}},{"$error":"#N/A"},{"$f":"IF(ISTEXT('S14'!$L$25),NA(),'S14'!$L$25)","v":{"$error":"#N/A"}},{"$error":"#N/A"},{"$f":"IF(ISTEXT('S14'!$L$24),NA(),'S14'!$L$24)","v":{"$error":"#N/A"}},{"$error":"#N/A"},{"$f":"IF(ISTEXT('S14'!$L$23),NA(),'S14'!$L$23)","v":{"$error":"#N/A"}},{"$error":"#N/A"},{"$f":"IF(ISTEXT('S14'!$L$22),NA(),'S14'!$L$22)","v":{"$error":"#N/A"}},{"$error":"#N/A"},{"$f":"IF(ISTEXT('S14'!$L$21),NA(),'S14'!$L$21)","v":{"$error":"#N/A"}},{"$error":"#N/A"},{"$f":"IF(ISTEXT('S14'!$L$20),NA(),'S14'!$L$20)","v":{"$error":"#N/A"}},{"$error":"#N/A"},{"$f":"IF(ISTEXT('S14'!$L$19),NA(),'S14'!$L$19)","v":{"$error":"#N/A"}},{"$error":"#N/A"},{"$f":"IF(ISTEXT('S14'!$L$18),NA(),'S14'!$L$18)","v":{"$error":"#N/A"}},{"$error":"#N/A"},{"$f":"IF(ISTEXT('S14'!$L$17),NA(),'S14'!$L$17)","v":{"$error":"#N/A"}},{"$error":"#N/A"},{"$f":"IF(ISTEXT('S14'!$L$16),NA(),'S14'!$L$16)","v":{"$error":"#N/A"}},{"$error":"#N/A"},{"$f":"IF(ISTEXT('S14'!$L$15),NA(),'S14'!$L$15)","v":{"$error":"#N/A"}},{"$error":"#N/A"},83]
[{"$f":"IF(ISBLANK('S14'!M9),\" \",('S14'!$M$9))","v":" "},{"$f":"IF(ISBLANK('S14'!$M$28),NA(),'S14'!$M$28)","v":{"$error":"#N/A"}},{"$error":"#N/A"},{"$f":"IF(ISTEXT('S14'!$N$27),NA(),'S14'!$N$27)","v":{"$error":"#N/A"}},{"$error":"#N/A"},{"$f":"IF(ISTEXT('S14'!$N$26),NA(),'S14'!$N$26)","v":{"$error":"#N/A"}},{"$error":"#N/A"},{"$f":"IF(ISTEXT('S14'!$N$25),NA(),'S14'!$N$25)","v":{"$error":"#N/A"}},{"$error":"#N/A"},{"$f":"IF(ISTEXT('S14'!$N$24),NA(),'S14'!$N$24)","v":{"$error":"#N/A"}},{"$error":"#N/A"},{"$f":"IF(ISTEXT('S14'!$N$23),NA(),'S14'!$N$23)","v":{"$error":"#N/A"}},{"$error":"#N/A"},{"$f":"IF(ISTEXT('S14'!$N$22),NA(),'S14'!$N$22)","v":{"$error":"#N/A"}},{"$error":"#N/A"},{"$f":"IF(ISTEXT('S14'!$N$21),NA(),'S14'!$N$21)","v":{"$error":"#N/A"}},{"$error":"#N/A"},{"$f":"IF(ISTEXT('S14'!$N$20),NA(),'S14'!$N$20)","v":{"$error":"#N/A"}},{"$error":"#N/A"},{"$f":"IF(ISTEXT('S14'!$N$19),NA(),'S14'!$N$19)","v":{"$error":"#N/A"}},{"$error":"#N/A"},{"$f":"IF(ISTEXT('S14'!$N$18),NA(),'S14'!$N$18)","v":{"$error":"#N/A"}},{"$error":"#N/A"},{"$f":"IF(ISTEXT('S14'!$N$17),NA(),'S14'!$N$17)","v":{"$error":"#N/A"}},{"$error":"#N/A"},{"$f":"IF(ISTEXT('S14'!$N$16),NA(),'S14'!$N$16)","v":{"$error":"#N/A"}},{"$error":"#N/A"},{"$f":"IF(ISTEXT('S14'!$N$15),NA(),'S14'!$N$15)","v":{"$error":"#N/A"}},{"$error":"#N/A"},84]
[{"$f":"IF(ISBLANK('S15'!C9),\" \",('S15'!$C$9))","v":" "},{"$f":"IF(ISBLANK('S15'!$C$28),NA(),'S15'!$C$28)","v":{"$error":"#N/A"}},{"$error":"#N/A"},{"$f":"IF(ISTEXT('S15'!$D$27),NA(),'S15'!$D$27)","v":{"$error":"#N/A"}},{"$error":"#N/A"},{"$f":"IF(ISTEXT('S15'!$D$26),NA(),'S15'!$D$26)","v":{"$error":"#N/A"}},{"$error":"#N/A"},{"$f":"IF(ISTEXT('S15'!$D$25),NA(),'S15'!$D$25)","v":{"$error":"#N/A"}},{"$error":"#N/A"},{"$f":"IF(ISTEXT('S15'!$D$24),NA(),'S15'!$D$24)","v":{"$error":"#N/A"}},{"$error":"#N/A"},{"$f":"IF(ISTEXT('S15'!$D$23),NA(),'S15'!$D$23)","v":{"$error":"#N/A"}},{"$error":"#N/A"},{"$f":"IF(ISTEXT('S15'!$D$22),NA(),'S15'!$D$22)","v":{"$error":"#N/A"}},{"$error":"#N/A"},{"$f":"IF(ISTEXT('S15'!$D$21),NA(),'S15'!$D$21)","v":{"$error":"#N/A"}},{"$error":"#N/A"},{"$f":"IF(ISTEXT('S15'!$D$20),NA(),'S15'!$D$20)","v":{"$error":"#N/A"}},{"$error":"#N/A"},{"$f":"IF(ISTEXT('S15'!$D$19),NA(),'S15'!$D$19)","v":{"$error":"#N/A"}},{"$error":"#N/A"},{"$f":"IF(ISTEXT('S15'!$D$18),NA(),'S15'!$D$18)","v":{"$error":"#N/A"}},{"$error":"#N/A"},{"$f":"IF(ISTEXT('S15'!$D$17),NA(),'S15'!$D$17)","v":{"$error":"#N/A"}},{"$error":"#N/A"},{"$f":"IF(ISTEXT('S15'!$D$16),NA(),'S15'!$D$16)","v":{"$error":"#N/A"}},{"$error":"#N/A"},{"$f":"IF(ISTEXT('S15'!$D$15),NA(),'S15'!$D$15)","v":{"$error":"#N/A"}},{"$error":"#N/A"},85]
[{"$f":"IF(ISBLANK('S15'!E9),\" \",('S15'!$E$9))","v":" "},{"$f":"IF(ISBLANK('S15'!$E$28),NA(),'S15'!$E$28)","v":{"$error":"#N/A"}},{"$error":"#N/A"},{"$f":"IF(ISTEXT('S15'!$F$27),NA(),'S15'!$F$27)","v":{"$error":"#N/A"}},{"$error":"#N/A"},{"$f":"IF(ISTEXT('S15'!$F$26),NA(),'S15'!$F$26)","v":{"$error":"#N/A"}},{"$error":"#N/A"},{"$f":"IF(ISTEXT('S15'!$F$25),NA(),'S15'!$F$25)","v":{"$error":"#N/A"}},{"$error":"#N/A"},{"$f":"IF(ISTEXT('S15'!$F$24),NA(),'S15'!$F$24)","v":{"$error":"#N/A"}},{"$error":"#N/A"},{"$f":"IF(ISTEXT('S15'!$F$23),NA(),'S15'!$F$23)","v":{"$error":"#N/A"}},{"$error":"#N/A"},{"$f":"IF(ISTEXT('S15'!$F$22),NA(),'S15'!$F$22)","v":{"$error":"#N/A"}},{"$error":"#N/A"},{"$f":"IF(ISTEXT('S15'!$F$21),NA(),'S15'!$F$21)","v":{"$error":"#N/A"}},{"$error":"#N/A"},{"$f":"IF(ISTEXT('S15'!$F$20),NA(),'S15'!$F$20)","v":{"$error":"#N/A"}},{"$error":"#N/A"},{"$f":"IF(ISTEXT('S15'!$F$19),NA(),'S15'!$F$19)","v":{"$error":"#N/A"}},{"$error":"#N/A"},{"$f":"IF(ISTEXT('S15'!$F$18),NA(),'S15'!$F$18)","v":{"$error":"#N/A"}},{"$error":"#N/A"},{"$f":"IF(ISTEXT('S15'!$F$17),NA(),'S15'!$F$17)","v":{"$error":"#N/A"}},{"$error":"#N/A"},{"$f":"IF(ISTEXT('S15'!$F$16),NA(),'S15'!$F$16)","v":{"$error":"#N/A"}},{"$error":"#N/A"},{"$f":"IF(ISTEXT('S15'!$F$15),NA(),'S15'!$F$15)","v":{"$error":"#N/A"}},{"$error":"#N/A"},86]
[{"$f":"IF(ISBLANK('S15'!G9),\" \",('S15'!$G$9))","v":" "},{"$f":"IF(ISBLANK('S15'!$G$28),NA(),'S15'!$G$28)","v":{"$error":"#N/A"}},{"$error":"#N/A"},{"$f":"IF(ISTEXT('S15'!$H$27),NA(),'S15'!$H$27)","v":{"$error":"#N/A"}},{"$error":"#N/A"},{"$f":"IF(ISTEXT('S15'!$H$26),NA(),'S15'!$H$26)","v":{"$error":"#N/A"}},{"$error":"#N/A"},{"$f":"IF(ISTEXT('S15'!$H$25),NA(),'S15'!$H$25)","v":{"$error":"#N/A"}},{"$error":"#N/A"},{"$f":"IF(ISTEXT('S15'!$H$24),NA(),'S15'!$H$24)","v":{"$error":"#N/A"}},{"$error":"#N/A"},{"$f":"IF(ISTEXT('S15'!$H$23),NA(),'S15'!$H$23)","v":{"$error":"#N/A"}},{"$error":"#N/A"},{"$f":"IF(ISTEXT('S15'!$H$22),NA(),'S15'!$H$22)","v":{"$error":"#N/A"}},{"$error":"#N/A"},{"$f":"IF(ISTEXT('S15'!$H$21),NA(),'S15'!$H$21)","v":{"$error":"#N/A"}},{"$error":"#N/A"},{"$f":"IF(ISTEXT('S15'!$H$20),NA(),'S15'!$H$20)","v":{"$error":"#N/A"}},{"$error":"#N/A"},{"$f":"IF(ISTEXT('S15'!$H$19),NA(),'S15'!$H$19)","v":{"$error":"#N/A"}},{"$error":"#N/A"},{"$f":"IF(ISTEXT('S15'!$H$18),NA(),'S15'!$H$18)","v":{"$error":"#N/A"}},{"$error":"#N/A"},{"$f":"IF(ISTEXT('S15'!$H$17),NA(),'S15'!$H$17)","v":{"$error":"#N/A"}},{"$error":"#N/A"},{"$f":"IF(ISTEXT('S15'!$H$16),NA(),'S15'!$H$16)","v":{"$error":"#N/A"}},{"$error":"#N/A"},{"$f":"IF(ISTEXT('S15'!$H$15),NA(),'S15'!$H$15)","v":{"$error":"#N/A"}},{"$error":"#N/A"},87]
[{"$f":"IF(ISBLANK('S15'!I9),\" \",('S15'!$I$9))","v":" "},{"$f":"IF(ISBLANK('S15'!$I$28),NA(),'S15'!$I$28)","v":{"$error":"#N/A"}},{"$error":"#N/A"},{"$f":"IF(ISTEXT('S15'!$J$27),NA(),'S15'!$J$27)","v":{"$error":"#N/A"}},{"$error":"#N/A"},{"$f":"IF(ISTEXT('S15'!$J$26),NA(),'S15'!$J$26)","v":{"$error":"#N/A"}},{"$error":"#N/A"},{"$f":"IF(ISTEXT('S15'!$J$25),NA(),'S15'!$J$25)","v":{"$error":"#N/A"}},{"$error":"#N/A"},{"$f":"IF(ISTEXT('S15'!$J$24),NA(),'S15'!$J$24)","v":{"$error":"#N/A"}},{"$error":"#N/A"},{"$f":"IF(ISTEXT('S15'!$J$23),NA(),'S15'!$J$23)","v":{"$error":"#N/A"}},{"$error":"#N/A"},{"$f":"IF(ISTEXT('S15'!$J$22),NA(),'S15'!$J$22)","v":{"$error":"#N/A"}},{"$error":"#N/A"},{"$f":"IF(ISTEXT('S15'!$J$21),NA(),'S15'!$J$21)","v":{"$error":"#N/A"}},{"$error":"#N/A"},{"$f":"IF(ISTEXT('S15'!$J$20),NA(),'S15'!$J$20)","v":{"$error":"#N/A"}},{"$error":"#N/A"},{"$f":"IF(ISTEXT('S15'!$J$19),NA(),'S15'!$J$19)","v":{"$error":"#N/A"}},{"$error":"#N/A"},{"$f":"IF(ISTEXT('S15'!$J$18),NA(),'S15'!$J$18)","v":{"$error":"#N/A"}},{"$error":"#N/A"},{"$f":"IF(ISTEXT('S15'!$J$17),NA(),'S15'!$J$17)","v":{"$error":"#N/A"}},{"$error":"#N/A"},{"$f":"IF(ISTEXT('S15'!$J$16),NA(),'S15'!$J$16)","v":{"$error":"#N/A"}},{"$error":"#N/A"},{"$f":"IF(ISTEXT('S15'!$J$15),NA(),'S15'!$J$15)","v":{"$error":"#N/A"}},{"$error":"#N/A"},88]
[{"$f":"IF(ISBLANK('S15'!K9),\" \",('S15'!$K$9))","v":" "},{"$f":"IF(ISBLANK('S15'!$K$28),NA(),'S15'!$K$28)","v":{"$error":"#N/A"}},{"$error":"#N/A"},{"$f":"IF(ISTEXT('S15'!$L$27),NA(),'S15'!$L$27)","v":{"$error":"#N/A"}},{"$error":"#N/A"},{"$f":"IF(ISTEXT('S15'!$L$26),NA(),'S15'!$L$26)","v":{"$error":"#N/A"}},{"$error":"#N/A"},{"$f":"IF(ISTEXT('S15'!$L$25),NA(),'S15'!$L$25)","v":{"$error":"#N/A"}},{"$error":"#N/A"},{"$f":"IF(ISTEXT('S15'!$L$24),NA(),'S15'!$L$24)","v":{"$error":"#N/A"}},{"$error":"#N/A"},{"$f":"IF(ISTEXT('S15'!$L$23),NA(),'S15'!$L$23)","v":{"$error":"#N/A"}},{"$error":"#N/A"},{"$f":"IF(ISTEXT('S15'!$L$22),NA(),'S15'!$L$22)","v":{"$error":"#N/A"}},{"$error":"#N/A"},{"$f":"IF(ISTEXT('S15'!$L$21),NA(),'S15'!$L$21)","v":{"$error":"#N/A"}},{"$error":"#N/A"},{"$f":"IF(ISTEXT('S15'!$L$20),NA(),'S15'!$L$20)","v":{"$error":"#N/A"}},{"$error":"#N/A"},{"$f":"IF(ISTEXT('S15'!$L$19),NA(),'S15'!$L$19)","v":{"$error":"#N/A"}},{"$error":"#N/A"},{"$f":"IF(ISTEXT('S15'!$L$18),NA(),'S15'!$L$18)","v":{"$error":"#N/A"}},{"$error":"#N/A"},{"$f":"IF(ISTEXT('S15'!$L$17),NA(),'S15'!$L$17)","v":{"$error":"#N/A"}},{"$error":"#N/A"},{"$f":"IF(ISTEXT('S15'!$L$16),NA(),'S15'!$L$16)","v":{"$error":"#N/A"}},{"$error":"#N/A"},{"$f":"IF(ISTEXT('S15'!$L$15),NA(),'S15'!$L$15)","v":{"$error":"#N/A"}},{"$error":"#N/A"},89]
[{"$f":"IF(ISBLANK('S15'!M9),\" \",('S15'!$M$9))","v":" "},{"$f":"IF(ISBLANK('S15'!$M$28),NA(),'S15'!$M$28)","v":{"$error":"#N/A"}},{"$error":"#N/A"},{"$f":"IF(ISTEXT('S15'!$N$27),NA(),'S15'!$N$27)","v":{"$error":"#N/A"}},{"$error":"#N/A"},{"$f":"IF(ISTEXT('S15'!$N$26),NA(),'S15'!$N$26)","v":{"$error":"#N/A"}},{"$error":"#N/A"},{"$f":"IF(ISTEXT('S15'!$N$25),NA(),'S15'!$N$25)","v":{"$error":"#N/A"}},{"$error":"#N/A"},{"$f":"IF(ISTEXT('S15'!$N$24),NA(),'S15'!$N$24)","v":{"$error":"#N/A"}},{"$error":"#N/A"},{"$f":"IF(ISTEXT('S15'!$N$23),NA(),'S15'!$N$23)","v":{"$error":"#N/A"}},{"$error":"#N/A"},{"$f":"IF(ISTEXT('S15'!$N$22),NA(),'S15'!$N$22)","v":{"$error":"#N/A"}},{"$error":"#N/A"},{"$f":"IF(ISTEXT('S15'!$N$21),NA(),'S15'!$N$21)","v":{"$error":"#N/A"}},{"$error":"#N/A"},{"$f":"IF(ISTEXT('S15'!$N$20),NA(),'S15'!$N$20)","v":{"$error":"#N/A"}},{"$error":"#N/A"},{"$f":"IF(ISTEXT('S15'!$N$19),NA(),'S15'!$N$19)","v":{"$error":"#N/A"}},{"$error":"#N/A"},{"$f":"IF(ISTEXT('S15'!$N$18),NA(),'S15'!$N$18)","v":{"$error":"#N/A"}},{"$error":"#N/A"},{"$f":"IF(ISTEXT('S15'!$N$17),NA(),'S15'!$N$17)","v":{"$error":"#N/A"}},{"$error":"#N/A"},{"$f":"IF(ISTEXT('S15'!$N$16),NA(),'S15'!$N$16)","v":{"$error":"#N/A"}},{"$error":"#N/A"},{"$f":"IF(ISTEXT('S15'!$N$15),NA(),'S15'!$N$15)","v":{"$error":"#N/A"}},{"$error":"#N/A"},90]
[{"$f":"IF(ISBLANK('S16'!C9),\" \",('S16'!$C$9))","v":" "},{"$f":"IF(ISBLANK('S16'!$C$28),NA(),'S16'!$C$28)","v":{"$error":"#N/A"}},{"$error":"#N/A"},{"$f":"IF(ISTEXT('S16'!$D$27),NA(),'S16'!$D$27)","v":{"$error":"#N/A"}},{"$error":"#N/A"},{"$f":"IF(ISTEXT('S16'!$D$26),NA(),'S16'!$D$26)","v":{"$error":"#N/A"}},{"$error":"#N/A"},{"$f":"IF(ISTEXT('S16'!$D$25),NA(),'S16'!$D$25)","v":{"$error":"#N/A"}},{"$error":"#N/A"},{"$f":"IF(ISTEXT('S16'!$D$24),NA(),'S16'!$D$24)","v":{"$error":"#N/A"}},{"$error":"#N/A"},{"$f":"IF(ISTEXT('S16'!$D$23),NA(),'S16'!$D$23)","v":{"$error":"#N/A"}},{"$error":"#N/A"},{"$f":"IF(ISTEXT('S16'!$D$22),NA(),'S16'!$D$22)","v":{"$error":"#N/A"}},{"$error":"#N/A"},{"$f":"IF(ISTEXT('S16'!$D$21),NA(),'S16'!$D$21)","v":{"$error":"#N/A"}},{"$error":"#N/A"},{"$f":"IF(ISTEXT('S16'!$D$20),NA(),'S16'!$D$20)","v":{"$error":"#N/A"}},{"$error":"#N/A"},{"$f":"IF(ISTEXT('S16'!$D$19),NA(),'S16'!$D$19)","v":{"$error":"#N/A"}},{"$error":"#N/A"},{"$f":"IF(ISTEXT('S16'!$D$18),NA(),'S16'!$D$18)","v":{"$error":"#N/A"}},{"$error":"#N/A"},{"$f":"IF(ISTEXT('S16'!$D$17),NA(),'S16'!$D$17)","v":{"$error":"#N/A"}},{"$error":"#N/A"},{"$f":"IF(ISTEXT('S16'!$D$16),NA(),'S16'!$D$16)","v":{"$error":"#N/A"}},{"$error":"#N/A"},{"$f":"IF(ISTEXT('S16'!$D$15),NA(),'S16'!$D$15)","v":{"$error":"#N/A"}},{"$error":"#N/A"},91]
[{"$f":"IF(ISBLANK('S16'!E9),\" \",('S16'!$E$9))","v":" "},{"$f":"IF(ISBLANK('S16'!$E$28),NA(),'S16'!$E$28)","v":{"$error":"#N/A"}},{"$error":"#N/A"},{"$f":"IF(ISTEXT('S16'!$F$27),NA(),'S16'!$F$27)","v":{"$error":"#N/A"}},{"$error":"#N/A"},{"$f":"IF(ISTEXT('S16'!$F$26),NA(),'S16'!$F$26)","v":{"$error":"#N/A"}},{"$error":"#N/A"},{"$f":"IF(ISTEXT('S16'!$F$25),NA(),'S16'!$F$25)","v":{"$error":"#N/A"}},{"$error":"#N/A"},{"$f":"IF(ISTEXT('S16'!$F$24),NA(),'S16'!$F$24)","v":{"$error":"#N/A"}},{"$error":"#N/A"},{"$f":"IF(ISTEXT('S16'!$F$23),NA(),'S16'!$F$23)","v":{"$error":"#N/A"}},{"$error":"#N/A"},{"$f":"IF(ISTEXT('S16'!$F$22),NA(),'S16'!$F$22)","v":{"$error":"#N/A"}},{"$error":"#N/A"},{"$f":"IF(ISTEXT('S16'!$F$21),NA(),'S16'!$F$21)","v":{"$error":"#N/A"}},{"$error":"#N/A"},{"$f":"IF(ISTEXT('S16'!$F$20),NA(),'S16'!$F$20)","v":{"$error":"#N/A"}},{"$error":"#N/A"},{"$f":"IF(ISTEXT('S16'!$F$19),NA(),'S16'!$F$19)","v":{"$error":"#N/A"}},{"$error":"#N/A"},{"$f":"IF(ISTEXT('S16'!$F$18),NA(),'S16'!$F$18)","v":{"$error":"#N/A"}},{"$error":"#N/A"},{"$f":"IF(ISTEXT('S16'!$F$17),NA(),'S16'!$F$17)","v":{"$error":"#N/A"}},{"$error":"#N/A"},{"$f":"IF(ISTEXT('S16'!$F$16),NA(),'S16'!$F$16)","v":{"$error":"#N/A"}},{"$error":"#N/A"},{"$f":"IF(ISTEXT('S16'!$F$15),NA(),'S16'!$F$15)","v":{"$error":"#N/A"}},{"$error":"#N/A"},92]
[{"$f":"IF(ISBLANK('S16'!G9),\" \",('S16'!$G$9))","v":" "},{"$f":"IF(ISBLANK('S16'!$G$28),NA(),'S16'!$G$28)","v":{"$error":"#N/A"}},{"$error":"#N/A"},{"$f":"IF(ISTEXT('S16'!$H$27),NA(),'S16'!$H$27)","v":{"$error":"#N/A"}},{"$error":"#N/A"},{"$f":"IF(ISTEXT('S16'!$H$26),NA(),'S16'!$H$26)","v":{"$error":"#N/A"}},{"$error":"#N/A"},{"$f":"IF(ISTEXT('S16'!$H$25),NA(),'S16'!$H$25)","v":{"$error":"#N/A"}},{"$error":"#N/A"},{"$f":"IF(ISTEXT('S16'!$H$24),NA(),'S16'!$H$24)","v":{"$error":"#N/A"}},{"$error":"#N/A"},{"$f":"IF(ISTEXT('S16'!$H$23),NA(),'S16'!$H$23)","v":{"$error":"#N/A"}},{"$error":"#N/A"},{"$f":"IF(ISTEXT('S16'!$H$22),NA(),'S16'!$H$22)","v":{"$error":"#N/A"}},{"$error":"#N/A"},{"$f":"IF(ISTEXT('S16'!$H$21),NA(),'S16'!$H$21)","v":{"$error":"#N/A"}},{"$error":"#N/A"},{"$f":"IF(ISTEXT('S16'!$H$20),NA(),'S16'!$H$20)","v":{"$error":"#N/A"}},{"$error":"#N/A"},{"$f":"IF(ISTEXT('S16'!$H$19),NA(),'S16'!$H$19)","v":{"$error":"#N/A"}},{"$error":"#N/A"},{"$f":"IF(ISTEXT('S16'!$H$18),NA(),'S16'!$H$18)","v":{"$error":"#N/A"}},{"$error":"#N/A"},{"$f":"IF(ISTEXT('S16'!$H$17),NA(),'S16'!$H$17)","v":{"$error":"#N/A"}},{"$error":"#N/A"},{"$f":"IF(ISTEXT('S16'!$H$16),NA(),'S16'!$H$16)","v":{"$error":"#N/A"}},{"$error":"#N/A"},{"$f":"IF(ISTEXT('S16'!$H$15),NA(),'S16'!$H$15)","v":{"$error":"#N/A"}},{"$error":"#N/A"},93]
[{"$f":"IF(ISBLANK('S16'!I9),\" \",('S16'!$I$9))","v":" "},{"$f":"IF(ISBLANK('S16'!$I$28),NA(),'S16'!$I$28)","v":{"$error":"#N/A"}},{"$error":"#N/A"},{"$f":"IF(ISTEXT('S16'!$J$27),NA(),'S16'!$J$27)","v":{"$error":"#N/A"}},{"$error":"#N/A"},{"$f":"IF(ISTEXT('S16'!$J$26),NA(),'S16'!$J$26)","v":{"$error":"#N/A"}},{"$error":"#N/A"},{"$f":"IF(ISTEXT('S16'!$J$25),NA(),'S16'!$J$25)","v":{"$error":"#N/A"}},{"$error":"#N/A"},{"$f":"IF(ISTEXT('S16'!$J$24),NA(),'S16'!$J$24)","v":{"$error":"#N/A"}},{"$error":"#N/A"},{"$f":"IF(ISTEXT('S16'!$J$23),NA(),'S16'!$J$23)","v":{"$error":"#N/A"}},{"$error":"#N/A"},{"$f":"IF(ISTEXT('S16'!$J$22),NA(),'S16'!$J$22)","v":{"$error":"#N/A"}},{"$error":"#N/A"},{"$f":"IF(ISTEXT('S16'!$J$21),NA(),'S16'!$J$21)","v":{"$error":"#N/A"}},{"$error":"#N/A"},{"$f":"IF(ISTEXT('S16'!$J$20),NA(),'S16'!$J$20)","v":{"$error":"#N/A"}},{"$error":"#N/A"},{"$f":"IF(ISTEXT('S16'!$J$19),NA(),'S16'!$J$19)","v":{"$error":"#N/A"}},{"$error":"#N/A"},{"$f":"IF(ISTEXT('S16'!$J$18),NA(),'S16'!$J$18)","v":{"$error":"#N/A"}},{"$error":"#N/A"},{"$f":"IF(ISTEXT('S16'!$J$17),NA(),'S16'!$J$17)","v":{"$error":"#N/A"}},{"$error":"#N/A"},{"$f":"IF(ISTEXT('S16'!$J$16),NA(),'S16'!$J$16)","v":{"$error":"#N/A"}},{"$error":"#N/A"},{"$f":"IF(ISTEXT('S16'!$J$15),NA(),'S16'!$J$15)","v":{"$error":"#N/A"}},{"$error":"#N/A"},94]
[{"$f":"IF(ISBLANK('S16'!K9),\" \",('S16'!$K$9))","v":" "},{"$f":"IF(ISBLANK('S16'!$K$28),NA(),'S16'!$K$28)","v":{"$error":"#N/A"}},{"$error":"#N/A"},{"$f":"IF(ISTEXT('S16'!$L$27),NA(),'S16'!$L$27)","v":{"$error":"#N/A"}},{"$error":"#N/A"},{"$f":"IF(ISTEXT('S16'!$L$26),NA(),'S16'!$L$26)","v":{"$error":"#N/A"}},{"$error":"#N/A"},{"$f":"IF(ISTEXT('S16'!$L$25),NA(),'S16'!$L$25)","v":{"$error":"#N/A"}},{"$error":"#N/A"},{"$f":"IF(ISTEXT('S16'!$L$24),NA(),'S16'!$L$24)","v":{"$error":"#N/A"}},{"$error":"#N/A"},{"$f":"IF(ISTEXT('S16'!$L$23),NA(),'S16'!$L$23)","v":{"$error":"#N/A"}},{"$error":"#N/A"},{"$f":"IF(ISTEXT('S16'!$L$22),NA(),'S16'!$L$22)","v":{"$error":"#N/A"}},{"$error":"#N/A"},{"$f":"IF(ISTEXT('S16'!$L$21),NA(),'S16'!$L$21)","v":{"$error":"#N/A"}},{"$error":"#N/A"},{"$f":"IF(ISTEXT('S16'!$L$20),NA(),'S16'!$L$20)","v":{"$error":"#N/A"}},{"$error":"#N/A"},{"$f":"IF(ISTEXT('S16'!$L$19),NA(),'S16'!$L$19)","v":{"$error":"#N/A"}},{"$error":"#N/A"},{"$f":"IF(ISTEXT('S16'!$L$18),NA(),'S16'!$L$18)","v":{"$error":"#N/A"}},{"$error":"#N/A"},{"$f":"IF(ISTEXT('S16'!$L$17),NA(),'S16'!$L$17)","v":{"$error":"#N/A"}},{"$error":"#N/A"},{"$f":"IF(ISTEXT('S16'!$L$16),NA(),'S16'!$L$16)","v":{"$error":"#N/A"}},{"$error":"#N/A"},{"$f":"IF(ISTEXT('S16'!$L$15),NA(),'S16'!$L$15)","v":{"$error":"#N/A"}},{"$error":"#N/A"},95]
[{"$f":"IF(ISBLANK('S16'!M9),\" \",('S16'!$M$9))","v":" "},{"$f":"IF(ISBLANK('S16'!$M$28),NA(),'S16'!$M$28)","v":{"$error":"#N/A"}},{"$f":"ROUND(AVERAGE(B96:B100),1)","v":{"$error":"#N/A"}},{"$f":"IF(ISTEXT('S16'!$N$27),NA(),'S16'!$N$27)","v":{"$error":"#N/A"}},{"$f":"ROUND(AVERAGE(D96:D100),1)","v":{"$error":"#N/A"}},{"$f":"IF(ISTEXT('S16'!$N$26),NA(),'S16'!$N$26)","v":{"$error":"#N/A"}},{"$f":"ROUND(AVERAGE(F96:F100),0)","v":{"$error":"#N/A"}},{"$f":"IF(ISTEXT('S16'!$N$25),NA(),'S16'!$N$25)","v":{"$error":"#N/A"}},{"$f":"ROUND(AVERAGE(H96:H100),0)","v":{"$error":"#N/A"}},{"$f":"IF(ISTEXT('S16'!$N$24),NA(),'S16'!$N$24)","v":{"$error":"#N/A"}},{"$error":"#N/A"},{"$f":"IF(ISTEXT('S16'!$N$23),NA(),'S16'!$N$23)","v":{"$error":"#N/A"}},{"$error":"#N/A"},{"$f":"IF(ISTEXT('S16'!$N$22),NA(),'S16'!$N$22)","v":{"$error":"#N/A"}},{"$error":"#N/A"},{"$f":"IF(ISTEXT('S16'!$N$21),NA(),'S16'!$N$21)","v":{"$error":"#N/A"}},{"$error":"#N/A"},{"$f":"IF(ISTEXT('S16'!$N$20),NA(),'S16'!$N$20)","v":{"$error":"#N/A"}},{"$error":"#N/A"},{"$f":"IF(ISTEXT('S16'!$N$19),NA(),'S16'!$N$19)","v":{"$error":"#N/A"}},{"$error":"#N/A"},{"$f":"IF(ISTEXT('S16'!$N$18),NA(),'S16'!$N$18)","v":{"$error":"#N/A"}},{"$error":"#N/A"},{"$f":"IF(ISTEXT('S16'!$N$17),NA(),'S16'!$N$17)","v":{"$error":"#N/A"}},{"$error":"#N/A"},{"$f":"IF(ISTEXT('S16'!$N$16),NA(),'S16'!$N$16)","v":{"$error":"#N/A"}},{"$error":"#N/A"},{"$f":"IF(ISTEXT('S16'!$N$15),NA(),'S16'!$N$15)","v":{"$error":"#N/A"}},{"$error":"#N/A"},96]
[]
[]
[]
[]
[]
[]
[]
[]
[]
[]
[]
[]
[]
[]
[]
[]
[]
[]
[]
[]
["Values below are for legend"]
[null,"N=1 Top","N=5 Top","Top Action","Target","Lower Action","N=5 Lower","N=1 Top","N=1","N=5"]
[1,6.7,6.4,6.2,6,5.8,5.6,5.3,6.3,6.3]
[2,6.7,6.4,6.2,6,5.8,5.6,5.3,6.4,6.4]
[3,6.7,6.4,6.2,6,5.8,5.6,5.3,6,6.2]
[4,6.7,6.4,6.2,6,5.8,5.6,5.3,6.1,6.2]
[5,6.7,6.4,6.2,6,5.8,5.6,5.3,5.8,6.1]
[6,6.7,6.4,6.2,6,5.8,5.6,5.3,5.7,6]
[7,6.7,6.4,6.2,6,5.8,5.6,5.3,6,5.9]
[null,6.7,6.4,6.2,6,5.8,5.6,5.3]

{"sheet":"S18","index":22,"n_rows":101,"n_cols":15,"rows_kept":101,"cut":false,"hidden":true,"merged":[[0,0,0,14],[1,0,1,1],[1,2,1,3],[1,11,1,12],[1,13,1,14],[1,5,1,6],[1,7,1,8]]}
[{"$f":"'S1'!M3","v":0}]
["JMF",null,{"$f":"'S1'!M6","v":0},null,null,"Gyrations @ Ndes",null,{"$f":"IF(ISBLANK('S1'!M7),\" \",'S1'!M7)","v":" "},null,null,null,"Material Class",null,{"$f":"'S1'!C6","v":9.5}]
[]
["Samp #","AC",200,100,50,30,16,8,4,0.375,0.5,0.75,1,1.5,2]
[]
[1,{"$f":"IF(ISBLANK('S1'!C$28),\" \",'S1'!C$28)","v":" "},{"$f":"IF(ISBLANK('S1'!D$27),\" \",'S1'!D$27)","v":"  "},{"$f":"IF(ISBLANK('S1'!D$26),\" \",'S1'!D$26)","v":"  "},{"$f":"IF(ISBLANK('S1'!$D$25),\" \",'S1'!$D$25)","v":"  "},{"$f":"IF(ISBLANK('S1'!$D$24),\" \",'S1'!$D$24)","v":"  "},{"$f":"IF(ISBLANK('S1'!$D$23),\" \",'S1'!$D$23)","v":"  "},{"$f":"IF(ISBLANK('S1'!$D$22),\" \",'S1'!$D$22)","v":"  "},{"$f":"IF(ISBLANK('S1'!$D$21),\" \",'S1'!$D$21)","v":"  "},{"$f":"IF(ISBLANK('S1'!$D$20),\" \",'S1'!$D$20)","v":"  "},{"$f":"IF(ISBLANK('S1'!$D$19),\" \",'S1'!$D$19)","v":"  "},{"$f":"IF(ISBLANK('S1'!$D$18),\" \",'S1'!$D$18)","v":"  "},{"$f":"IF(ISBLANK('S1'!$D$17),\" \",'S1'!$D$17)","v":"  "},{"$f":"IF(ISBLANK('S1'!$D$16),\" \",'S1'!$D$16)","v":"  "},{"$f":"IF(ISBLANK('S1'!$D$15),\" \",'S1'!$D$15)","v":" "}]
[2,{"$f":"IF(ISBLANK('S1'!E$28),\" \",'S1'!E$28)","v":" "},{"$f":"IF(ISBLANK('S1'!F$27),\" \",'S1'!F$27)","v":"  "},{"$f":"IF(ISBLANK('S1'!$F26),\" \",'S1'!$F26)","v":"  "},{"$f":"IF(ISBLANK('S1'!$F$25),\" \",'S1'!$F$25)","v":"  "},{"$f":"IF(ISBLANK('S1'!$F$24),\" \",'S1'!$F$24)","v":"  "},{"$f":"IF(ISBLANK('S1'!$F$23),\" \",'S1'!$F$23)","v":"  "},{"$f":"IF(ISBLANK('S1'!$F$22),\" \",'S1'!$F$22)","v":"  "},{"$f":"IF(ISBLANK('S1'!$F$21),\" \",'S1'!$F$21)","v":"  "},{"$f":"IF(ISBLANK('S1'!$F$20),\" \",'S1'!$F$20)","v":"  "},{"$f":"IF(ISBLANK('S1'!$F$19),\" \",'S1'!$F$19)","v":"  "},{"$f":"IF(ISBLANK('S1'!$F$18),\" \",'S1'!$F$18)","v":"  "},{"$f":"IF(ISBLANK('S1'!$F$17),\" \",'S1'!$F$17)","v":"  "},{"$f":"IF(ISBLANK('S1'!$F$16),\" \",'S1'!$F$16)","v":"  "},{"$f":"IF(ISBLANK('S1'!$F$15),\" \",'S1'!$F$15)","v":" "}]
[3,{"$f":"IF(ISBLANK('S1'!G$28),\" \",'S1'!G$28)","v":" "},{"$f":"IF(ISBLANK('S1'!H$27),\" \",'S1'!H$27)","v":"  "},{"$f":"IF(ISBLANK('S1'!$H26),\" \",'S1'!$H26)","v":"  "},{"$f":"IF(ISBLANK('S1'!$H$25),\" \",'S1'!$H$25)","v":"  "},{"$f":"IF(ISBLANK('S1'!$H$24),\" \",'S1'!$H$24)","v":"  "},{"$f":"IF(ISBLANK('S1'!$H$23),\" \",'S1'!$H$23)","v":"  "},{"$f":"IF(ISBLANK('S1'!$H$22),\" \",'S1'!$H$22)","v":"  "},{"$f":"IF(ISBLANK('S1'!$H$21),\" \",'S1'!$H$21)","v":"  "},{"$f":"IF(ISBLANK('S1'!$H$20),\" \",'S1'!$H$20)","v":"  "},{"$f":"IF(ISBLANK('S1'!$H$19),\" \",'S1'!$H$19)","v":"  "},{"$f":"IF(ISBLANK('S1'!$H$18),\" \",'S1'!$H$18)","v":"  "},{"$f":"IF(ISBLANK('S1'!$H$17),\" \",'S1'!$H$17)","v":"  "},{"$f":"IF(ISBLANK('S1'!$H$16),\" \",'S1'!$H$16)","v":"  "},{"$f":"IF(ISBLANK('S1'!$H$15),\" \",'S1'!$H$15)","v":" "}]
[4,{"$f":"IF(ISBLANK('S1'!I$28),\" \",'S1'!I$28)","v":" "},{"$f":"IF(ISBLANK('S1'!J$27),\" \",'S1'!J$27)","v":"  "},{"$f":"IF(ISBLANK('S1'!$J26),\" \",'S1'!$J26)","v":"  "},{"$f":"IF(ISBLANK('S1'!$J$25),\" \",'S1'!$J$25)","v":"  "},{"$f":"IF(ISBLANK('S1'!$J$24),\" \",'S1'!$J$24)","v":"  "},{"$f":"IF(ISBLANK('S1'!$J$23),\" \",'S1'!$J$23)","v":"  "},{"$f":"IF(ISBLANK('S1'!$J$22),\" \",'S1'!$J$22)","v":"  "},{"$f":"IF(ISBLANK('S1'!$J$21),\" \",'S1'!$J$21)","v":"  "},{"$f":"IF(ISBLANK('S1'!$J$20),\" \",'S1'!$J$20)","v":"  "},{"$f":"IF(ISBLANK('S1'!$J$19),\" \",'S1'!$J$19)","v":"  "},{"$f":"IF(ISBLANK('S1'!$J$18),\" \",'S1'!$J$18)","v":"  "},{"$f":"IF(ISBLANK('S1'!$J$17),\" \",'S1'!$J$17)","v":"  "},{"$f":"IF(ISBLANK('S1'!$J$16),\" \",'S1'!$J$16)","v":"  "},{"$f":"IF(ISBLANK('S1'!$J$15),\" \",'S1'!$J$15)","v":" "}]
[5,{"$f":"IF(ISBLANK('S1'!K$28),\" \",'S1'!K$28)","v":" "},{"$f":"IF(ISBLANK('S1'!L$27),\" \",'S1'!L$27)","v":"  "},{"$f":"IF(ISBLANK('S1'!L$26),\" \",'S1'!L$26)","v":"  "},{"$f":"IF(ISBLANK('S1'!$L$25),\" \",'S1'!$L$25)","v":"  "},{"$f":"IF(ISBLANK('S1'!$L$24),\" \",'S1'!$L$24)","v":"  "},{"$f":"IF(ISBLANK('S1'!$L$23),\" \",'S1'!$L$23)","v":"  "},{"$f":"IF(ISBLANK('S1'!$L$22),\" \",'S1'!$L$22)","v":"  "},{"$f":"IF(ISBLANK('S1'!$L$21),\" \",'S1'!$L$21)","v":"  "},{"$f":"IF(ISBLANK('S1'!$L$20),\" \",'S1'!$L$20)","v":"  "},{"$f":"IF(ISBLANK('S1'!$L$19),\" \",'S1'!$L$19)","v":"  "},{"$f":"IF(ISBLANK('S1'!$L$18),\" \",'S1'!$L$18)","v":"  "},{"$f":"IF(ISBLANK('S1'!$L$17),\" \",'S1'!$L$17)","v":"  "},{"$f":"IF(ISBLANK('S1'!$L$16),\" \",'S1'!$L$16)","v":"  "},{"$f":"IF(ISBLANK('S1'!$L$15),\" \",'S1'!$L$15)","v":" "}]
[6,{"$f":"IF(ISBLANK('S1'!M$28),\" \",'S1'!M$28)","v":" "},{"$f":"IF(ISBLANK('S1'!N$27),\" \",'S1'!N$27)","v":"  "},{"$f":"IF(ISBLANK('S1'!N$26),\" \",'S1'!N$26)","v":"  "},{"$f":"IF(ISBLANK('S1'!$N$25),\" \",'S1'!$N$25)","v":"  "},{"$f":"IF(ISBLANK('S1'!$N$24),\" \",'S1'!$N$24)","v":"  "},{"$f":"IF(ISBLANK('S1'!$N$23),\" \",'S1'!$N$23)","v":"  "},{"$f":"IF(ISBLANK('S1'!$N$22),\" \",'S1'!$N$22)","v":"  "},{"$f":"IF(ISBLANK('S1'!$N$21),\" \",'S1'!$N$21)","v":"  "},{"$f":"IF(ISBLANK('S1'!$N$20),\" \",'S1'!$N$20)","v":"  "},{"$f":"IF(ISBLANK('S1'!$N$19),\" \",'S1'!$N$19)","v":"  "},{"$f":"IF(ISBLANK('S1'!$N$18),\" \",'S1'!$N$18)","v":"  "},{"$f":"IF(ISBLANK('S1'!$N$17),\" \",'S1'!$N$17)","v":"  "},{"$f":"IF(ISBLANK('S1'!$N$16),\" \",'S1'!$N$16)","v":"  "},{"$f":"IF(ISBLANK('S1'!$N$15),\" \",'S1'!$N$15)","v":" "}]
[7,{"$f":"IF(ISBLANK('S2'!C$28),\" \",'S2'!C$28)","v":" "},{"$f":"IF(ISBLANK('S2'!D$27),\" \",'S2'!D$27)","v":"  "},{"$f":"IF(ISBLANK('S2'!D$26),\" \",'S2'!D$26)","v":"  "},{"$f":"IF(ISBLANK('S2'!$D$25),\" \",'S2'!$D$25)","v":"  "},{"$f":"IF(ISBLANK('S2'!$D$24),\" \",'S2'!$D$24)","v":"  "},{"$f":"IF(ISBLANK('S2'!$D$23),\" \",'S2'!$D$23)","v":"  "},{"$f":"IF(ISBLANK('S2'!$D$22),\" \",'S2'!$D$22)","v":"  "},{"$f":"IF(ISBLANK('S2'!$D$21),\" \",'S2'!$D$21)","v":"  "},{"$f":"IF(ISBLANK('S2'!$D$20),\" \",'S2'!$D$20)","v":"  "},{"$f":"IF(ISBLANK('S2'!$D$19),\" \",'S2'!$D$19)","v":"  "},{"$f":"IF(ISBLANK('S2'!$D$18),\" \",'S2'!$D$18)","v":"  "},{"$f":"IF(ISBLANK('S2'!$D$17),\" \",'S2'!$D$17)","v":"  "},{"$f":"IF(ISBLANK('S2'!$D$16),\" \",'S2'!$D$16)","v":"  "},{"$f":"IF(ISBLANK('S2'!$D$15),\" \",'S2'!$D$15)","v":" "}]
[8,{"$f":"IF(ISBLANK('S2'!E$28),\" \",'S2'!E$28)","v":" "},{"$f":"IF(ISBLANK('S2'!F$27),\" \",'S2'!F$27)","v":"  "},{"$f":"IF(ISBLANK('S2'!F$26),\" \",'S2'!F$26)","v":"  "},{"$f":"IF(ISBLANK('S2'!$F$25),\" \",'S2'!$F$25)","v":"  "},{"$f":"IF(ISBLANK('S2'!$F$24),\" \",'S2'!$F$24)","v":"  "},{"$f":"IF(ISBLANK('S2'!$F$23),\" \",'S2'!$F$23)","v":"  "},{"$f":"IF(ISBLANK('S2'!$F$22),\" \",'S2'!$F$22)","v":"  "},{"$f":"IF(ISBLANK('S2'!$F$21),\" \",'S2'!$F$21)","v":"  "},{"$f":"IF(ISBLANK('S2'!$F$20),\" \",'S2'!$F$20)","v":"  "},{"$f":"IF(ISBLANK('S2'!$F$19),\" \",'S2'!$F$19)","v":"  "},{"$f":"IF(ISBLANK('S2'!$F$18),\" \",'S2'!$F$18)","v":"  "},{"$f":"IF(ISBLANK('S2'!$F$17),\" \",'S2'!$F$17)","v":"  "},{"$f":"IF(ISBLANK('S2'!$F$16),\" \",'S2'!$F$16)","v":"  "},{"$f":"IF(ISBLANK('S2'!$F$15),\" \",'S2'!$F$15)","v":" "}]
[9,{"$f":"IF(ISBLANK('S2'!G$28),\" \",'S2'!G$28)","v":" "},{"$f":"IF(ISBLANK('S2'!H$27),\" \",'S2'!H$27)","v":"  "},{"$f":"IF(ISBLANK('S2'!H$26),\" \",'S2'!H$26)","v":"  "},{"$f":"IF(ISBLANK('S2'!$H$25),\" \",'S2'!$H$25)","v":"  "},{"$f":"IF(ISBLANK('S2'!$H$24),\" \",'S2'!$H$24)","v":"  "},{"$f":"IF(ISBLANK('S2'!$H$23),\" \",'S2'!$H$23)","v":"  "},{"$f":"IF(ISBLANK('S2'!$H$22),\" \",'S2'!$H$22)","v":"  "},{"$f":"IF(ISBLANK('S2'!$H$21),\" \",'S2'!$H$21)","v":"  "},{"$f":"IF(ISBLANK('S2'!$H$20),\" \",'S2'!$H$20)","v":"  "},{"$f":"IF(ISBLANK('S2'!$H$19),\" \",'S2'!$H$19)","v":"  "},{"$f":"IF(ISBLANK('S2'!$H$18),\" \",'S2'!$H$18)","v":"  "},{"$f":"IF(ISBLANK('S2'!$H$17),\" \",'S2'!$H$17)","v":"  "},{"$f":"IF(ISBLANK('S2'!$H$16),\" \",'S2'!$H$16)","v":"  "},{"$f":"IF(ISBLANK('S2'!$H$15),\" \",'S2'!$H$15)","v":" "}]
[10,{"$f":"IF(ISBLANK('S2'!I$28),\" \",'S2'!I$28)","v":" "},{"$f":"IF(ISBLANK('S2'!J$27),\" \",'S2'!J$27)","v":"  "},{"$f":"IF(ISBLANK('S2'!J$26),\" \",'S2'!J$26)","v":"  "},{"$f":"IF(ISBLANK('S2'!$J$25),\" \",'S2'!$J$25)","v":"  "},{"$f":"IF(ISBLANK('S2'!$J$24),\" \",'S2'!$J$24)","v":"  "},{"$f":"IF(ISBLANK('S2'!$J$23),\" \",'S2'!$J$23)","v":"  "},{"$f":"IF(ISBLANK('S2'!$J$22),\" \",'S2'!$J$22)","v":"  "},{"$f":"IF(ISBLANK('S2'!$J$21),\" \",'S2'!$J$21)","v":"  "},{"$f":"IF(ISBLANK('S2'!$J$20),\" \",'S2'!$J$20)","v":"  "},{"$f":"IF(ISBLANK('S2'!$J$19),\" \",'S2'!$J$19)","v":"  "},{"$f":"IF(ISBLANK('S2'!$J$18),\" \",'S2'!$J$18)","v":"  "},{"$f":"IF(ISBLANK('S2'!$J$17),\" \",'S2'!$J$17)","v":"  "},{"$f":"IF(ISBLANK('S2'!$J$16),\" \",'S2'!$J$16)","v":"  "},{"$f":"IF(ISBLANK('S2'!$J$15),\" \",'S2'!$J$15)","v":" "}]
[11,{"$f":"IF(ISBLANK('S2'!K$28),\" \",'S2'!K$28)","v":" "},{"$f":"IF(ISBLANK('S2'!L$27),\" \",'S2'!L$27)","v":"  "},{"$f":"IF(ISBLANK('S2'!L$26),\" \",'S2'!L$26)","v":"  "},{"$f":"IF(ISBLANK('S2'!$L$25),\" \",'S2'!$L$25)","v":"  "},{"$f":"IF(ISBLANK('S2'!$L$24),\" \",'S2'!$L$24)","v":"  "},{"$f":"IF(ISBLANK('S2'!$L$23),\" \",'S2'!$L$23)","v":"  "},{"$f":"IF(ISBLANK('S2'!$L$22),\" \",'S2'!$L$22)","v":"  "},{"$f":"IF(ISBLANK('S2'!$L$21),\" \",'S2'!$L$21)","v":"  "},{"$f":"IF(ISBLANK('S2'!$L$20),\" \",'S2'!$L$20)","v":"  "},{"$f":"IF(ISBLANK('S2'!$L$19),\" \",'S2'!$L$19)","v":"  "},{"$f":"IF(ISBLANK('S2'!$L$18),\" \",'S2'!$L$18)","v":"  "},{"$f":"IF(ISBLANK('S2'!$L$17),\" \",'S2'!$L$17)","v":"  "},{"$f":"IF(ISBLANK('S2'!$L$16),\" \",'S2'!$L$16)","v":"  "},{"$f":"IF(ISBLANK('S2'!$L$15),\" \",'S2'!$L$15)","v":" "}]
[12,{"$f":"IF(ISBLANK('S2'!M$28),\" \",'S2'!M$28)","v":" "},{"$f":"IF(ISBLANK('S2'!N$27),\" \",'S2'!N$27)","v":"  "},{"$f":"IF(ISBLANK('S2'!N$26),\" \",'S2'!N$26)","v":"  "},{"$f":"IF(ISBLANK('S2'!$N$25),\" \",'S2'!$N$25)","v":"  "},{"$f":"IF(ISBLANK('S2'!$N$24),\" \",'S2'!$N$24)","v":"  "},{"$f":"IF(ISBLANK('S2'!$N$23),\" \",'S2'!$N$23)","v":"  "},{"$f":"IF(ISBLANK('S2'!$N$22),\" \",'S2'!$N$22)","v":"  "},{"$f":"IF(ISBLANK('S2'!$N$21),\" \",'S2'!$N$21)","v":"  "},{"$f":"IF(ISBLANK('S2'!$N$20),\" \",'S2'!$N$20)","v":"  "},{"$f":"IF(ISBLANK('S2'!$N$19),\" \",'S2'!$N$19)","v":"  "},{"$f":"IF(ISBLANK('S2'!$N$18),\" \",'S2'!$N$18)","v":"  "},{"$f":"IF(ISBLANK('S2'!$N$17),\" \",'S2'!$N$17)","v":"  "},{"$f":"IF(ISBLANK('S2'!$N$16),\" \",'S2'!$N$16)","v":"  "},{"$f":"IF(ISBLANK('S2'!$N$15),\" \",'S2'!$N$15)","v":" "}]
[13,{"$f":"IF(ISBLANK('S3'!C$28),\" \",'S3'!C$28)","v":" "},{"$f":"IF(ISBLANK('S3'!D$27),\" \",'S3'!D$27)","v":"  "},{"$f":"IF(ISBLANK('S3'!D$26),\" \",'S3'!D$26)","v":"  "},{"$f":"IF(ISBLANK('S3'!$D$25),\" \",'S3'!$D$25)","v":"  "},{"$f":"IF(ISBLANK('S3'!$D$24),\" \",'S3'!$D$24)","v":"  "},{"$f":"IF(ISBLANK('S3'!$D$23),\" \",'S3'!$D$23)","v":"  "},{"$f":"IF(ISBLANK('S3'!$D$22),\" \",'S3'!$D$22)","v":"  "},{"$f":"IF(ISBLANK('S3'!$D$21),\" \",'S3'!$D$21)","v":"  "},{"$f":"IF(ISBLANK('S3'!$D$20),\" \",'S3'!$D$20)","v":"  "},{"$f":"IF(ISBLANK('S3'!$D$19),\" \",'S3'!$D$19)","v":"  "},{"$f":"IF(ISBLANK('S3'!$D$18),\" \",'S3'!$D$18)","v":"  "},{"$f":"IF(ISBLANK('S3'!$D$17),\" \",'S3'!$D$17)","v":"  "},{"$f":"IF(ISBLANK('S3'!$D$16),\" \",'S3'!$D$16)","v":"  "},{"$f":"IF(ISBLANK('S3'!$D$15),\" \",'S3'!$D$15)","v":" "}]
[14,{"$f":"IF(ISBLANK('S3'!E$28),\" \",'S3'!E$28)","v":" "},{"$f":"IF(ISBLANK('S3'!F$27),\" \",'S3'!F$27)","v":"  "},{"$f":"IF(ISBLANK('S3'!F$26),\" \",'S3'!F$26)","v":"  "},{"$f":"IF(ISBLANK('S3'!$F$25),\" \",'S3'!$F$25)","v":"  "},{"$f":"IF(ISBLANK('S3'!$F$24),\" \",'S3'!$F$24)","v":"  "},{"$f":"IF(ISBLANK('S3'!$F$23),\" \",'S3'!$F$23)","v":"  "},{"$f":"IF(ISBLANK('S3'!$F$22),\" \",'S3'!$F$22)","v":"  "},{"$f":"IF(ISBLANK('S3'!$F$21),\" \",'S3'!$F$21)","v":"  "},{"$f":"IF(ISBLANK('S3'!$F$20),\" \",'S3'!$F$20)","v":"  "},{"$f":"IF(ISBLANK('S3'!$F$19),\" \",'S3'!$F$19)","v":"  "},{"$f":"IF(ISBLANK('S3'!$F$18),\" \",'S3'!$F$18)","v":"  "},{"$f":"IF(ISBLANK('S3'!$F$17),\" \",'S3'!$F$17)","v":"  "},{"$f":"IF(ISBLANK('S3'!$F$16),\" \",'S3'!$F$16)","v":"  "},{"$f":"IF(ISBLANK('S3'!$F$15),\" \",'S3'!$F$15)","v":" "}]
[15,{"$f":"IF(ISBLANK('S3'!G$28),\" \",'S3'!G$28)","v":" "},{"$f":"IF(ISBLANK('S3'!H$27),\" \",'S3'!H$27)","v":"  "},{"$f":"IF(ISBLANK('S3'!H$26),\" \",'S3'!H$26)","v":"  "},{"$f":"IF(ISBLANK('S3'!$H$25),\" \",'S3'!$H$25)","v":"  "},{"$f":"IF(ISBLANK('S3'!$H$24),\" \",'S3'!$H$24)","v":"  "},{"$f":"IF(ISBLANK('S3'!$H$23),\" \",'S3'!$H$23)","v":"  "},{"$f":"IF(ISBLANK('S3'!$H$22),\" \",'S3'!$H$22)","v":"  "},{"$f":"IF(ISBLANK('S3'!$H$21),\" \",'S3'!$H$21)","v":"  "},{"$f":"IF(ISBLANK('S3'!$H$20),\" \",'S3'!$H$20)","v":"  "},{"$f":"IF(ISBLANK('S3'!$H$19),\" \",'S3'!$H$19)","v":"  "},{"$f":"IF(ISBLANK('S3'!$H$18),\" \",'S3'!$H$18)","v":"  "},{"$f":"IF(ISBLANK('S3'!$H$17),\" \",'S3'!$H$17)","v":"  "},{"$f":"IF(ISBLANK('S3'!$H$16),\" \",'S3'!$H$16)","v":"  "},{"$f":"IF(ISBLANK('S3'!$H$15),\" \",'S3'!$H$15)","v":" "}]
[16,{"$f":"IF(ISBLANK('S3'!I$28),\" \",'S3'!I$28)","v":" "},{"$f":"IF(ISBLANK('S3'!J$27),\" \",'S3'!J$27)","v":"  "},{"$f":"IF(ISBLANK('S3'!J$26),\" \",'S3'!J$26)","v":"  "},{"$f":"IF(ISBLANK('S3'!$J$25),\" \",'S3'!$J$25)","v":"  "},{"$f":"IF(ISBLANK('S3'!$J$24),\" \",'S3'!$J$24)","v":"  "},{"$f":"IF(ISBLANK('S3'!$J$23),\" \",'S3'!$J$23)","v":"  "},{"$f":"IF(ISBLANK('S3'!$J$22),\" \",'S3'!$J$22)","v":"  "},{"$f":"IF(ISBLANK('S3'!$J$21),\" \",'S3'!$J$21)","v":"  "},{"$f":"IF(ISBLANK('S3'!$J$20),\" \",'S3'!$J$20)","v":"  "},{"$f":"IF(ISBLANK('S3'!$J$19),\" \",'S3'!$J$19)","v":"  "},{"$f":"IF(ISBLANK('S3'!$J$18),\" \",'S3'!$J$18)","v":"  "},{"$f":"IF(ISBLANK('S3'!$J$17),\" \",'S3'!$J$17)","v":"  "},{"$f":"IF(ISBLANK('S3'!$J$16),\" \",'S3'!$J$16)","v":"  "},{"$f":"IF(ISBLANK('S3'!$J$15),\" \",'S3'!$J$15)","v":" "}]
[17,{"$f":"IF(ISBLANK('S3'!K$28),\" \",'S3'!K$28)","v":" "},{"$f":"IF(ISBLANK('S3'!L$27),\" \",'S3'!L$27)","v":"  "},{"$f":"IF(ISBLANK('S3'!L$26),\" \",'S3'!L$26)","v":"  "},{"$f":"IF(ISBLANK('S3'!$L$25),\" \",'S3'!$L$25)","v":"  "},{"$f":"IF(ISBLANK('S3'!$L$24),\" \",'S3'!$L$24)","v":"  "},{"$f":"IF(ISBLANK('S3'!$L$23),\" \",'S3'!$L$23)","v":"  "},{"$f":"IF(ISBLANK('S3'!$L$22),\" \",'S3'!$L$22)","v":"  "},{"$f":"IF(ISBLANK('S3'!$L$21),\" \",'S3'!$L$21)","v":"  "},{"$f":"IF(ISBLANK('S3'!$L$20),\" \",'S3'!$L$20)","v":"  "},{"$f":"IF(ISBLANK('S3'!$L$19),\" \",'S3'!$L$19)","v":"  "},{"$f":"IF(ISBLANK('S3'!$L$18),\" \",'S3'!$L$18)","v":"  "},{"$f":"IF(ISBLANK('S3'!$L$17),\" \",'S3'!$L$17)","v":"  "},{"$f":"IF(ISBLANK('S3'!$L$16),\" \",'S3'!$L$16)","v":"  "},{"$f":"IF(ISBLANK('S3'!$L$15),\" \",'S3'!$L$15)","v":" "}]
[18,{"$f":"IF(ISBLANK('S3'!M$28),\" \",'S3'!M$28)","v":" "},{"$f":"IF(ISBLANK('S3'!N$27),\" \",'S3'!N$27)","v":"  "},{"$f":"IF(ISBLANK('S3'!N$26),\" \",'S3'!N$26)","v":"  "},{"$f":"IF(ISBLANK('S3'!$N$25),\" \",'S3'!$N$25)","v":"  "},{"$f":"IF(ISBLANK('S3'!$N$24),\" \",'S3'!$N$24)","v":"  "},{"$f":"IF(ISBLANK('S3'!$N$23),\" \",'S3'!$N$23)","v":"  "},{"$f":"IF(ISBLANK('S3'!$N$22),\" \",'S3'!$N$22)","v":"  "},{"$f":"IF(ISBLANK('S3'!$N$21),\" \",'S3'!$N$21)","v":"  "},{"$f":"IF(ISBLANK('S3'!$N$20),\" \",'S3'!$N$20)","v":"  "},{"$f":"IF(ISBLANK('S3'!$N$19),\" \",'S3'!$N$19)","v":"  "},{"$f":"IF(ISBLANK('S3'!$N$18),\" \",'S3'!$N$18)","v":"  "},{"$f":"IF(ISBLANK('S3'!$N$17),\" \",'S3'!$N$17)","v":"  "},{"$f":"IF(ISBLANK('S3'!$N$16),\" \",'S3'!$N$16)","v":"  "},{"$f":"IF(ISBLANK('S3'!$N$15),\" \",'S3'!$N$15)","v":" "}]
[19,{"$f":"IF(ISBLANK('S4'!C$28),\" \",'S4'!C$28)","v":" "},{"$f":"IF(ISBLANK('S4'!D$27),\" \",'S4'!D$27)","v":"  "},{"$f":"IF(ISBLANK('S4'!D$26),\" \",'S4'!D$26)","v":"  "},{"$f":"IF(ISBLANK('S4'!$D$25),\" \",'S4'!$D$25)","v":"  "},{"$f":"IF(ISBLANK('S4'!$D$24),\" \",'S4'!$D$24)","v":"  "},{"$f":"IF(ISBLANK('S4'!$D$23),\" \",'S4'!$D$23)","v":"  "},{"$f":"IF(ISBLANK('S4'!$D$22),\" \",'S4'!$D$22)","v":"  "},{"$f":"IF(ISBLANK('S4'!$D$21),\" \",'S4'!$D$21)","v":"  "},{"$f":"IF(ISBLANK('S4'!$D$20),\" \",'S4'!$D$20)","v":"  "},{"$f":"IF(ISBLANK('S4'!$D$19),\" \",'S4'!$D$19)","v":"  "},{"$f":"IF(ISBLANK('S4'!$D$18),\" \",'S4'!$D$18)","v":"  "},{"$f":"IF(ISBLANK('S4'!$D$17),\" \",'S4'!$D$17)","v":"  "},{"$f":"IF(ISBLANK('S4'!$D$16),\" \",'S4'!$D$16)","v":"  "},{"$f":"IF(ISBLANK('S4'!$D$15),\" \",'S4'!$D$15)","v":" "}]
[20,{"$f":"IF(ISBLANK('S4'!E$28),\" \",'S4'!E$28)","v":" "},{"$f":"IF(ISBLANK('S4'!F$27),\" \",'S4'!F$27)","v":"  "},{"$f":"IF(ISBLANK('S4'!F$26),\" \",'S4'!F$26)","v":"  "},{"$f":"IF(ISBLANK('S4'!$F$25),\" \",'S4'!$F$25)","v":"  "},{"$f":"IF(ISBLANK('S4'!$F$24),\" \",'S4'!$F$24)","v":"  "},{"$f":"IF(ISBLANK('S4'!$F$23),\" \",'S4'!$F$23)","v":"  "},{"$f":"IF(ISBLANK('S4'!$F$22),\" \",'S4'!$F$22)","v":"  "},{"$f":"IF(ISBLANK('S4'!$F$21),\" \",'S4'!$F$21)","v":"  "},{"$f":"IF(ISBLANK('S4'!$F$20),\" \",'S4'!$F$20)","v":"  "},{"$f":"IF(ISBLANK('S4'!$F$19),\" \",'S4'!$F$19)","v":"  "},{"$f":"IF(ISBLANK('S4'!$F$18),\" \",'S4'!$F$18)","v":"  "},{"$f":"IF(ISBLANK('S4'!$F$17),\" \",'S4'!$F$17)","v":"  "},{"$f":"IF(ISBLANK('S4'!$F$16),\" \",'S4'!$F$16)","v":"  "},{"$f":"IF(ISBLANK('S4'!$F$15),\" \",'S4'!$F$15)","v":" "}]
[21,{"$f":"IF(ISBLANK('S4'!G$28),\" \",'S4'!G$28)","v":" "},{"$f":"IF(ISBLANK('S4'!H$27),\" \",'S4'!H$27)","v":"  "},{"$f":"IF(ISBLANK('S4'!H$26),\" \",'S4'!H$26)","v":"  "},{"$f":"IF(ISBLANK('S4'!$H$25),\" \",'S4'!$H$25)","v":"  "},{"$f":"IF(ISBLANK('S4'!$H$24),\" \",'S4'!$H$24)","v":"  "},{"$f":"IF(ISBLANK('S4'!$H$23),\" \",'S4'!$H$23)","v":"  "},{"$f":"IF(ISBLANK('S4'!$H$22),\" \",'S4'!$H$22)","v":"  "},{"$f":"IF(ISBLANK('S4'!$H$21),\" \",'S4'!$H$21)","v":"  "},{"$f":"IF(ISBLANK('S4'!$H$20),\" \",'S4'!$H$20)","v":"  "},{"$f":"IF(ISBLANK('S4'!$H$19),\" \",'S4'!$H$19)","v":"  "},{"$f":"IF(ISBLANK('S4'!$H$18),\" \",'S4'!$H$18)","v":"  "},{"$f":"IF(ISBLANK('S4'!$H$17),\" \",'S4'!$H$17)","v":"  "},{"$f":"IF(ISBLANK('S4'!$H$16),\" \",'S4'!$H$16)","v":"  "},{"$f":"IF(ISBLANK('S4'!$H$15),\" \",'S4'!$H$15)","v":" "}]
[22,{"$f":"IF(ISBLANK('S4'!I$28),\" \",'S4'!I$28)","v":" "},{"$f":"IF(ISBLANK('S4'!J$27),\" \",'S4'!J$27)","v":"  "},{"$f":"IF(ISBLANK('S4'!J$26),\" \",'S4'!J$26)","v":"  "},{"$f":"IF(ISBLANK('S4'!$J$25),\" \",'S4'!$J$25)","v":"  "},{"$f":"IF(ISBLANK('S4'!$J$24),\" \",'S4'!$J$24)","v":"  "},{"$f":"IF(ISBLANK('S4'!$J$23),\" \",'S4'!$J$23)","v":"  "},{"$f":"IF(ISBLANK('S4'!$J$22),\" \",'S4'!$J$22)","v":"  "},{"$f":"IF(ISBLANK('S4'!$J$21),\" \",'S4'!$J$21)","v":"  "},{"$f":"IF(ISBLANK('S4'!$J$20),\" \",'S4'!$J$20)","v":"  "},{"$f":"IF(ISBLANK('S4'!$J$19),\" \",'S4'!$J$19)","v":"  "},{"$f":"IF(ISBLANK('S4'!$J$18),\" \",'S4'!$J$18)","v":"  "},{"$f":"IF(ISBLANK('S4'!$J$17),\" \",'S4'!$J$17)","v":"  "},{"$f":"IF(ISBLANK('S4'!$J$16),\" \",'S4'!$J$16)","v":"  "},{"$f":"IF(ISBLANK('S4'!$J$15),\" \",'S4'!$J$15)","v":" "}]
[23,{"$f":"IF(ISBLANK('S4'!K$28),\" \",'S4'!K$28)","v":" "},{"$f":"IF(ISBLANK('S4'!L$27),\" \",'S4'!L$27)","v":"  "},{"$f":"IF(ISBLANK('S4'!L$26),\" \",'S4'!L$26)","v":"  "},{"$f":"IF(ISBLANK('S4'!$L$25),\" \",'S4'!$L$25)","v":"  "},{"$f":"IF(ISBLANK('S4'!$L$24),\" \",'S4'!$L$24)","v":"  "},{"$f":"IF(ISBLANK('S4'!$L$23),\" \",'S4'!$L$23)","v":"  "},{"$f":"IF(ISBLANK('S4'!$L$22),\" \",'S4'!$L$22)","v":"  "},{"$f":"IF(ISBLANK('S4'!$L$21),\" \",'S4'!$L$21)","v":"  "},{"$f":"IF(ISBLANK('S4'!$L$20),\" \",'S4'!$L$20)","v":"  "},{"$f":"IF(ISBLANK('S4'!$L$19),\" \",'S4'!$L$19)","v":"  "},{"$f":"IF(ISBLANK('S4'!$L$18),\" \",'S4'!$L$18)","v":"  "},{"$f":"IF(ISBLANK('S4'!$L$17),\" \",'S4'!$L$17)","v":"  "},{"$f":"IF(ISBLANK('S4'!$L$16),\" \",'S4'!$L$16)","v":"  "},{"$f":"IF(ISBLANK('S4'!$L$15),\" \",'S4'!$L$15)","v":" "}]
[24,{"$f":"IF(ISBLANK('S4'!M$28),\" \",'S4'!M$28)","v":" "},{"$f":"IF(ISBLANK('S4'!N$27),\" \",'S4'!N$27)","v":"  "},{"$f":"IF(ISBLANK('S4'!N$26),\" \",'S4'!N$26)","v":"  "},{"$f":"IF(ISBLANK('S4'!$N$25),\" \",'S4'!$N$25)","v":"  "},{"$f":"IF(ISBLANK('S4'!$N$24),\" \",'S4'!$N$24)","v":"  "},{"$f":"IF(ISBLANK('S4'!$N$23),\" \",'S4'!$N$23)","v":"  "},{"$f":"IF(ISBLANK('S4'!$N$22),\" \",'S4'!$N$22)","v":"  "},{"$f":"IF(ISBLANK('S4'!$N$21),\" \",'S4'!$N$21)","v":"  "},{"$f":"IF(ISBLANK('S4'!$N$20),\" \",'S4'!$N$20)","v":"  "},{"$f":"IF(ISBLANK('S4'!$N$19),\" \",'S4'!$N$19)","v":"  "},{"$f":"IF(ISBLANK('S4'!$N$18),\" \",'S4'!$N$18)","v":"  "},{"$f":"IF(ISBLANK('S4'!$N$17),\" \",'S4'!$N$17)","v":"  "},{"$f":"IF(ISBLANK('S4'!$N$16),\" \",'S4'!$N$16)","v":"  "},{"$f":"IF(ISBLANK('S4'!$N$15),\" \",'S4'!$N$15)","v":" "}]
[25,{"$f":"IF(ISBLANK('S5'!C$28),\" \",'S5'!C$28)","v":" "},{"$f":"IF(ISBLANK('S5'!D$27),\" \",'S5'!D$27)","v":"  "},{"$f":"IF(ISBLANK('S5'!D$26),\" \",'S5'!D$26)","v":"  "},{"$f":"IF(ISBLANK('S5'!$D$25),\" \",'S5'!$D$25)","v":"  "},{"$f":"IF(ISBLANK('S5'!$D$24),\" \",'S5'!$D$24)","v":"  "},{"$f":"IF(ISBLANK('S5'!$D$23),\" \",'S5'!$D$23)","v":"  "},{"$f":"IF(ISBLANK('S5'!$D$22),\" \",'S5'!$D$22)","v":"  "},{"$f":"IF(ISBLANK('S5'!$D$21),\" \",'S5'!$D$21)","v":"  "},{"$f":"IF(ISBLANK('S5'!$D$20),\" \",'S5'!$D$20)","v":"  "},{"$f":"IF(ISBLANK('S5'!$D$19),\" \",'S5'!$D$19)","v":"  "},{"$f":"IF(ISBLANK('S5'!$D$18),\" \",'S5'!$D$18)","v":"  "},{"$f":"IF(ISBLANK('S5'!$D$17),\" \",'S5'!$D$17)","v":"  "},{"$f":"IF(ISBLANK('S5'!$D$16),\" \",'S5'!$D$16)","v":"  "},{"$f":"IF(ISBLANK('S5'!$D$15),\" \",'S5'!$D$15)","v":" "}]
[26,{"$f":"IF(ISBLANK('S5'!E$28),\" \",'S5'!E$28)","v":" "},{"$f":"IF(ISBLANK('S5'!F$27),\" \",'S5'!F$27)","v":"  "},{"$f":"IF(ISBLANK('S5'!F$26),\" \",'S5'!F$26)","v":"  "},{"$f":"IF(ISBLANK('S5'!$F$25),\" \",'S5'!$F$25)","v":"  "},{"$f":"IF(ISBLANK('S5'!$F$24),\" \",'S5'!$F$24)","v":"  "},{"$f":"IF(ISBLANK('S5'!$F$23),\" \",'S5'!$F$23)","v":"  "},{"$f":"IF(ISBLANK('S5'!$F$22),\" \",'S5'!$F$22)","v":"  "},{"$f":"IF(ISBLANK('S5'!$F$21),\" \",'S5'!$F$21)","v":"  "},{"$f":"IF(ISBLANK('S5'!$F$20),\" \",'S5'!$F$20)","v":"  "},{"$f":"IF(ISBLANK('S5'!$F$19),\" \",'S5'!$F$19)","v":"  "},{"$f":"IF(ISBLANK('S5'!$F$18),\" \",'S5'!$F$18)","v":"  "},{"$f":"IF(ISBLANK('S5'!$F$17),\" \",'S5'!$F$17)","v":"  "},{"$f":"IF(ISBLANK('S5'!$F$16),\" \",'S5'!$F$16)","v":"  "},{"$f":"IF(ISBLANK('S5'!$F$15),\" \",'S5'!$F$15)","v":" "}]
[27,{"$f":"IF(ISBLANK('S5'!G$28),\" \",'S5'!G$28)","v":" "},{"$f":"IF(ISBLANK('S5'!H$27),\" \",'S5'!H$27)","v":"  "},{"$f":"IF(ISBLANK('S5'!H$26),\" \",'S5'!H$26)","v":"  "},{"$f":"IF(ISBLANK('S5'!$H$25),\" \",'S5'!$H$25)","v":"  "},{"$f":"IF(ISBLANK('S5'!$H$24),\" \",'S5'!$H$24)","v":"  "},{"$f":"IF(ISBLANK('S5'!$H$23),\" \",'S5'!$H$23)","v":"  "},{"$f":"IF(ISBLANK('S5'!$H$22),\" \",'S5'!$H$22)","v":"  "},{"$f":"IF(ISBLANK('S5'!$H$21),\" \",'S5'!$H$21)","v":"  "},{"$f":"IF(ISBLANK('S5'!$H$20),\" \",'S5'!$H$20)","v":"  "},{"$f":"IF(ISBLANK('S5'!$H$19),\" \",'S5'!$H$19)","v":"  "},{"$f":"IF(ISBLANK('S5'!$H$18),\" \",'S5'!$H$18)","v":"  "},{"$f":"IF(ISBLANK('S5'!$H$17),\" \",'S5'!$H$17)","v":"  "},{"$f":"IF(ISBLANK('S5'!$H$16),\" \",'S5'!$H$16)","v":"  "},{"$f":"IF(ISBLANK('S5'!$H$15),\" \",'S5'!$H$15)","v":" "}]
[28,{"$f":"IF(ISBLANK('S5'!I$28),\" \",'S5'!I$28)","v":" "},{"$f":"IF(ISBLANK('S5'!J$27),\" \",'S5'!J$27)","v":"  "},{"$f":"IF(ISBLANK('S5'!J$26),\" \",'S5'!J$26)","v":"  "},{"$f":"IF(ISBLANK('S5'!$J$25),\" \",'S5'!$J$25)","v":"  "},{"$f":"IF(ISBLANK('S5'!$J$24),\" \",'S5'!$J$24)","v":"  "},{"$f":"IF(ISBLANK('S5'!$J$23),\" \",'S5'!$J$23)","v":"  "},{"$f":"IF(ISBLANK('S5'!$J$22),\" \",'S5'!$J$22)","v":"  "},{"$f":"IF(ISBLANK('S5'!$J$21),\" \",'S5'!$J$21)","v":"  "},{"$f":"IF(ISBLANK('S5'!$J$20),\" \",'S5'!$J$20)","v":"  "},{"$f":"IF(ISBLANK('S5'!$J$19),\" \",'S5'!$J$19)","v":"  "},{"$f":"IF(ISBLANK('S5'!$J$18),\" \",'S5'!$J$18)","v":"  "},{"$f":"IF(ISBLANK('S5'!$J$17),\" \",'S5'!$J$17)","v":"  "},{"$f":"IF(ISBLANK('S5'!$J$16),\" \",'S5'!$J$16)","v":"  "},{"$f":"IF(ISBLANK('S5'!$J$15),\" \",'S5'!$J$15)","v":" "}]
[29,{"$f":"IF(ISBLANK('S5'!K$28),\" \",'S5'!K$28)","v":" "},{"$f":"IF(ISBLANK('S5'!L$27),\" \",'S5'!L$27)","v":"  "},{"$f":"IF(ISBLANK('S5'!L$26),\" \",'S5'!L$26)","v":"  "},{"$f":"IF(ISBLANK('S5'!$L$25),\" \",'S5'!$L$25)","v":"  "},{"$f":"IF(ISBLANK('S5'!$L$24),\" \",'S5'!$L$24)","v":"  "},{"$f":"IF(ISBLANK('S5'!$L$23),\" \",'S5'!$L$23)","v":"  "},{"$f":"IF(ISBLANK('S5'!$L$22),\" \",'S5'!$L$22)","v":"  "},{"$f":"IF(ISBLANK('S5'!$L$21),\" \",'S5'!$L$21)","v":"  "},{"$f":"IF(ISBLANK('S5'!$L$20),\" \",'S5'!$L$20)","v":"  "},{"$f":"IF(ISBLANK('S5'!$L$19),\" \",'S5'!$L$19)","v":"  "},{"$f":"IF(ISBLANK('S5'!$L$18),\" \",'S5'!$L$18)","v":"  "},{"$f":"IF(ISBLANK('S5'!$L$17),\" \",'S5'!$L$17)","v":"  "},{"$f":"IF(ISBLANK('S5'!$L$16),\" \",'S5'!$L$16)","v":"  "},{"$f":"IF(ISBLANK('S5'!$L$15),\" \",'S5'!$L$15)","v":" "}]
[30,{"$f":"IF(ISBLANK('S5'!M$28),\" \",'S5'!M$28)","v":" "},{"$f":"IF(ISBLANK('S5'!N$27),\" \",'S5'!N$27)","v":"  "},{"$f":"IF(ISBLANK('S5'!N$26),\" \",'S5'!N$26)","v":"  "},{"$f":"IF(ISBLANK('S5'!$N$25),\" \",'S5'!$N$25)","v":"  "},{"$f":"IF(ISBLANK('S5'!$N$24),\" \",'S5'!$N$24)","v":"  "},{"$f":"IF(ISBLANK('S5'!$N$23),\" \",'S5'!$N$23)","v":"  "},{"$f":"IF(ISBLANK('S5'!$N$22),\" \",'S5'!$N$22)","v":"  "},{"$f":"IF(ISBLANK('S5'!$N$21),\" \",'S5'!$N$21)","v":"  "},{"$f":"IF(ISBLANK('S5'!$N$20),\" \",'S5'!$N$20)","v":"  "},{"$f":"IF(ISBLANK('S5'!$N$19),\" \",'S5'!$N$19)","v":"  "},{"$f":"IF(ISBLANK('S5'!$N$18),\" \",'S5'!$N$18)","v":"  "},{"$f":"IF(ISBLANK('S5'!$N$17),\" \",'S5'!$N$17)","v":"  "},{"$f":"IF(ISBLANK('S5'!$N$16),\" \",'S5'!$N$16)","v":"  "},{"$f":"IF(ISBLANK('S5'!$N$15),\" \",'S5'!$N$15)","v":" "}]
[31,{"$f":"IF(ISBLANK('S6'!C$28),\" \",'S6'!C$28)","v":" "},{"$f":"IF(ISBLANK('S6'!D$27),\" \",'S6'!D$27)","v":"  "},{"$f":"IF(ISBLANK('S6'!D$26),\" \",'S6'!D$26)","v":"  "},{"$f":"IF(ISBLANK('S6'!$D$25),\" \",'S6'!$D$25)","v":"  "},{"$f":"IF(ISBLANK('S6'!$D$24),\" \",'S6'!$D$24)","v":"  "},{"$f":"IF(ISBLANK('S6'!$D$23),\" \",'S6'!$D$23)","v":"  "},{"$f":"IF(ISBLANK('S6'!$D$22),\" \",'S6'!$D$22)","v":"  "},{"$f":"IF(ISBLANK('S6'!$D$21),\" \",'S6'!$D$21)","v":"  "},{"$f":"IF(ISBLANK('S6'!$D$20),\" \",'S6'!$D$20)","v":"  "},{"$f":"IF(ISBLANK('S6'!$D$19),\" \",'S6'!$D$19)","v":"  "},{"$f":"IF(ISBLANK('S6'!$D$18),\" \",'S6'!$D$18)","v":"  "},{"$f":"IF(ISBLANK('S6'!$D$17),\" \",'S6'!$D$17)","v":"  "},{"$f":"IF(ISBLANK('S6'!$D$16),\" \",'S6'!$D$16)","v":"  "},{"$f":"IF(ISBLANK('S6'!$D$15),\" \",'S6'!$D$15)","v":" "}]
[32,{"$f":"IF(ISBLANK('S6'!E$28),\" \",'S6'!E$28)","v":" "},{"$f":"IF(ISBLANK('S6'!F$27),\" \",'S6'!F$27)","v":"  "},{"$f":"IF(ISBLANK('S6'!F$26),\" \",'S6'!F$26)","v":"  "},{"$f":"IF(ISBLANK('S6'!$F$25),\" \",'S6'!$F$25)","v":"  "},{"$f":"IF(ISBLANK('S6'!$F$24),\" \",'S6'!$F$24)","v":"  "},{"$f":"IF(ISBLANK('S6'!$F$23),\" \",'S6'!$F$23)","v":"  "},{"$f":"IF(ISBLANK('S6'!$F$22),\" \",'S6'!$F$22)","v":"  "},{"$f":"IF(ISBLANK('S6'!$F$21),\" \",'S6'!$F$21)","v":"  "},{"$f":"IF(ISBLANK('S6'!$F$20),\" \",'S6'!$F$20)","v":"  "},{"$f":"IF(ISBLANK('S6'!$F$19),\" \",'S6'!$F$19)","v":"  "},{"$f":"IF(ISBLANK('S6'!$F$18),\" \",'S6'!$F$18)","v":"  "},{"$f":"IF(ISBLANK('S6'!$F$17),\" \",'S6'!$F$17)","v":"  "},{"$f":"IF(ISBLANK('S6'!$F$16),\" \",'S6'!$F$16)","v":"  "},{"$f":"IF(ISBLANK('S6'!$F$15),\" \",'S6'!$F$15)","v":" "}]
[33,{"$f":"IF(ISBLANK('S6'!G$28),\" \",'S6'!G$28)","v":" "},{"$f":"IF(ISBLANK('S6'!H$27),\" \",'S6'!H$27)","v":"  "},{"$f":"IF(ISBLANK('S6'!H$26),\" \",'S6'!H$26)","v":"  "},{"$f":"IF(ISBLANK('S6'!$H$25),\" \",'S6'!$H$25)","v":"  "},{"$f":"IF(ISBLANK('S6'!$H$24),\" \",'S6'!$H$24)","v":"  "},{"$f":"IF(ISBLANK('S6'!$H$23),\" \",'S6'!$H$23)","v":"  "},{"$f":"IF(ISBLANK('S6'!$H$22),\" \",'S6'!$H$22)","v":"  "},{"$f":"IF(ISBLANK('S6'!$H$21),\" \",'S6'!$H$21)","v":"  "},{"$f":"IF(ISBLANK('S6'!$H$20),\" \",'S6'!$H$20)","v":"  "},{"$f":"IF(ISBLANK('S6'!$H$19),\" \",'S6'!$H$19)","v":"  "},{"$f":"IF(ISBLANK('S6'!$H$18),\" \",'S6'!$H$18)","v":"  "},{"$f":"IF(ISBLANK('S6'!$H$17),\" \",'S6'!$H$17)","v":"  "},{"$f":"IF(ISBLANK('S6'!$H$16),\" \",'S6'!$H$16)","v":"  "},{"$f":"IF(ISBLANK('S6'!$H$15),\" \",'S6'!$H$15)","v":" "}]
[34,{"$f":"IF(ISBLANK('S6'!I$28),\" \",'S6'!I$28)","v":" "},{"$f":"IF(ISBLANK('S6'!J$27),\" \",'S6'!J$27)","v":"  "},{"$f":"IF(ISBLANK('S6'!J$26),\" \",'S6'!J$26)","v":"  "},{"$f":"IF(ISBLANK('S6'!$J$25),\" \",'S6'!$J$25)","v":"  "},{"$f":"IF(ISBLANK('S6'!$J$24),\" \",'S6'!$J$24)","v":"  "},{"$f":"IF(ISBLANK('S6'!$J$23),\" \",'S6'!$J$23)","v":"  "},{"$f":"IF(ISBLANK('S6'!$J$22),\" \",'S6'!$J$22)","v":"  "},{"$f":"IF(ISBLANK('S6'!$J$21),\" \",'S6'!$J$21)","v":"  "},{"$f":"IF(ISBLANK('S6'!$J$20),\" \",'S6'!$J$20)","v":"  "},{"$f":"IF(ISBLANK('S6'!$J$19),\" \",'S6'!$J$19)","v":"  "},{"$f":"IF(ISBLANK('S6'!$J$18),\" \",'S6'!$J$18)","v":"  "},{"$f":"IF(ISBLANK('S6'!$J$17),\" \",'S6'!$J$17)","v":"  "},{"$f":"IF(ISBLANK('S6'!$J$16),\" \",'S6'!$J$16)","v":"  "},{"$f":"IF(ISBLANK('S6'!$J$15),\" \",'S6'!$J$15)","v":" "}]
[35,{"$f":"IF(ISBLANK('S6'!K$28),\" \",'S6'!K$28)","v":" "},{"$f":"IF(ISBLANK('S6'!L$27),\" \",'S6'!L$27)","v":"  "},{"$f":"IF(ISBLANK('S6'!L$26),\" \",'S6'!L$26)","v":"  "},{"$f":"IF(ISBLANK('S6'!$L$25),\" \",'S6'!$L$25)","v":"  "},{"$f":"IF(ISBLANK('S6'!$L$24),\" \",'S6'!$L$24)","v":"  "},{"$f":"IF(ISBLANK('S6'!$L$23),\" \",'S6'!$L$23)","v":"  "},{"$f":"IF(ISBLANK('S6'!$L$22),\" \",'S6'!$L$22)","v":"  "},{"$f":"IF(ISBLANK('S6'!$L$21),\" \",'S6'!$L$21)","v":"  "},{"$f":"IF(ISBLANK('S6'!$L$20),\" \",'S6'!$L$20)","v":"  "},{"$f":"IF(ISBLANK('S6'!$L$19),\" \",'S6'!$L$19)","v":"  "},{"$f":"IF(ISBLANK('S6'!$L$18),\" \",'S6'!$L$18)","v":"  "},{"$f":"IF(ISBLANK('S6'!$L$17),\" \",'S6'!$L$17)","v":"  "},{"$f":"IF(ISBLANK('S6'!$L$16),\" \",'S6'!$L$16)","v":"  "},{"$f":"IF(ISBLANK('S6'!$L$15),\" \",'S6'!$L$15)","v":" "}]
[36,{"$f":"IF(ISBLANK('S6'!M$28),\" \",'S6'!M$28)","v":" "},{"$f":"IF(ISBLANK('S6'!N$27),\" \",'S6'!N$27)","v":"  "},{"$f":"IF(ISBLANK('S6'!N$26),\" \",'S6'!N$26)","v":"  "},{"$f":"IF(ISBLANK('S6'!$N$25),\" \",'S6'!$N$25)","v":"  "},{"$f":"IF(ISBLANK('S6'!$N$24),\" \",'S6'!$N$24)","v":"  "},{"$f":"IF(ISBLANK('S6'!$N$23),\" \",'S6'!$N$23)","v":"  "},{"$f":"IF(ISBLANK('S6'!$N$22),\" \",'S6'!$N$22)","v":"  "},{"$f":"IF(ISBLANK('S6'!$N$21),\" \",'S6'!$N$21)","v":"  "},{"$f":"IF(ISBLANK('S6'!$N$20),\" \",'S6'!$N$20)","v":"  "},{"$f":"IF(ISBLANK('S6'!$N$19),\" \",'S6'!$N$19)","v":"  "},{"$f":"IF(ISBLANK('S6'!$N$18),\" \",'S6'!$N$18)","v":"  "},{"$f":"IF(ISBLANK('S6'!$N$17),\" \",'S6'!$N$17)","v":"  "},{"$f":"IF(ISBLANK('S6'!$N$16),\" \",'S6'!$N$16)","v":"  "},{"$f":"IF(ISBLANK('S6'!$N$15),\" \",'S6'!$N$15)","v":" "}]
[37,{"$f":"IF(ISBLANK('S7'!C$28),\" \",'S7'!C$28)","v":" "},{"$f":"IF(ISBLANK('S7'!D$27),\" \",'S7'!D$27)","v":"  "},{"$f":"IF(ISBLANK('S7'!D$26),\" \",'S7'!D$26)","v":"  "},{"$f":"IF(ISBLANK('S7'!$D$25),\" \",'S7'!$D$25)","v":"  "},{"$f":"IF(ISBLANK('S7'!$D$24),\" \",'S7'!$D$24)","v":"  "},{"$f":"IF(ISBLANK('S7'!$D$23),\" \",'S7'!$D$23)","v":"  "},{"$f":"IF(ISBLANK('S7'!$D$22),\" \",'S7'!$D$22)","v":"  "},{"$f":"IF(ISBLANK('S7'!$D$21),\" \",'S7'!$D$21)","v":"  "},{"$f":"IF(ISBLANK('S7'!$D$20),\" \",'S7'!$D$20)","v":"  "},{"$f":"IF(ISBLANK('S7'!$D$19),\" \",'S7'!$D$19)","v":"  "},{"$f":"IF(ISBLANK('S7'!$D$18),\" \",'S7'!$D$18)","v":"  "},{"$f":"IF(ISBLANK('S7'!$D$17),\" \",'S7'!$D$17)","v":"  "},{"$f":"IF(ISBLANK('S7'!$D$16),\" \",'S7'!$D$16)","v":"  "},{"$f":"IF(ISBLANK('S7'!$D$15),\" \",'S7'!$D$15)","v":" "}]
[38,{"$f":"IF(ISBLANK('S7'!E$28),\" \",'S7'!E$28)","v":" "},{"$f":"IF(ISBLANK('S7'!F$27),\" \",'S7'!F$27)","v":"  "},{"$f":"IF(ISBLANK('S7'!F$26),\" \",'S7'!F$26)","v":"  "},{"$f":"IF(ISBLANK('S7'!$F$25),\" \",'S7'!$F$25)","v":"  "},{"$f":"IF(ISBLANK('S7'!$F$24),\" \",'S7'!$F$24)","v":"  "},{"$f":"IF(ISBLANK('S7'!$F$23),\" \",'S7'!$F$23)","v":"  "},{"$f":"IF(ISBLANK('S7'!$F$22),\" \",'S7'!$F$22)","v":"  "},{"$f":"IF(ISBLANK('S7'!$F$21),\" \",'S7'!$F$21)","v":"  "},{"$f":"IF(ISBLANK('S7'!$F$20),\" \",'S7'!$F$20)","v":"  "},{"$f":"IF(ISBLANK('S7'!$F$19),\" \",'S7'!$F$19)","v":"  "},{"$f":"IF(ISBLANK('S7'!$F$18),\" \",'S7'!$F$18)","v":"  "},{"$f":"IF(ISBLANK('S7'!$F$17),\" \",'S7'!$F$17)","v":"  "},{"$f":"IF(ISBLANK('S7'!$F$16),\" \",'S7'!$F$16)","v":"  "},{"$f":"IF(ISBLANK('S7'!$F$15),\" \",'S7'!$F$15)","v":" "}]
[39,{"$f":"IF(ISBLANK('S7'!G$28),\" \",'S7'!G$28)","v":" "},{"$f":"IF(ISBLANK('S7'!H$27),\" \",'S7'!H$27)","v":"  "},{"$f":"IF(ISBLANK('S7'!H$26),\" \",'S7'!H$26)","v":"  "},{"$f":"IF(ISBLANK('S7'!$H$25),\" \",'S7'!$H$25)","v":"  "},{"$f":"IF(ISBLANK('S7'!$H$24),\" \",'S7'!$H$24)","v":"  "},{"$f":"IF(ISBLANK('S7'!$H$23),\" \",'S7'!$H$23)","v":"  "},{"$f":"IF(ISBLANK('S7'!$H$22),\" \",'S7'!$H$22)","v":"  "},{"$f":"IF(ISBLANK('S7'!$H$21),\" \",'S7'!$H$21)","v":"  "},{"$f":"IF(ISBLANK('S7'!$H$20),\" \",'S7'!$H$20)","v":"  "},{"$f":"IF(ISBLANK('S7'!$H$19),\" \",'S7'!$H$19)","v":"  "},{"$f":"IF(ISBLANK('S7'!$H$18),\" \",'S7'!$H$18)","v":"  "},{"$f":"IF(ISBLANK('S7'!$H$17),\" \",'S7'!$H$17)","v":"  "},{"$f":"IF(ISBLANK('S7'!$H$16),\" \",'S7'!$H$16)","v":"  "},{"$f":"IF(ISBLANK('S7'!$H$15),\" \",'S7'!$H$15)","v":" "}]
[40,{"$f":"IF(ISBLANK('S7'!I$28),\" \",'S7'!I$28)","v":" "},{"$f":"IF(ISBLANK('S7'!J$27),\" \",'S7'!J$27)","v":"  "},{"$f":"IF(ISBLANK('S7'!J$26),\" \",'S7'!J$26)","v":"  "},{"$f":"IF(ISBLANK('S7'!$J$25),\" \",'S7'!$J$25)","v":"  "},{"$f":"IF(ISBLANK('S7'!$J$24),\" \",'S7'!$J$24)","v":"  "},{"$f":"IF(ISBLANK('S7'!$J$23),\" \",'S7'!$J$23)","v":"  "},{"$f":"IF(ISBLANK('S7'!$J$22),\" \",'S7'!$J$22)","v":"  "},{"$f":"IF(ISBLANK('S7'!$J$21),\" \",'S7'!$J$21)","v":"  "},{"$f":"IF(ISBLANK('S7'!$J$20),\" \",'S7'!$J$20)","v":"  "},{"$f":"IF(ISBLANK('S7'!$J$19),\" \",'S7'!$J$19)","v":"  "},{"$f":"IF(ISBLANK('S7'!$J$18),\" \",'S7'!$J$18)","v":"  "},{"$f":"IF(ISBLANK('S7'!$J$17),\" \",'S7'!$J$17)","v":"  "},{"$f":"IF(ISBLANK('S7'!$J$16),\" \",'S7'!$J$16)","v":"  "},{"$f":"IF(ISBLANK('S7'!$J$15),\" \",'S7'!$J$15)","v":" "}]
[41,{"$f":"IF(ISBLANK('S7'!K$28),\" \",'S7'!K$28)","v":" "},{"$f":"IF(ISBLANK('S7'!L$27),\" \",'S7'!L$27)","v":"  "},{"$f":"IF(ISBLANK('S7'!L$26),\" \",'S7'!L$26)","v":"  "},{"$f":"IF(ISBLANK('S7'!$L$25),\" \",'S7'!$L$25)","v":"  "},{"$f":"IF(ISBLANK('S7'!$L$24),\" \",'S7'!$L$24)","v":"  "},{"$f":"IF(ISBLANK('S7'!$L$23),\" \",'S7'!$L$23)","v":"  "},{"$f":"IF(ISBLANK('S7'!$L$22),\" \",'S7'!$L$22)","v":"  "},{"$f":"IF(ISBLANK('S7'!$L$21),\" \",'S7'!$L$21)","v":"  "},{"$f":"IF(ISBLANK('S7'!$L$20),\" \",'S7'!$L$20)","v":"  "},{"$f":"IF(ISBLANK('S7'!$L$19),\" \",'S7'!$L$19)","v":"  "},{"$f":"IF(ISBLANK('S7'!$L$18),\" \",'S7'!$L$18)","v":"  "},{"$f":"IF(ISBLANK('S7'!$L$17),\" \",'S7'!$L$17)","v":"  "},{"$f":"IF(ISBLANK('S7'!$L$16),\" \",'S7'!$L$16)","v":"  "},{"$f":"IF(ISBLANK('S7'!$L$15),\" \",'S7'!$L$15)","v":" "}]
[42,{"$f":"IF(ISBLANK('S7'!M$28),\" \",'S7'!M$28)","v":" "},{"$f":"IF(ISBLANK('S7'!N$27),\" \",'S7'!N$27)","v":"  "},{"$f":"IF(ISBLANK('S7'!N$26),\" \",'S7'!N$26)","v":"  "},{"$f":"IF(ISBLANK('S7'!$N$25),\" \",'S7'!$N$25)","v":"  "},{"$f":"IF(ISBLANK('S7'!$N$24),\" \",'S7'!$N$24)","v":"  "},{"$f":"IF(ISBLANK('S7'!$N$23),\" \",'S7'!$N$23)","v":"  "},{"$f":"IF(ISBLANK('S7'!$N$22),\" \",'S7'!$N$22)","v":"  "},{"$f":"IF(ISBLANK('S7'!$N$21),\" \",'S7'!$N$21)","v":"  "},{"$f":"IF(ISBLANK('S7'!$N$20),\" \",'S7'!$N$20)","v":"  "},{"$f":"IF(ISBLANK('S7'!$N$19),\" \",'S7'!$N$19)","v":"  "},{"$f":"IF(ISBLANK('S7'!$N$18),\" \",'S7'!$N$18)","v":"  "},{"$f":"IF(ISBLANK('S7'!$N$17),\" \",'S7'!$N$17)","v":"  "},{"$f":"IF(ISBLANK('S7'!$N$16),\" \",'S7'!$N$16)","v":"  "},{"$f":"IF(ISBLANK('S7'!$N$15),\" \",'S7'!$N$15)","v":" "}]
[43,{"$f":"IF(ISBLANK('S8'!C$28),\" \",'S8'!C$28)","v":" "},{"$f":"IF(ISBLANK('S8'!D$27),\" \",'S8'!D$27)","v":"  "},{"$f":"IF(ISBLANK('S8'!D$26),\" \",'S8'!D$26)","v":"  "},{"$f":"IF(ISBLANK('S8'!$D$25),\" \",'S8'!$D$25)","v":"  "},{"$f":"IF(ISBLANK('S8'!$D$24),\" \",'S8'!$D$24)","v":"  "},{"$f":"IF(ISBLANK('S8'!$D$23),\" \",'S8'!$D$23)","v":"  "},{"$f":"IF(ISBLANK('S8'!$D$22),\" \",'S8'!$D$22)","v":"  "},{"$f":"IF(ISBLANK('S8'!$D$21),\" \",'S8'!$D$21)","v":"  "},{"$f":"IF(ISBLANK('S8'!$D$20),\" \",'S8'!$D$20)","v":"  "},{"$f":"IF(ISBLANK('S8'!$D$19),\" \",'S8'!$D$19)","v":"  "},{"$f":"IF(ISBLANK('S8'!$D$18),\" \",'S8'!$D$18)","v":"  "},{"$f":"IF(ISBLANK('S8'!$D$17),\" \",'S8'!$D$17)","v":"  "},{"$f":"IF(ISBLANK('S8'!$D$16),\" \",'S8'!$D$16)","v":"  "},{"$f":"IF(ISBLANK('S8'!$D$15),\" \",'S8'!$D$15)","v":" "}]
[44,{"$f":"IF(ISBLANK('S8'!E$28),\" \",'S8'!E$28)","v":" "},{"$f":"IF(ISBLANK('S8'!F$27),\" \",'S8'!F$27)","v":"  "},{"$f":"IF(ISBLANK('S8'!F$26),\" \",'S8'!F$26)","v":"  "},{"$f":"IF(ISBLANK('S8'!$F$25),\" \",'S8'!$F$25)","v":"  "},{"$f":"IF(ISBLANK('S8'!$F$24),\" \",'S8'!$F$24)","v":"  "},{"$f":"IF(ISBLANK('S8'!$F$23),\" \",'S8'!$F$23)","v":"  "},{"$f":"IF(ISBLANK('S8'!$F$22),\" \",'S8'!$F$22)","v":"  "},{"$f":"IF(ISBLANK('S8'!$F$21),\" \",'S8'!$F$21)","v":"  "},{"$f":"IF(ISBLANK('S8'!$F$20),\" \",'S8'!$F$20)","v":"  "},{"$f":"IF(ISBLANK('S8'!$F$19),\" \",'S8'!$F$19)","v":"  "},{"$f":"IF(ISBLANK('S8'!$F$18),\" \",'S8'!$F$18)","v":"  "},{"$f":"IF(ISBLANK('S8'!$F$17),\" \",'S8'!$F$17)","v":"  "},{"$f":"IF(ISBLANK('S8'!$F$16),\" \",'S8'!$F$16)","v":"  "},{"$f":"IF(ISBLANK('S8'!$F$15),\" \",'S8'!$F$15)","v":" "}]
[45,{"$f":"IF(ISBLANK('S8'!G$28),\" \",'S8'!G$28)","v":" "},{"$f":"IF(ISBLANK('S8'!H$27),\" \",'S8'!H$27)","v":"  "},{"$f":"IF(ISBLANK('S8'!H$26),\" \",'S8'!H$26)","v":"  "},{"$f":"IF(ISBLANK('S8'!$H$25),\" \",'S8'!$H$25)","v":"  "},{"$f":"IF(ISBLANK('S8'!$H$24),\" \",'S8'!$H$24)","v":"  "},{"$f":"IF(ISBLANK('S8'!$H$23),\" \",'S8'!$H$23)","v":"  "},{"$f":"IF(ISBLANK('S8'!$H$22),\" \",'S8'!$H$22)","v":"  "},{"$f":"IF(ISBLANK('S8'!$H$21),\" \",'S8'!$H$21)","v":"  "},{"$f":"IF(ISBLANK('S8'!$H$20),\" \",'S8'!$H$20)","v":"  "},{"$f":"IF(ISBLANK('S8'!$H$19),\" \",'S8'!$H$19)","v":"  "},{"$f":"IF(ISBLANK('S8'!$H$18),\" \",'S8'!$H$18)","v":"  "},{"$f":"IF(ISBLANK('S8'!$H$17),\" \",'S8'!$H$17)","v":"  "},{"$f":"IF(ISBLANK('S8'!$H$16),\" \",'S8'!$H$16)","v":"  "},{"$f":"IF(ISBLANK('S8'!$H$15),\" \",'S8'!$H$15)","v":" "}]
[46,{"$f":"IF(ISBLANK('S8'!I$28),\" \",'S8'!I$28)","v":" "},{"$f":"IF(ISBLANK('S8'!J$27),\" \",'S8'!J$27)","v":"  "},{"$f":"IF(ISBLANK('S8'!J$26),\" \",'S8'!J$26)","v":"  "},{"$f":"IF(ISBLANK('S8'!$J$25),\" \",'S8'!$J$25)","v":"  "},{"$f":"IF(ISBLANK('S8'!$J$24),\" \",'S8'!$J$24)","v":"  "},{"$f":"IF(ISBLANK('S8'!$J$23),\" \",'S8'!$J$23)","v":"  "},{"$f":"IF(ISBLANK('S8'!$J$22),\" \",'S8'!$J$22)","v":"  "},{"$f":"IF(ISBLANK('S8'!$J$21),\" \",'S8'!$J$21)","v":"  "},{"$f":"IF(ISBLANK('S8'!$J$20),\" \",'S8'!$J$20)","v":"  "},{"$f":"IF(ISBLANK('S8'!$J$19),\" \",'S8'!$J$19)","v":"  "},{"$f":"IF(ISBLANK('S8'!$J$18),\" \",'S8'!$J$18)","v":"  "},{"$f":"IF(ISBLANK('S8'!$J$17),\" \",'S8'!$J$17)","v":"  "},{"$f":"IF(ISBLANK('S8'!$J$16),\" \",'S8'!$J$16)","v":"  "},{"$f":"IF(ISBLANK('S8'!$J$15),\" \",'S8'!$J$15)","v":" "}]
[47,{"$f":"IF(ISBLANK('S8'!K$28),\" \",'S8'!K$28)","v":" "},{"$f":"IF(ISBLANK('S8'!L$27),\" \",'S8'!L$27)","v":"  "},{"$f":"IF(ISBLANK('S8'!L$26),\" \",'S8'!L$26)","v":"  "},{"$f":"IF(ISBLANK('S8'!$L$25),\" \",'S8'!$L$25)","v":"  "},{"$f":"IF(ISBLANK('S8'!$L$24),\" \",'S8'!$L$24)","v":"  "},{"$f":"IF(ISBLANK('S8'!$L$23),\" \",'S8'!$L$23)","v":"  "},{"$f":"IF(ISBLANK('S8'!$L$22),\" \",'S8'!$L$22)","v":"  "},{"$f":"IF(ISBLANK('S8'!$L$21),\" \",'S8'!$L$21)","v":"  "},{"$f":"IF(ISBLANK('S8'!$L$20),\" \",'S8'!$L$20)","v":"  "},{"$f":"IF(ISBLANK('S8'!$L$19),\" \",'S8'!$L$19)","v":"  "},{"$f":"IF(ISBLANK('S8'!$L$18),\" \",'S8'!$L$18)","v":"  "},{"$f":"IF(ISBLANK('S8'!$L$17),\" \",'S8'!$L$17)","v":"  "},{"$f":"IF(ISBLANK('S8'!$L$16),\" \",'S8'!$L$16)","v":"  "},{"$f":"IF(ISBLANK('S8'!$L$15),\" \",'S8'!$L$15)","v":" "}]
[48,{"$f":"IF(ISBLANK('S8'!M$28),\" \",'S8'!M$28)","v":" "},{"$f":"IF(ISBLANK('S8'!N$27),\" \",'S8'!N$27)","v":"  "},{"$f":"IF(ISBLANK('S8'!N$26),\" \",'S8'!N$26)","v":"  "},{"$f":"IF(ISBLANK('S8'!$N$25),\" \",'S8'!$N$25)","v":"  "},{"$f":"IF(ISBLANK('S8'!$N$24),\" \",'S8'!$N$24)","v":"  "},{"$f":"IF(ISBLANK('S8'!$N$23),\" \",'S8'!$N$23)","v":"  "},{"$f":"IF(ISBLANK('S8'!$N$22),\" \",'S8'!$N$22)","v":"  "},{"$f":"IF(ISBLANK('S8'!$N$21),\" \",'S8'!$N$21)","v":"  "},{"$f":"IF(ISBLANK('S8'!$N$20),\" \",'S8'!$N$20)","v":"  "},{"$f":"IF(ISBLANK('S8'!$N$19),\" \",'S8'!$N$19)","v":"  "},{"$f":"IF(ISBLANK('S8'!$N$18),\" \",'S8'!$N$18)","v":"  "},{"$f":"IF(ISBLANK('S8'!$N$17),\" \",'S8'!$N$17)","v":"  "},{"$f":"IF(ISBLANK('S8'!$N$16),\" \",'S8'!$N$16)","v":"  "},{"$f":"IF(ISBLANK('S8'!$N$15),\" \",'S8'!$N$15)","v":" "}]
[49,{"$f":"IF(ISBLANK('S9'!C$28),\" \",'S9'!C$28)","v":" "},{"$f":"IF(ISBLANK('S9'!D$27),\" \",'S9'!D$27)","v":"  "},{"$f":"IF(ISBLANK('S9'!D$26),\" \",'S9'!D$26)","v":"  "},{"$f":"IF(ISBLANK('S9'!$D$25),\" \",'S9'!$D$25)","v":"  "},{"$f":"IF(ISBLANK('S9'!$D$24),\" \",'S9'!$D$24)","v":"  "},{"$f":"IF(ISBLANK('S9'!$D$23),\" \",'S9'!$D$23)","v":"  "},{"$f":"IF(ISBLANK('S9'!$D$22),\" \",'S9'!$D$22)","v":"  "},{"$f":"IF(ISBLANK('S9'!$D$21),\" \",'S9'!$D$21)","v":"  "},{"$f":"IF(ISBLANK('S9'!$D$20),\" \",'S9'!$D$20)","v":"  "},{"$f":"IF(ISBLANK('S9'!$D$19),\" \",'S9'!$D$19)","v":"  "},{"$f":"IF(ISBLANK('S9'!$D$18),\" \",'S9'!$D$18)","v":"  "},{"$f":"IF(ISBLANK('S9'!$D$17),\" \",'S9'!$D$17)","v":"  "},{"$f":"IF(ISBLANK('S9'!$D$16),\" \",'S9'!$D$16)","v":"  "},{"$f":"IF(ISBLANK('S9'!$D$15),\" \",'S9'!$D$15)","v":" "}]
[50,{"$f":"IF(ISBLANK('S9'!E$28),\" \",'S9'!E$28)","v":" "},{"$f":"IF(ISBLANK('S9'!F$27),\" \",'S9'!F$27)","v":"  "},{"$f":"IF(ISBLANK('S9'!F$26),\" \",'S9'!F$26)","v":"  "},{"$f":"IF(ISBLANK('S9'!$F$25),\" \",'S9'!$F$25)","v":"  "},{"$f":"IF(ISBLANK('S9'!$F$24),\" \",'S9'!$F$24)","v":"  "},{"$f":"IF(ISBLANK('S9'!$F$23),\" \",'S9'!$F$23)","v":"  "},{"$f":"IF(ISBLANK('S9'!$F$22),\" \",'S9'!$F$22)","v":"  "},{"$f":"IF(ISBLANK('S9'!$F$21),\" \",'S9'!$F$21)","v":"  "},{"$f":"IF(ISBLANK('S9'!$F$20),\" \",'S9'!$F$20)","v":"  "},{"$f":"IF(ISBLANK('S9'!$F$19),\" \",'S9'!$F$19)","v":"  "},{"$f":"IF(ISBLANK('S9'!$F$18),\" \",'S9'!$F$18)","v":"  "},{"$f":"IF(ISBLANK('S9'!$F$17),\" \",'S9'!$F$17)","v":"  "},{"$f":"IF(ISBLANK('S9'!$F$16),\" \",'S9'!$F$16)","v":"  "},{"$f":"IF(ISBLANK('S9'!$F$15),\" \",'S9'!$F$15)","v":" "}]
[51,{"$f":"IF(ISBLANK('S9'!G$28),\" \",'S9'!G$28)","v":" "},{"$f":"IF(ISBLANK('S9'!H$27),\" \",'S9'!H$27)","v":"  "},{"$f":"IF(ISBLANK('S9'!H$26),\" \",'S9'!H$26)","v":"  "},{"$f":"IF(ISBLANK('S9'!$H$25),\" \",'S9'!$H$25)","v":"  "},{"$f":"IF(ISBLANK('S9'!$H$24),\" \",'S9'!$H$24)","v":"  "},{"$f":"IF(ISBLANK('S9'!$H$23),\" \",'S9'!$H$23)","v":"  "},{"$f":"IF(ISBLANK('S9'!$H$22),\" \",'S9'!$H$22)","v":"  "},{"$f":"IF(ISBLANK('S9'!$H$21),\" \",'S9'!$H$21)","v":"  "},{"$f":"IF(ISBLANK('S9'!$H$20),\" \",'S9'!$H$20)","v":"  "},{"$f":"IF(ISBLANK('S9'!$H$19),\" \",'S9'!$H$19)","v":"  "},{"$f":"IF(ISBLANK('S9'!$H$18),\" \",'S9'!$H$18)","v":"  "},{"$f":"IF(ISBLANK('S9'!$H$17),\" \",'S9'!$H$17)","v":"  "},{"$f":"IF(ISBLANK('S9'!$H$16),\" \",'S9'!$H$16)","v":"  "},{"$f":"IF(ISBLANK('S9'!$H$15),\" \",'S9'!$H$15)","v":" "}]
[52,{"$f":"IF(ISBLANK('S9'!I$28),\" \",'S9'!I$28)","v":" "},{"$f":"IF(ISBLANK('S9'!J$27),\" \",'S9'!J$27)","v":"  "},{"$f":"IF(ISBLANK('S9'!J$26),\" \",'S9'!J$26)","v":"  "},{"$f":"IF(ISBLANK('S9'!$J$25),\" \",'S9'!$J$25)","v":"  "},{"$f":"IF(ISBLANK('S9'!$J$24),\" \",'S9'!$J$24)","v":"  "},{"$f":"IF(ISBLANK('S9'!$J$23),\" \",'S9'!$J$23)","v":"  "},{"$f":"IF(ISBLANK('S9'!$J$22),\" \",'S9'!$J$22)","v":"  "},{"$f":"IF(ISBLANK('S9'!$J$21),\" \",'S9'!$J$21)","v":"  "},{"$f":"IF(ISBLANK('S9'!$J$20),\" \",'S9'!$J$20)","v":"  "},{"$f":"IF(ISBLANK('S9'!$J$19),\" \",'S9'!$J$19)","v":"  "},{"$f":"IF(ISBLANK('S9'!$J$18),\" \",'S9'!$J$18)","v":"  "},{"$f":"IF(ISBLANK('S9'!$J$17),\" \",'S9'!$J$17)","v":"  "},{"$f":"IF(ISBLANK('S9'!$J$16),\" \",'S9'!$J$16)","v":"  "},{"$f":"IF(ISBLANK('S9'!$J$15),\" \",'S9'!$J$15)","v":" "}]
[53,{"$f":"IF(ISBLANK('S9'!K$28),\" \",'S9'!K$28)","v":" "},{"$f":"IF(ISBLANK('S9'!L$27),\" \",'S9'!L$27)","v":"  "},{"$f":"IF(ISBLANK('S9'!L$26),\" \",'S9'!L$26)","v":"  "},{"$f":"IF(ISBLANK('S9'!$L$25),\" \",'S9'!$L$25)","v":"  "},{"$f":"IF(ISBLANK('S9'!$L$24),\" \",'S9'!$L$24)","v":"  "},{"$f":"IF(ISBLANK('S9'!$L$23),\" \",'S9'!$L$23)","v":"  "},{"$f":"IF(ISBLANK('S9'!$L$22),\" \",'S9'!$L$22)","v":"  "},{"$f":"IF(ISBLANK('S9'!$L$21),\" \",'S9'!$L$21)","v":"  "},{"$f":"IF(ISBLANK('S9'!$L$20),\" \",'S9'!$L$20)","v":"  "},{"$f":"IF(ISBLANK('S9'!$L$19),\" \",'S9'!$L$19)","v":"  "},{"$f":"IF(ISBLANK('S9'!$L$18),\" \",'S9'!$L$18)","v":"  "},{"$f":"IF(ISBLANK('S9'!$L$17),\" \",'S9'!$L$17)","v":"  "},{"$f":"IF(ISBLANK('S9'!$L$16),\" \",'S9'!$L$16)","v":"  "},{"$f":"IF(ISBLANK('S9'!$L$15),\" \",'S9'!$L$15)","v":" "}]
[54,{"$f":"IF(ISBLANK('S9'!M$28),\" \",'S9'!M$28)","v":" "},{"$f":"IF(ISBLANK('S9'!N$27),\" \",'S9'!N$27)","v":"  "},{"$f":"IF(ISBLANK('S9'!N$26),\" \",'S9'!N$26)","v":"  "},{"$f":"IF(ISBLANK('S9'!$N$25),\" \",'S9'!$N$25)","v":"  "},{"$f":"IF(ISBLANK('S9'!$N$24),\" \",'S9'!$N$24)","v":"  "},{"$f":"IF(ISBLANK('S9'!$N$23),\" \",'S9'!$N$23)","v":"  "},{"$f":"IF(ISBLANK('S9'!$N$22),\" \",'S9'!$N$22)","v":"  "},{"$f":"IF(ISBLANK('S9'!$N$21),\" \",'S9'!$N$21)","v":"  "},{"$f":"IF(ISBLANK('S9'!$N$20),\" \",'S9'!$N$20)","v":"  "},{"$f":"IF(ISBLANK('S9'!$N$19),\" \",'S9'!$N$19)","v":"  "},{"$f":"IF(ISBLANK('S9'!$N$18),\" \",'S9'!$N$18)","v":"  "},{"$f":"IF(ISBLANK('S9'!$N$17),\" \",'S9'!$N$17)","v":"  "},{"$f":"IF(ISBLANK('S9'!$N$16),\" \",'S9'!$N$16)","v":"  "},{"$f":"IF(ISBLANK('S9'!$N$15),\" \",'S9'!$N$15)","v":" "}]
[55,{"$f":"IF(ISBLANK('S10'!C$28),\" \",'S10'!C$28)","v":" "},{"$f":"IF(ISBLANK('S10'!D$27),\" \",'S10'!D$27)","v":"  "},{"$f":"IF(ISBLANK('S10'!D$26),\" \",'S10'!D$26)","v":"  "},{"$f":"IF(ISBLANK('S10'!$D$25),\" \",'S10'!$D$25)","v":"  "},{"$f":"IF(ISBLANK('S10'!$D$24),\" \",'S10'!$D$24)","v":"  "},{"$f":"IF(ISBLANK('S10'!$D$23),\" \",'S10'!$D$23)","v":"  "},{"$f":"IF(ISBLANK('S10'!$D$22),\" \",'S10'!$D$22)","v":"  "},{"$f":"IF(ISBLANK('S10'!$D$21),\" \",'S10'!$D$21)","v":"  "},{"$f":"IF(ISBLANK('S10'!$D$20),\" \",'S10'!$D$20)","v":"  "},{"$f":"IF(ISBLANK('S10'!$D$19),\" \",'S10'!$D$19)","v":"  "},{"$f":"IF(ISBLANK('S10'!$D$18),\" \",'S10'!$D$18)","v":"  "},{"$f":"IF(ISBLANK('S10'!$D$17),\" \",'S10'!$D$17)","v":"  "},{"$f":"IF(ISBLANK('S10'!$D$16),\" \",'S10'!$D$16)","v":"  "},{"$f":"IF(ISBLANK('S10'!$D$15),\" \",'S10'!$D$15)","v":" "}]
[56,{"$f":"IF(ISBLANK('S10'!E$28),\" \",'S10'!E$28)","v":" "},{"$f":"IF(ISBLANK('S10'!F$27),\" \",'S10'!F$27)","v":"  "},{"$f":"IF(ISBLANK('S10'!F$26),\" \",'S10'!F$26)","v":"  "},{"$f":"IF(ISBLANK('S10'!$F$25),\" \",'S10'!$F$25)","v":"  "},{"$f":"IF(ISBLANK('S10'!$F$24),\" \",'S10'!$F$24)","v":"  "},{"$f":"IF(ISBLANK('S10'!$F$23),\" \",'S10'!$F$23)","v":"  "},{"$f":"IF(ISBLANK('S10'!$F$22),\" \",'S10'!$F$22)","v":"  "},{"$f":"IF(ISBLANK('S10'!$F$21),\" \",'S10'!$F$21)","v":"  "},{"$f":"IF(ISBLANK('S10'!$F$20),\" \",'S10'!$F$20)","v":"  "},{"$f":"IF(ISBLANK('S10'!$F$19),\" \",'S10'!$F$19)","v":"  "},{"$f":"IF(ISBLANK('S10'!$F$18),\" \",'S10'!$F$18)","v":"  "},{"$f":"IF(ISBLANK('S10'!$F$17),\" \",'S10'!$F$17)","v":"  "},{"$f":"IF(ISBLANK('S10'!$F$16),\" \",'S10'!$F$16)","v":"  "},{"$f":"IF(ISBLANK('S10'!$F$15),\" \",'S10'!$F$15)","v":" "}]
[57,{"$f":"IF(ISBLANK('S10'!G$28),\" \",'S10'!G$28)","v":" "},{"$f":"IF(ISBLANK('S10'!H$27),\" \",'S10'!H$27)","v":"  "},{"$f":"IF(ISBLANK('S10'!H$26),\" \",'S10'!H$26)","v":"  "},{"$f":"IF(ISBLANK('S10'!$H$25),\" \",'S10'!$H$25)","v":"  "},{"$f":"IF(ISBLANK('S10'!$H$24),\" \",'S10'!$H$24)","v":"  "},{"$f":"IF(ISBLANK('S10'!$H$23),\" \",'S10'!$H$23)","v":"  "},{"$f":"IF(ISBLANK('S10'!$H$22),\" \",'S10'!$H$22)","v":"  "},{"$f":"IF(ISBLANK('S10'!$H$21),\" \",'S10'!$H$21)","v":"  "},{"$f":"IF(ISBLANK('S10'!$H$20),\" \",'S10'!$H$20)","v":"  "},{"$f":"IF(ISBLANK('S10'!$H$19),\" \",'S10'!$H$19)","v":"  "},{"$f":"IF(ISBLANK('S10'!$H$18),\" \",'S10'!$H$18)","v":"  "},{"$f":"IF(ISBLANK('S10'!$H$17),\" \",'S10'!$H$17)","v":"  "},{"$f":"IF(ISBLANK('S10'!$H$16),\" \",'S10'!$H$16)","v":"  "},{"$f":"IF(ISBLANK('S10'!$H$15),\" \",'S10'!$H$15)","v":" "}]
[58,{"$f":"IF(ISBLANK('S10'!I$28),\" \",'S10'!I$28)","v":" "},{"$f":"IF(ISBLANK('S10'!J$27),\" \",'S10'!J$27)","v":"  "},{"$f":"IF(ISBLANK('S10'!J$26),\" \",'S10'!J$26)","v":"  "},{"$f":"IF(ISBLANK('S10'!$J$25),\" \",'S10'!$J$25)","v":"  "},{"$f":"IF(ISBLANK('S10'!$J$24),\" \",'S10'!$J$24)","v":"  "},{"$f":"IF(ISBLANK('S10'!$J$23),\" \",'S10'!$J$23)","v":"  "},{"$f":"IF(ISBLANK('S10'!$J$22),\" \",'S10'!$J$22)","v":"  "},{"$f":"IF(ISBLANK('S10'!$J$21),\" \",'S10'!$J$21)","v":"  "},{"$f":"IF(ISBLANK('S10'!$J$20),\" \",'S10'!$J$20)","v":"  "},{"$f":"IF(ISBLANK('S10'!$J$19),\" \",'S10'!$J$19)","v":"  "},{"$f":"IF(ISBLANK('S10'!$J$18),\" \",'S10'!$J$18)","v":"  "},{"$f":"IF(ISBLANK('S10'!$J$17),\" \",'S10'!$J$17)","v":"  "},{"$f":"IF(ISBLANK('S10'!$J$16),\" \",'S10'!$J$16)","v":"  "},{"$f":"IF(ISBLANK('S10'!$J$15),\" \",'S10'!$J$15)","v":" "}]
[59,{"$f":"IF(ISBLANK('S10'!K$28),\" \",'S10'!K$28)","v":" "},{"$f":"IF(ISBLANK('S10'!L$27),\" \",'S10'!L$27)","v":"  "},{"$f":"IF(ISBLANK('S10'!L$26),\" \",'S10'!L$26)","v":"  "},{"$f":"IF(ISBLANK('S10'!$L$25),\" \",'S10'!$L$25)","v":"  "},{"$f":"IF(ISBLANK('S10'!$L$24),\" \",'S10'!$L$24)","v":"  "},{"$f":"IF(ISBLANK('S10'!$L$23),\" \",'S10'!$L$23)","v":"  "},{"$f":"IF(ISBLANK('S10'!$L$22),\" \",'S10'!$L$22)","v":"  "},{"$f":"IF(ISBLANK('S10'!$L$21),\" \",'S10'!$L$21)","v":"  "},{"$f":"IF(ISBLANK('S10'!$L$20),\" \",'S10'!$L$20)","v":"  "},{"$f":"IF(ISBLANK('S10'!$L$19),\" \",'S10'!$L$19)","v":"  "},{"$f":"IF(ISBLANK('S10'!$L$18),\" \",'S10'!$L$18)","v":"  "},{"$f":"IF(ISBLANK('S10'!$L$17),\" \",'S10'!$L$17)","v":"  "},{"$f":"IF(ISBLANK('S10'!$L$16),\" \",'S10'!$L$16)","v":"  "},{"$f":"IF(ISBLANK('S10'!$L$15),\" \",'S10'!$L$15)","v":" "}]
[60,{"$f":"IF(ISBLANK('S10'!M$28),\" \",'S10'!M$28)","v":" "},{"$f":"IF(ISBLANK('S10'!N$27),\" \",'S10'!N$27)","v":"  "},{"$f":"IF(ISBLANK('S10'!N$26),\" \",'S10'!N$26)","v":"  "},{"$f":"IF(ISBLANK('S10'!$N$25),\" \",'S10'!$N$25)","v":"  "},{"$f":"IF(ISBLANK('S10'!$N$24),\" \",'S10'!$N$24)","v":"  "},{"$f":"IF(ISBLANK('S10'!$N$23),\" \",'S10'!$N$23)","v":"  "},{"$f":"IF(ISBLANK('S10'!$N$22),\" \",'S10'!$N$22)","v":"  "},{"$f":"IF(ISBLANK('S10'!$N$21),\" \",'S10'!$N$21)","v":"  "},{"$f":"IF(ISBLANK('S10'!$N$20),\" \",'S10'!$N$20)","v":"  "},{"$f":"IF(ISBLANK('S10'!$N$19),\" \",'S10'!$N$19)","v":"  "},{"$f":"IF(ISBLANK('S10'!$N$18),\" \",'S10'!$N$18)","v":"  "},{"$f":"IF(ISBLANK('S10'!$N$17),\" \",'S10'!$N$17)","v":"  "},{"$f":"IF(ISBLANK('S10'!$N$16),\" \",'S10'!$N$16)","v":"  "},{"$f":"IF(ISBLANK('S10'!$N$15),\" \",'S10'!$N$15)","v":" "}]
[61,{"$f":"IF(ISBLANK('S11'!C$28),\" \",'S11'!C$28)","v":" "},{"$f":"IF(ISBLANK('S11'!D$27),\" \",'S11'!D$27)","v":"  "},{"$f":"IF(ISBLANK('S11'!D$26),\" \",'S11'!D$26)","v":"  "},{"$f":"IF(ISBLANK('S11'!$D$25),\" \",'S11'!$D$25)","v":"  "},{"$f":"IF(ISBLANK('S11'!$D$24),\" \",'S11'!$D$24)","v":"  "},{"$f":"IF(ISBLANK('S11'!$D$23),\" \",'S11'!$D$23)","v":"  "},{"$f":"IF(ISBLANK('S11'!$D$22),\" \",'S11'!$D$22)","v":"  "},{"$f":"IF(ISBLANK('S11'!$D$21),\" \",'S11'!$D$21)","v":"  "},{"$f":"IF(ISBLANK('S11'!$D$20),\" \",'S11'!$D$20)","v":"  "},{"$f":"IF(ISBLANK('S11'!$D$19),\" \",'S11'!$D$19)","v":"  "},{"$f":"IF(ISBLANK('S11'!$D$18),\" \",'S11'!$D$18)","v":"  "},{"$f":"IF(ISBLANK('S11'!$D$17),\" \",'S11'!$D$17)","v":"  "},{"$f":"IF(ISBLANK('S11'!$D$16),\" \",'S11'!$D$16)","v":"  "},{"$f":"IF(ISBLANK('S11'!$D$15),\" \",'S11'!$D$15)","v":" "}]
[62,{"$f":"IF(ISBLANK('S11'!E$28),\" \",'S11'!E$28)","v":" "},{"$f":"IF(ISBLANK('S11'!F$27),\" \",'S11'!F$27)","v":"  "},{"$f":"IF(ISBLANK('S11'!F$26),\" \",'S11'!F$26)","v":"  "},{"$f":"IF(ISBLANK('S11'!$F$25),\" \",'S11'!$F$25)","v":"  "},{"$f":"IF(ISBLANK('S11'!$F$24),\" \",'S11'!$F$24)","v":"  "},{"$f":"IF(ISBLANK('S11'!$F$23),\" \",'S11'!$F$23)","v":"  "},{"$f":"IF(ISBLANK('S11'!$F$22),\" \",'S11'!$F$22)","v":"  "},{"$f":"IF(ISBLANK('S11'!$F$21),\" \",'S11'!$F$21)","v":"  "},{"$f":"IF(ISBLANK('S11'!$F$20),\" \",'S11'!$F$20)","v":"  "},{"$f":"IF(ISBLANK('S11'!$F$19),\" \",'S11'!$F$19)","v":"  "},{"$f":"IF(ISBLANK('S11'!$F$18),\" \",'S11'!$F$18)","v":"  "},{"$f":"IF(ISBLANK('S11'!$F$17),\" \",'S11'!$F$17)","v":"  "},{"$f":"IF(ISBLANK('S11'!$F$16),\" \",'S11'!$F$16)","v":"  "},{"$f":"IF(ISBLANK('S11'!$F$15),\" \",'S11'!$F$15)","v":" "}]
[63,{"$f":"IF(ISBLANK('S11'!G$28),\" \",'S11'!G$28)","v":" "},{"$f":"IF(ISBLANK('S11'!H$27),\" \",'S11'!H$27)","v":"  "},{"$f":"IF(ISBLANK('S11'!H$26),\" \",'S11'!H$26)","v":"  "},{"$f":"IF(ISBLANK('S11'!$H$25),\" \",'S11'!$H$25)","v":"  "},{"$f":"IF(ISBLANK('S11'!$H$24),\" \",'S11'!$H$24)","v":"  "},{"$f":"IF(ISBLANK('S11'!$H$23),\" \",'S11'!$H$23)","v":"  "},{"$f":"IF(ISBLANK('S11'!$H$22),\" \",'S11'!$H$22)","v":"  "},{"$f":"IF(ISBLANK('S11'!$H$21),\" \",'S11'!$H$21)","v":"  "},{"$f":"IF(ISBLANK('S11'!$H$20),\" \",'S11'!$H$20)","v":"  "},{"$f":"IF(ISBLANK('S11'!$H$19),\" \",'S11'!$H$19)","v":"  "},{"$f":"IF(ISBLANK('S11'!$H$18),\" \",'S11'!$H$18)","v":"  "},{"$f":"IF(ISBLANK('S11'!$H$17),\" \",'S11'!$H$17)","v":"  "},{"$f":"IF(ISBLANK('S11'!$H$16),\" \",'S11'!$H$16)","v":"  "},{"$f":"IF(ISBLANK('S11'!$H$15),\" \",'S11'!$H$15)","v":" "}]
[64,{"$f":"IF(ISBLANK('S11'!I$28),\" \",'S11'!I$28)","v":" "},{"$f":"IF(ISBLANK('S11'!J$27),\" \",'S11'!J$27)","v":"  "},{"$f":"IF(ISBLANK('S11'!J$26),\" \",'S11'!J$26)","v":"  "},{"$f":"IF(ISBLANK('S11'!$J$25),\" \",'S11'!$J$25)","v":"  "},{"$f":"IF(ISBLANK('S11'!$J$24),\" \",'S11'!$J$24)","v":"  "},{"$f":"IF(ISBLANK('S11'!$J$23),\" \",'S11'!$J$23)","v":"  "},{"$f":"IF(ISBLANK('S11'!$J$22),\" \",'S11'!$J$22)","v":"  "},{"$f":"IF(ISBLANK('S11'!$J$21),\" \",'S11'!$J$21)","v":"  "},{"$f":"IF(ISBLANK('S11'!$J$20),\" \",'S11'!$J$20)","v":"  "},{"$f":"IF(ISBLANK('S11'!$J$19),\" \",'S11'!$J$19)","v":"  "},{"$f":"IF(ISBLANK('S11'!$J$18),\" \",'S11'!$J$18)","v":"  "},{"$f":"IF(ISBLANK('S11'!$J$17),\" \",'S11'!$J$17)","v":"  "},{"$f":"IF(ISBLANK('S11'!$J$16),\" \",'S11'!$J$16)","v":"  "},{"$f":"IF(ISBLANK('S11'!$J$15),\" \",'S11'!$J$15)","v":" "}]
[65,{"$f":"IF(ISBLANK('S11'!K$28),\" \",'S11'!K$28)","v":" "},{"$f":"IF(ISBLANK('S11'!L$27),\" \",'S11'!L$27)","v":"  "},{"$f":"IF(ISBLANK('S11'!L$26),\" \",'S11'!L$26)","v":"  "},{"$f":"IF(ISBLANK('S11'!$L$25),\" \",'S11'!$L$25)","v":"  "},{"$f":"IF(ISBLANK('S11'!$L$24),\" \",'S11'!$L$24)","v":"  "},{"$f":"IF(ISBLANK('S11'!$L$23),\" \",'S11'!$L$23)","v":"  "},{"$f":"IF(ISBLANK('S11'!$L$22),\" \",'S11'!$L$22)","v":"  "},{"$f":"IF(ISBLANK('S11'!$L$21),\" \",'S11'!$L$21)","v":"  "},{"$f":"IF(ISBLANK('S11'!$L$20),\" \",'S11'!$L$20)","v":"  "},{"$f":"IF(ISBLANK('S11'!$L$19),\" \",'S11'!$L$19)","v":"  "},{"$f":"IF(ISBLANK('S11'!$L$18),\" \",'S11'!$L$18)","v":"  "},{"$f":"IF(ISBLANK('S11'!$L$17),\" \",'S11'!$L$17)","v":"  "},{"$f":"IF(ISBLANK('S11'!$L$16),\" \",'S11'!$L$16)","v":"  "},{"$f":"IF(ISBLANK('S11'!$L$15),\" \",'S11'!$L$15)","v":" "}]
[66,{"$f":"IF(ISBLANK('S11'!M$28),\" \",'S11'!M$28)","v":" "},{"$f":"IF(ISBLANK('S11'!N$27),\" \",'S11'!N$27)","v":"  "},{"$f":"IF(ISBLANK('S11'!N$26),\" \",'S11'!N$26)","v":"  "},{"$f":"IF(ISBLANK('S11'!$N$25),\" \",'S11'!$N$25)","v":"  "},{"$f":"IF(ISBLANK('S11'!$N$24),\" \",'S11'!$N$24)","v":"  "},{"$f":"IF(ISBLANK('S11'!$N$23),\" \",'S11'!$N$23)","v":"  "},{"$f":"IF(ISBLANK('S11'!$N$22),\" \",'S11'!$N$22)","v":"  "},{"$f":"IF(ISBLANK('S11'!$N$21),\" \",'S11'!$N$21)","v":"  "},{"$f":"IF(ISBLANK('S11'!$N$20),\" \",'S11'!$N$20)","v":"  "},{"$f":"IF(ISBLANK('S11'!$N$19),\" \",'S11'!$N$19)","v":"  "},{"$f":"IF(ISBLANK('S11'!$N$18),\" \",'S11'!$N$18)","v":"  "},{"$f":"IF(ISBLANK('S11'!$N$17),\" \",'S11'!$N$17)","v":"  "},{"$f":"IF(ISBLANK('S11'!$N$16),\" \",'S11'!$N$16)","v":"  "},{"$f":"IF(ISBLANK('S11'!$N$15),\" \",'S11'!$N$15)","v":" "}]
[67,{"$f":"IF(ISBLANK('S12'!C$28),\" \",'S12'!C$28)","v":" "},{"$f":"IF(ISBLANK('S12'!D$27),\" \",'S12'!D$27)","v":"  "},{"$f":"IF(ISBLANK('S12'!D$26),\" \",'S12'!D$26)","v":"  "},{"$f":"IF(ISBLANK('S12'!$D$25),\" \",'S12'!$D$25)","v":"  "},{"$f":"IF(ISBLANK('S12'!$D$24),\" \",'S12'!$D$24)","v":"  "},{"$f":"IF(ISBLANK('S12'!$D$23),\" \",'S12'!$D$23)","v":"  "},{"$f":"IF(ISBLANK('S12'!$D$22),\" \",'S12'!$D$22)","v":"  "},{"$f":"IF(ISBLANK('S12'!$D$21),\" \",'S12'!$D$21)","v":"  "},{"$f":"IF(ISBLANK('S12'!$D$20),\" \",'S12'!$D$20)","v":"  "},{"$f":"IF(ISBLANK('S12'!$D$19),\" \",'S12'!$D$19)","v":"  "},{"$f":"IF(ISBLANK('S12'!$D$18),\" \",'S12'!$D$18)","v":"  "},{"$f":"IF(ISBLANK('S12'!$D$17),\" \",'S12'!$D$17)","v":"  "},{"$f":"IF(ISBLANK('S12'!$D$16),\" \",'S12'!$D$16)","v":"  "},{"$f":"IF(ISBLANK('S12'!$D$15),\" \",'S12'!$D$15)","v":" "}]
[68,{"$f":"IF(ISBLANK('S12'!E$28),\" \",'S12'!E$28)","v":" "},{"$f":"IF(ISBLANK('S12'!F$27),\" \",'S12'!F$27)","v":"  "},{"$f":"IF(ISBLANK('S12'!F$26),\" \",'S12'!F$26)","v":"  "},{"$f":"IF(ISBLANK('S12'!$F$25),\" \",'S12'!$F$25)","v":"  "},{"$f":"IF(ISBLANK('S12'!$F$24),\" \",'S12'!$F$24)","v":"  "},{"$f":"IF(ISBLANK('S12'!$F$23),\" \",'S12'!$F$23)","v":"  "},{"$f":"IF(ISBLANK('S12'!$F$22),\" \",'S12'!$F$22)","v":"  "},{"$f":"IF(ISBLANK('S12'!$F$21),\" \",'S12'!$F$21)","v":"  "},{"$f":"IF(ISBLANK('S12'!$F$20),\" \",'S12'!$F$20)","v":"  "},{"$f":"IF(ISBLANK('S12'!$F$19),\" \",'S12'!$F$19)","v":"  "},{"$f":"IF(ISBLANK('S12'!$F$18),\" \",'S12'!$F$18)","v":"  "},{"$f":"IF(ISBLANK('S12'!$F$17),\" \",'S12'!$F$17)","v":"  "},{"$f":"IF(ISBLANK('S12'!$F$16),\" \",'S12'!$F$16)","v":"  "},{"$f":"IF(ISBLANK('S12'!$F$15),\" \",'S12'!$F$15)","v":" "}]
[69,{"$f":"IF(ISBLANK('S12'!G$28),\" \",'S12'!G$28)","v":" "},{"$f":"IF(ISBLANK('S12'!H$27),\" \",'S12'!H$27)","v":"  "},{"$f":"IF(ISBLANK('S12'!H$26),\" \",'S12'!H$26)","v":"  "},{"$f":"IF(ISBLANK('S12'!$H$25),\" \",'S12'!$H$25)","v":"  "},{"$f":"IF(ISBLANK('S12'!$H$24),\" \",'S12'!$H$24)","v":"  "},{"$f":"IF(ISBLANK('S12'!$H$23),\" \",'S12'!$H$23)","v":"  "},{"$f":"IF(ISBLANK('S12'!$H$22),\" \",'S12'!$H$22)","v":"  "},{"$f":"IF(ISBLANK('S12'!$H$21),\" \",'S12'!$H$21)","v":"  "},{"$f":"IF(ISBLANK('S12'!$H$20),\" \",'S12'!$H$20)","v":"  "},{"$f":"IF(ISBLANK('S12'!$H$19),\" \",'S12'!$H$19)","v":"  "},{"$f":"IF(ISBLANK('S12'!$H$18),\" \",'S12'!$H$18)","v":"  "},{"$f":"IF(ISBLANK('S12'!$H$17),\" \",'S12'!$H$17)","v":"  "},{"$f":"IF(ISBLANK('S12'!$H$16),\" \",'S12'!$H$16)","v":"  "},{"$f":"IF(ISBLANK('S12'!$H$15),\" \",'S12'!$H$15)","v":" "}]
[70,{"$f":"IF(ISBLANK('S12'!I$28),\" \",'S12'!I$28)","v":" "},{"$f":"IF(ISBLANK('S12'!J$27),\" \",'S12'!J$27)","v":"  "},{"$f":"IF(ISBLANK('S12'!J$26),\" \",'S12'!J$26)","v":"  "},{"$f":"IF(ISBLANK('S12'!$J$25),\" \",'S12'!$J$25)","v":"  "},{"$f":"IF(ISBLANK('S12'!$J$24),\" \",'S12'!$J$24)","v":"  "},{"$f":"IF(ISBLANK('S12'!$J$23),\" \",'S12'!$J$23)","v":"  "},{"$f":"IF(ISBLANK('S12'!$J$22),\" \",'S12'!$J$22)","v":"  "},{"$f":"IF(ISBLANK('S12'!$J$21),\" \",'S12'!$J$21)","v":"  "},{"$f":"IF(ISBLANK('S12'!$J$20),\" \",'S12'!$J$20)","v":"  "},{"$f":"IF(ISBLANK('S12'!$J$19),\" \",'S12'!$J$19)","v":"  "},{"$f":"IF(ISBLANK('S12'!$J$18),\" \",'S12'!$J$18)","v":"  "},{"$f":"IF(ISBLANK('S12'!$J$17),\" \",'S12'!$J$17)","v":"  "},{"$f":"IF(ISBLANK('S12'!$J$16),\" \",'S12'!$J$16)","v":"  "},{"$f":"IF(ISBLANK('S12'!$J$15),\" \",'S12'!$J$15)","v":" "}]
[71,{"$f":"IF(ISBLANK('S12'!K$28),\" \",'S12'!K$28)","v":" "},{"$f":"IF(ISBLANK('S12'!L$27),\" \",'S12'!L$27)","v":"  "},{"$f":"IF(ISBLANK('S12'!L$26),\" \",'S12'!L$26)","v":"  "},{"$f":"IF(ISBLANK('S12'!$L$25),\" \",'S12'!$L$25)","v":"  "},{"$f":"IF(ISBLANK('S12'!$L$24),\" \",'S12'!$L$24)","v":"  "},{"$f":"IF(ISBLANK('S12'!$L$23),\" \",'S12'!$L$23)","v":"  "},{"$f":"IF(ISBLANK('S12'!$L$22),\" \",'S12'!$L$22)","v":"  "},{"$f":"IF(ISBLANK('S12'!$L$21),\" \",'S12'!$L$21)","v":"  "},{"$f":"IF(ISBLANK('S12'!$L$20),\" \",'S12'!$L$20)","v":"  "},{"$f":"IF(ISBLANK('S12'!$L$19),\" \",'S12'!$L$19)","v":"  "},{"$f":"IF(ISBLANK('S12'!$L$18),\" \",'S12'!$L$18)","v":"  "},{"$f":"IF(ISBLANK('S12'!$L$17),\" \",'S12'!$L$17)","v":"  "},{"$f":"IF(ISBLANK('S12'!$L$16),\" \",'S12'!$L$16)","v":"  "},{"$f":"IF(ISBLANK('S12'!$L$15),\" \",'S12'!$L$15)","v":" "}]
[72,{"$f":"IF(ISBLANK('S12'!M$28),\" \",'S12'!M$28)","v":" "},{"$f":"IF(ISBLANK('S12'!N$27),\" \",'S12'!N$27)","v":"  "},{"$f":"IF(ISBLANK('S12'!N$26),\" \",'S12'!N$26)","v":"  "},{"$f":"IF(ISBLANK('S12'!$N$25),\" \",'S12'!$N$25)","v":"  "},{"$f":"IF(ISBLANK('S12'!$N$24),\" \",'S12'!$N$24)","v":"  "},{"$f":"IF(ISBLANK('S12'!$N$23),\" \",'S12'!$N$23)","v":"  "},{"$f":"IF(ISBLANK('S12'!$N$22),\" \",'S12'!$N$22)","v":"  "},{"$f":"IF(ISBLANK('S12'!$N$21),\" \",'S12'!$N$21)","v":"  "},{"$f":"IF(ISBLANK('S12'!$N$20),\" \",'S12'!$N$20)","v":"  "},{"$f":"IF(ISBLANK('S12'!$N$19),\" \",'S12'!$N$19)","v":"  "},{"$f":"IF(ISBLANK('S12'!$N$18),\" \",'S12'!$N$18)","v":"  "},{"$f":"IF(ISBLANK('S12'!$N$17),\" \",'S12'!$N$17)","v":"  "},{"$f":"IF(ISBLANK('S12'!$N$16),\" \",'S12'!$N$16)","v":"  "},{"$f":"IF(ISBLANK('S12'!$N$15),\" \",'S12'!$N$15)","v":" "}]
[73,{"$f":"IF(ISBLANK('S13'!C$28),\" \",'S13'!C$28)","v":" "},{"$f":"IF(ISBLANK('S13'!D$27),\" \",'S13'!D$27)","v":"  "},{"$f":"IF(ISBLANK('S13'!D$26),\" \",'S13'!D$26)","v":"  "},{"$f":"IF(ISBLANK('S13'!$D$25),\" \",'S13'!$D$25)","v":"  "},{"$f":"IF(ISBLANK('S13'!$D$24),\" \",'S13'!$D$24)","v":"  "},{"$f":"IF(ISBLANK('S13'!$D$23),\" \",'S13'!$D$23)","v":"  "},{"$f":"IF(ISBLANK('S13'!$D$22),\" \",'S13'!$D$22)","v":"  "},{"$f":"IF(ISBLANK('S13'!$D$21),\" \",'S13'!$D$21)","v":"  "},{"$f":"IF(ISBLANK('S13'!$D$20),\" \",'S13'!$D$20)","v":"  "},{"$f":"IF(ISBLANK('S13'!$D$19),\" \",'S13'!$D$19)","v":"  "},{"$f":"IF(ISBLANK('S13'!$D$18),\" \",'S13'!$D$18)","v":"  "},{"$f":"IF(ISBLANK('S13'!$D$17),\" \",'S13'!$D$17)","v":"  "},{"$f":"IF(ISBLANK('S13'!$D$16),\" \",'S13'!$D$16)","v":"  "},{"$f":"IF(ISBLANK('S13'!$D$15),\" \",'S13'!$D$15)","v":" "}]
[74,{"$f":"IF(ISBLANK('S13'!E$28),\" \",'S13'!E$28)","v":" "},{"$f":"IF(ISBLANK('S13'!F$27),\" \",'S13'!F$27)","v":"  "},{"$f":"IF(ISBLANK('S13'!F$26),\" \",'S13'!F$26)","v":"  "},{"$f":"IF(ISBLANK('S13'!$F$25),\" \",'S13'!$F$25)","v":"  "},{"$f":"IF(ISBLANK('S13'!$F$24),\" \",'S13'!$F$24)","v":"  "},{"$f":"IF(ISBLANK('S13'!$F$23),\" \",'S13'!$F$23)","v":"  "},{"$f":"IF(ISBLANK('S13'!$F$22),\" \",'S13'!$F$22)","v":"  "},{"$f":"IF(ISBLANK('S13'!$F$21),\" \",'S13'!$F$21)","v":"  "},{"$f":"IF(ISBLANK('S13'!$F$20),\" \",'S13'!$F$20)","v":"  "},{"$f":"IF(ISBLANK('S13'!$F$19),\" \",'S13'!$F$19)","v":"  "},{"$f":"IF(ISBLANK('S13'!$F$18),\" \",'S13'!$F$18)","v":"  "},{"$f":"IF(ISBLANK('S13'!$F$17),\" \",'S13'!$F$17)","v":"  "},{"$f":"IF(ISBLANK('S13'!$F$16),\" \",'S13'!$F$16)","v":"  "},{"$f":"IF(ISBLANK('S13'!$F$15),\" \",'S13'!$F$15)","v":" "}]
[75,{"$f":"IF(ISBLANK('S13'!G$28),\" \",'S13'!G$28)","v":" "},{"$f":"IF(ISBLANK('S13'!H$27),\" \",'S13'!H$27)","v":"  "},{"$f":"IF(ISBLANK('S13'!H$26),\" \",'S13'!H$26)","v":"  "},{"$f":"IF(ISBLANK('S13'!$H$25),\" \",'S13'!$H$25)","v":"  "},{"$f":"IF(ISBLANK('S13'!$H$24),\" \",'S13'!$H$24)","v":"  "},{"$f":"IF(ISBLANK('S13'!$H$23),\" \",'S13'!$H$23)","v":"  "},{"$f":"IF(ISBLANK('S13'!$H$22),\" \",'S13'!$H$22)","v":"  "},{"$f":"IF(ISBLANK('S13'!$H$21),\" \",'S13'!$H$21)","v":"  "},{"$f":"IF(ISBLANK('S13'!$H$20),\" \",'S13'!$H$20)","v":"  "},{"$f":"IF(ISBLANK('S13'!$H$19),\" \",'S13'!$H$19)","v":"  "},{"$f":"IF(ISBLANK('S13'!$H$18),\" \",'S13'!$H$18)","v":"  "},{"$f":"IF(ISBLANK('S13'!$H$17),\" \",'S13'!$H$17)","v":"  "},{"$f":"IF(ISBLANK('S13'!$H$16),\" \",'S13'!$H$16)","v":"  "},{"$f":"IF(ISBLANK('S13'!$H$15),\" \",'S13'!$H$15)","v":" "}]
[76,{"$f":"IF(ISBLANK('S13'!I$28),\" \",'S13'!I$28)","v":" "},{"$f":"IF(ISBLANK('S13'!J$27),\" \",'S13'!J$27)","v":"  "},{"$f":"IF(ISBLANK('S13'!J$26),\" \",'S13'!J$26)","v":"  "},{"$f":"IF(ISBLANK('S13'!$J$25),\" \",'S13'!$J$25)","v":"  "},{"$f":"IF(ISBLANK('S13'!$J$24),\" \",'S13'!$J$24)","v":"  "},{"$f":"IF(ISBLANK('S13'!$J$23),\" \",'S13'!$J$23)","v":"  "},{"$f":"IF(ISBLANK('S13'!$J$22),\" \",'S13'!$J$22)","v":"  "},{"$f":"IF(ISBLANK('S13'!$J$21),\" \",'S13'!$J$21)","v":"  "},{"$f":"IF(ISBLANK('S13'!$J$20),\" \",'S13'!$J$20)","v":"  "},{"$f":"IF(ISBLANK('S13'!$J$19),\" \",'S13'!$J$19)","v":"  "},{"$f":"IF(ISBLANK('S13'!$J$18),\" \",'S13'!$J$18)","v":"  "},{"$f":"IF(ISBLANK('S13'!$J$17),\" \",'S13'!$J$17)","v":"  "},{"$f":"IF(ISBLANK('S13'!$J$16),\" \",'S13'!$J$16)","v":"  "},{"$f":"IF(ISBLANK('S13'!$J$15),\" \",'S13'!$J$15)","v":" "}]
[77,{"$f":"IF(ISBLANK('S13'!K$28),\" \",'S13'!K$28)","v":" "},{"$f":"IF(ISBLANK('S13'!L$27),\" \",'S13'!L$27)","v":"  "},{"$f":"IF(ISBLANK('S13'!L$26),\" \",'S13'!L$26)","v":"  "},{"$f":"IF(ISBLANK('S13'!$L$25),\" \",'S13'!$L$25)","v":"  "},{"$f":"IF(ISBLANK('S13'!$L$24),\" \",'S13'!$L$24)","v":"  "},{"$f":"IF(ISBLANK('S13'!$L$23),\" \",'S13'!$L$23)","v":"  "},{"$f":"IF(ISBLANK('S13'!$L$22),\" \",'S13'!$L$22)","v":"  "},{"$f":"IF(ISBLANK('S13'!$L$21),\" \",'S13'!$L$21)","v":"  "},{"$f":"IF(ISBLANK('S13'!$L$20),\" \",'S13'!$L$20)","v":"  "},{"$f":"IF(ISBLANK('S13'!$L$19),\" \",'S13'!$L$19)","v":"  "},{"$f":"IF(ISBLANK('S13'!$L$18),\" \",'S13'!$L$18)","v":"  "},{"$f":"IF(ISBLANK('S13'!$L$17),\" \",'S13'!$L$17)","v":"  "},{"$f":"IF(ISBLANK('S13'!$L$16),\" \",'S13'!$L$16)","v":"  "},{"$f":"IF(ISBLANK('S13'!$L$15),\" \",'S13'!$L$15)","v":" "}]
[78,{"$f":"IF(ISBLANK('S13'!M$28),\" \",'S12'!M$28)","v":" "},{"$f":"IF(ISBLANK('S13'!N$27),\" \",'S13'!N$27)","v":"  "},{"$f":"IF(ISBLANK('S13'!N$26),\" \",'S13'!N$26)","v":"  "},{"$f":"IF(ISBLANK('S13'!$N$25),\" \",'S13'!$N$25)","v":"  "},{"$f":"IF(ISBLANK('S13'!$N$24),\" \",'S13'!$N$24)","v":"  "},{"$f":"IF(ISBLANK('S13'!$N$23),\" \",'S13'!$N$23)","v":"  "},{"$f":"IF(ISBLANK('S13'!$N$22),\" \",'S13'!$N$22)","v":"  "},{"$f":"IF(ISBLANK('S13'!$N$21),\" \",'S13'!$N$21)","v":"  "},{"$f":"IF(ISBLANK('S13'!$N$20),\" \",'S13'!$N$20)","v":"  "},{"$f":"IF(ISBLANK('S13'!$N$19),\" \",'S13'!$N$19)","v":"  "},{"$f":"IF(ISBLANK('S13'!$N$18),\" \",'S13'!$N$18)","v":"  "},{"$f":"IF(ISBLANK('S13'!$N$17),\" \",'S13'!$N$17)","v":"  "},{"$f":"IF(ISBLANK('S13'!$N$16),\" \",'S13'!$N$16)","v":"  "},{"$f":"IF(ISBLANK('S13'!$N$15),\" \",'S13'!$N$15)","v":" "}]
[79,{"$f":"IF(ISBLANK('S14'!C$28),\" \",'S14'!C$28)","v":" "},{"$f":"IF(ISBLANK('S14'!D$27),\" \",'S14'!D$27)","v":"  "},{"$f":"IF(ISBLANK('S14'!D$26),\" \",'S14'!D$26)","v":"  "},{"$f":"IF(ISBLANK('S14'!$D$25),\" \",'S14'!$D$25)","v":"  "},{"$f":"IF(ISBLANK('S14'!$D$24),\" \",'S14'!$D$24)","v":"  "},{"$f":"IF(ISBLANK('S14'!$D$23),\" \",'S14'!$D$23)","v":"  "},{"$f":"IF(ISBLANK('S14'!$D$22),\" \",'S14'!$D$22)","v":"  "},{"$f":"IF(ISBLANK('S14'!$D$21),\" \",'S14'!$D$21)","v":"  "},{"$f":"IF(ISBLANK('S14'!$D$20),\" \",'S14'!$D$20)","v":"  "},{"$f":"IF(ISBLANK('S14'!$D$19),\" \",'S14'!$D$19)","v":"  "},{"$f":"IF(ISBLANK('S14'!$D$18),\" \",'S14'!$D$18)","v":"  "},{"$f":"IF(ISBLANK('S14'!$D$17),\" \",'S14'!$D$17)","v":"  "},{"$f":"IF(ISBLANK('S14'!$D$16),\" \",'S14'!$D$16)","v":"  "},{"$f":"IF(ISBLANK('S14'!$D$15),\" \",'S14'!$D$15)","v":" "}]
[80,{"$f":"IF(ISBLANK('S14'!E$28),\" \",'S14'!E$28)","v":" "},{"$f":"IF(ISBLANK('S14'!F$27),\" \",'S14'!F$27)","v":"  "},{"$f":"IF(ISBLANK('S14'!F$26),\" \",'S14'!F$26)","v":"  "},{"$f":"IF(ISBLANK('S14'!$F$25),\" \",'S14'!$F$25)","v":"  "},{"$f":"IF(ISBLANK('S14'!$F$24),\" \",'S14'!$F$24)","v":"  "},{"$f":"IF(ISBLANK('S14'!$F$23),\" \",'S14'!$F$23)","v":"  "},{"$f":"IF(ISBLANK('S14'!$F$22),\" \",'S14'!$F$22)","v":"  "},{"$f":"IF(ISBLANK('S14'!$F$21),\" \",'S14'!$F$21)","v":"  "},{"$f":"IF(ISBLANK('S14'!$F$20),\" \",'S14'!$F$20)","v":"  "},{"$f":"IF(ISBLANK('S14'!$F$19),\" \",'S14'!$F$19)","v":"  "},{"$f":"IF(ISBLANK('S14'!$F$18),\" \",'S14'!$F$18)","v":"  "},{"$f":"IF(ISBLANK('S14'!$F$17),\" \",'S14'!$F$17)","v":"  "},{"$f":"IF(ISBLANK('S14'!$F$16),\" \",'S14'!$F$16)","v":"  "},{"$f":"IF(ISBLANK('S14'!$F$15),\" \",'S14'!$F$15)","v":" "}]
[81,{"$f":"IF(ISBLANK('S14'!G$28),\" \",'S14'!G$28)","v":" "},{"$f":"IF(ISBLANK('S14'!H$27),\" \",'S14'!H$27)","v":"  "},{"$f":"IF(ISBLANK('S14'!H$26),\" \",'S14'!H$26)","v":"  "},{"$f":"IF(ISBLANK('S14'!$H$25),\" \",'S14'!$H$25)","v":"  "},{"$f":"IF(ISBLANK('S14'!$H$24),\" \",'S14'!$H$24)","v":"  "},{"$f":"IF(ISBLANK('S14'!$H$23),\" \",'S14'!$H$23)","v":"  "},{"$f":"IF(ISBLANK('S14'!$H$22),\" \",'S14'!$H$22)","v":"  "},{"$f":"IF(ISBLANK('S14'!$H$21),\" \",'S14'!$H$21)","v":"  "},{"$f":"IF(ISBLANK('S14'!$H$20),\" \",'S14'!$H$20)","v":"  "},{"$f":"IF(ISBLANK('S14'!$H$19),\" \",'S14'!$H$19)","v":"  "},{"$f":"IF(ISBLANK('S14'!$H$18),\" \",'S14'!$H$18)","v":"  "},{"$f":"IF(ISBLANK('S14'!$H$17),\" \",'S14'!$H$17)","v":"  "},{"$f":"IF(ISBLANK('S14'!$H$16),\" \",'S14'!$H$16)","v":"  "},{"$f":"IF(ISBLANK('S14'!$H$15),\" \",'S14'!$H$15)","v":" "}]
[82,{"$f":"IF(ISBLANK('S14'!I$28),\" \",'S14'!I$28)","v":" "},{"$f":"IF(ISBLANK('S14'!J$27),\" \",'S14'!J$27)","v":"  "},{"$f":"IF(ISBLANK('S14'!J$26),\" \",'S14'!J$26)","v":"  "},{"$f":"IF(ISBLANK('S14'!$J$25),\" \",'S14'!$J$25)","v":"  "},{"$f":"IF(ISBLANK('S14'!$J$24),\" \",'S14'!$J$24)","v":"  "},{"$f":"IF(ISBLANK('S14'!$J$23),\" \",'S14'!$J$23)","v":"  "},{"$f":"IF(ISBLANK('S14'!$J$22),\" \",'S14'!$J$22)","v":"  "},{"$f":"IF(ISBLANK('S14'!$J$21),\" \",'S14'!$J$21)","v":"  "},{"$f":"IF(ISBLANK('S14'!$J$20),\" \",'S14'!$J$20)","v":"  "},{"$f":"IF(ISBLANK('S14'!$J$19),\" \",'S14'!$J$19)","v":"  "},{"$f":"IF(ISBLANK('S14'!$J$18),\" \",'S14'!$J$18)","v":"  "},{"$f":"IF(ISBLANK('S14'!$J$17),\" \",'S14'!$J$17)","v":"  "},{"$f":"IF(ISBLANK('S14'!$J$16),\" \",'S14'!$J$16)","v":"  "},{"$f":"IF(ISBLANK('S14'!$J$15),\" \",'S14'!$J$15)","v":" "}]
[83,{"$f":"IF(ISBLANK('S14'!K$28),\" \",'S14'!K$28)","v":" "},{"$f":"IF(ISBLANK('S14'!L$27),\" \",'S14'!L$27)","v":"  "},{"$f":"IF(ISBLANK('S14'!L$26),\" \",'S14'!L$26)","v":"  "},{"$f":"IF(ISBLANK('S14'!$L$25),\" \",'S14'!$L$25)","v":"  "},{"$f":"IF(ISBLANK('S14'!$L$24),\" \",'S14'!$L$24)","v":"  "},{"$f":"IF(ISBLANK('S14'!$L$23),\" \",'S14'!$L$23)","v":"  "},{"$f":"IF(ISBLANK('S14'!$L$22),\" \",'S14'!$L$22)","v":"  "},{"$f":"IF(ISBLANK('S14'!$L$21),\" \",'S14'!$L$21)","v":"  "},{"$f":"IF(ISBLANK('S14'!$L$20),\" \",'S14'!$L$20)","v":"  "},{"$f":"IF(ISBLANK('S14'!$L$19),\" \",'S14'!$L$19)","v":"  "},{"$f":"IF(ISBLANK('S14'!$L$18),\" \",'S14'!$L$18)","v":"  "},{"$f":"IF(ISBLANK('S14'!$L$17),\" \",'S14'!$L$17)","v":"  "},{"$f":"IF(ISBLANK('S14'!$L$16),\" \",'S14'!$L$16)","v":"  "},{"$f":"IF(ISBLANK('S14'!$L$15),\" \",'S14'!$L$15)","v":" "}]
[84,{"$f":"IF(ISBLANK('S14'!M$28),\" \",'S14'!M$28)","v":" "},{"$f":"IF(ISBLANK('S14'!N$27),\" \",'S14'!N$27)","v":"  "},{"$f":"IF(ISBLANK('S14'!N$26),\" \",'S14'!N$26)","v":"  "},{"$f":"IF(ISBLANK('S14'!$N$25),\" \",'S14'!$N$25)","v":"  "},{"$f":"IF(ISBLANK('S14'!$N$24),\" \",'S14'!$N$24)","v":"  "},{"$f":"IF(ISBLANK('S14'!$N$23),\" \",'S14'!$N$23)","v":"  "},{"$f":"IF(ISBLANK('S14'!$N$22),\" \",'S14'!$N$22)","v":"  "},{"$f":"IF(ISBLANK('S14'!$N$21),\" \",'S14'!$N$21)","v":"  "},{"$f":"IF(ISBLANK('S14'!$N$20),\" \",'S14'!$N$20)","v":"  "},{"$f":"IF(ISBLANK('S14'!$N$19),\" \",'S14'!$N$19)","v":"  "},{"$f":"IF(ISBLANK('S14'!$N$18),\" \",'S14'!$N$18)","v":"  "},{"$f":"IF(ISBLANK('S14'!$N$17),\" \",'S14'!$N$17)","v":"  "},{"$f":"IF(ISBLANK('S14'!$N$16),\" \",'S14'!$N$16)","v":"  "},{"$f":"IF(ISBLANK('S14'!$N$15),\" \",'S14'!$N$15)","v":" "}]
[85,{"$f":"IF(ISBLANK('S15'!C$28),\" \",'S15'!C$28)","v":" "},{"$f":"IF(ISBLANK('S15'!D$27),\" \",'S15'!D$27)","v":"  "},{"$f":"IF(ISBLANK('S15'!D$26),\" \",'S15'!D$26)","v":"  "},{"$f":"IF(ISBLANK('S15'!$D$25),\" \",'S15'!$D$25)","v":"  "},{"$f":"IF(ISBLANK('S15'!$D$24),\" \",'S15'!$D$24)","v":"  "},{"$f":"IF(ISBLANK('S15'!$D$23),\" \",'S15'!$D$23)","v":"  "},{"$f":"IF(ISBLANK('S15'!$D$22),\" \",'S15'!$D$22)","v":"  "},{"$f":"IF(ISBLANK('S15'!$D$21),\" \",'S15'!$D$21)","v":"  "},{"$f":"IF(ISBLANK('S15'!$D$20),\" \",'S15'!$D$20)","v":"  "},{"$f":"IF(ISBLANK('S15'!$D$19),\" \",'S15'!$D$19)","v":"  "},{"$f":"IF(ISBLANK('S15'!$D$18),\" \",'S15'!$D$18)","v":"  "},{"$f":"IF(ISBLANK('S15'!$D$17),\" \",'S15'!$D$17)","v":"  "},{"$f":"IF(ISBLANK('S15'!$D$16),\" \",'S15'!$D$16)","v":"  "},{"$f":"IF(ISBLANK('S15'!$D$15),\" \",'S15'!$D$15)","v":" "}]
[86,{"$f":"IF(ISBLANK('S15'!E$28),\" \",'S15'!E$28)","v":" "},{"$f":"IF(ISBLANK('S15'!F$27),\" \",'S15'!F$27)","v":"  "},{"$f":"IF(ISBLANK('S15'!F$26),\" \",'S15'!F$26)","v":"  "},{"$f":"IF(ISBLANK('S15'!$F$25),\" \",'S15'!$F$25)","v":"  "},{"$f":"IF(ISBLANK('S15'!$F$24),\" \",'S15'!$F$24)","v":"  "},{"$f":"IF(ISBLANK('S15'!$F$23),\" \",'S15'!$F$23)","v":"  "},{"$f":"IF(ISBLANK('S15'!$F$22),\" \",'S15'!$F$22)","v":"  "},{"$f":"IF(ISBLANK('S15'!$F$21),\" \",'S15'!$F$21)","v":"  "},{"$f":"IF(ISBLANK('S15'!$F$20),\" \",'S15'!$F$20)","v":"  "},{"$f":"IF(ISBLANK('S15'!$F$19),\" \",'S15'!$F$19)","v":"  "},{"$f":"IF(ISBLANK('S15'!$F$18),\" \",'S15'!$F$18)","v":"  "},{"$f":"IF(ISBLANK('S15'!$F$17),\" \",'S15'!$F$17)","v":"  "},{"$f":"IF(ISBLANK('S15'!$F$16),\" \",'S15'!$F$16)","v":"  "},{"$f":"IF(ISBLANK('S15'!$F$15),\" \",'S15'!$F$15)","v":" "}]
[87,{"$f":"IF(ISBLANK('S15'!G$28),\" \",'S15'!G$28)","v":" "},{"$f":"IF(ISBLANK('S15'!H$27),\" \",'S15'!H$27)","v":"  "},{"$f":"IF(ISBLANK('S15'!H$26),\" \",'S15'!H$26)","v":"  "},{"$f":"IF(ISBLANK('S15'!$H$25),\" \",'S15'!$H$25)","v":"  "},{"$f":"IF(ISBLANK('S15'!$H$24),\" \",'S15'!$H$24)","v":"  "},{"$f":"IF(ISBLANK('S15'!$H$23),\" \",'S15'!$H$23)","v":"  "},{"$f":"IF(ISBLANK('S15'!$H$22),\" \",'S15'!$H$22)","v":"  "},{"$f":"IF(ISBLANK('S15'!$H$21),\" \",'S15'!$H$21)","v":"  "},{"$f":"IF(ISBLANK('S15'!$H$20),\" \",'S15'!$H$20)","v":"  "},{"$f":"IF(ISBLANK('S15'!$H$19),\" \",'S15'!$H$19)","v":"  "},{"$f":"IF(ISBLANK('S15'!$H$18),\" \",'S15'!$H$18)","v":"  "},{"$f":"IF(ISBLANK('S15'!$H$17),\" \",'S15'!$H$17)","v":"  "},{"$f":"IF(ISBLANK('S15'!$H$16),\" \",'S15'!$H$16)","v":"  "},{"$f":"IF(ISBLANK('S15'!$H$15),\" \",'S15'!$H$15)","v":" "}]
[88,{"$f":"IF(ISBLANK('S15'!I$28),\" \",'S15'!I$28)","v":" "},{"$f":"IF(ISBLANK('S15'!J$27),\" \",'S15'!J$27)","v":"  "},{"$f":"IF(ISBLANK('S15'!J$26),\" \",'S15'!J$26)","v":"  "},{"$f":"IF(ISBLANK('S15'!$J$25),\" \",'S15'!$J$25)","v":"  "},{"$f":"IF(ISBLANK('S15'!$J$24),\" \",'S15'!$J$24)","v":"  "},{"$f":"IF(ISBLANK('S15'!$J$23),\" \",'S15'!$J$23)","v":"  "},{"$f":"IF(ISBLANK('S15'!$J$22),\" \",'S15'!$J$22)","v":"  "},{"$f":"IF(ISBLANK('S15'!$J$21),\" \",'S15'!$J$21)","v":"  "},{"$f":"IF(ISBLANK('S15'!$J$20),\" \",'S15'!$J$20)","v":"  "},{"$f":"IF(ISBLANK('S15'!$J$19),\" \",'S15'!$J$19)","v":"  "},{"$f":"IF(ISBLANK('S15'!$J$18),\" \",'S15'!$J$18)","v":"  "},{"$f":"IF(ISBLANK('S15'!$J$17),\" \",'S15'!$J$17)","v":"  "},{"$f":"IF(ISBLANK('S15'!$J$16),\" \",'S15'!$J$16)","v":"  "},{"$f":"IF(ISBLANK('S15'!$J$15),\" \",'S15'!$J$15)","v":" "}]
[89,{"$f":"IF(ISBLANK('S15'!K$28),\" \",'S15'!K$28)","v":" "},{"$f":"IF(ISBLANK('S15'!L$27),\" \",'S15'!L$27)","v":"  "},{"$f":"IF(ISBLANK('S15'!L$26),\" \",'S15'!L$26)","v":"  "},{"$f":"IF(ISBLANK('S15'!$L$25),\" \",'S15'!$L$25)","v":"  "},{"$f":"IF(ISBLANK('S15'!$L$24),\" \",'S15'!$L$24)","v":"  "},{"$f":"IF(ISBLANK('S15'!$L$23),\" \",'S15'!$L$23)","v":"  "},{"$f":"IF(ISBLANK('S15'!$L$22),\" \",'S15'!$L$22)","v":"  "},{"$f":"IF(ISBLANK('S15'!$L$21),\" \",'S15'!$L$21)","v":"  "},{"$f":"IF(ISBLANK('S15'!$L$20),\" \",'S15'!$L$20)","v":"  "},{"$f":"IF(ISBLANK('S15'!$L$19),\" \",'S15'!$L$19)","v":"  "},{"$f":"IF(ISBLANK('S15'!$L$18),\" \",'S15'!$L$18)","v":"  "},{"$f":"IF(ISBLANK('S15'!$L$17),\" \",'S15'!$L$17)","v":"  "},{"$f":"IF(ISBLANK('S15'!$L$16),\" \",'S15'!$L$16)","v":"  "},{"$f":"IF(ISBLANK('S15'!$L$15),\" \",'S15'!$L$15)","v":" "}]
[90,{"$f":"IF(ISBLANK('S15'!M$28),\" \",'S15'!M$28)","v":" "},{"$f":"IF(ISBLANK('S15'!N$27),\" \",'S15'!N$27)","v":"  "},{"$f":"IF(ISBLANK('S15'!N$26),\" \",'S15'!N$26)","v":"  "},{"$f":"IF(ISBLANK('S15'!$N$25),\" \",'S15'!$N$25)","v":"  "},{"$f":"IF(ISBLANK('S15'!$N$24),\" \",'S15'!$N$24)","v":"  "},{"$f":"IF(ISBLANK('S15'!$N$23),\" \",'S15'!$N$23)","v":"  "},{"$f":"IF(ISBLANK('S15'!$N$22),\" \",'S15'!$N$22)","v":"  "},{"$f":"IF(ISBLANK('S15'!$N$21),\" \",'S15'!$N$21)","v":"  "},{"$f":"IF(ISBLANK('S15'!$N$20),\" \",'S15'!$N$20)","v":"  "},{"$f":"IF(ISBLANK('S15'!$N$19),\" \",'S15'!$N$19)","v":"  "},{"$f":"IF(ISBLANK('S15'!$N$18),\" \",'S15'!$N$18)","v":"  "},{"$f":"IF(ISBLANK('S15'!$N$17),\" \",'S15'!$N$17)","v":"  "},{"$f":"IF(ISBLANK('S15'!$N$16),\" \",'S15'!$N$16)","v":"  "},{"$f":"IF(ISBLANK('S15'!$N$15),\" \",'S15'!$N$15)","v":" "}]
[91,{"$f":"IF(ISBLANK('S16'!C$28),\" \",'S16'!C$28)","v":" "},{"$f":"IF(ISBLANK('S16'!D$27),\" \",'S16'!D$27)","v":"  "},{"$f":"IF(ISBLANK('S16'!D$26),\" \",'S16'!D$26)","v":"  "},{"$f":"IF(ISBLANK('S16'!$D$25),\" \",'S16'!$D$25)","v":"  "},{"$f":"IF(ISBLANK('S16'!$D$24),\" \",'S16'!$D$24)","v":"  "},{"$f":"IF(ISBLANK('S16'!$D$23),\" \",'S16'!$D$23)","v":"  "},{"$f":"IF(ISBLANK('S16'!$D$22),\" \",'S16'!$D$22)","v":"  "},{"$f":"IF(ISBLANK('S16'!$D$21),\" \",'S16'!$D$21)","v":"  "},{"$f":"IF(ISBLANK('S16'!$D$20),\" \",'S16'!$D$20)","v":"  "},{"$f":"IF(ISBLANK('S16'!$D$19),\" \",'S16'!$D$19)","v":"  "},{"$f":"IF(ISBLANK('S16'!$D$18),\" \",'S16'!$D$18)","v":"  "},{"$f":"IF(ISBLANK('S16'!$D$17),\" \",'S16'!$D$17)","v":"  "},{"$f":"IF(ISBLANK('S16'!$D$16),\" \",'S16'!$D$16)","v":"  "},{"$f":"IF(ISBLANK('S16'!$D$15),\" \",'S16'!$D$15)","v":" "}]
[92,{"$f":"IF(ISBLANK('S16'!E$28),\" \",'S16'!E$28)","v":" "},{"$f":"IF(ISBLANK('S16'!F$27),\" \",'S16'!F$27)","v":"  "},{"$f":"IF(ISBLANK('S16'!F$26),\" \",'S16'!F$26)","v":"  "},{"$f":"IF(ISBLANK('S16'!$F$25),\" \",'S16'!$F$25)","v":"  "},{"$f":"IF(ISBLANK('S16'!$F$24),\" \",'S16'!$F$24)","v":"  "},{"$f":"IF(ISBLANK('S16'!$F$23),\" \",'S16'!$F$23)","v":"  "},{"$f":"IF(ISBLANK('S16'!$F$22),\" \",'S16'!$F$22)","v":"  "},{"$f":"IF(ISBLANK('S16'!$F$21),\" \",'S16'!$F$21)","v":"  "},{"$f":"IF(ISBLANK('S16'!$F$20),\" \",'S16'!$F$20)","v":"  "},{"$f":"IF(ISBLANK('S16'!$F$19),\" \",'S16'!$F$19)","v":"  "},{"$f":"IF(ISBLANK('S16'!$F$18),\" \",'S16'!$F$18)","v":"  "},{"$f":"IF(ISBLANK('S16'!$F$17),\" \",'S16'!$F$17)","v":"  "},{"$f":"IF(ISBLANK('S16'!$F$16),\" \",'S16'!$F$16)","v":"  "},{"$f":"IF(ISBLANK('S16'!$F$15),\" \",'S16'!$F$15)","v":" "}]
[93,{"$f":"IF(ISBLANK('S16'!G$28),\" \",'S16'!G$28)","v":" "},{"$f":"IF(ISBLANK('S16'!H$27),\" \",'S16'!H$27)","v":"  "},{"$f":"IF(ISBLANK('S16'!H$26),\" \",'S16'!H$26)","v":"  "},{"$f":"IF(ISBLANK('S16'!$H$25),\" \",'S16'!$H$25)","v":"  "},{"$f":"IF(ISBLANK('S16'!$H$24),\" \",'S16'!$H$24)","v":"  "},{"$f":"IF(ISBLANK('S16'!$H$23),\" \",'S16'!$H$23)","v":"  "},{"$f":"IF(ISBLANK('S16'!$H$22),\" \",'S16'!$H$22)","v":"  "},{"$f":"IF(ISBLANK('S16'!$H$21),\" \",'S16'!$H$21)","v":"  "},{"$f":"IF(ISBLANK('S16'!$H$20),\" \",'S16'!$H$20)","v":"  "},{"$f":"IF(ISBLANK('S16'!$H$19),\" \",'S16'!$H$19)","v":"  "},{"$f":"IF(ISBLANK('S16'!$H$18),\" \",'S16'!$H$18)","v":"  "},{"$f":"IF(ISBLANK('S16'!$H$17),\" \",'S16'!$H$17)","v":"  "},{"$f":"IF(ISBLANK('S16'!$H$16),\" \",'S16'!$H$16)","v":"  "},{"$f":"IF(ISBLANK('S16'!$H$15),\" \",'S16'!$H$15)","v":" "}]
[94,{"$f":"IF(ISBLANK('S16'!I$28),\" \",'S16'!I$28)","v":" "},{"$f":"IF(ISBLANK('S16'!J$27),\" \",'S16'!J$27)","v":"  "},{"$f":"IF(ISBLANK('S16'!J$26),\" \",'S16'!J$26)","v":"  "},{"$f":"IF(ISBLANK('S16'!$J$25),\" \",'S16'!$J$25)","v":"  "},{"$f":"IF(ISBLANK('S16'!$J$24),\" \",'S16'!$J$24)","v":"  "},{"$f":"IF(ISBLANK('S16'!$J$23),\" \",'S16'!$J$23)","v":"  "},{"$f":"IF(ISBLANK('S16'!$J$22),\" \",'S16'!$J$22)","v":"  "},{"$f":"IF(ISBLANK('S16'!$J$21),\" \",'S16'!$J$21)","v":"  "},{"$f":"IF(ISBLANK('S16'!$J$20),\" \",'S16'!$J$20)","v":"  "},{"$f":"IF(ISBLANK('S16'!$J$19),\" \",'S16'!$J$19)","v":"  "},{"$f":"IF(ISBLANK('S16'!$J$18),\" \",'S16'!$J$18)","v":"  "},{"$f":"IF(ISBLANK('S16'!$J$17),\" \",'S16'!$J$17)","v":"  "},{"$f":"IF(ISBLANK('S16'!$J$16),\" \",'S16'!$J$16)","v":"  "},{"$f":"IF(ISBLANK('S16'!$J$15),\" \",'S16'!$J$15)","v":" "}]
[95,{"$f":"IF(ISBLANK('S16'!K$28),\" \",'S16'!K$28)","v":" "},{"$f":"IF(ISBLANK('S16'!L$27),\" \",'S16'!L$27)","v":"  "},{"$f":"IF(ISBLANK('S16'!L$26),\" \",'S16'!L$26)","v":"  "},{"$f":"IF(ISBLANK('S16'!$L$25),\" \",'S16'!$L$25)","v":"  "},{"$f":"IF(ISBLANK('S16'!$L$24),\" \",'S16'!$L$24)","v":"  "},{"$f":"IF(ISBLANK('S16'!$L$23),\" \",'S16'!$L$23)","v":"  "},{"$f":"IF(ISBLANK('S16'!$L$22),\" \",'S16'!$L$22)","v":"  "},{"$f":"IF(ISBLANK('S16'!$L$21),\" \",'S16'!$L$21)","v":"  "},{"$f":"IF(ISBLANK('S16'!$L$20),\" \",'S16'!$L$20)","v":"  "},{"$f":"IF(ISBLANK('S16'!$L$19),\" \",'S16'!$L$19)","v":"  "},{"$f":"IF(ISBLANK('S16'!$L$18),\" \",'S16'!$L$18)","v":"  "},{"$f":"IF(ISBLANK('S16'!$L$17),\" \",'S16'!$L$17)","v":"  "},{"$f":"IF(ISBLANK('S16'!$L$16),\" \",'S16'!$L$16)","v":"  "},{"$f":"IF(ISBLANK('S16'!$L$15),\" \",'S16'!$L$15)","v":" "}]
[96,{"$f":"IF(ISBLANK('S16'!M$28),\" \",'S16'!M$28)","v":" "},{"$f":"IF(ISBLANK('S16'!N$27),\" \",'S16'!N$27)","v":"  "},{"$f":"IF(ISBLANK('S16'!N$26),\" \",'S16'!N$26)","v":"  "},{"$f":"IF(ISBLANK('S16'!$N$25),\" \",'S16'!$N$25)","v":"  "},{"$f":"IF(ISBLANK('S16'!$N$24),\" \",'S16'!$N$24)","v":"  "},{"$f":"IF(ISBLANK('S16'!$N$23),\" \",'S16'!$N$23)","v":"  "},{"$f":"IF(ISBLANK('S16'!$N$22),\" \",'S16'!$N$22)","v":"  "},{"$f":"IF(ISBLANK('S16'!$N$21),\" \",'S16'!$N$21)","v":"  "},{"$f":"IF(ISBLANK('S16'!$N$20),\" \",'S16'!$N$20)","v":"  "},{"$f":"IF(ISBLANK('S16'!$N$19),\" \",'S16'!$N$19)","v":"  "},{"$f":"IF(ISBLANK('S16'!$N$18),\" \",'S16'!$N$18)","v":"  "},{"$f":"IF(ISBLANK('S16'!$N$17),\" \",'S16'!$N$17)","v":"  "},{"$f":"IF(ISBLANK('S16'!$N$16),\" \",'S16'!$N$16)","v":"  "},{"$f":"IF(ISBLANK('S16'!$N$15),\" \",'S16'!$N$15)","v":" "}]

{"sheet":"AP","index":23,"n_rows":93,"n_cols":35,"rows_kept":93,"cut":false,"hidden":true,"merged":[[0,7,3,7],[63,10,63,11],[11,10,11,11],[31,4,31,5],[51,10,51,11],[0,0,2,5],[4,0,10,0],[3,10,3,11],[31,10,31,11],[37,10,37,11],[43,10,43,11],[25,10,25,11],[19,10,19,11],[12,0,18,0],[11,4,11,5],[37,4,37,5],[20,0,24,0],[26,0,30,0],[32,0,36,0],[38,0,42,0],[44,0,50,0],[88,0,92,0],[52,0,56,0],[64,0,68,0],[70,0,74,0],[76,0,80,0],[58,0,62,0],[82,0,86,0],[51,4,51,5],[63,4,63,5],[69,4,69,5],[75,4,75,5],[57,4,57,5],[136,36,136,38],[73,36,73,42],[19,4,19,5],[25,4,25,5],[37,32,37,34],[37,28,37,30],[43,4,43,5],[57,10,57,11],[81,4,81,5],[87,4,87,5],[69,10,69,11],[81,10,81,11],[87,10,87,11],[75,10,75,11],[136,28,136,30],[136,32,136,34]]}
["This sheet can be used to change action points, single and multiple sample tolerances. Change values in yellow cell to change tolerances",null,null,null,null,null,null,"This column does the math for AP, target and tolerances"]
[]
[]
[null,null,null,null,"19mm & less","25mm",null,null,null,null,"AC"]
["AC","Upper single sample tolerance",null,null,0.7,0.8,null,{"$f":"('S1'!C52-'S1'!B28)-E5","v":0.10000000000000009},{"$f":"('S1'!$C$52-'S1'!$B$28)-F5","v":0},null,"N=1",{"$f":"IF(OR('S1'!$C$6<25,'S1'!$C$6=\"SMA95\",'S1'!$C$6=\"SMA125\"),'S1'!$C$52-AP!$H$5,'S1'!$C$52-AP!$I$5)","v":0.7},{"$f":"IF(OR('S1'!$C$6<25,'S1'!$C$6=\"SMA95\",'S1'!$C$6=\"SMA125\"),'S1'!$C$52-AP!$H$5,'S1'!$C$52-AP!$I$5)","v":0.7},{"$f":"IF(OR('S1'!$C$6<25,'S1'!$C$6=\"SMA95\",'S1'!$C$6=\"SMA125\"),'S1'!$C$52-AP!$H$5,'S1'!$C$52-AP!$I$5)","v":0.7},{"$f":"IF(OR('S1'!$C$6<25,'S1'!$C$6=\"SMA95\",'S1'!$C$6=\"SMA125\"),'S1'!$C$52-AP!$H$5,'S1'!$C$52-AP!$I$5)","v":0.7},{"$f":"IF(OR('S1'!$C$6<25,'S1'!$C$6=\"SMA95\",'S1'!$C$6=\"SMA125\"),'S1'!$C$52-AP!$H$5,'S1'!$C$52-AP!$I$5)","v":0.7},{"$f":"IF(OR('S1'!$C$6<25,'S1'!$C$6=\"SMA95\",'S1'!$C$6=\"SMA125\"),'S1'!$C$52-AP!$H$5,'S1'!$C$52-AP!$I$5)","v":0.7},{"$f":"IF(OR('S1'!$C$6<25,'S1'!$C$6=\"SMA95\",'S1'!$C$6=\"SMA125\"),'S1'!$C$52-AP!$H$5,'S1'!$C$52-AP!$I$5)","v":0.7},{"$f":"IF(OR('S1'!$C$6<25,'S1'!$C$6=\"SMA95\",'S1'!$C$6=\"SMA125\"),'S1'!$C$52-AP!$H$5,'S1'!$C$52-AP!$I$5)","v":0.7},{"$f":"IF(OR('S1'!$C$6<25,'S1'!$C$6=\"SMA95\",'S1'!$C$6=\"SMA125\"),'S1'!$C$52-AP!$H$5,'S1'!$C$52-AP!$I$5)","v":0.7},{"$f":"IF(OR('S1'!$C$6<25,'S1'!$C$6=\"SMA95\",'S1'!$C$6=\"SMA125\"),'S1'!$C$52-AP!$H$5,'S1'!$C$52-AP!$I$5)","v":0.7},{"$f":"IF(OR('S1'!$C$6<25,'S1'!$C$6=\"SMA95\",'S1'!$C$6=\"SMA125\"),'S1'!$C$52-AP!$H$5,'S1'!$C$52-AP!$I$5)","v":0.7},{"$f":"IF(OR('S1'!$C$6<25,'S1'!$C$6=\"SMA95\",'S1'!$C$6=\"SMA125\"),'S1'!$C$52-AP!$H$5,'S1'!$C$52-AP!$I$5)","v":0.7},{"$f":"IF(OR('S1'!$C$6<25,'S1'!$C$6=\"SMA95\",'S1'!$C$6=\"SMA125\"),'S1'!$C$52-AP!$H$5,'S1'!$C$52-AP!$I$5)","v":0.7},{"$f":"IF(OR('S1'!$C$6<25,'S1'!$C$6=\"SMA95\",'S1'!$C$6=\"SMA125\"),'S1'!$C$52-AP!$H$5,'S1'!$C$52-AP!$I$5)","v":0.7},{"$f":"IF(OR('S1'!$C$6<25,'S1'!$C$6=\"SMA95\",'S1'!$C$6=\"SMA125\"),'S1'!$C$52-AP!$H$5,'S1'!$C$52-AP!$I$5)","v":0.7},{"$f":"IF(OR('S1'!$C$6<25,'S1'!$C$6=\"SMA95\",'S1'!$C$6=\"SMA125\"),'S1'!$C$52-AP!$H$5,'S1'!$C$52-AP!$I$5)","v":0.7},{"$f":"IF(OR('S1'!$C$6<25,'S1'!$C$6=\"SMA95\",'S1'!$C$6=\"SMA125\"),'S1'!$C$52-AP!$H$5,'S1'!$C$52-AP!$I$5)","v":0.7},{"$f":"IF(OR('S1'!$C$6<25,'S1'!$C$6=\"SMA95\",'S1'!$C$6=\"SMA125\"),'S1'!$C$52-AP!$H$5,'S1'!$C$52-AP!$I$5)","v":0.7},{"$f":"IF(OR('S1'!$C$6<25,'S1'!$C$6=\"SMA95\",'S1'!$C$6=\"SMA125\"),'S1'!$C$52-AP!$H$5,'S1'!$C$52-AP!$I$5)","v":0.7},{"$f":"IF(OR('S1'!$C$6<25,'S1'!$C$6=\"SMA95\",'S1'!$C$6=\"SMA125\"),'S1'!$C$52-AP!$H$5,'S1'!$C$52-AP!$I$5)","v":0.7},{"$f":"IF(OR('S1'!$C$6<25,'S1'!$C$6=\"SMA95\",'S1'!$C$6=\"SMA125\"),'S1'!$C$52-AP!$H$5,'S1'!$C$52-AP!$I$5)","v":0.7},{"$f":"IF(OR('S1'!$C$6<25,'S1'!$C$6=\"SMA95\",'S1'!$C$6=\"SMA125\"),'S1'!$C$52-AP!$H$5,'S1'!$C$52-AP!$I$5)","v":0.7},{"$f":"IF(OR('S1'!$C$6<25,'S1'!$C$6=\"SMA95\",'S1'!$C$6=\"SMA125\"),'S1'!$C$52-AP!$H$5,'S1'!$C$52-AP!$I$5)","v":0.7},{"$f":"IF(OR('S1'!$C$6<25,'S1'!$C$6=\"SMA95\",'S1'!$C$6=\"SMA125\"),'S1'!$C$52-AP!$H$5,'S1'!$C$52-AP!$I$5)","v":0.7}]
[null,"Upper multiple sample tolerance",null,null,0.4,0.5,null,{"$f":"('S1'!C52-'S1'!B28)-E6","v":0.4},{"$f":"('S1'!$C$52-'S1'!$B$28)-F6","v":0.30000000000000004},null,"N=5",{"$f":"IF(OR('S1'!$C$6<25,'S1'!$C$6=\"SMA95\",'S1'!$C$6=\"SMA125\"),'S1'!$C$52-AP!$H$6,'S1'!$C$52-AP!$I$6)","v":0.4},{"$f":"IF(OR('S1'!$C$6<25,'S1'!$C$6=\"SMA95\",'S1'!$C$6=\"SMA125\"),'S1'!$C$52-AP!$H$6,'S1'!$C$52-AP!$I$6)","v":0.4},{"$f":"IF(OR('S1'!$C$6<25,'S1'!$C$6=\"SMA95\",'S1'!$C$6=\"SMA125\"),'S1'!$C$52-AP!$H$6,'S1'!$C$52-AP!$I$6)","v":0.4},{"$f":"IF(OR('S1'!$C$6<25,'S1'!$C$6=\"SMA95\",'S1'!$C$6=\"SMA125\"),'S1'!$C$52-AP!$H$6,'S1'!$C$52-AP!$I$6)","v":0.4},{"$f":"IF(OR('S1'!$C$6<25,'S1'!$C$6=\"SMA95\",'S1'!$C$6=\"SMA125\"),'S1'!$C$52-AP!$H$6,'S1'!$C$52-AP!$I$6)","v":0.4},{"$f":"IF(OR('S1'!$C$6<25,'S1'!$C$6=\"SMA95\",'S1'!$C$6=\"SMA125\"),'S1'!$C$52-AP!$H$6,'S1'!$C$52-AP!$I$6)","v":0.4},{"$f":"IF(OR('S1'!$C$6<25,'S1'!$C$6=\"SMA95\",'S1'!$C$6=\"SMA125\"),'S1'!$C$52-AP!$H$6,'S1'!$C$52-AP!$I$6)","v":0.4},{"$f":"IF(OR('S1'!$C$6<25,'S1'!$C$6=\"SMA95\",'S1'!$C$6=\"SMA125\"),'S1'!$C$52-AP!$H$6,'S1'!$C$52-AP!$I$6)","v":0.4},{"$f":"IF(OR('S1'!$C$6<25,'S1'!$C$6=\"SMA95\",'S1'!$C$6=\"SMA125\"),'S1'!$C$52-AP!$H$6,'S1'!$C$52-AP!$I$6)","v":0.4},{"$f":"IF(OR('S1'!$C$6<25,'S1'!$C$6=\"SMA95\",'S1'!$C$6=\"SMA125\"),'S1'!$C$52-AP!$H$6,'S1'!$C$52-AP!$I$6)","v":0.4},{"$f":"IF(OR('S1'!$C$6<25,'S1'!$C$6=\"SMA95\",'S1'!$C$6=\"SMA125\"),'S1'!$C$52-AP!$H$6,'S1'!$C$52-AP!$I$6)","v":0.4},{"$f":"IF(OR('S1'!$C$6<25,'S1'!$C$6=\"SMA95\",'S1'!$C$6=\"SMA125\"),'S1'!$C$52-AP!$H$6,'S1'!$C$52-AP!$I$6)","v":0.4},{"$f":"IF(OR('S1'!$C$6<25,'S1'!$C$6=\"SMA95\",'S1'!$C$6=\"SMA125\"),'S1'!$C$52-AP!$H$6,'S1'!$C$52-AP!$I$6)","v":0.4},{"$f":"IF(OR('S1'!$C$6<25,'S1'!$C$6=\"SMA95\",'S1'!$C$6=\"SMA125\"),'S1'!$C$52-AP!$H$6,'S1'!$C$52-AP!$I$6)","v":0.4},{"$f":"IF(OR('S1'!$C$6<25,'S1'!$C$6=\"SMA95\",'S1'!$C$6=\"SMA125\"),'S1'!$C$52-AP!$H$6,'S1'!$C$52-AP!$I$6)","v":0.4},{"$f":"IF(OR('S1'!$C$6<25,'S1'!$C$6=\"SMA95\",'S1'!$C$6=\"SMA125\"),'S1'!$C$52-AP!$H$6,'S1'!$C$52-AP!$I$6)","v":0.4},{"$f":"IF(OR('S1'!$C$6<25,'S1'!$C$6=\"SMA95\",'S1'!$C$6=\"SMA125\"),'S1'!$C$52-AP!$H$6,'S1'!$C$52-AP!$I$6)","v":0.4},{"$f":"IF(OR('S1'!$C$6<25,'S1'!$C$6=\"SMA95\",'S1'!$C$6=\"SMA125\"),'S1'!$C$52-AP!$H$6,'S1'!$C$52-AP!$I$6)","v":0.4},{"$f":"IF(OR('S1'!$C$6<25,'S1'!$C$6=\"SMA95\",'S1'!$C$6=\"SMA125\"),'S1'!$C$52-AP!$H$6,'S1'!$C$52-AP!$I$6)","v":0.4},{"$f":"IF(OR('S1'!$C$6<25,'S1'!$C$6=\"SMA95\",'S1'!$C$6=\"SMA125\"),'S1'!$C$52-AP!$H$6,'S1'!$C$52-AP!$I$6)","v":0.4},{"$f":"IF(OR('S1'!$C$6<25,'S1'!$C$6=\"SMA95\",'S1'!$C$6=\"SMA125\"),'S1'!$C$52-AP!$H$6,'S1'!$C$52-AP!$I$6)","v":0.4},{"$f":"IF(OR('S1'!$C$6<25,'S1'!$C$6=\"SMA95\",'S1'!$C$6=\"SMA125\"),'S1'!$C$52-AP!$H$6,'S1'!$C$52-AP!$I$6)","v":0.4},{"$f":"IF(OR('S1'!$C$6<25,'S1'!$C$6=\"SMA95\",'S1'!$C$6=\"SMA125\"),'S1'!$C$52-AP!$H$6,'S1'!$C$52-AP!$I$6)","v":0.4},{"$f":"IF(OR('S1'!$C$6<25,'S1'!$C$6=\"SMA95\",'S1'!$C$6=\"SMA125\"),'S1'!$C$52-AP!$H$6,'S1'!$C$52-AP!$I$6)","v":0.4}]
[null,"Upper action point",null,null,0.2,0.2,null,{"$f":"('S1'!B28+E7)","v":0.2},{"$f":"('S1'!$C$52-'S1'!$B$28)-F7","v":0.60000000000000009},null,"Upper  AP",{"$f":"AP!$H$7","v":0.2},{"$f":"AP!$H$7","v":0.2},{"$f":"AP!$H$7","v":0.2},{"$f":"AP!$H$7","v":0.2},{"$f":"AP!$H$7","v":0.2},{"$f":"AP!$H$7","v":0.2},{"$f":"AP!$H$7","v":0.2},{"$f":"AP!$H$7","v":0.2},{"$f":"AP!$H$7","v":0.2},{"$f":"AP!$H$7","v":0.2},{"$f":"AP!$H$7","v":0.2},{"$f":"AP!$H$7","v":0.2},{"$f":"AP!$H$7","v":0.2},{"$f":"AP!$H$7","v":0.2},{"$f":"AP!$H$7","v":0.2},{"$f":"AP!$H$7","v":0.2},{"$f":"AP!$H$7","v":0.2},{"$f":"AP!$H$7","v":0.2},{"$f":"AP!$H$7","v":0.2},{"$f":"AP!$H$7","v":0.2},{"$f":"AP!$H$7","v":0.2},{"$f":"AP!$H$7","v":0.2},{"$f":"AP!$H$7","v":0.2},{"$f":"AP!$H$7","v":0.2}]
[null,"Target",null,null,{"$f":"'S1'!B28","v":0},null,null,null,null,null,"Target ",{"$f":"'S1'!$B$28","v":0},{"$f":"'S1'!$B$28","v":0},{"$f":"'S1'!$B$28","v":0},{"$f":"'S1'!$B$28","v":0},{"$f":"'S1'!$B$28","v":0},{"$f":"'S1'!$B$28","v":0},{"$f":"'S1'!$B$28","v":0},{"$f":"'S1'!$B$28","v":0},{"$f":"'S1'!$B$28","v":0},{"$f":"'S1'!$B$28","v":0},{"$f":"'S1'!$B$28","v":0},{"$f":"'S1'!$B$28","v":0},{"$f":"'S1'!$B$28","v":0},{"$f":"'S1'!$B$28","v":0},{"$f":"'S1'!$B$28","v":0},{"$f":"'S1'!$B$28","v":0},{"$f":"'S1'!$B$28","v":0},{"$f":"'S1'!$B$28","v":0},{"$f":"'S1'!$B$28","v":0},{"$f":"'S1'!$B$28","v":0},{"$f":"'S1'!$B$28","v":0},{"$f":"'S1'!$B$28","v":0},{"$f":"'S1'!$B$28","v":0},{"$f":"'S1'!$B$28","v":0}]
[null,"Lower action point",null,null,0.2,0.2,null,{"$f":"('S1'!B28-E9)","v":-0.2},{"$f":"('S1'!$C$52-'S1'!$B$28)-F9","v":0.60000000000000009},null,"Lower AP",{"$f":"AP!$H$9","v":-0.2},{"$f":"AP!$H$9","v":-0.2},{"$f":"AP!$H$9","v":-0.2},{"$f":"AP!$H$9","v":-0.2},{"$f":"AP!$H$9","v":-0.2},{"$f":"AP!$H$9","v":-0.2},{"$f":"AP!$H$9","v":-0.2},{"$f":"AP!$H$9","v":-0.2},{"$f":"AP!$H$9","v":-0.2},{"$f":"AP!$H$9","v":-0.2},{"$f":"AP!$H$9","v":-0.2},{"$f":"AP!$H$9","v":-0.2},{"$f":"AP!$H$9","v":-0.2},{"$f":"AP!$H$9","v":-0.2},{"$f":"AP!$H$9","v":-0.2},{"$f":"AP!$H$9","v":-0.2},{"$f":"AP!$H$9","v":-0.2},{"$f":"AP!$H$9","v":-0.2},{"$f":"AP!$H$9","v":-0.2},{"$f":"AP!$H$9","v":-0.2},{"$f":"AP!$H$9","v":-0.2},{"$f":"AP!$H$9","v":-0.2},{"$f":"AP!$H$9","v":-0.2},{"$f":"AP!$H$9","v":-0.2}]
[null,"Lower multiple sample tolerance",null,null,0.4,0.5,null,{"$f":"('S1'!C52-'S1'!B28)-E10","v":0.4},{"$f":"('S1'!$C$52-'S1'!$B$28)-F10","v":0.30000000000000004},null,"N=5",{"$f":"IF(OR('S1'!$C$6<25,'S1'!$C$6=\"SMA95\",'S1'!$C$6=\"SMA125\"),'S1'!$B$52+AP!$H$10,'S1'!$B$52+AP!$I$10)","v":-0.4},{"$f":"IF(OR('S1'!$C$6<25,'S1'!$C$6=\"SMA95\",'S1'!$C$6=\"SMA125\"),'S1'!$B$52+AP!$H$10,'S1'!$B$52+AP!$I$10)","v":-0.4},{"$f":"IF(OR('S1'!$C$6<25,'S1'!$C$6=\"SMA95\",'S1'!$C$6=\"SMA125\"),'S1'!$B$52+AP!$H$10,'S1'!$B$52+AP!$I$10)","v":-0.4},{"$f":"IF(OR('S1'!$C$6<25,'S1'!$C$6=\"SMA95\",'S1'!$C$6=\"SMA125\"),'S1'!$B$52+AP!$H$10,'S1'!$B$52+AP!$I$10)","v":-0.4},{"$f":"IF(OR('S1'!$C$6<25,'S1'!$C$6=\"SMA95\",'S1'!$C$6=\"SMA125\"),'S1'!$B$52+AP!$H$10,'S1'!$B$52+AP!$I$10)","v":-0.4},{"$f":"IF(OR('S1'!$C$6<25,'S1'!$C$6=\"SMA95\",'S1'!$C$6=\"SMA125\"),'S1'!$B$52+AP!$H$10,'S1'!$B$52+AP!$I$10)","v":-0.4},{"$f":"IF(OR('S1'!$C$6<25,'S1'!$C$6=\"SMA95\",'S1'!$C$6=\"SMA125\"),'S1'!$B$52+AP!$H$10,'S1'!$B$52+AP!$I$10)","v":-0.4},{"$f":"IF(OR('S1'!$C$6<25,'S1'!$C$6=\"SMA95\",'S1'!$C$6=\"SMA125\"),'S1'!$B$52+AP!$H$10,'S1'!$B$52+AP!$I$10)","v":-0.4},{"$f":"IF(OR('S1'!$C$6<25,'S1'!$C$6=\"SMA95\",'S1'!$C$6=\"SMA125\"),'S1'!$B$52+AP!$H$10,'S1'!$B$52+AP!$I$10)","v":-0.4},{"$f":"IF(OR('S1'!$C$6<25,'S1'!$C$6=\"SMA95\",'S1'!$C$6=\"SMA125\"),'S1'!$B$52+AP!$H$10,'S1'!$B$52+AP!$I$10)","v":-0.4},{"$f":"IF(OR('S1'!$C$6<25,'S1'!$C$6=\"SMA95\",'S1'!$C$6=\"SMA125\"),'S1'!$B$52+AP!$H$10,'S1'!$B$52+AP!$I$10)","v":-0.4},{"$f":"IF(OR('S1'!$C$6<25,'S1'!$C$6=\"SMA95\",'S1'!$C$6=\"SMA125\"),'S1'!$B$52+AP!$H$10,'S1'!$B$52+AP!$I$10)","v":-0.4},{"$f":"IF(OR('S1'!$C$6<25,'S1'!$C$6=\"SMA95\",'S1'!$C$6=\"SMA125\"),'S1'!$B$52+AP!$H$10,'S1'!$B$52+AP!$I$10)","v":-0.4},{"$f":"IF(OR('S1'!$C$6<25,'S1'!$C$6=\"SMA95\",'S1'!$C$6=\"SMA125\"),'S1'!$B$52+AP!$H$10,'S1'!$B$52+AP!$I$10)","v":-0.4},{"$f":"IF(OR('S1'!$C$6<25,'S1'!$C$6=\"SMA95\",'S1'!$C$6=\"SMA125\"),'S1'!$B$52+AP!$H$10,'S1'!$B$52+AP!$I$10)","v":-0.4},{"$f":"IF(OR('S1'!$C$6<25,'S1'!$C$6=\"SMA95\",'S1'!$C$6=\"SMA125\"),'S1'!$B$52+AP!$H$10,'S1'!$B$52+AP!$I$10)","v":-0.4},{"$f":"IF(OR('S1'!$C$6<25,'S1'!$C$6=\"SMA95\",'S1'!$C$6=\"SMA125\"),'S1'!$B$52+AP!$H$10,'S1'!$B$52+AP!$I$10)","v":-0.4},{"$f":"IF(OR('S1'!$C$6<25,'S1'!$C$6=\"SMA95\",'S1'!$C$6=\"SMA125\"),'S1'!$B$52+AP!$H$10,'S1'!$B$52+AP!$I$10)","v":-0.4},{"$f":"IF(OR('S1'!$C$6<25,'S1'!$C$6=\"SMA95\",'S1'!$C$6=\"SMA125\"),'S1'!$B$52+AP!$H$10,'S1'!$B$52+AP!$I$10)","v":-0.4},{"$f":"IF(OR('S1'!$C$6<25,'S1'!$C$6=\"SMA95\",'S1'!$C$6=\"SMA125\"),'S1'!$B$52+AP!$H$10,'S1'!$B$52+AP!$I$10)","v":-0.4},{"$f":"IF(OR('S1'!$C$6<25,'S1'!$C$6=\"SMA95\",'S1'!$C$6=\"SMA125\"),'S1'!$B$52+AP!$H$10,'S1'!$B$52+AP!$I$10)","v":-0.4},{"$f":"IF(OR('S1'!$C$6<25,'S1'!$C$6=\"SMA95\",'S1'!$C$6=\"SMA125\"),'S1'!$B$52+AP!$H$10,'S1'!$B$52+AP!$I$10)","v":-0.4},{"$f":"IF(OR('S1'!$C$6<25,'S1'!$C$6=\"SMA95\",'S1'!$C$6=\"SMA125\"),'S1'!$B$52+AP!$H$10,'S1'!$B$52+AP!$I$10)","v":-0.4},{"$f":"IF(OR('S1'!$C$6<25,'S1'!$C$6=\"SMA95\",'S1'!$C$6=\"SMA125\"),'S1'!$B$52+AP!$H$10,'S1'!$B$52+AP!$I$10)","v":-0.4}]
[null,"Lower single sample tolerance",null,null,0.7,0.8,null,{"$f":"('S1'!C52-'S1'!B28)-E11","v":0.10000000000000009},{"$f":"('S1'!$C$52-'S1'!$B$28)-F11","v":0},null,"N=1",{"$f":"IF(OR('S1'!$C$6<25,'S1'!$C$6=\"SMA95\",'S1'!$C$6=\"SMA125\"),'S1'!$B$52+AP!$H$11,'S1'!$B$52+AP!$I$11)","v":-0.7},{"$f":"IF(OR('S1'!$C$6<25,'S1'!$C$6=\"SMA95\",'S1'!$C$6=\"SMA125\"),'S1'!$B$52+AP!$H$11,'S1'!$B$52+AP!$I$11)","v":-0.7},{"$f":"IF(OR('S1'!$C$6<25,'S1'!$C$6=\"SMA95\",'S1'!$C$6=\"SMA125\"),'S1'!$B$52+AP!$H$11,'S1'!$B$52+AP!$I$11)","v":-0.7},{"$f":"IF(OR('S1'!$C$6<25,'S1'!$C$6=\"SMA95\",'S1'!$C$6=\"SMA125\"),'S1'!$B$52+AP!$H$11,'S1'!$B$52+AP!$I$11)","v":-0.7},{"$f":"IF(OR('S1'!$C$6<25,'S1'!$C$6=\"SMA95\",'S1'!$C$6=\"SMA125\"),'S1'!$B$52+AP!$H$11,'S1'!$B$52+AP!$I$11)","v":-0.7},{"$f":"IF(OR('S1'!$C$6<25,'S1'!$C$6=\"SMA95\",'S1'!$C$6=\"SMA125\"),'S1'!$B$52+AP!$H$11,'S1'!$B$52+AP!$I$11)","v":-0.7},{"$f":"IF(OR('S1'!$C$6<25,'S1'!$C$6=\"SMA95\",'S1'!$C$6=\"SMA125\"),'S1'!$B$52+AP!$H$11,'S1'!$B$52+AP!$I$11)","v":-0.7},{"$f":"IF(OR('S1'!$C$6<25,'S1'!$C$6=\"SMA95\",'S1'!$C$6=\"SMA125\"),'S1'!$B$52+AP!$H$11,'S1'!$B$52+AP!$I$11)","v":-0.7},{"$f":"IF(OR('S1'!$C$6<25,'S1'!$C$6=\"SMA95\",'S1'!$C$6=\"SMA125\"),'S1'!$B$52+AP!$H$11,'S1'!$B$52+AP!$I$11)","v":-0.7},{"$f":"IF(OR('S1'!$C$6<25,'S1'!$C$6=\"SMA95\",'S1'!$C$6=\"SMA125\"),'S1'!$B$52+AP!$H$11,'S1'!$B$52+AP!$I$11)","v":-0.7},{"$f":"IF(OR('S1'!$C$6<25,'S1'!$C$6=\"SMA95\",'S1'!$C$6=\"SMA125\"),'S1'!$B$52+AP!$H$11,'S1'!$B$52+AP!$I$11)","v":-0.7},{"$f":"IF(OR('S1'!$C$6<25,'S1'!$C$6=\"SMA95\",'S1'!$C$6=\"SMA125\"),'S1'!$B$52+AP!$H$11,'S1'!$B$52+AP!$I$11)","v":-0.7},{"$f":"IF(OR('S1'!$C$6<25,'S1'!$C$6=\"SMA95\",'S1'!$C$6=\"SMA125\"),'S1'!$B$52+AP!$H$11,'S1'!$B$52+AP!$I$11)","v":-0.7},{"$f":"IF(OR('S1'!$C$6<25,'S1'!$C$6=\"SMA95\",'S1'!$C$6=\"SMA125\"),'S1'!$B$52+AP!$H$11,'S1'!$B$52+AP!$I$11)","v":-0.7},{"$f":"IF(OR('S1'!$C$6<25,'S1'!$C$6=\"SMA95\",'S1'!$C$6=\"SMA125\"),'S1'!$B$52+AP!$H$11,'S1'!$B$52+AP!$I$11)","v":-0.7},{"$f":"IF(OR('S1'!$C$6<25,'S1'!$C$6=\"SMA95\",'S1'!$C$6=\"SMA125\"),'S1'!$B$52+AP!$H$11,'S1'!$B$52+AP!$I$11)","v":-0.7},{"$f":"IF(OR('S1'!$C$6<25,'S1'!$C$6=\"SMA95\",'S1'!$C$6=\"SMA125\"),'S1'!$B$52+AP!$H$11,'S1'!$B$52+AP!$I$11)","v":-0.7},{"$f":"IF(OR('S1'!$C$6<25,'S1'!$C$6=\"SMA95\",'S1'!$C$6=\"SMA125\"),'S1'!$B$52+AP!$H$11,'S1'!$B$52+AP!$I$11)","v":-0.7},{"$f":"IF(OR('S1'!$C$6<25,'S1'!$C$6=\"SMA95\",'S1'!$C$6=\"SMA125\"),'S1'!$B$52+AP!$H$11,'S1'!$B$52+AP!$I$11)","v":-0.7},{"$f":"IF(OR('S1'!$C$6<25,'S1'!$C$6=\"SMA95\",'S1'!$C$6=\"SMA125\"),'S1'!$B$52+AP!$H$11,'S1'!$B$52+AP!$I$11)","v":-0.7},{"$f":"IF(OR('S1'!$C$6<25,'S1'!$C$6=\"SMA95\",'S1'!$C$6=\"SMA125\"),'S1'!$B$52+AP!$H$11,'S1'!$B$52+AP!$I$11)","v":-0.7},{"$f":"IF(OR('S1'!$C$6<25,'S1'!$C$6=\"SMA95\",'S1'!$C$6=\"SMA125\"),'S1'!$B$52+AP!$H$11,'S1'!$B$52+AP!$I$11)","v":-0.7},{"$f":"IF(OR('S1'!$C$6<25,'S1'!$C$6=\"SMA95\",'S1'!$C$6=\"SMA125\"),'S1'!$B$52+AP!$H$11,'S1'!$B$52+AP!$I$11)","v":-0.7},{"$f":"IF(OR('S1'!$C$6<25,'S1'!$C$6=\"SMA95\",'S1'!$C$6=\"SMA125\"),'S1'!$B$52+AP!$H$11,'S1'!$B$52+AP!$I$11)","v":-0.7}]
[null,null,null,null,"All mixes",null,null,null,null,null,-200]
[200,"Upper single sample tolerance",null,null,3,null,null,{"$f":"'S1'!B27+E13","v":3},null,null,"N=1",{"$f":"AP!$H$13","v":3},{"$f":"AP!$H$13","v":3},{"$f":"AP!$H$13","v":3},{"$f":"AP!$H$13","v":3},{"$f":"AP!$H$13","v":3},{"$f":"AP!$H$13","v":3},{"$f":"AP!$H$13","v":3},{"$f":"AP!$H$13","v":3},{"$f":"AP!$H$13","v":3},{"$f":"AP!$H$13","v":3},{"$f":"AP!$H$13","v":3},{"$f":"AP!$H$13","v":3},{"$f":"AP!$H$13","v":3},{"$f":"AP!$H$13","v":3},{"$f":"AP!$H$13","v":3},{"$f":"AP!$H$13","v":3},{"$f":"AP!$H$13","v":3},{"$f":"AP!$H$13","v":3},{"$f":"AP!$H$13","v":3},{"$f":"AP!$H$13","v":3},{"$f":"AP!$H$13","v":3},{"$f":"AP!$H$13","v":3},{"$f":"AP!$H$13","v":3},{"$f":"AP!$H$13","v":3}]
[null,"Upper multiple sample tolerance",null,null,2,null,null,{"$f":"'S1'!B27+E14","v":2},null,null,"N=5",{"$f":"AP!$H$14","v":2},{"$f":"AP!$H$14","v":2},{"$f":"AP!$H$14","v":2},{"$f":"AP!$H$14","v":2},{"$f":"AP!$H$14","v":2},{"$f":"AP!$H$14","v":2},{"$f":"AP!$H$14","v":2},{"$f":"AP!$H$14","v":2},{"$f":"AP!$H$14","v":2},{"$f":"AP!$H$14","v":2},{"$f":"AP!$H$14","v":2},{"$f":"AP!$H$14","v":2},{"$f":"AP!$H$14","v":2},{"$f":"AP!$H$14","v":2},{"$f":"AP!$H$14","v":2},{"$f":"AP!$H$14","v":2},{"$f":"AP!$H$14","v":2},{"$f":"AP!$H$14","v":2},{"$f":"AP!$H$14","v":2},{"$f":"AP!$H$14","v":2},{"$f":"AP!$H$14","v":2},{"$f":"AP!$H$14","v":2},{"$f":"AP!$H$14","v":2},{"$f":"AP!$H$14","v":2}]
[null,"Upper action point",null,null,1,null,null,{"$f":"('S1'!B27+E15)","v":1},null,null,"Upper  AP",{"$f":"AP!$H$15","v":1},{"$f":"AP!$H$15","v":1},{"$f":"AP!$H$15","v":1},{"$f":"AP!$H$15","v":1},{"$f":"AP!$H$15","v":1},{"$f":"AP!$H$15","v":1},{"$f":"AP!$H$15","v":1},{"$f":"AP!$H$15","v":1},{"$f":"AP!$H$15","v":1},{"$f":"AP!$H$15","v":1},{"$f":"AP!$H$15","v":1},{"$f":"AP!$H$15","v":1},{"$f":"AP!$H$15","v":1},{"$f":"AP!$H$15","v":1},{"$f":"AP!$H$15","v":1},{"$f":"AP!$H$15","v":1},{"$f":"AP!$H$15","v":1},{"$f":"AP!$H$15","v":1},{"$f":"AP!$H$15","v":1},{"$f":"AP!$H$15","v":1},{"$f":"AP!$H$15","v":1},{"$f":"AP!$H$15","v":1},{"$f":"AP!$H$15","v":1},{"$f":"AP!$H$15","v":1}]
[null,"Target",null,null,{"$f":"'S1'!B27","v":0},null,null,null,null,null,"Target ",{"$f":"'S1'!B27","v":0},{"$f":"$L16","v":0},{"$f":"$L16","v":0},0,0,0,0,0,0,0,0,0,0,0,0,0,0,0,0,0,0,0,0,0]
[null,"Lower action point",null,null,1,null,null,{"$f":"('S1'!B27-E17)","v":-1},null,null,"Lower AP",{"$f":"AP!$H$17","v":-1},{"$f":"AP!$H$17","v":-1},{"$f":"AP!$H$17","v":-1},{"$f":"AP!$H$17","v":-1},{"$f":"AP!$H$17","v":-1},{"$f":"AP!$H$17","v":-1},{"$f":"AP!$H$17","v":-1},{"$f":"AP!$H$17","v":-1},{"$f":"AP!$H$17","v":-1},{"$f":"AP!$H$17","v":-1},{"$f":"AP!$H$17","v":-1},{"$f":"AP!$H$17","v":-1},{"$f":"AP!$H$17","v":-1},{"$f":"AP!$H$17","v":-1},{"$f":"AP!$H$17","v":-1},{"$f":"AP!$H$17","v":-1},{"$f":"AP!$H$17","v":-1},{"$f":"AP!$H$17","v":-1},{"$f":"AP!$H$17","v":-1},{"$f":"AP!$H$17","v":-1},{"$f":"AP!$H$17","v":-1},{"$f":"AP!$H$17","v":-1},{"$f":"AP!$H$17","v":-1},{"$f":"AP!$H$17","v":-1}]
[null,"Lower multiple sample tolerance",null,null,2,null,null,{"$f":"'S1'!B27-E18","v":-2},null,null,"N=5",{"$f":"AP!$H$18","v":-2},{"$f":"AP!$H$18","v":-2},{"$f":"AP!$H$18","v":-2},{"$f":"AP!$H$18","v":-2},{"$f":"AP!$H$18","v":-2},{"$f":"AP!$H$18","v":-2},{"$f":"AP!$H$18","v":-2},{"$f":"AP!$H$18","v":-2},{"$f":"AP!$H$18","v":-2},{"$f":"AP!$H$18","v":-2},{"$f":"AP!$H$18","v":-2},{"$f":"AP!$H$18","v":-2},{"$f":"AP!$H$18","v":-2},{"$f":"AP!$H$18","v":-2},{"$f":"AP!$H$18","v":-2},{"$f":"AP!$H$18","v":-2},{"$f":"AP!$H$18","v":-2},{"$f":"AP!$H$18","v":-2},{"$f":"AP!$H$18","v":-2},{"$f":"AP!$H$18","v":-2},{"$f":"AP!$H$18","v":-2},{"$f":"AP!$H$18","v":-2},{"$f":"AP!$H$18","v":-2},{"$f":"AP!$H$18","v":-2}]
[null,"Lower single sample tolerance",null,null,3,null,null,{"$f":"'S1'!B27-E19","v":-3},null,null,"N=1",{"$f":"AP!$H$19","v":-3},{"$f":"AP!$H$19","v":-3},{"$f":"AP!$H$19","v":-3},{"$f":"AP!$H$19","v":-3},{"$f":"AP!$H$19","v":-3},{"$f":"AP!$H$19","v":-3},{"$f":"AP!$H$19","v":-3},{"$f":"AP!$H$19","v":-3},{"$f":"AP!$H$19","v":-3},{"$f":"AP!$H$19","v":-3},{"$f":"AP!$H$19","v":-3},{"$f":"AP!$H$19","v":-3},{"$f":"AP!$H$19","v":-3},{"$f":"AP!$H$19","v":-3},{"$f":"AP!$H$19","v":-3},{"$f":"AP!$H$19","v":-3},{"$f":"AP!$H$19","v":-3},{"$f":"AP!$H$19","v":-3},{"$f":"AP!$H$19","v":-3},{"$f":"AP!$H$19","v":-3},{"$f":"AP!$H$19","v":-3},{"$f":"AP!$H$19","v":-3},{"$f":"AP!$H$19","v":-3},{"$f":"AP!$H$19","v":-3}]
[null,null,null,null,"All mixes",null,null,null,null,null,-100]
[100,"Upper multiple sample tolerance",null,null,4,null,null,{"$f":"('S1'!$B$26+E21)","v":4},null,null,"N=5",{"$f":"AP!$H$21","v":4},{"$f":"AP!$H$21","v":4},{"$f":"AP!$H$21","v":4},{"$f":"AP!$H$21","v":4},{"$f":"AP!$H$21","v":4},{"$f":"AP!$H$21","v":4},{"$f":"AP!$H$21","v":4},{"$f":"AP!$H$21","v":4},{"$f":"AP!$H$21","v":4},{"$f":"AP!$H$21","v":4},{"$f":"AP!$H$21","v":4},{"$f":"AP!$H$21","v":4},{"$f":"AP!$H$21","v":4},{"$f":"AP!$H$21","v":4},{"$f":"AP!$H$21","v":4},{"$f":"AP!$H$21","v":4},{"$f":"AP!$H$21","v":4},{"$f":"AP!$H$21","v":4},{"$f":"AP!$H$21","v":4},{"$f":"AP!$H$21","v":4},{"$f":"AP!$H$21","v":4},{"$f":"AP!$H$21","v":4},{"$f":"AP!$H$21","v":4},{"$f":"AP!$H$21","v":4}]
[null,"Upper action point",null,null,3,null,null,{"$f":"('S1'!$B$26+E22)","v":3},null,null,"Upper  AP",{"$f":"AP!$H$22","v":3},{"$f":"AP!$H$22","v":3},{"$f":"AP!$H$22","v":3},{"$f":"AP!$H$22","v":3},{"$f":"AP!$H$22","v":3},{"$f":"AP!$H$22","v":3},{"$f":"AP!$H$22","v":3},{"$f":"AP!$H$22","v":3},{"$f":"AP!$H$22","v":3},{"$f":"AP!$H$22","v":3},{"$f":"AP!$H$22","v":3},{"$f":"AP!$H$22","v":3},{"$f":"AP!$H$22","v":3},{"$f":"AP!$H$22","v":3},{"$f":"AP!$H$22","v":3},{"$f":"AP!$H$22","v":3},{"$f":"AP!$H$22","v":3},{"$f":"AP!$H$22","v":3},{"$f":"AP!$H$22","v":3},{"$f":"AP!$H$22","v":3},{"$f":"AP!$H$22","v":3},{"$f":"AP!$H$22","v":3},{"$f":"AP!$H$22","v":3},{"$f":"AP!$H$22","v":3}]
[null,"Target",null,null,{"$f":"'S1'!B26","v":0},null,null,null,null,null,"Target ",{"$f":"'S1'!B26","v":0},{"$f":"$L23","v":0},{"$f":"$L23","v":0},0,0,0,0,0,0,0,0,0,0,0,0,0,0,0,0,0,0,0,0,0]
[null,"Lower action point",null,null,3,null,null,{"$f":"('S1'!$B$26-E24)","v":-3},null,null,"Lower AP",{"$f":"AP!$H$24","v":-3},{"$f":"AP!$H$24","v":-3},{"$f":"AP!$H$24","v":-3},{"$f":"AP!$H$24","v":-3},{"$f":"AP!$H$24","v":-3},{"$f":"AP!$H$24","v":-3},{"$f":"AP!$H$24","v":-3},{"$f":"AP!$H$24","v":-3},{"$f":"AP!$H$24","v":-3},{"$f":"AP!$H$24","v":-3},{"$f":"AP!$H$24","v":-3},{"$f":"AP!$H$24","v":-3},{"$f":"AP!$H$24","v":-3},{"$f":"AP!$H$24","v":-3},{"$f":"AP!$H$24","v":-3},{"$f":"AP!$H$24","v":-3},{"$f":"AP!$H$24","v":-3},{"$f":"AP!$H$24","v":-3},{"$f":"AP!$H$24","v":-3},{"$f":"AP!$H$24","v":-3},{"$f":"AP!$H$24","v":-3},{"$f":"AP!$H$24","v":-3},{"$f":"AP!$H$24","v":-3},{"$f":"AP!$H$24","v":-3}]
[null,"Lower multiple sample tolerance",null,null,4,null,null,{"$f":"('S1'!$B$26-E25)","v":-4},null,null,"N=5",{"$f":"AP!$H$25","v":-4},{"$f":"AP!$H$25","v":-4},{"$f":"AP!$H$25","v":-4},{"$f":"AP!$H$25","v":-4},{"$f":"AP!$H$25","v":-4},{"$f":"AP!$H$25","v":-4},{"$f":"AP!$H$25","v":-4},{"$f":"AP!$H$25","v":-4},{"$f":"AP!$H$25","v":-4},{"$f":"AP!$H$25","v":-4},{"$f":"AP!$H$25","v":-4},{"$f":"AP!$H$25","v":-4},{"$f":"AP!$H$25","v":-4},{"$f":"AP!$H$25","v":-4},{"$f":"AP!$H$25","v":-4},{"$f":"AP!$H$25","v":-4},{"$f":"AP!$H$25","v":-4},{"$f":"AP!$H$25","v":-4},{"$f":"AP!$H$25","v":-4},{"$f":"AP!$H$25","v":-4},{"$f":"AP!$H$25","v":-4},{"$f":"AP!$H$25","v":-4},{"$f":"AP!$H$25","v":-4},{"$f":"AP!$H$25","v":-4}]
[null,null,null,null,"All mixes",null,null,null,null,null,-50]
[50,"Upper multiple sample tolerance",null,null,4,null,null,{"$f":"('S1'!$B$25+E27)","v":4},null,null,"N=5",{"$f":"AP!$H$27","v":4},{"$f":"AP!$H$27","v":4},{"$f":"AP!$H$27","v":4},{"$f":"AP!$H$27","v":4},{"$f":"AP!$H$27","v":4},{"$f":"AP!$H$27","v":4},{"$f":"AP!$H$27","v":4},{"$f":"AP!$H$27","v":4},{"$f":"AP!$H$27","v":4},{"$f":"AP!$H$27","v":4},{"$f":"AP!$H$27","v":4},{"$f":"AP!$H$27","v":4},{"$f":"AP!$H$27","v":4},{"$f":"AP!$H$27","v":4},{"$f":"AP!$H$27","v":4},{"$f":"AP!$H$27","v":4},{"$f":"AP!$H$27","v":4},{"$f":"AP!$H$27","v":4},{"$f":"AP!$H$27","v":4},{"$f":"AP!$H$27","v":4},{"$f":"AP!$H$27","v":4},{"$f":"AP!$H$27","v":4},{"$f":"AP!$H$27","v":4},{"$f":"AP!$H$27","v":4}]
[null,"Upper action point",null,null,3,null,null,{"$f":"('S1'!$B$25+E28)","v":3},null,null,"Upper  AP",{"$f":"AP!$H$28","v":3},{"$f":"AP!$H$28","v":3},{"$f":"AP!$H$28","v":3},{"$f":"AP!$H$28","v":3},{"$f":"AP!$H$28","v":3},{"$f":"AP!$H$28","v":3},{"$f":"AP!$H$28","v":3},{"$f":"AP!$H$28","v":3},{"$f":"AP!$H$28","v":3},{"$f":"AP!$H$28","v":3},{"$f":"AP!$H$28","v":3},{"$f":"AP!$H$28","v":3},{"$f":"AP!$H$28","v":3},{"$f":"AP!$H$28","v":3},{"$f":"AP!$H$28","v":3},{"$f":"AP!$H$28","v":3},{"$f":"AP!$H$28","v":3},{"$f":"AP!$H$28","v":3},{"$f":"AP!$H$28","v":3},{"$f":"AP!$H$28","v":3},{"$f":"AP!$H$28","v":3},{"$f":"AP!$H$28","v":3},{"$f":"AP!$H$28","v":3},{"$f":"AP!$H$28","v":3}]
[null,"Target",null,null,{"$f":"'S1'!B25","v":0},null,null,null,null,null,"Target ",{"$f":"'S1'!B25","v":0},{"$f":"$L29","v":0},{"$f":"$L29","v":0},0,0,0,0,0,0,0,0,0,0,0,0,0,0,0,0,0,0,0,0,0]
[null,"Lower action point",null,null,3,null,null,{"$f":"('S1'!$B$25-E30)","v":-3},null,null,"Lower AP",{"$f":"AP!$H$30","v":-3},{"$f":"AP!$H$30","v":-3},{"$f":"AP!$H$30","v":-3},{"$f":"AP!$H$30","v":-3},{"$f":"AP!$H$30","v":-3},{"$f":"AP!$H$30","v":-3},{"$f":"AP!$H$30","v":-3},{"$f":"AP!$H$30","v":-3},{"$f":"AP!$H$30","v":-3},{"$f":"AP!$H$30","v":-3},{"$f":"AP!$H$30","v":-3},{"$f":"AP!$H$30","v":-3},{"$f":"AP!$H$30","v":-3},{"$f":"AP!$H$30","v":-3},{"$f":"AP!$H$30","v":-3},{"$f":"AP!$H$30","v":-3},{"$f":"AP!$H$30","v":-3},{"$f":"AP!$H$30","v":-3},{"$f":"AP!$H$30","v":-3},{"$f":"AP!$H$30","v":-3},{"$f":"AP!$H$30","v":-3},{"$f":"AP!$H$30","v":-3},{"$f":"AP!$H$30","v":-3},{"$f":"AP!$H$30","v":-3}]
[null,"Lower multiple sample tolerance",null,null,4,null,null,{"$f":"('S1'!$B$25-E31)","v":-4},null,null,"N=5",{"$f":"AP!$H$31","v":-4},{"$f":"AP!$H$31","v":-4},{"$f":"AP!$H$31","v":-4},{"$f":"AP!$H$31","v":-4},{"$f":"AP!$H$31","v":-4},{"$f":"AP!$H$31","v":-4},{"$f":"AP!$H$31","v":-4},{"$f":"AP!$H$31","v":-4},{"$f":"AP!$H$31","v":-4},{"$f":"AP!$H$31","v":-4},{"$f":"AP!$H$31","v":-4},{"$f":"AP!$H$31","v":-4},{"$f":"AP!$H$31","v":-4},{"$f":"AP!$H$31","v":-4},{"$f":"AP!$H$31","v":-4},{"$f":"AP!$H$31","v":-4},{"$f":"AP!$H$31","v":-4},{"$f":"AP!$H$31","v":-4},{"$f":"AP!$H$31","v":-4},{"$f":"AP!$H$31","v":-4},{"$f":"AP!$H$31","v":-4},{"$f":"AP!$H$31","v":-4},{"$f":"AP!$H$31","v":-4},{"$f":"AP!$H$31","v":-4}]
[null,null,null,null,"All mixes",null,null,null,null,null,-30]
[30,"Upper multiple sample tolerance",null,null,4,null,null,{"$f":"('S1'!$B$24+E33)","v":4},null,null,"N=5",{"$f":"AP!$H$33","v":4},{"$f":"AP!$H$33","v":4},{"$f":"AP!$H$33","v":4},{"$f":"AP!$H$33","v":4},{"$f":"AP!$H$33","v":4},{"$f":"AP!$H$33","v":4},{"$f":"AP!$H$33","v":4},{"$f":"AP!$H$33","v":4},{"$f":"AP!$H$33","v":4},{"$f":"AP!$H$33","v":4},{"$f":"AP!$H$33","v":4},{"$f":"AP!$H$33","v":4},{"$f":"AP!$H$33","v":4},{"$f":"AP!$H$33","v":4},{"$f":"AP!$H$33","v":4},{"$f":"AP!$H$33","v":4},{"$f":"AP!$H$33","v":4},{"$f":"AP!$H$33","v":4},{"$f":"AP!$H$33","v":4},{"$f":"AP!$H$33","v":4},{"$f":"AP!$H$33","v":4},{"$f":"AP!$H$33","v":4},{"$f":"AP!$H$33","v":4},{"$f":"AP!$H$33","v":4}]
[null,"Upper action point",null,null,3,null,null,{"$f":"('S1'!$B$24+E34)","v":3},null,null,"Upper  AP",{"$f":"AP!$H$34","v":3},{"$f":"AP!$H$34","v":3},{"$f":"AP!$H$34","v":3},{"$f":"AP!$H$34","v":3},{"$f":"AP!$H$34","v":3},{"$f":"AP!$H$34","v":3},{"$f":"AP!$H$34","v":3},{"$f":"AP!$H$34","v":3},{"$f":"AP!$H$34","v":3},{"$f":"AP!$H$34","v":3},{"$f":"AP!$H$34","v":3},{"$f":"AP!$H$34","v":3},{"$f":"AP!$H$34","v":3},{"$f":"AP!$H$34","v":3},{"$f":"AP!$H$34","v":3},{"$f":"AP!$H$34","v":3},{"$f":"AP!$H$34","v":3},{"$f":"AP!$H$34","v":3},{"$f":"AP!$H$34","v":3},{"$f":"AP!$H$34","v":3},{"$f":"AP!$H$34","v":3},{"$f":"AP!$H$34","v":3},{"$f":"AP!$H$34","v":3},{"$f":"AP!$H$34","v":3}]
[null,"Target",null,null,{"$f":"'S1'!B24","v":0},null,null,null,null,null,"Target ",{"$f":"'S1'!B24","v":0},{"$f":"$L35","v":0},{"$f":"$L35","v":0},0,0,0,0,0,0,0,0,0,0,0,0,0,0,0,0,0,0,0,0,0]
[null,"Lower action point",null,null,3,null,null,{"$f":"('S1'!$B$24-E36)","v":-3},null,null,"Lower AP",{"$f":"AP!$H$36","v":-3},{"$f":"AP!$H$36","v":-3},{"$f":"AP!$H$36","v":-3},{"$f":"AP!$H$36","v":-3},{"$f":"AP!$H$36","v":-3},{"$f":"AP!$H$36","v":-3},{"$f":"AP!$H$36","v":-3},{"$f":"AP!$H$36","v":-3},{"$f":"AP!$H$36","v":-3},{"$f":"AP!$H$36","v":-3},{"$f":"AP!$H$36","v":-3},{"$f":"AP!$H$36","v":-3},{"$f":"AP!$H$36","v":-3},{"$f":"AP!$H$36","v":-3},{"$f":"AP!$H$36","v":-3},{"$f":"AP!$H$36","v":-3},{"$f":"AP!$H$36","v":-3},{"$f":"AP!$H$36","v":-3},{"$f":"AP!$H$36","v":-3},{"$f":"AP!$H$36","v":-3},{"$f":"AP!$H$36","v":-3},{"$f":"AP!$H$36","v":-3},{"$f":"AP!$H$36","v":-3},{"$f":"AP!$H$36","v":-3}]
[null,"Lower multiple sample tolerance",null,null,4,null,null,{"$f":"('S1'!$B$24-E37)","v":-4},null,null,"N=5",{"$f":"AP!$H$37","v":-4},{"$f":"AP!$H$37","v":-4},{"$f":"AP!$H$37","v":-4},{"$f":"AP!$H$37","v":-4},{"$f":"AP!$H$37","v":-4},{"$f":"AP!$H$37","v":-4},{"$f":"AP!$H$37","v":-4},{"$f":"AP!$H$37","v":-4},{"$f":"AP!$H$37","v":-4},{"$f":"AP!$H$37","v":-4},{"$f":"AP!$H$37","v":-4},{"$f":"AP!$H$37","v":-4},{"$f":"AP!$H$37","v":-4},{"$f":"AP!$H$37","v":-4},{"$f":"AP!$H$37","v":-4},{"$f":"AP!$H$37","v":-4},{"$f":"AP!$H$37","v":-4},{"$f":"AP!$H$37","v":-4},{"$f":"AP!$H$37","v":-4},{"$f":"AP!$H$37","v":-4},{"$f":"AP!$H$37","v":-4},{"$f":"AP!$H$37","v":-4},{"$f":"AP!$H$37","v":-4},{"$f":"AP!$H$37","v":-4}]
[null,null,null,null,"All mixes",null,null,null,null,null,-16]
[16,"Upper multiple sample tolerance",null,null,4,null,null,{"$f":"('S1'!$B$23+E39)","v":4},null,null,"N=5",{"$f":"AP!$H$39","v":4},{"$f":"AP!$H$39","v":4},{"$f":"AP!$H$39","v":4},{"$f":"AP!$H$39","v":4},{"$f":"AP!$H$39","v":4},{"$f":"AP!$H$39","v":4},{"$f":"AP!$H$39","v":4},{"$f":"AP!$H$39","v":4},{"$f":"AP!$H$39","v":4},{"$f":"AP!$H$39","v":4},{"$f":"AP!$H$39","v":4},{"$f":"AP!$H$39","v":4},{"$f":"AP!$H$39","v":4},{"$f":"AP!$H$39","v":4},{"$f":"AP!$H$39","v":4},{"$f":"AP!$H$39","v":4},{"$f":"AP!$H$39","v":4},{"$f":"AP!$H$39","v":4},{"$f":"AP!$H$39","v":4},{"$f":"AP!$H$39","v":4},{"$f":"AP!$H$39","v":4},{"$f":"AP!$H$39","v":4},{"$f":"AP!$H$39","v":4},{"$f":"AP!$H$39","v":4}]
[null,"Upper action point",null,null,3,null,null,{"$f":"('S1'!$B$23+E40)","v":3},null,null,"Upper  AP",{"$f":"AP!$H$40","v":3},{"$f":"AP!$H$40","v":3},{"$f":"AP!$H$40","v":3},{"$f":"AP!$H$40","v":3},{"$f":"AP!$H$40","v":3},{"$f":"AP!$H$40","v":3},{"$f":"AP!$H$40","v":3},{"$f":"AP!$H$40","v":3},{"$f":"AP!$H$40","v":3},{"$f":"AP!$H$40","v":3},{"$f":"AP!$H$40","v":3},{"$f":"AP!$H$40","v":3},{"$f":"AP!$H$40","v":3},{"$f":"AP!$H$40","v":3},{"$f":"AP!$H$40","v":3},{"$f":"AP!$H$40","v":3},{"$f":"AP!$H$40","v":3},{"$f":"AP!$H$40","v":3},{"$f":"AP!$H$40","v":3},{"$f":"AP!$H$40","v":3},{"$f":"AP!$H$40","v":3},{"$f":"AP!$H$40","v":3},{"$f":"AP!$H$40","v":3},{"$f":"AP!$H$40","v":3}]
[null,"Target",null,null,{"$f":"'S1'!B23","v":0},null,null,null,null,null,"Target ",{"$f":"'S1'!B23","v":0},{"$f":"$L41","v":0},{"$f":"$L41","v":0},0,0,0,0,0,0,0,0,0,0,0,0,0,0,0,0,0,0,0,0,0]
[null,"Lower action point",null,null,3,null,null,{"$f":"('S1'!$B$23-E42)","v":-3},null,null,"Lower AP",{"$f":"AP!$H$42","v":-3},{"$f":"AP!$H$42","v":-3},{"$f":"AP!$H$42","v":-3},{"$f":"AP!$H$42","v":-3},{"$f":"AP!$H$42","v":-3},{"$f":"AP!$H$42","v":-3},{"$f":"AP!$H$42","v":-3},{"$f":"AP!$H$42","v":-3},{"$f":"AP!$H$42","v":-3},{"$f":"AP!$H$42","v":-3},{"$f":"AP!$H$42","v":-3},{"$f":"AP!$H$42","v":-3},{"$f":"AP!$H$42","v":-3},{"$f":"AP!$H$42","v":-3},{"$f":"AP!$H$42","v":-3},{"$f":"AP!$H$42","v":-3},{"$f":"AP!$H$42","v":-3},{"$f":"AP!$H$42","v":-3},{"$f":"AP!$H$42","v":-3},{"$f":"AP!$H$42","v":-3},{"$f":"AP!$H$42","v":-3},{"$f":"AP!$H$42","v":-3},{"$f":"AP!$H$42","v":-3},{"$f":"AP!$H$42","v":-3}]
[null,"Lower multiple sample tolerance",null,null,4,null,null,{"$f":"('S1'!$B$23-E43)","v":-4},null,null,"N=5",{"$f":"AP!$H$43","v":-4},{"$f":"AP!$H$43","v":-4},{"$f":"AP!$H$43","v":-4},{"$f":"AP!$H$43","v":-4},{"$f":"AP!$H$43","v":-4},{"$f":"AP!$H$43","v":-4},{"$f":"AP!$H$43","v":-4},{"$f":"AP!$H$43","v":-4},{"$f":"AP!$H$43","v":-4},{"$f":"AP!$H$43","v":-4},{"$f":"AP!$H$43","v":-4},{"$f":"AP!$H$43","v":-4},{"$f":"AP!$H$43","v":-4},{"$f":"AP!$H$43","v":-4},{"$f":"AP!$H$43","v":-4},{"$f":"AP!$H$43","v":-4},{"$f":"AP!$H$43","v":-4},{"$f":"AP!$H$43","v":-4},{"$f":"AP!$H$43","v":-4},{"$f":"AP!$H$43","v":-4},{"$f":"AP!$H$43","v":-4},{"$f":"AP!$H$43","v":-4},{"$f":"AP!$H$43","v":-4},{"$f":"AP!$H$43","v":-4}]
[null,null,null,null,"All mixes",null,null,null,null,null,-8]
[8,"Upper single sample tolerance",null,null,6,null,null,{"$f":"'S1'!B22+E45","v":6},null,null,"N=1",{"$f":"AP!$H$45","v":6},{"$f":"AP!$H$45","v":6},{"$f":"AP!$H$45","v":6},{"$f":"AP!$H$45","v":6},{"$f":"AP!$H$45","v":6},{"$f":"AP!$H$45","v":6},{"$f":"AP!$H$45","v":6},{"$f":"AP!$H$45","v":6},{"$f":"AP!$H$45","v":6},{"$f":"AP!$H$45","v":6},{"$f":"AP!$H$45","v":6},{"$f":"AP!$H$45","v":6},{"$f":"AP!$H$45","v":6},{"$f":"AP!$H$45","v":6},{"$f":"AP!$H$45","v":6},{"$f":"AP!$H$45","v":6},{"$f":"AP!$H$45","v":6},{"$f":"AP!$H$45","v":6},{"$f":"AP!$H$45","v":6},{"$f":"AP!$H$45","v":6},{"$f":"AP!$H$45","v":6},{"$f":"AP!$H$45","v":6},{"$f":"AP!$H$45","v":6},{"$f":"AP!$H$45","v":6}]
[null,"Upper multiple sample tolerance",null,null,4,null,null,{"$f":"'S1'!B22+E46","v":4},null,null,"N=5",{"$f":"AP!$H$46","v":4},{"$f":"AP!$H$46","v":4},{"$f":"AP!$H$46","v":4},{"$f":"AP!$H$46","v":4},{"$f":"AP!$H$46","v":4},{"$f":"AP!$H$46","v":4},{"$f":"AP!$H$46","v":4},{"$f":"AP!$H$46","v":4},{"$f":"AP!$H$46","v":4},{"$f":"AP!$H$46","v":4},{"$f":"AP!$H$46","v":4},{"$f":"AP!$H$46","v":4},{"$f":"AP!$H$46","v":4},{"$f":"AP!$H$46","v":4},{"$f":"AP!$H$46","v":4},{"$f":"AP!$H$46","v":4},{"$f":"AP!$H$46","v":4},{"$f":"AP!$H$46","v":4},{"$f":"AP!$H$46","v":4},{"$f":"AP!$H$46","v":4},{"$f":"AP!$H$46","v":4},{"$f":"AP!$H$46","v":4},{"$f":"AP!$H$46","v":4},{"$f":"AP!$H$46","v":4}]
[null,"Upper action point",null,null,3,null,null,{"$f":"('S1'!B22+E47)","v":3},null,null,"Upper  AP",{"$f":"AP!$H$47","v":3},{"$f":"AP!$H$47","v":3},{"$f":"AP!$H$47","v":3},{"$f":"AP!$H$47","v":3},{"$f":"AP!$H$47","v":3},{"$f":"AP!$H$47","v":3},{"$f":"AP!$H$47","v":3},{"$f":"AP!$H$47","v":3},{"$f":"AP!$H$47","v":3},{"$f":"AP!$H$47","v":3},{"$f":"AP!$H$47","v":3},{"$f":"AP!$H$47","v":3},{"$f":"AP!$H$47","v":3},{"$f":"AP!$H$47","v":3},{"$f":"AP!$H$47","v":3},{"$f":"AP!$H$47","v":3},{"$f":"AP!$H$47","v":3},{"$f":"AP!$H$47","v":3},{"$f":"AP!$H$47","v":3},{"$f":"AP!$H$47","v":3},{"$f":"AP!$H$47","v":3},{"$f":"AP!$H$47","v":3},{"$f":"AP!$H$47","v":3},{"$f":"AP!$H$47","v":3}]
[null,"Target",null,null,{"$f":"'S1'!B22","v":0},null,null,null,null,null,"Target ",{"$f":"'S1'!B22","v":0},{"$f":"$L48","v":0},{"$f":"$L48","v":0},0,0,0,0,0,0,0,0,0,0,0,0,0,0,0,0,0,0,0,0,0]
[null,"Lower action point",null,null,3,null,null,{"$f":"('S1'!B22-E49)","v":-3},null,null,"Lower AP",{"$f":"AP!$H$49","v":-3},{"$f":"AP!$H$49","v":-3},{"$f":"AP!$H$49","v":-3},{"$f":"AP!$H$49","v":-3},{"$f":"AP!$H$49","v":-3},{"$f":"AP!$H$49","v":-3},{"$f":"AP!$H$49","v":-3},{"$f":"AP!$H$49","v":-3},{"$f":"AP!$H$49","v":-3},{"$f":"AP!$H$49","v":-3},{"$f":"AP!$H$49","v":-3},{"$f":"AP!$H$49","v":-3},{"$f":"AP!$H$49","v":-3},{"$f":"AP!$H$49","v":-3},{"$f":"AP!$H$49","v":-3},{"$f":"AP!$H$49","v":-3},{"$f":"AP!$H$49","v":-3},{"$f":"AP!$H$49","v":-3},{"$f":"AP!$H$49","v":-3},{"$f":"AP!$H$49","v":-3},{"$f":"AP!$H$49","v":-3},{"$f":"AP!$H$49","v":-3},{"$f":"AP!$H$49","v":-3},{"$f":"AP!$H$49","v":-3}]
[null,"Lower multiple sample tolerance",null,null,4,null,null,{"$f":"'S1'!B22-E50","v":-4},null,null,"N=5",{"$f":"AP!$H$50","v":-4},{"$f":"AP!$H$50","v":-4},{"$f":"AP!$H$50","v":-4},{"$f":"AP!$H$50","v":-4},{"$f":"AP!$H$50","v":-4},{"$f":"AP!$H$50","v":-4},{"$f":"AP!$H$50","v":-4},{"$f":"AP!$H$50","v":-4},{"$f":"AP!$H$50","v":-4},{"$f":"AP!$H$50","v":-4},{"$f":"AP!$H$50","v":-4},{"$f":"AP!$H$50","v":-4},{"$f":"AP!$H$50","v":-4},{"$f":"AP!$H$50","v":-4},{"$f":"AP!$H$50","v":-4},{"$f":"AP!$H$50","v":-4},{"$f":"AP!$H$50","v":-4},{"$f":"AP!$H$50","v":-4},{"$f":"AP!$H$50","v":-4},{"$f":"AP!$H$50","v":-4},{"$f":"AP!$H$50","v":-4},{"$f":"AP!$H$50","v":-4},{"$f":"AP!$H$50","v":-4},{"$f":"AP!$H$50","v":-4}]
[null,"Lower single sample tolerance",null,null,6,null,null,{"$f":"'S1'!B22-E51","v":-6},null,null,"N=1",{"$f":"AP!$H$51","v":-6},{"$f":"AP!$H$51","v":-6},{"$f":"AP!$H$51","v":-6},{"$f":"AP!$H$51","v":-6},{"$f":"AP!$H$51","v":-6},{"$f":"AP!$H$51","v":-6},{"$f":"AP!$H$51","v":-6},{"$f":"AP!$H$51","v":-6},{"$f":"AP!$H$51","v":-6},{"$f":"AP!$H$51","v":-6},{"$f":"AP!$H$51","v":-6},{"$f":"AP!$H$51","v":-6},{"$f":"AP!$H$51","v":-6},{"$f":"AP!$H$51","v":-6},{"$f":"AP!$H$51","v":-6},{"$f":"AP!$H$51","v":-6},{"$f":"AP!$H$51","v":-6},{"$f":"AP!$H$51","v":-6},{"$f":"AP!$H$51","v":-6},{"$f":"AP!$H$51","v":-6},{"$f":"AP!$H$51","v":-6},{"$f":"AP!$H$51","v":-6},{"$f":"AP!$H$51","v":-6},{"$f":"AP!$H$51","v":-6}]
[null,null,null,null,"All mixes",null,null,null,null,null,-4]
[4,"Upper multiple sample tolerance",null,null,4,null,null,{"$f":"'S1'!B21+E53","v":4},null,null,"N=5",{"$f":"$H53","v":4},{"$f":"$H53","v":4},4,4,4,4,4,4,4,4,4,4,4,4,4,4,4,4,4,4,4,4,4,4]
[null,"Upper action point",null,null,3,null,null,{"$f":"('S1'!B21+E54)","v":3},null,null,"Upper  AP",{"$f":"$H54","v":3},3,3,3,3,3,3,3,3,3,3,3,3,3,3,3,3,3,3,3,3,3,3,3]
[null,"Target",null,null,{"$f":"'S1'!B21","v":0},null,null,null,null,null,"Target ",{"$f":"'S1'!B21","v":0},{"$f":"$L55","v":0},{"$f":"$L55","v":0},0,0,0,0,0,0,0,0,0,0,0,0,0,0,0,0,0,0,0,0,0]
[null,"Lower action point",null,null,3,null,null,{"$f":"('S1'!B21-E56)","v":-3},null,null,"Lower AP",{"$f":"$H56","v":-3},{"$f":"$H56","v":-3},-3,-3,-3,-3,-3,-3,-3,-3,-3,-3,-3,-3,-3,-3,-3,-3,-3,-3,-3,-3,-3,-3]
[null,"Lower multiple sample tolerance",null,null,4,null,null,{"$f":"'S1'!B21-E57","v":-4},null,null,"N=5",{"$f":"$H57","v":-4},-4,-4,-4,-4,-4,-4,-4,-4,-4,-4,-4,-4,-4,-4,-4,-4,-4,-4,-4,-4,-4,-4,-4]
[null,null,null,null,"All mixes",null,null,null,null,null,0.375]
[0.375,"Upper multiple sample tolerance",null,null,4,null,null,{"$f":"('S1'!$B$20+E59)","v":4},null,null,"N=5",{"$f":"$H59","v":4},{"$f":"$H59","v":4},4,4,4,4,4,4,4,4,4,4,4,4,4,4,4,4,4,4,4,4,4,4]
[null,"Upper action point",null,null,3,null,null,{"$f":"('S1'!$B$20+E60)","v":3},{"$f":"('S1'!$B$20+F60)","v":0},null,"Upper  AP",{"$f":"$H60","v":3},3,3,3,3,3,3,3,3,3,3,3,3,3,3,3,3,3,3,3,3,3,3,3]
[null,"Target",null,null,{"$f":"'S1'!B20","v":0},null,null,null,null,null,"Target ",{"$f":"'S1'!B20","v":0},{"$f":"$L61","v":0},{"$f":"$L61","v":0},0,0,0,0,0,0,0,0,0,0,0,0,0,0,0,0,0,0,0,0,0]
[null,"Lower action point",null,null,3,null,null,{"$f":"('S1'!$B$20-E62)","v":-3},{"$f":"('S1'!$B$20-F62)","v":0},null,"Lower AP",{"$f":"$H62","v":-3},{"$f":"$H62","v":-3},-3,-3,-3,-3,-3,-3,-3,-3,-3,-3,-3,-3,-3,-3,-3,-3,-3,-3,-3,-3,-3,-3]
[null,"Lower multiple sample tolerance",null,null,4,null,null,{"$f":"('S1'!$B$20-E63)","v":-4},null,null,"N=5",{"$f":"$H63","v":-4},-4,-4,-4,-4,-4,-4,-4,-4,-4,-4,-4,-4,-4,-4,-4,-4,-4,-4,-4,-4,-4,-4,-4]
[null,null,null,null,"All mixes",null,null,null,null,null,0.5]
[0.5,"Upper multiple sample tolerance",null,null,6,null,null,{"$f":"'S1'!B19+E65","v":6},null,null,"N=5",{"$f":"$H65","v":6},{"$f":"$H65","v":6},6,6,6,6,6,6,6,6,6,6,6,6,6,6,6,6,6,6,6,6,6,6]
[null,"Upper action point",null,null,5,null,null,{"$f":"('S1'!B19+E66)","v":5},null,null,"Upper  AP",{"$f":"$H66","v":5},5,5,5,5,5,5,5,5,5,5,5,5,5,5,5,5,5,5,5,5,5,5,5]
[null,"Target",null,null,{"$f":"'S1'!B19","v":0},null,null,null,null,null,"Target ",{"$f":"'S1'!B19","v":0},{"$f":"$L67","v":0},{"$f":"$L67","v":0},0,0,0,0,0,0,0,0,0,0,0,0,0,0,0,0,0,0,0,0,0]
[null,"Lower action point",null,null,5,null,null,{"$f":"('S1'!B19-E68)","v":-5},null,null,"Lower AP",{"$f":"$H68","v":-5},{"$f":"$H68","v":-5},-5,-5,-5,-5,-5,-5,-5,-5,-5,-5,-5,-5,-5,-5,-5,-5,-5,-5,-5,-5,-5,-5]
[null,"Lower multiple sample tolerance",null,null,6,null,null,{"$f":"'S1'!B19-E69","v":-6},null,null,"N=5",{"$f":"$H69","v":-6},-6,-6,-6,-6,-6,-6,-6,-6,-6,-6,-6,-6,-6,-6,-6,-6,-6,-6,-6,-6,-6,-6,-6]
[null,null,null,null,"All mixes",null,null,null,null,null,0.75]
[0.75,"Upper multiple sample tolerance",null,null,6,null,null,{"$f":"('S1'!$B$18+E71)","v":6},null,null,"N=5",{"$f":"$H71","v":6},{"$f":"$H71","v":6},6,6,6,6,6,6,6,6,6,6,6,6,6,6,6,6,6,6,6,6,6,6]
[null,"Upper action point",null,null,5,null,null,{"$f":"('S1'!$B$18+E72)","v":5},null,null,"Upper  AP",{"$f":"$H72","v":5},5,5,5,5,5,5,5,5,5,5,5,5,5,5,5,5,5,5,5,5,5,5,5]
[null,"Target",null,null,{"$f":"'S1'!B18","v":0},null,null,null,null,null,"Target ",{"$f":"'S1'!B18","v":0},{"$f":"$L73","v":0},{"$f":"$L73","v":0},0,0,0,0,0,0,0,0,0,0,0,0,0,0,0,0,0,0,0,0,0]
[null,"Lower action point",null,null,5,null,null,{"$f":"('S1'!$B$18-E74)","v":-5},null,null,"Lower AP",{"$f":"$H74","v":-5},{"$f":"$H74","v":-5},-5,-5,-5,-5,-5,-5,-5,-5,-5,-5,-5,-5,-5,-5,-5,-5,-5,-5,-5,-5,-5,-5]
[null,"Lower multiple sample tolerance",null,null,6,null,null,{"$f":"('S1'!$B$18-E75)","v":-6},null,null,"N=5",{"$f":"$H75","v":-6},-6,-6,-6,-6,-6,-6,-6,-6,-6,-6,-6,-6,-6,-6,-6,-6,-6,-6,-6,-6,-6,-6,-6]
[null,null,null,null,"All mixes",null,null,null,null,null,1]
[1,"Upper multiple sample tolerance",null,null,6,null,null,{"$f":"('S1'!$B$17+E77)","v":6},null,null,"N=5",{"$f":"$H77","v":6},{"$f":"$H77","v":6},6,6,6,6,6,6,6,6,6,6,6,6,6,6,6,6,6,6,6,6,6,6]
[null,"Upper action point",null,null,5,null,null,{"$f":"('S1'!$B$17+E78)","v":5},null,null,"Upper  AP",{"$f":"$H78","v":5},5,5,5,5,5,5,5,5,5,5,5,5,5,5,5,5,5,5,5,5,5,5,5]
[null,"Target",null,null,{"$f":"'S1'!B17","v":0},null,null,null,null,null,"Target ",{"$f":"'S1'!B17","v":0},{"$f":"$L79","v":0},{"$f":"$L79","v":0},0,0,0,0,0,0,0,0,0,0,0,0,0,0,0,0,0,0,0,0,0]
[null,"Lower action point",null,null,5,null,null,{"$f":"('S1'!$B$17-E80)","v":-5},null,null,"Lower AP",{"$f":"$H80","v":-5},{"$f":"$H80","v":-5},-5,-5,-5,-5,-5,-5,-5,-5,-5,-5,-5,-5,-5,-5,-5,-5,-5,-5,-5,-5,-5,-5]
[null,"Lower multiple sample tolerance",null,null,6,null,null,{"$f":"('S1'!$B$17-E81)","v":-6},null,null,"N=5",{"$f":"$H81","v":-6},-6,-6,-6,-6,-6,-6,-6,-6,-6,-6,-6,-6,-6,-6,-6,-6,-6,-6,-6,-6,-6,-6,-6]
[null,null,null,null,"All mixes",null,null,null,null,null,1.5]
[1.5,"Upper multiple sample tolerance",null,null,6,null,null,{"$f":"('S1'!$B$16+E83)","v":6},null,null,"N=5",{"$f":"$H83","v":6},{"$f":"$H83","v":6},6,6,6,6,6,6,6,6,6,6,6,6,6,6,6,6,6,6,6,6,6,6]
[null,"Upper action point",null,null,5,null,null,{"$f":"('S1'!$B$16+E84)","v":5},null,null,"Upper  AP",{"$f":"$H84","v":5},5,5,5,5,5,5,5,5,5,5,5,5,5,5,5,5,5,5,5,5,5,5,5]
[null,"Target",null,null,{"$f":"'S1'!B16","v":0},null,null,null,null,null,"Target ",{"$f":"'S1'!B16","v":0},{"$f":"$L85","v":0},{"$f":"$L85","v":0},0,0,0,0,0,0,0,0,0,0,0,0,0,0,0,0,0,0,0,0,0]
[null,"Lower action point",null,null,5,null,null,{"$f":"('S1'!$B$16-E86)","v":-5},null,null,"Lower AP",{"$f":"$H86","v":-5},{"$f":"$H86","v":-5},-5,-5,-5,-5,-5,-5,-5,-5,-5,-5,-5,-5,-5,-5,-5,-5,-5,-5,-5,-5,-5,-5]
[null,"Lower multiple sample tolerance",null,null,6,null,null,{"$f":"('S1'!$B$16-E87)","v":-6},null,null,"N=5",{"$f":"$H87","v":-6},-6,-6,-6,-6,-6,-6,-6,-6,-6,-6,-6,-6,-6,-6,-6,-6,-6,-6,-6,-6,-6,-6,-6]
[null,null,null,null,"All mixes",null,null,null,null,null,2]
[2,"Upper multiple sample tolerance",null,null,6,null,null,{"$f":"('S1'!$B$15+E89)","v":6},null,null,"N=5",{"$f":"$H89","v":6},{"$f":"$H89","v":6},6,6,6,6,6,6,6,6,6,6,6,6,6,6,6,6,6,6,6,6,6,6]
[null,"Upper action point",null,null,5,null,null,{"$f":"('S1'!$B$15+E90)","v":5},null,null,"Upper  AP",{"$f":"$H90","v":5},5,5,5,5,5,5,5,5,5,5,5,5,5,5,5,5,5,5,5,5,5,5,5]
[null,"Target",null,null,{"$f":"'S1'!B15","v":0},null,null,null,null,null,"Target ",{"$f":"'S1'!B15","v":0},{"$f":"$L91","v":0},{"$f":"$L91","v":0},0,0,0,0,0,0,0,0,0,0,0,0,0,0,0,0,0,0,0,0,0]
[null,"Lower action point",null,null,5,null,null,{"$f":"('S1'!$B$15-E92)","v":-5},null,null,"Lower AP",{"$f":"$H92","v":-5},{"$f":"$H92","v":-5},-5,-5,-5,-5,-5,-5,-5,-5,-5,-5,-5,-5,-5,-5,-5,-5,-5,-5,-5,-5,-5,-5]
[null,"Lower multiple sample tolerance",null,null,6,null,null,{"$f":"('S1'!$B$15-E93)","v":-6},null,null,"N=5",{"$f":"$H93","v":-6},-6,-6,-6,-6,-6,-6,-6,-6,-6,-6,-6,-6,-6,-6,-6,-6,-6,-6,-6,-6,-6,-6,-6]

{"sheet":"G1","index":24,"n_rows":45,"n_cols":27,"rows_kept":45,"cut":false,"hidden":false,"merged":[[0,0,3,1],[0,2,2,3],[1,10,1,11],[3,2,4,3],[3,10,3,11],[4,5,5,8],[6,12,6,13],[1,12,1,13],[2,10,2,11],[2,12,2,13],[3,12,3,13],[4,10,4,11],[4,12,4,13],[5,10,5,11],[5,12,5,13],[6,2,6,3],[6,4,6,5],[6,6,6,7],[7,10,7,11],[7,8,7,9],[6,8,6,9],[6,10,6,11],[7,12,7,13],[15,0,15,1],[8,0,8,1],[8,10,8,11],[8,12,8,13],[9,0,9,1],[7,2,7,3],[7,4,7,5],[7,6,7,7],[17,0,17,1],[11,0,11,1],[12,0,12,1],[13,0,13,1],[14,0,14,1],[16,0,16,1]]}
[null,null,"Select Test Method"]
[null,null,null,null,"COMMONWEALTH OF PENNSYLVANIA",null,null,null,null,null,"District",null,{"$f":"IF(ISBLANK('S1'!M2),\" \",('S1'!M2))","v":" "}]
[null,null,null,null,"DEPARTMENT OF TRANSPORTATION",null,null,null,null,null,"Plant Code",null,{"$f":"IF(ISBLANK('S1'!M3),\" \",('S1'!M3))","v":" "}]
[null,null,"Volumeter Method",null,"LABORATORY TEST SECTION",null,null,null,null,null,"Material Class",null,{"$f":"'S1'!C6","v":9.5}]
[{"$f":"'S1'!A5","v":"ESB-16"},null,null,null,null,"Maximum Specific Gravity Results",null,null,null,null,"Gyrations @ Ndes",null,{"$f":"IF(ISBLANK('S1'!M7),\" \",'S1'!M7)","v":" "}]
[null,null,null,null,null,null,null,null,null,null,"Design No.",null,{"$f":"IF(ISBLANK('S1'!M6),\" \",('S1'!M6))","v":" "}]
[null,null,"Volumeter ID ",null,null,null,"Volumeter ID",null,null,null,"Design Gmm"]
[null,null,"First Calibration",null,"Second Calibration",null,"First Calibration",null,"Second Calibration",null,"Design AC Content",null,null,null,null,null,null,null,null,null,null,null,null,null,null,null,"SMA95"]
[{"$f":"IF(C4=\"Volumeter Method\",\"Wt of Dry Volumeter\",\" \")","v":"Wt of Dry Volumeter"},null,null,"C\\F",null,"C\\F",null,"C\\F",null,"C\\F","Gb of AC",null,null,null,null,null,null,null,null,null,null,null,null,null,null,null,"SMA125"]
[{"$f":"IF(C4=\"Volumeter Method\",\"Wt of Vol. with H20\",\"Wt of Vol. in H20\")","v":"Wt of Vol. with H20"},null,null,{"$f":"IF(ISBLANK(C9),1,2)","v":1},null,{"$f":"IF(ISBLANK(E9),3,4)","v":3},null,{"$f":"IF(ISBLANK(G9),5,6)","v":5},null,{"$f":"IF(ISBLANK(I9),7,8)","v":7}]
[null,null,null,null,null,null,null,null,null,null,null,null,null,null,null,null,null,null,null,null,null,null,null,null,null,null,"Suspension Method"]
["Sample No.",null,null,null,null,null,null,null,null,null,null,null,null,null,null,null,null,null,null,null,null,null,null,null,null,null,"Volumeter Method"]
["Date"]
["C/F"]
[{"$f":"IF(C4=\"Volumeter Method\",\"Wt.of Vol.+ Mix\",\"Dry Wt. of Sample\")","v":"Wt.of Vol.+ Mix"}]
[{"$f":"IF(C4=\"Volumeter Method\",\"Wt. Of Vol.+(Mix+Water)\",\"Wt. of Samp. susp. in H20\")","v":"Wt. Of Vol.+(Mix+Water)"}]
["Gmm",null,{"$f":"IF(ISBLANK($D$9),\" \",IF(ISBLANK($D$10),\" \",IF(ISBLANK(C$15),\" \",IF(ISBLANK(C$16),\" \",ROUND(C$44/C$45,3)))))","v":" "},{"$f":"IF(ISBLANK($D$9),\" \",IF(ISBLANK($D$10),\" \",IF(ISBLANK(D$15),\" \",IF(ISBLANK(D$16),\" \",ROUND(D$44/D$45,3)))))","v":" "}," "," "," "," "," "," "," "," "," "," "]
[]
[]
[null,null,{"$f":"IF(ISBLANK(M7),1,M7-0.03)","v":1},{"$f":"IF(ISBLANK(M7),1.04,M7+0.03)","v":1.04}]
[]
[]
[]
[]
[]
[]
[]
[]
[]
[]
[]
[]
[]
[]
[]
[]
[]
["Gse",{"$f":"ROUND((100-M8)/((100/M7)-(M8/M9)),3)","v":{"$error":"#DIV/0!"}}]
[]
[]
[]
[]
[]
[null,null,{"$f":"IF(C$14=1,C$15-0,IF(C$14=2,C$15-$C$9,IF(C$14=3,C$15-0,IF(C$14=4,C$15-$E$9,IF(C$14=5,C$15-0,IF(C$14=6,C$15-$G$9,IF(C$14=7,C$15-0,IF(C$14=8,C$15-$I$9))))))))","v":false},{"$f":"IF(D$14=1,D$15-0,IF(D$14=2,D$15-$C$9,IF(D$14=3,D$15-0,IF(D$14=4,D$15-$E$9,IF(D$14=5,D$15-0,IF(D$14=6,D$15-$G$9,IF(D$14=7,D$15-0,IF(D$14=8,D$15-$I$9))))))))","v":false},{"$f":"IF(E$14=1,E$15-0,IF(E$14=2,E$15-$C$9,IF(E$14=3,E$15-0,IF(E$14=4,E$15-$E$9,IF(E$14=5,E$15-0,IF(E$14=6,E$15-$G$9,IF(E$14=7,E$15-0,IF(E$14=8,E$15-$I$9))))))))","v":false},{"$f":"IF(F$14=1,F$15-0,IF(F$14=2,F$15-$C$9,IF(F$14=3,F$15-0,IF(F$14=4,F$15-$E$9,IF(F$14=5,F$15-0,IF(F$14=6,F$15-$G$9,IF(F$14=7,F$15-0,IF(F$14=8,F$15-$I$9))))))))","v":false},{"$f":"IF(G$14=1,G$15-0,IF(G$14=2,G$15-$C$9,IF(G$14=3,G$15-0,IF(G$14=4,G$15-$E$9,IF(G$14=5,G$15-0,IF(G$14=6,G$15-$G$9,IF(G$14=7,G$15-0,IF(G$14=8,G$15-$I$9))))))))","v":false},false,false,{"$f":"IF(J$14=1,J$15-0,IF(J$14=2,J$15-$C$9,IF(J$14=3,J$15-0,IF(J$14=4,J$15-$E$9,IF(J$14=5,J$15-0,IF(J$14=6,J$15-$G$9,IF(J$14=7,J$15-0,IF(J$14=8,J$15-$I$9))))))))","v":false},false,false,false,{"$f":"IF(N$14=1,N$15-0,IF(N$14=2,N$15-$C$9,IF(N$14=3,N$15-0,IF(N$14=4,N$15-$E$9,IF(N$14=5,N$15-0,IF(N$14=6,N$15-$G$9,IF(N$14=7,N$15-0,IF(N$14=8,N$15-$I$9))))))))","v":false}]
[null,null,{"$f":"IF(C$14=1,(C$15-0)+(C$10-C$16),IF(C$14=2,(C$15-$C$9)+($C$10-C$16),IF(C$14=3,(C$15-0)+($E$10-C$16),IF(C$14=4,(C$15-E$9)+($E$10-C$16),IF(C$14=5,(C$15-0)+($G$10-C$16),IF(C$14=6,(C$15-$G$9)+($G$10-C$16),IF(C$14=7,(C$15-0)+($I$10-C$16),IF(C$14=8,(C$15-I$9)+($I$10-C$16)))))))))","v":false},{"$f":"IF(D$14=1,(D$15-0)+(C$10-D$16),IF(D$14=2,(D$15-$C$9)+($C$10-D$16),IF(D$14=3,(D$15-0)+($E$10-D$16),IF(D$14=4,(D$15-E$9)+($E$10-D$16),IF(D$14=5,(D$15-0)+($G$10-D$16),IF(D$14=6,(D$15-G$9)+($G$10-D$16),IF(D$14=7,(D$15-0)+($I$10-D$16),IF(D$14=8,(D$15-I$9)+($I$10-D$16)))))))))","v":false},{"$f":"IF(E$14=1,(E$15-0)+(C$10-E$16),IF(E$14=2,(E$15-$C$9)+($C$10-E$16),IF(E$14=3,(E$15-0)+($E$10-E$16),IF(E$14=4,(E$15-E$9)+($E$10-E$16),IF(E$14=5,(E$15-0)+($G$10-E$16),IF(E$14=6,(E$15-G$9)+($G$10-E$16),IF(E$14=7,(E$15-0)+($I$10-E$16),IF(E$14=8,(E$15-I$9)+($I$10-E$16)))))))))","v":false},{"$f":"IF(F$14=1,(F$15-0)+(C$10-F$16),IF(F$14=2,(F$15-$C$9)+($C$10-F$16),IF(F$14=3,(F$15-0)+($E$10-F$16),IF(F$14=4,(F$15-E$9)+($E$10-F$16),IF(F$14=5,(F$15-0)+($G$10-F$16),IF(F$14=6,(F$15-G$9)+($G$10-F$16),IF(F$14=7,(F$15-0)+($I$10-F$16),IF(F$14=8,(F$15-I$9)+($I$10-F$16)))))))))","v":false},{"$f":"IF(G$14=1,(G$15-0)+(C$10-G$16),IF(G$14=2,(G$15-$C$9)+($C$10-G$16),IF(G$14=3,(G$15-0)+($E$10-G$16),IF(G$14=4,(G$15-E$9)+($E$10-G$16),IF(G$14=5,(G$15-0)+($G$10-G$16),IF(G$14=6,(G$15-G$9)+($G$10-G$16),IF(G$14=7,(G$15-0)+($I$10-G$16),IF(G$14=8,(G$15-I$9)+($I$10-G$16)))))))))","v":false},{"$f":"IF(H$14=1,(H$15-0)+(C$10-H$16),IF(H$14=2,(H$15-$C$9)+($C$10-H$16),IF(H$14=3,(H$15-0)+($E$10-H$16),IF(H$14=4,(H$15-E$9)+($E$10-H$16),IF(H$14=5,(H$15-0)+($G$10-H$16),IF(H$14=6,(H$15-G$9)+($G$10-H$16),IF(H$14=7,(H$15-0)+($I$10-H$16),IF(H$14=8,(H$15-I$9)+($I$10-H$16)))))))))","v":false},{"$f":"IF(I$14=1,(I$15-0)+(C$10-I$16),IF(I$14=2,(I$15-$C$9)+($C$10-I$16),IF(I$14=3,(I$15-0)+($E$10-I$16),IF(I$14=4,(I$15-E$9)+($E$10-I$16),IF(I$14=5,(I$15-0)+($G$10-I$16),IF(I$14=6,(I$15-G$9)+($G$10-I$16),IF(I$14=7,(I$15-0)+($I$10-I$16),IF(I$14=8,(I$15-I$9)+($I$10-I$16)))))))))","v":false},{"$f":"IF(J$14=1,(J$15-0)+(C$10-J$16),IF(J$14=2,(J$15-$C$9)+($C$10-J$16),IF(J$14=3,(J$15-0)+($E$10-J$16),IF(J$14=4,(J$15-E$9)+($E$10-J$16),IF(J$14=5,(J$15-0)+($G$10-J$16),IF(J$14=6,(J$15-G$9)+($G$10-J$16),IF(J$14=7,(J$15-0)+($I$10-J$16),IF(J$14=8,(J$15-I$9)+($I$10-J$16)))))))))","v":false},{"$f":"IF(K$14=1,(K$15-0)+(C$10-K$16),IF(K$14=2,(K$15-$C$9)+($C$10-K$16),IF(K$14=3,(K$15-0)+($E$10-K$16),IF(K$14=4,(K$15-E$9)+($E$10-K$16),IF(K$14=5,(K$15-0)+($G$10-K$16),IF(K$14=6,(K$15-G$9)+($G$10-K$16),IF(K$14=7,(K$15-0)+($I$10-K$16),IF(K$14=8,(K$15-I$9)+($I$10-K$16)))))))))","v":false},{"$f":"IF(L$14=1,(L$15-0)+(C$10-L$16),IF(L$14=2,(L$15-$C$9)+($C$10-L$16),IF(L$14=3,(L$15-0)+($E$10-L$16),IF(L$14=4,(L$15-E$9)+($E$10-L$16),IF(L$14=5,(L$15-0)+($G$10-L$16),IF(L$14=6,(L$15-G$9)+($G$10-L$16),IF(L$14=7,(L$15-0)+($I$10-L$16),IF(L$14=8,(L$15-I$9)+($I$10-L$16)))))))))","v":false},{"$f":"IF(M$14=1,(M$15-0)+(C$10-M$16),IF(M$14=2,(M$15-$C$9)+($C$10-M$16),IF(M$14=3,(M$15-0)+($E$10-M$16),IF(M$14=4,(M$15-E$9)+($E$10-M$16),IF(M$14=5,(M$15-0)+($G$10-M$16),IF(M$14=6,(M$15-G$9)+($G$10-M$16),IF(M$14=7,(M$15-0)+($I$10-M$16),IF(M$14=8,(M$15-I$9)+($I$10-M$16)))))))))","v":false},{"$f":"IF(N$14=1,(N$15-0)+(C$10-N$16),IF(N$14=2,(N$15-$C$9)+($C$10-N$16),IF(N$14=3,(N$15-0)+($E$10-N$16),IF(N$14=4,(N$15-E$9)+($E$10-N$16),IF(N$14=5,(N$15-0)+($G$10-N$16),IF(N$14=6,(N$15-G$9)+($G$10-N$16),IF(N$14=7,(N$15-0)+($I$10-N$16),IF(N$14=8,(N$15-I$9)+($I$10-N$16)))))))))","v":false}]

{"sheet":"G2","index":25,"n_rows":45,"n_cols":14,"rows_kept":45,"cut":false,"hidden":true,"merged":[[6,10,6,11],[6,12,6,13],[4,12,4,13],[0,0,3,1],[1,10,1,11],[3,2,3,3],[5,12,5,13],[6,6,6,7],[1,12,1,13],[4,10,4,11],[2,10,2,11],[2,12,2,13],[3,12,3,13],[4,5,5,8],[3,10,3,11],[5,10,5,11],[17,0,17,1],[13,0,13,1],[14,0,14,1],[15,0,15,1],[16,0,16,1],[6,8,6,9],[7,4,7,5],[7,6,7,7],[7,8,7,9],[6,4,6,5],[6,2,6,3],[12,0,12,1],[7,2,7,3],[9,0,9,1],[11,0,11,1],[8,0,8,1]]}
[]
[null,null,null,null,"COMMONWEALTH OF PENNSYLVANIA",null,null,null,null,null,"District",null,{"$f":"IF(ISBLANK('G1'!M2),\" \",('G1'!M2))","v":" "}]
[null,null,null,null,"DEPARTMENT OF TRANSPORTATION",null,null,null,null,null,"Plant Code",null,{"$f":"IF(ISBLANK('G1'!M3),\" \",('G1'!M3))","v":" "}]
[null,null,{"$f":"'G1'!C4","v":"Volumeter Method"},null,"LABORATORY TEST SECTION",null,null,null,null,null,"Material Class ",null,{"$f":"IF(ISBLANK('G1'!M4),\" \",('G1'!M4))","v":9.5}]
[{"$f":"'G1'!A5","v":"ESB-16"},null,null,null,null,"Maximum Specific Gravity Results",null,null,null,null,"Gyrations @ Ndes",null,{"$f":"IF(ISBLANK('G1'!M5),\" \",('G1'!M5))","v":" "}]
[null,null,null,null,null,null,null,null,null,null,"Design No.",null,{"$f":"IF(ISBLANK('G1'!M6),\" \",('G1'!M6))","v":" "}]
[null,null,"Volumeter No. ",null,{"$f":"Vol_1","v":0},null,"Volumeter No",null,{"$f":"Vol_2","v":0},null,"Design Gmm",null,{"$f":"IF(ISBLANK('G1'!M7),\" \",('G1'!M7))","v":" "}]
[null,null,"First Calibration",null,"Second Calibration",null,"First Calibration",null,"Second Calibration"]
[{"$f":"'G1'!A9:B9","v":"Wt of Dry Volumeter"},null,{"$f":"Vol_Dry1","v":0},"C\\F",{"$f":"Vol_Dry2","v":0},"C\\F",{"$f":"Vol_Dry3","v":0},"C\\F",{"$f":"Vol_Dry4","v":0},"C\\F"]
[{"$f":"'G1'!A10:B10","v":"Wt of Vol. with H20"},null,{"$f":"Vol_H2O1","v":0},{"$f":"'G1'!D10","v":1},{"$f":"Vol_H2O2","v":0},{"$f":"'G1'!F10","v":3},{"$f":"Vol_H2O3","v":0},{"$f":"'G1'!H10","v":5},{"$f":"Vol_H2O4","v":0},{"$f":"'G1'!J10","v":7}]
[]
["Sample No."]
["Date"]
["C/F"]
[{"$f":"'G1'!A15:B15","v":"Wt.of Vol.+ Mix"}]
[{"$f":"'G1'!A16:B16","v":"Wt. Of Vol.+(Mix+Water)"}]
["Gmm",null,{"$f":"IF(ISBLANK($D$9),\" \",IF(ISBLANK($D$10),\" \",IF(ISBLANK(C$15),\" \",IF(ISBLANK(C$16),\" \",ROUND(C$44/C$45,3)))))","v":" "},{"$f":"IF(ISBLANK($D$9),\" \",IF(ISBLANK($D$10),\" \",IF(ISBLANK(D$15),\" \",IF(ISBLANK(D$16),\" \",ROUND(D$44/D$45,3)))))","v":" "}," "," "," "," "," "," "," "," "," "," "]
[]
[]
[null,null,{"$f":"IF(ISTEXT(M7),1,M7-0.03)","v":1},{"$f":"IF(ISTEXT(M7),1.04,M7+0.03)","v":1.04}]
[]
[]
[]
[]
[]
[]
[]
[]
[]
[]
[]
[]
[]
[]
[]
[]
[]
[]
[]
[]
[]
[]
[]
[null,null,{"$f":"IF(C$14=1,C$15-0,IF(C$14=2,C$15-$C$9,IF(C$14=3,C$15-0,IF(C$14=4,C$15-$E$9,IF(C$14=5,C$15-0,IF(C$14=6,C$15-$G$9,IF(C$14=7,C$15-0,IF(C$14=8,C$15-$I$9))))))))","v":false},{"$f":"IF(D$14=1,D$15-0,IF(D$14=2,D$15-$C$9,IF(D$14=3,D$15-0,IF(D$14=4,D$15-$E$9,IF(D$14=5,D$15-0,IF(D$14=6,D$15-$G$9,IF(D$14=7,D$15-0,IF(D$14=8,D$15-$I$9))))))))","v":false},{"$f":"IF(E$14=1,E$15-0,IF(E$14=2,E$15-$C$9,IF(E$14=3,E$15-0,IF(E$14=4,E$15-$E$9,IF(E$14=5,E$15-0,IF(E$14=6,E$15-$G$9,IF(E$14=7,E$15-0,IF(E$14=8,E$15-$I$9))))))))","v":false},false,false,false,false,false,false,false,false,false]
[null,null,{"$f":"IF(C$14=1,(C$15-0)+(C$10-C$16),IF(C$14=2,(C$15-$C$9)+($C$10-C$16),IF(C$14=3,(C$15-0)+($E$10-C$16),IF(C$14=4,(C$15-E$9)+($E$10-C$16),IF(C$14=5,(C$15-0)+($G$10-C$16),IF(C$14=6,(C$15-$G$9)+($G$10-C$16),IF(C$14=7,(C$15-0)+($I$10-C$16),IF(C$14=8,(C$15-I$9)+($I$10-C$16)))))))))","v":false},{"$f":"IF(D$14=1,(D$15-0)+(C$10-D$16),IF(D$14=2,(D$15-$C$9)+($C$10-D$16),IF(D$14=3,(D$15-0)+($E$10-D$16),IF(D$14=4,(D$15-E$9)+($E$10-D$16),IF(D$14=5,(D$15-0)+($G$10-D$16),IF(D$14=6,(D$15-G$9)+($G$10-D$16),IF(D$14=7,(D$15-0)+($I$10-D$16),IF(D$14=8,(D$15-I$9)+($I$10-D$16)))))))))","v":false},{"$f":"IF(E$14=1,(E$15-0)+(C$10-E$16),IF(E$14=2,(E$15-$C$9)+($C$10-E$16),IF(E$14=3,(E$15-0)+($E$10-E$16),IF(E$14=4,(E$15-E$9)+($E$10-E$16),IF(E$14=5,(E$15-0)+($G$10-E$16),IF(E$14=6,(E$15-G$9)+($G$10-E$16),IF(E$14=7,(E$15-0)+($I$10-E$16),IF(E$14=8,(E$15-I$9)+($I$10-E$16)))))))))","v":false},{"$f":"IF(F$14=1,(F$15-0)+(C$10-F$16),IF(F$14=2,(F$15-$C$9)+($C$10-F$16),IF(F$14=3,(F$15-0)+($E$10-F$16),IF(F$14=4,(F$15-E$9)+($E$10-F$16),IF(F$14=5,(F$15-0)+($G$10-F$16),IF(F$14=6,(F$15-G$9)+($G$10-F$16),IF(F$14=7,(F$15-0)+($I$10-F$16),IF(F$14=8,(F$15-I$9)+($I$10-F$16)))))))))","v":false},{"$f":"IF(G$14=1,(G$15-0)+(C$10-G$16),IF(G$14=2,(G$15-$C$9)+($C$10-G$16),IF(G$14=3,(G$15-0)+($E$10-G$16),IF(G$14=4,(G$15-E$9)+($E$10-G$16),IF(G$14=5,(G$15-0)+($G$10-G$16),IF(G$14=6,(G$15-G$9)+($G$10-G$16),IF(G$14=7,(G$15-0)+($I$10-G$16),IF(G$14=8,(G$15-I$9)+($I$10-G$16)))))))))","v":false},{"$f":"IF(H$14=1,(H$15-0)+(C$10-H$16),IF(H$14=2,(H$15-$C$9)+($C$10-H$16),IF(H$14=3,(H$15-0)+($E$10-H$16),IF(H$14=4,(H$15-E$9)+($E$10-H$16),IF(H$14=5,(H$15-0)+($G$10-H$16),IF(H$14=6,(H$15-G$9)+($G$10-H$16),IF(H$14=7,(H$15-0)+($I$10-H$16),IF(H$14=8,(H$15-I$9)+($I$10-H$16)))))))))","v":false},{"$f":"IF(I$14=1,(I$15-0)+(C$10-I$16),IF(I$14=2,(I$15-$C$9)+($C$10-I$16),IF(I$14=3,(I$15-0)+($E$10-I$16),IF(I$14=4,(I$15-E$9)+($E$10-I$16),IF(I$14=5,(I$15-0)+($G$10-I$16),IF(I$14=6,(I$15-G$9)+($G$10-I$16),IF(I$14=7,(I$15-0)+($I$10-I$16),IF(I$14=8,(I$15-I$9)+($I$10-I$16)))))))))","v":false},{"$f":"IF(J$14=1,(J$15-0)+(C$10-J$16),IF(J$14=2,(J$15-$C$9)+($C$10-J$16),IF(J$14=3,(J$15-0)+($E$10-J$16),IF(J$14=4,(J$15-E$9)+($E$10-J$16),IF(J$14=5,(J$15-0)+($G$10-J$16),IF(J$14=6,(J$15-G$9)+($G$10-J$16),IF(J$14=7,(J$15-0)+($I$10-J$16),IF(J$14=8,(J$15-I$9)+($I$10-J$16)))))))))","v":false},{"$f":"IF(K$14=1,(K$15-0)+(C$10-K$16),IF(K$14=2,(K$15-$C$9)+($C$10-K$16),IF(K$14=3,(K$15-0)+($E$10-K$16),IF(K$14=4,(K$15-E$9)+($E$10-K$16),IF(K$14=5,(K$15-0)+($G$10-K$16),IF(K$14=6,(K$15-G$9)+($G$10-K$16),IF(K$14=7,(K$15-0)+($I$10-K$16),IF(K$14=8,(K$15-I$9)+($I$10-K$16)))))))))","v":false},{"$f":"IF(L$14=1,(L$15-0)+(C$10-L$16),IF(L$14=2,(L$15-$C$9)+($C$10-L$16),IF(L$14=3,(L$15-0)+($E$10-L$16),IF(L$14=4,(L$15-E$9)+($E$10-L$16),IF(L$14=5,(L$15-0)+($G$10-L$16),IF(L$14=6,(L$15-G$9)+($G$10-L$16),IF(L$14=7,(L$15-0)+($I$10-L$16),IF(L$14=8,(L$15-I$9)+($I$10-L$16)))))))))","v":false},{"$f":"IF(M$14=1,(M$15-0)+(C$10-M$16),IF(M$14=2,(M$15-$C$9)+($C$10-M$16),IF(M$14=3,(M$15-0)+($E$10-M$16),IF(M$14=4,(M$15-E$9)+($E$10-M$16),IF(M$14=5,(M$15-0)+($G$10-M$16),IF(M$14=6,(M$15-G$9)+($G$10-M$16),IF(M$14=7,(M$15-0)+($I$10-M$16),IF(M$14=8,(M$15-I$9)+($I$10-M$16)))))))))","v":false},{"$f":"IF(N$14=1,(N$15-0)+(C$10-N$16),IF(N$14=2,(N$15-$C$9)+($C$10-N$16),IF(N$14=3,(N$15-0)+($E$10-N$16),IF(N$14=4,(N$15-E$9)+($E$10-N$16),IF(N$14=5,(N$15-0)+($G$10-N$16),IF(N$14=6,(N$15-G$9)+($G$10-N$16),IF(N$14=7,(N$15-0)+($I$10-N$16),IF(N$14=8,(N$15-I$9)+($I$10-N$16)))))))))","v":false}]

{"sheet":"G3","index":26,"n_rows":45,"n_cols":14,"rows_kept":45,"cut":false,"hidden":true,"merged":[[6,10,6,11],[6,12,6,13],[4,12,4,13],[0,0,3,1],[1,10,1,11],[3,2,3,3],[5,12,5,13],[6,6,6,7],[1,12,1,13],[4,10,4,11],[2,10,2,11],[2,12,2,13],[3,12,3,13],[4,5,5,8],[3,10,3,11],[5,10,5,11],[17,0,17,1],[13,0,13,1],[14,0,14,1],[15,0,15,1],[16,0,16,1],[6,8,6,9],[7,4,7,5],[7,6,7,7],[7,8,7,9],[6,4,6,5],[6,2,6,3],[12,0,12,1],[7,2,7,3],[9,0,9,1],[11,0,11,1],[8,0,8,1]]}
[]
[null,null,null,null,"COMMONWEALTH OF PENNSYLVANIA",null,null,null,null,null,"District",null,{"$f":"IF(ISBLANK('G1'!M2),\" \",('G1'!M2))","v":" "}]
[null,null,null,null,"DEPARTMENT OF TRANSPORTATION",null,null,null,null,null,"Plant Code",null,{"$f":"IF(ISBLANK('G1'!M3),\" \",('G1'!M3))","v":" "}]
[null,null,{"$f":"'G1'!C4:D4","v":"Volumeter Method"},null,"LABORATORY TEST SECTION",null,null,null,null,null,"Material Class ",null,{"$f":"IF(ISBLANK('G1'!M4),\" \",('G1'!M4))","v":9.5}]
[{"$f":"'G1'!A5","v":"ESB-16"},null,null,null,null,"Maximum Specific Gravity Results",null,null,null,null,"Gyrations @ Ndes",null,{"$f":"IF(ISBLANK('G1'!M5),\" \",('G1'!M5))","v":" "}]
[null,null,null,null,null,null,null,null,null,null,"Design No.",null,{"$f":"IF(ISBLANK('G1'!M6),\" \",('G1'!M6))","v":" "}]
[null,null,"Volumeter No. ",null,{"$f":"Vol_1","v":0},null,"Volumeter No",null,{"$f":"Vol_2","v":0},null,"Design Gmm",null,{"$f":"IF(ISBLANK('G1'!M7),\" \",('G1'!M7))","v":" "}]
[null,null,"First Calibration",null,"Second Calibration",null,"First Calibration",null,"Second Calibration"]
[{"$f":"'G1'!A9:B9","v":"Wt of Dry Volumeter"},null,{"$f":"Vol_Dry1","v":0},"C\\F",{"$f":"Vol_Dry2","v":0},"C\\F",{"$f":"Vol_Dry3","v":0},"C\\F",{"$f":"Vol_Dry4","v":0},"C\\F"]
[{"$f":"'G1'!A10:B10","v":"Wt of Vol. with H20"},null,{"$f":"Vol_H2O1","v":0},{"$f":"'G1'!D10","v":1},{"$f":"Vol_H2O2","v":0},{"$f":"'G1'!F10","v":3},{"$f":"Vol_H2O3","v":0},{"$f":"'G1'!H10","v":5},{"$f":"Vol_H2O4","v":0},{"$f":"'G1'!J10","v":7}]
[]
["Sample No."]
["Date"]
["C/F"]
[{"$f":"'G1'!A15:B15","v":"Wt.of Vol.+ Mix"}]
[{"$f":"'G1'!A16:B16","v":"Wt. Of Vol.+(Mix+Water)"}]
["Gmm",null,{"$f":"IF(ISBLANK($D$9),\" \",IF(ISBLANK($D$10),\" \",IF(ISBLANK(C$15),\" \",IF(ISBLANK(C$16),\" \",ROUND(C$44/C$45,3)))))","v":" "},{"$f":"IF(ISBLANK($D$9),\" \",IF(ISBLANK($D$10),\" \",IF(ISBLANK(D$15),\" \",IF(ISBLANK(D$16),\" \",ROUND(D$44/D$45,3)))))","v":" "}," "," "," "," "," "," "," "," "," "," "]
[]
[]
[null,null,{"$f":"IF(ISTEXT(M7),1,M7-0.03)","v":1},{"$f":"IF(ISTEXT(M7),1.04,M7+0.03)","v":1.04}]
[]
[]
[]
[]
[]
[]
[]
[]
[]
[]
[]
[]
[]
[]
[]
[]
[]
[]
[]
[]
[]
[]
[]
[null,null,{"$f":"IF(C$14=1,C$15-0,IF(C$14=2,C$15-$C$9,IF(C$14=3,C$15-0,IF(C$14=4,C$15-$E$9,IF(C$14=5,C$15-0,IF(C$14=6,C$15-$G$9,IF(C$14=7,C$15-0,IF(C$14=8,C$15-$I$9))))))))","v":false},{"$f":"IF(D$14=1,D$15-0,IF(D$14=2,D$15-$C$9,IF(D$14=3,D$15-0,IF(D$14=4,D$15-$E$9,IF(D$14=5,D$15-0,IF(D$14=6,D$15-$G$9,IF(D$14=7,D$15-0,IF(D$14=8,D$15-$I$9))))))))","v":false},{"$f":"IF(E$14=1,E$15-0,IF(E$14=2,E$15-$C$9,IF(E$14=3,E$15-0,IF(E$14=4,E$15-$E$9,IF(E$14=5,E$15-0,IF(E$14=6,E$15-$G$9,IF(E$14=7,E$15-0,IF(E$14=8,E$15-$I$9))))))))","v":false},false,false,false,false,false,false,false,false,false]
[null,null,{"$f":"IF(C$14=1,(C$15-0)+(C$10-C$16),IF(C$14=2,(C$15-$C$9)+($C$10-C$16),IF(C$14=3,(C$15-0)+($E$10-C$16),IF(C$14=4,(C$15-E$9)+($E$10-C$16),IF(C$14=5,(C$15-0)+($G$10-C$16),IF(C$14=6,(C$15-$G$9)+($G$10-C$16),IF(C$14=7,(C$15-0)+($I$10-C$16),IF(C$14=8,(C$15-I$9)+($I$10-C$16)))))))))","v":false},{"$f":"IF(D$14=1,(D$15-0)+(C$10-D$16),IF(D$14=2,(D$15-$C$9)+($C$10-D$16),IF(D$14=3,(D$15-0)+($E$10-D$16),IF(D$14=4,(D$15-E$9)+($E$10-D$16),IF(D$14=5,(D$15-0)+($G$10-D$16),IF(D$14=6,(D$15-G$9)+($G$10-D$16),IF(D$14=7,(D$15-0)+($I$10-D$16),IF(D$14=8,(D$15-I$9)+($I$10-D$16)))))))))","v":false},{"$f":"IF(E$14=1,(E$15-0)+(C$10-E$16),IF(E$14=2,(E$15-$C$9)+($C$10-E$16),IF(E$14=3,(E$15-0)+($E$10-E$16),IF(E$14=4,(E$15-E$9)+($E$10-E$16),IF(E$14=5,(E$15-0)+($G$10-E$16),IF(E$14=6,(E$15-G$9)+($G$10-E$16),IF(E$14=7,(E$15-0)+($I$10-E$16),IF(E$14=8,(E$15-I$9)+($I$10-E$16)))))))))","v":false},{"$f":"IF(F$14=1,(F$15-0)+(C$10-F$16),IF(F$14=2,(F$15-$C$9)+($C$10-F$16),IF(F$14=3,(F$15-0)+($E$10-F$16),IF(F$14=4,(F$15-E$9)+($E$10-F$16),IF(F$14=5,(F$15-0)+($G$10-F$16),IF(F$14=6,(F$15-G$9)+($G$10-F$16),IF(F$14=7,(F$15-0)+($I$10-F$16),IF(F$14=8,(F$15-I$9)+($I$10-F$16)))))))))","v":false},{"$f":"IF(G$14=1,(G$15-0)+(C$10-G$16),IF(G$14=2,(G$15-$C$9)+($C$10-G$16),IF(G$14=3,(G$15-0)+($E$10-G$16),IF(G$14=4,(G$15-E$9)+($E$10-G$16),IF(G$14=5,(G$15-0)+($G$10-G$16),IF(G$14=6,(G$15-G$9)+($G$10-G$16),IF(G$14=7,(G$15-0)+($I$10-G$16),IF(G$14=8,(G$15-I$9)+($I$10-G$16)))))))))","v":false},{"$f":"IF(H$14=1,(H$15-0)+(C$10-H$16),IF(H$14=2,(H$15-$C$9)+($C$10-H$16),IF(H$14=3,(H$15-0)+($E$10-H$16),IF(H$14=4,(H$15-E$9)+($E$10-H$16),IF(H$14=5,(H$15-0)+($G$10-H$16),IF(H$14=6,(H$15-G$9)+($G$10-H$16),IF(H$14=7,(H$15-0)+($I$10-H$16),IF(H$14=8,(H$15-I$9)+($I$10-H$16)))))))))","v":false},{"$f":"IF(I$14=1,(I$15-0)+(C$10-I$16),IF(I$14=2,(I$15-$C$9)+($C$10-I$16),IF(I$14=3,(I$15-0)+($E$10-I$16),IF(I$14=4,(I$15-E$9)+($E$10-I$16),IF(I$14=5,(I$15-0)+($G$10-I$16),IF(I$14=6,(I$15-G$9)+($G$10-I$16),IF(I$14=7,(I$15-0)+($I$10-I$16),IF(I$14=8,(I$15-I$9)+($I$10-I$16)))))))))","v":false},{"$f":"IF(J$14=1,(J$15-0)+(C$10-J$16),IF(J$14=2,(J$15-$C$9)+($C$10-J$16),IF(J$14=3,(J$15-0)+($E$10-J$16),IF(J$14=4,(J$15-E$9)+($E$10-J$16),IF(J$14=5,(J$15-0)+($G$10-J$16),IF(J$14=6,(J$15-G$9)+($G$10-J$16),IF(J$14=7,(J$15-0)+($I$10-J$16),IF(J$14=8,(J$15-I$9)+($I$10-J$16)))))))))","v":false},{"$f":"IF(K$14=1,(K$15-0)+(C$10-K$16),IF(K$14=2,(K$15-$C$9)+($C$10-K$16),IF(K$14=3,(K$15-0)+($E$10-K$16),IF(K$14=4,(K$15-E$9)+($E$10-K$16),IF(K$14=5,(K$15-0)+($G$10-K$16),IF(K$14=6,(K$15-G$9)+($G$10-K$16),IF(K$14=7,(K$15-0)+($I$10-K$16),IF(K$14=8,(K$15-I$9)+($I$10-K$16)))))))))","v":false},{"$f":"IF(L$14=1,(L$15-0)+(C$10-L$16),IF(L$14=2,(L$15-$C$9)+($C$10-L$16),IF(L$14=3,(L$15-0)+($E$10-L$16),IF(L$14=4,(L$15-E$9)+($E$10-L$16),IF(L$14=5,(L$15-0)+($G$10-L$16),IF(L$14=6,(L$15-G$9)+($G$10-L$16),IF(L$14=7,(L$15-0)+($I$10-L$16),IF(L$14=8,(L$15-I$9)+($I$10-L$16)))))))))","v":false},{"$f":"IF(M$14=1,(M$15-0)+(C$10-M$16),IF(M$14=2,(M$15-$C$9)+($C$10-M$16),IF(M$14=3,(M$15-0)+($E$10-M$16),IF(M$14=4,(M$15-E$9)+($E$10-M$16),IF(M$14=5,(M$15-0)+($G$10-M$16),IF(M$14=6,(M$15-G$9)+($G$10-M$16),IF(M$14=7,(M$15-0)+($I$10-M$16),IF(M$14=8,(M$15-I$9)+($I$10-M$16)))))))))","v":false},{"$f":"IF(N$14=1,(N$15-0)+(C$10-N$16),IF(N$14=2,(N$15-$C$9)+($C$10-N$16),IF(N$14=3,(N$15-0)+($E$10-N$16),IF(N$14=4,(N$15-E$9)+($E$10-N$16),IF(N$14=5,(N$15-0)+($G$10-N$16),IF(N$14=6,(N$15-G$9)+($G$10-N$16),IF(N$14=7,(N$15-0)+($I$10-N$16),IF(N$14=8,(N$15-I$9)+($I$10-N$16)))))))))","v":false}]

{"sheet":"G4","index":27,"n_rows":45,"n_cols":14,"rows_kept":45,"cut":false,"hidden":true,"merged":[[6,10,6,11],[6,12,6,13],[4,12,4,13],[0,0,3,1],[1,10,1,11],[3,2,3,3],[5,12,5,13],[6,6,6,7],[1,12,1,13],[4,10,4,11],[2,10,2,11],[2,12,2,13],[3,12,3,13],[4,5,5,8],[3,10,3,11],[5,10,5,11],[17,0,17,1],[13,0,13,1],[14,0,14,1],[15,0,15,1],[16,0,16,1],[6,8,6,9],[7,4,7,5],[7,6,7,7],[7,8,7,9],[6,4,6,5],[6,2,6,3],[12,0,12,1],[7,2,7,3],[9,0,9,1],[11,0,11,1],[8,0,8,1]]}
[]
[null,null,null,null,"COMMONWEALTH OF PENNSYLVANIA",null,null,null,null,null,"District",null,{"$f":"IF(ISBLANK('G1'!M2),\" \",('G1'!M2))","v":" "}]
[null,null,null,null,"DEPARTMENT OF TRANSPORTATION",null,null,null,null,null,"Plant Code",null,{"$f":"IF(ISBLANK('G1'!M3),\" \",('G1'!M3))","v":" "}]
[null,null,{"$f":"'G1'!C4","v":"Volumeter Method"},null,"LABORATORY TEST SECTION",null,null,null,null,null,"Material Class ",null,{"$f":"IF(ISBLANK('G1'!M4),\" \",('G1'!M4))","v":9.5}]
[{"$f":"'G1'!A5","v":"ESB-16"},null,null,null,null,"Maximum Specific Gravity Results",null,null,null,null,"Gyrations @ Ndes",null,{"$f":"IF(ISBLANK('G1'!M5),\" \",('G1'!M5))","v":" "}]
[null,null,null,null,null,null,null,null,null,null,"Design No.",null,{"$f":"IF(ISBLANK('G1'!M6),\" \",('G1'!M6))","v":" "}]
[null,null,"Volumeter No. ",null,{"$f":"Vol_1","v":0},null,"Volumeter No",null,{"$f":"Vol_2","v":0},null,"Design Gmm",null,{"$f":"IF(ISBLANK('G1'!M7),\" \",('G1'!M7))","v":" "}]
[null,null,"First Calibration",null,"Second Calibration",null,"First Calibration",null,"Second Calibration"]
[{"$f":"'G1'!A9:B9","v":"Wt of Dry Volumeter"},null,{"$f":"Vol_Dry1","v":0},"C\\F",{"$f":"Vol_Dry2","v":0},"C\\F",{"$f":"Vol_Dry3","v":0},"C\\F",{"$f":"Vol_Dry4","v":0},"C\\F"]
[{"$f":"'G1'!A10:B10","v":"Wt of Vol. with H20"},null,{"$f":"Vol_H2O1","v":0},{"$f":"'G1'!D10","v":1},{"$f":"Vol_H2O2","v":0},{"$f":"'G1'!F10","v":3},{"$f":"Vol_H2O3","v":0},{"$f":"'G1'!H10","v":5},{"$f":"Vol_H2O4","v":0},{"$f":"'G1'!J10","v":7}]
[]
["Sample No."]
["Date"]
["C/F"]
[{"$f":"'G1'!A15","v":"Wt.of Vol.+ Mix"}]
[{"$f":"'G1'!A16","v":"Wt. Of Vol.+(Mix+Water)"}]
["Gmm",null,{"$f":"IF(ISBLANK($D$9),\" \",IF(ISBLANK($D$10),\" \",IF(ISBLANK(C$15),\" \",IF(ISBLANK(C$16),\" \",ROUND(C$44/C$45,3)))))","v":" "},{"$f":"IF(ISBLANK($D$9),\" \",IF(ISBLANK($D$10),\" \",IF(ISBLANK(D$15),\" \",IF(ISBLANK(D$16),\" \",ROUND(D$44/D$45,3)))))","v":" "}," "," "," "," "," "," "," "," "," "," "]
[]
[]
[null,null,{"$f":"IF(ISTEXT(M7),1,M7-0.03)","v":1},{"$f":"IF(ISTEXT(M7),1.04,M7+0.03)","v":1.04}]
[]
[]
[]
[]
[]
[]
[]
[]
[]
[]
[]
[]
[]
[]
[]
[]
[]
[]
[]
[]
[]
[]
[]
[null,null,{"$f":"IF(C$14=1,C$15-0,IF(C$14=2,C$15-$C$9,IF(C$14=3,C$15-0,IF(C$14=4,C$15-$E$9,IF(C$14=5,C$15-0,IF(C$14=6,C$15-$G$9,IF(C$14=7,C$15-0,IF(C$14=8,C$15-$I$9))))))))","v":false},{"$f":"IF(D$14=1,D$15-0,IF(D$14=2,D$15-$C$9,IF(D$14=3,D$15-0,IF(D$14=4,D$15-$E$9,IF(D$14=5,D$15-0,IF(D$14=6,D$15-$G$9,IF(D$14=7,D$15-0,IF(D$14=8,D$15-$I$9))))))))","v":false},{"$f":"IF(E$14=1,E$15-0,IF(E$14=2,E$15-$C$9,IF(E$14=3,E$15-0,IF(E$14=4,E$15-$E$9,IF(E$14=5,E$15-0,IF(E$14=6,E$15-$G$9,IF(E$14=7,E$15-0,IF(E$14=8,E$15-$I$9))))))))","v":false},false,false,false,false,false,false,false,false,false]
[null,null,{"$f":"IF(C$14=1,(C$15-0)+(C$10-C$16),IF(C$14=2,(C$15-$C$9)+($C$10-C$16),IF(C$14=3,(C$15-0)+($E$10-C$16),IF(C$14=4,(C$15-E$9)+($E$10-C$16),IF(C$14=5,(C$15-0)+($G$10-C$16),IF(C$14=6,(C$15-$G$9)+($G$10-C$16),IF(C$14=7,(C$15-0)+($I$10-C$16),IF(C$14=8,(C$15-I$9)+($I$10-C$16)))))))))","v":false},{"$f":"IF(D$14=1,(D$15-0)+(C$10-D$16),IF(D$14=2,(D$15-$C$9)+($C$10-D$16),IF(D$14=3,(D$15-0)+($E$10-D$16),IF(D$14=4,(D$15-E$9)+($E$10-D$16),IF(D$14=5,(D$15-0)+($G$10-D$16),IF(D$14=6,(D$15-G$9)+($G$10-D$16),IF(D$14=7,(D$15-0)+($I$10-D$16),IF(D$14=8,(D$15-I$9)+($I$10-D$16)))))))))","v":false},{"$f":"IF(E$14=1,(E$15-0)+(C$10-E$16),IF(E$14=2,(E$15-$C$9)+($C$10-E$16),IF(E$14=3,(E$15-0)+($E$10-E$16),IF(E$14=4,(E$15-E$9)+($E$10-E$16),IF(E$14=5,(E$15-0)+($G$10-E$16),IF(E$14=6,(E$15-G$9)+($G$10-E$16),IF(E$14=7,(E$15-0)+($I$10-E$16),IF(E$14=8,(E$15-I$9)+($I$10-E$16)))))))))","v":false},{"$f":"IF(F$14=1,(F$15-0)+(C$10-F$16),IF(F$14=2,(F$15-$C$9)+($C$10-F$16),IF(F$14=3,(F$15-0)+($E$10-F$16),IF(F$14=4,(F$15-E$9)+($E$10-F$16),IF(F$14=5,(F$15-0)+($G$10-F$16),IF(F$14=6,(F$15-G$9)+($G$10-F$16),IF(F$14=7,(F$15-0)+($I$10-F$16),IF(F$14=8,(F$15-I$9)+($I$10-F$16)))))))))","v":false},{"$f":"IF(G$14=1,(G$15-0)+(C$10-G$16),IF(G$14=2,(G$15-$C$9)+($C$10-G$16),IF(G$14=3,(G$15-0)+($E$10-G$16),IF(G$14=4,(G$15-E$9)+($E$10-G$16),IF(G$14=5,(G$15-0)+($G$10-G$16),IF(G$14=6,(G$15-G$9)+($G$10-G$16),IF(G$14=7,(G$15-0)+($I$10-G$16),IF(G$14=8,(G$15-I$9)+($I$10-G$16)))))))))","v":false},{"$f":"IF(H$14=1,(H$15-0)+(C$10-H$16),IF(H$14=2,(H$15-$C$9)+($C$10-H$16),IF(H$14=3,(H$15-0)+($E$10-H$16),IF(H$14=4,(H$15-E$9)+($E$10-H$16),IF(H$14=5,(H$15-0)+($G$10-H$16),IF(H$14=6,(H$15-G$9)+($G$10-H$16),IF(H$14=7,(H$15-0)+($I$10-H$16),IF(H$14=8,(H$15-I$9)+($I$10-H$16)))))))))","v":false},{"$f":"IF(I$14=1,(I$15-0)+(C$10-I$16),IF(I$14=2,(I$15-$C$9)+($C$10-I$16),IF(I$14=3,(I$15-0)+($E$10-I$16),IF(I$14=4,(I$15-E$9)+($E$10-I$16),IF(I$14=5,(I$15-0)+($G$10-I$16),IF(I$14=6,(I$15-G$9)+($G$10-I$16),IF(I$14=7,(I$15-0)+($I$10-I$16),IF(I$14=8,(I$15-I$9)+($I$10-I$16)))))))))","v":false},{"$f":"IF(J$14=1,(J$15-0)+(C$10-J$16),IF(J$14=2,(J$15-$C$9)+($C$10-J$16),IF(J$14=3,(J$15-0)+($E$10-J$16),IF(J$14=4,(J$15-E$9)+($E$10-J$16),IF(J$14=5,(J$15-0)+($G$10-J$16),IF(J$14=6,(J$15-G$9)+($G$10-J$16),IF(J$14=7,(J$15-0)+($I$10-J$16),IF(J$14=8,(J$15-I$9)+($I$10-J$16)))))))))","v":false},{"$f":"IF(K$14=1,(K$15-0)+(C$10-K$16),IF(K$14=2,(K$15-$C$9)+($C$10-K$16),IF(K$14=3,(K$15-0)+($E$10-K$16),IF(K$14=4,(K$15-E$9)+($E$10-K$16),IF(K$14=5,(K$15-0)+($G$10-K$16),IF(K$14=6,(K$15-G$9)+($G$10-K$16),IF(K$14=7,(K$15-0)+($I$10-K$16),IF(K$14=8,(K$15-I$9)+($I$10-K$16)))))))))","v":false},{"$f":"IF(L$14=1,(L$15-0)+(C$10-L$16),IF(L$14=2,(L$15-$C$9)+($C$10-L$16),IF(L$14=3,(L$15-0)+($E$10-L$16),IF(L$14=4,(L$15-E$9)+($E$10-L$16),IF(L$14=5,(L$15-0)+($G$10-L$16),IF(L$14=6,(L$15-G$9)+($G$10-L$16),IF(L$14=7,(L$15-0)+($I$10-L$16),IF(L$14=8,(L$15-I$9)+($I$10-L$16)))))))))","v":false},{"$f":"IF(M$14=1,(M$15-0)+(C$10-M$16),IF(M$14=2,(M$15-$C$9)+($C$10-M$16),IF(M$14=3,(M$15-0)+($E$10-M$16),IF(M$14=4,(M$15-E$9)+($E$10-M$16),IF(M$14=5,(M$15-0)+($G$10-M$16),IF(M$14=6,(M$15-G$9)+($G$10-M$16),IF(M$14=7,(M$15-0)+($I$10-M$16),IF(M$14=8,(M$15-I$9)+($I$10-M$16)))))))))","v":false},{"$f":"IF(N$14=1,(N$15-0)+(C$10-N$16),IF(N$14=2,(N$15-$C$9)+($C$10-N$16),IF(N$14=3,(N$15-0)+($E$10-N$16),IF(N$14=4,(N$15-E$9)+($E$10-N$16),IF(N$14=5,(N$15-0)+($G$10-N$16),IF(N$14=6,(N$15-G$9)+($G$10-N$16),IF(N$14=7,(N$15-0)+($I$10-N$16),IF(N$14=8,(N$15-I$9)+($I$10-N$16)))))))))","v":false}]

{"sheet":"G5","index":28,"n_rows":45,"n_cols":14,"rows_kept":45,"cut":false,"hidden":true,"merged":[[6,10,6,11],[6,12,6,13],[4,12,4,13],[0,0,3,1],[1,10,1,11],[3,2,3,3],[5,12,5,13],[6,6,6,7],[1,12,1,13],[4,10,4,11],[2,10,2,11],[2,12,2,13],[3,12,3,13],[4,5,5,8],[3,10,3,11],[5,10,5,11],[17,0,17,1],[13,0,13,1],[14,0,14,1],[15,0,15,1],[16,0,16,1],[6,8,6,9],[7,4,7,5],[7,6,7,7],[7,8,7,9],[6,4,6,5],[6,2,6,3],[12,0,12,1],[7,2,7,3],[9,0,9,1],[11,0,11,1],[8,0,8,1]]}
[]
[null,null,null,null,"COMMONWEALTH OF PENNSYLVANIA",null,null,null,null,null,"District",null,{"$f":"IF(ISBLANK('G1'!M2),\" \",('G1'!M2))","v":" "}]
[null,null,null,null,"DEPARTMENT OF TRANSPORTATION",null,null,null,null,null,"Plant Code",null,{"$f":"IF(ISBLANK('G1'!M3),\" \",('G1'!M3))","v":" "}]
[null,null,{"$f":"'G1'!C4:D4","v":"Volumeter Method"},null,"LABORATORY TEST SECTION",null,null,null,null,null,"Material Class ",null,{"$f":"IF(ISBLANK('G1'!M4),\" \",('G1'!M4))","v":9.5}]
[{"$f":"'G1'!A5","v":"ESB-16"},null,null,null,null,"Maximum Specific Gravity Results",null,null,null,null,"Gyrations @ Ndes",null,{"$f":"IF(ISBLANK('G1'!M5),\" \",('G1'!M5))","v":" "}]
[null,null,null,null,null,null,null,null,null,null,"Design No.",null,{"$f":"IF(ISBLANK('G1'!M6),\" \",('G1'!M6))","v":" "}]
[null,null,"Volumeter No. ",null,{"$f":"Vol_1","v":0},null,"Volumeter No",null,{"$f":"Vol_2","v":0},null,"Design Gmm",null,{"$f":"IF(ISBLANK('G1'!M7),\" \",('G1'!M7))","v":" "}]
[null,null,"First Calibration",null,"Second Calibration",null,"First Calibration",null,"Second Calibration"]
[{"$f":"'G1'!A9:B9","v":"Wt of Dry Volumeter"},null,{"$f":"Vol_Dry1","v":0},"C\\F",{"$f":"Vol_Dry2","v":0},"C\\F",{"$f":"Vol_Dry3","v":0},"C\\F",{"$f":"Vol_Dry4","v":0},"C\\F"]
[{"$f":"'G1'!A10:B10","v":"Wt of Vol. with H20"},null,{"$f":"Vol_H2O1","v":0},{"$f":"'G1'!D10","v":1},{"$f":"Vol_H2O2","v":0},{"$f":"'G1'!F10","v":3},{"$f":"Vol_H2O3","v":0},{"$f":"'G1'!H10","v":5},{"$f":"Vol_H2O4","v":0},{"$f":"'G1'!J10","v":7}]
[]
["Sample No."]
["Date"]
["C/F"]
[{"$f":"'G1'!A15:B15","v":"Wt.of Vol.+ Mix"}]
[{"$f":"'G1'!A16:B16","v":"Wt. Of Vol.+(Mix+Water)"}]
["Gmm",null,{"$f":"IF(ISBLANK($D$9),\" \",IF(ISBLANK($D$10),\" \",IF(ISBLANK(C$15),\" \",IF(ISBLANK(C$16),\" \",ROUND(C$44/C$45,3)))))","v":" "},{"$f":"IF(ISBLANK($D$9),\" \",IF(ISBLANK($D$10),\" \",IF(ISBLANK(D$15),\" \",IF(ISBLANK(D$16),\" \",ROUND(D$44/D$45,3)))))","v":" "}," "," "," "," "," "," "," "," "," "," "]
[]
[]
[null,null,{"$f":"IF(ISTEXT(M7),1,M7-0.03)","v":1},{"$f":"IF(ISTEXT(M7),1.04,M7+0.03)","v":1.04}]
[]
[]
[]
[]
[]
[]
[]
[]
[]
[]
[]
[]
[]
[]
[]
[]
[]
[]
[]
[]
[]
[]
[]
[null,null,{"$f":"IF(C$14=1,C$15-0,IF(C$14=2,C$15-$C$9,IF(C$14=3,C$15-0,IF(C$14=4,C$15-$E$9,IF(C$14=5,C$15-0,IF(C$14=6,C$15-$G$9,IF(C$14=7,C$15-0,IF(C$14=8,C$15-$I$9))))))))","v":false},{"$f":"IF(D$14=1,D$15-0,IF(D$14=2,D$15-$C$9,IF(D$14=3,D$15-0,IF(D$14=4,D$15-$E$9,IF(D$14=5,D$15-0,IF(D$14=6,D$15-$G$9,IF(D$14=7,D$15-0,IF(D$14=8,D$15-$I$9))))))))","v":false},{"$f":"IF(E$14=1,E$15-0,IF(E$14=2,E$15-$C$9,IF(E$14=3,E$15-0,IF(E$14=4,E$15-$E$9,IF(E$14=5,E$15-0,IF(E$14=6,E$15-$G$9,IF(E$14=7,E$15-0,IF(E$14=8,E$15-$I$9))))))))","v":false},false,false,false,false,false,false,false,false,false]
[null,null,{"$f":"IF(C$14=1,(C$15-0)+(C$10-C$16),IF(C$14=2,(C$15-$C$9)+($C$10-C$16),IF(C$14=3,(C$15-0)+($E$10-C$16),IF(C$14=4,(C$15-E$9)+($E$10-C$16),IF(C$14=5,(C$15-0)+($G$10-C$16),IF(C$14=6,(C$15-$G$9)+($G$10-C$16),IF(C$14=7,(C$15-0)+($I$10-C$16),IF(C$14=8,(C$15-I$9)+($I$10-C$16)))))))))","v":false},{"$f":"IF(D$14=1,(D$15-0)+(C$10-D$16),IF(D$14=2,(D$15-$C$9)+($C$10-D$16),IF(D$14=3,(D$15-0)+($E$10-D$16),IF(D$14=4,(D$15-E$9)+($E$10-D$16),IF(D$14=5,(D$15-0)+($G$10-D$16),IF(D$14=6,(D$15-G$9)+($G$10-D$16),IF(D$14=7,(D$15-0)+($I$10-D$16),IF(D$14=8,(D$15-I$9)+($I$10-D$16)))))))))","v":false},{"$f":"IF(E$14=1,(E$15-0)+(C$10-E$16),IF(E$14=2,(E$15-$C$9)+($C$10-E$16),IF(E$14=3,(E$15-0)+($E$10-E$16),IF(E$14=4,(E$15-E$9)+($E$10-E$16),IF(E$14=5,(E$15-0)+($G$10-E$16),IF(E$14=6,(E$15-G$9)+($G$10-E$16),IF(E$14=7,(E$15-0)+($I$10-E$16),IF(E$14=8,(E$15-I$9)+($I$10-E$16)))))))))","v":false},{"$f":"IF(F$14=1,(F$15-0)+(C$10-F$16),IF(F$14=2,(F$15-$C$9)+($C$10-F$16),IF(F$14=3,(F$15-0)+($E$10-F$16),IF(F$14=4,(F$15-E$9)+($E$10-F$16),IF(F$14=5,(F$15-0)+($G$10-F$16),IF(F$14=6,(F$15-G$9)+($G$10-F$16),IF(F$14=7,(F$15-0)+($I$10-F$16),IF(F$14=8,(F$15-I$9)+($I$10-F$16)))))))))","v":false},{"$f":"IF(G$14=1,(G$15-0)+(C$10-G$16),IF(G$14=2,(G$15-$C$9)+($C$10-G$16),IF(G$14=3,(G$15-0)+($E$10-G$16),IF(G$14=4,(G$15-E$9)+($E$10-G$16),IF(G$14=5,(G$15-0)+($G$10-G$16),IF(G$14=6,(G$15-G$9)+($G$10-G$16),IF(G$14=7,(G$15-0)+($I$10-G$16),IF(G$14=8,(G$15-I$9)+($I$10-G$16)))))))))","v":false},{"$f":"IF(H$14=1,(H$15-0)+(C$10-H$16),IF(H$14=2,(H$15-$C$9)+($C$10-H$16),IF(H$14=3,(H$15-0)+($E$10-H$16),IF(H$14=4,(H$15-E$9)+($E$10-H$16),IF(H$14=5,(H$15-0)+($G$10-H$16),IF(H$14=6,(H$15-G$9)+($G$10-H$16),IF(H$14=7,(H$15-0)+($I$10-H$16),IF(H$14=8,(H$15-I$9)+($I$10-H$16)))))))))","v":false},{"$f":"IF(I$14=1,(I$15-0)+(C$10-I$16),IF(I$14=2,(I$15-$C$9)+($C$10-I$16),IF(I$14=3,(I$15-0)+($E$10-I$16),IF(I$14=4,(I$15-E$9)+($E$10-I$16),IF(I$14=5,(I$15-0)+($G$10-I$16),IF(I$14=6,(I$15-G$9)+($G$10-I$16),IF(I$14=7,(I$15-0)+($I$10-I$16),IF(I$14=8,(I$15-I$9)+($I$10-I$16)))))))))","v":false},{"$f":"IF(J$14=1,(J$15-0)+(C$10-J$16),IF(J$14=2,(J$15-$C$9)+($C$10-J$16),IF(J$14=3,(J$15-0)+($E$10-J$16),IF(J$14=4,(J$15-E$9)+($E$10-J$16),IF(J$14=5,(J$15-0)+($G$10-J$16),IF(J$14=6,(J$15-G$9)+($G$10-J$16),IF(J$14=7,(J$15-0)+($I$10-J$16),IF(J$14=8,(J$15-I$9)+($I$10-J$16)))))))))","v":false},{"$f":"IF(K$14=1,(K$15-0)+(C$10-K$16),IF(K$14=2,(K$15-$C$9)+($C$10-K$16),IF(K$14=3,(K$15-0)+($E$10-K$16),IF(K$14=4,(K$15-E$9)+($E$10-K$16),IF(K$14=5,(K$15-0)+($G$10-K$16),IF(K$14=6,(K$15-G$9)+($G$10-K$16),IF(K$14=7,(K$15-0)+($I$10-K$16),IF(K$14=8,(K$15-I$9)+($I$10-K$16)))))))))","v":false},{"$f":"IF(L$14=1,(L$15-0)+(C$10-L$16),IF(L$14=2,(L$15-$C$9)+($C$10-L$16),IF(L$14=3,(L$15-0)+($E$10-L$16),IF(L$14=4,(L$15-E$9)+($E$10-L$16),IF(L$14=5,(L$15-0)+($G$10-L$16),IF(L$14=6,(L$15-G$9)+($G$10-L$16),IF(L$14=7,(L$15-0)+($I$10-L$16),IF(L$14=8,(L$15-I$9)+($I$10-L$16)))))))))","v":false},{"$f":"IF(M$14=1,(M$15-0)+(C$10-M$16),IF(M$14=2,(M$15-$C$9)+($C$10-M$16),IF(M$14=3,(M$15-0)+($E$10-M$16),IF(M$14=4,(M$15-E$9)+($E$10-M$16),IF(M$14=5,(M$15-0)+($G$10-M$16),IF(M$14=6,(M$15-G$9)+($G$10-M$16),IF(M$14=7,(M$15-0)+($I$10-M$16),IF(M$14=8,(M$15-I$9)+($I$10-M$16)))))))))","v":false},{"$f":"IF(N$14=1,(N$15-0)+(C$10-N$16),IF(N$14=2,(N$15-$C$9)+($C$10-N$16),IF(N$14=3,(N$15-0)+($E$10-N$16),IF(N$14=4,(N$15-E$9)+($E$10-N$16),IF(N$14=5,(N$15-0)+($G$10-N$16),IF(N$14=6,(N$15-G$9)+($G$10-N$16),IF(N$14=7,(N$15-0)+($I$10-N$16),IF(N$14=8,(N$15-I$9)+($I$10-N$16)))))))))","v":false}]

{"sheet":"G6","index":29,"n_rows":45,"n_cols":14,"rows_kept":45,"cut":false,"hidden":true,"merged":[[6,10,6,11],[6,12,6,13],[4,12,4,13],[0,0,3,1],[1,10,1,11],[3,2,3,3],[5,12,5,13],[6,6,6,7],[1,12,1,13],[4,10,4,11],[2,10,2,11],[2,12,2,13],[3,12,3,13],[4,5,5,8],[3,10,3,11],[5,10,5,11],[17,0,17,1],[13,0,13,1],[14,0,14,1],[15,0,15,1],[16,0,16,1],[6,8,6,9],[7,4,7,5],[7,6,7,7],[7,8,7,9],[6,4,6,5],[6,2,6,3],[12,0,12,1],[7,2,7,3],[9,0,9,1],[11,0,11,1],[8,0,8,1]]}
[]
[null,null,null,null,"COMMONWEALTH OF PENNSYLVANIA",null,null,null,null,null,"District",null,{"$f":"IF(ISBLANK('G1'!M2),\" \",('G1'!M2))","v":" "}]
[null,null,null,null,"DEPARTMENT OF TRANSPORTATION",null,null,null,null,null,"Plant Code",null,{"$f":"IF(ISBLANK('G1'!M3),\" \",('G1'!M3))","v":" "}]
[null,null,{"$f":"'G1'!C4:D4","v":"Volumeter Method"},null,"LABORATORY TEST SECTION",null,null,null,null,null,"Material Class ",null,{"$f":"IF(ISBLANK('G1'!M4),\" \",('G1'!M4))","v":9.5}]
[{"$f":"'G1'!A5","v":"ESB-16"},null,null,null,null,"Maximum Specific Gravity Results",null,null,null,null,"Gyrations @ Ndes",null,{"$f":"IF(ISBLANK('G1'!M5),\" \",('G1'!M5))","v":" "}]
[null,null,null,null,null,null,null,null,null,null,"Design No.",null,{"$f":"IF(ISBLANK('G1'!M6),\" \",('G1'!M6))","v":" "}]
[null,null,"Volumeter No. ",null,{"$f":"Vol_1","v":0},null,"Volumeter No",null,{"$f":"Vol_2","v":0},null,"Design Gmm",null,{"$f":"IF(ISBLANK('G1'!M7),\" \",('G1'!M7))","v":" "}]
[null,null,"First Calibration",null,"Second Calibration",null,"First Calibration",null,"Second Calibration"]
[{"$f":"'G1'!A9:B9","v":"Wt of Dry Volumeter"},null,{"$f":"Vol_Dry1","v":0},"C\\F",{"$f":"Vol_Dry2","v":0},"C\\F",{"$f":"Vol_Dry3","v":0},"C\\F",{"$f":"Vol_Dry4","v":0},"C\\F"]
[{"$f":"'G1'!A10:B10","v":"Wt of Vol. with H20"},null,{"$f":"Vol_H2O1","v":0},{"$f":"'G1'!D10","v":1},{"$f":"Vol_H2O2","v":0},{"$f":"'G1'!F10","v":3},{"$f":"Vol_H2O3","v":0},{"$f":"'G1'!H10","v":5},{"$f":"Vol_H2O4","v":0},{"$f":"'G1'!J10","v":7}]
[]
["Sample No."]
["Date"]
["C/F"]
[{"$f":"'G1'!A15:B15","v":"Wt.of Vol.+ Mix"}]
[{"$f":"'G1'!A16:B16","v":"Wt. Of Vol.+(Mix+Water)"}]
["Gmm",null,{"$f":"IF(ISBLANK($D$9),\" \",IF(ISBLANK($D$10),\" \",IF(ISBLANK(C$15),\" \",IF(ISBLANK(C$16),\" \",ROUND(C$44/C$45,3)))))","v":" "},{"$f":"IF(ISBLANK($D$9),\" \",IF(ISBLANK($D$10),\" \",IF(ISBLANK(D$15),\" \",IF(ISBLANK(D$16),\" \",ROUND(D$44/D$45,3)))))","v":" "}," "," "," "," "," "," "," "," "," "," "]
[]
[]
[null,null,{"$f":"IF(ISTEXT(M7),1,M7-0.03)","v":1},{"$f":"IF(ISTEXT(M7),1.04,M7+0.03)","v":1.04}]
[]
[]
[]
[]
[]
[]
[]
[]
[]
[]
[]
[]
[]
[]
[]
[]
[]
[]
[]
[]
[]
[]
[]
[null,null,{"$f":"IF(C$14=1,C$15-0,IF(C$14=2,C$15-$C$9,IF(C$14=3,C$15-0,IF(C$14=4,C$15-$E$9,IF(C$14=5,C$15-0,IF(C$14=6,C$15-$G$9,IF(C$14=7,C$15-0,IF(C$14=8,C$15-$I$9))))))))","v":false},{"$f":"IF(D$14=1,D$15-0,IF(D$14=2,D$15-$C$9,IF(D$14=3,D$15-0,IF(D$14=4,D$15-$E$9,IF(D$14=5,D$15-0,IF(D$14=6,D$15-$G$9,IF(D$14=7,D$15-0,IF(D$14=8,D$15-$I$9))))))))","v":false},{"$f":"IF(E$14=1,E$15-0,IF(E$14=2,E$15-$C$9,IF(E$14=3,E$15-0,IF(E$14=4,E$15-$E$9,IF(E$14=5,E$15-0,IF(E$14=6,E$15-$G$9,IF(E$14=7,E$15-0,IF(E$14=8,E$15-$I$9))))))))","v":false},false,false,false,false,false,false,false,false,false]
[null,null,{"$f":"IF(C$14=1,(C$15-0)+(C$10-C$16),IF(C$14=2,(C$15-$C$9)+($C$10-C$16),IF(C$14=3,(C$15-0)+($E$10-C$16),IF(C$14=4,(C$15-E$9)+($E$10-C$16),IF(C$14=5,(C$15-0)+($G$10-C$16),IF(C$14=6,(C$15-$G$9)+($G$10-C$16),IF(C$14=7,(C$15-0)+($I$10-C$16),IF(C$14=8,(C$15-I$9)+($I$10-C$16)))))))))","v":false},{"$f":"IF(D$14=1,(D$15-0)+(C$10-D$16),IF(D$14=2,(D$15-$C$9)+($C$10-D$16),IF(D$14=3,(D$15-0)+($E$10-D$16),IF(D$14=4,(D$15-E$9)+($E$10-D$16),IF(D$14=5,(D$15-0)+($G$10-D$16),IF(D$14=6,(D$15-G$9)+($G$10-D$16),IF(D$14=7,(D$15-0)+($I$10-D$16),IF(D$14=8,(D$15-I$9)+($I$10-D$16)))))))))","v":false},{"$f":"IF(E$14=1,(E$15-0)+(C$10-E$16),IF(E$14=2,(E$15-$C$9)+($C$10-E$16),IF(E$14=3,(E$15-0)+($E$10-E$16),IF(E$14=4,(E$15-E$9)+($E$10-E$16),IF(E$14=5,(E$15-0)+($G$10-E$16),IF(E$14=6,(E$15-G$9)+($G$10-E$16),IF(E$14=7,(E$15-0)+($I$10-E$16),IF(E$14=8,(E$15-I$9)+($I$10-E$16)))))))))","v":false},{"$f":"IF(F$14=1,(F$15-0)+(C$10-F$16),IF(F$14=2,(F$15-$C$9)+($C$10-F$16),IF(F$14=3,(F$15-0)+($E$10-F$16),IF(F$14=4,(F$15-E$9)+($E$10-F$16),IF(F$14=5,(F$15-0)+($G$10-F$16),IF(F$14=6,(F$15-G$9)+($G$10-F$16),IF(F$14=7,(F$15-0)+($I$10-F$16),IF(F$14=8,(F$15-I$9)+($I$10-F$16)))))))))","v":false},{"$f":"IF(G$14=1,(G$15-0)+(C$10-G$16),IF(G$14=2,(G$15-$C$9)+($C$10-G$16),IF(G$14=3,(G$15-0)+($E$10-G$16),IF(G$14=4,(G$15-E$9)+($E$10-G$16),IF(G$14=5,(G$15-0)+($G$10-G$16),IF(G$14=6,(G$15-G$9)+($G$10-G$16),IF(G$14=7,(G$15-0)+($I$10-G$16),IF(G$14=8,(G$15-I$9)+($I$10-G$16)))))))))","v":false},{"$f":"IF(H$14=1,(H$15-0)+(C$10-H$16),IF(H$14=2,(H$15-$C$9)+($C$10-H$16),IF(H$14=3,(H$15-0)+($E$10-H$16),IF(H$14=4,(H$15-E$9)+($E$10-H$16),IF(H$14=5,(H$15-0)+($G$10-H$16),IF(H$14=6,(H$15-G$9)+($G$10-H$16),IF(H$14=7,(H$15-0)+($I$10-H$16),IF(H$14=8,(H$15-I$9)+($I$10-H$16)))))))))","v":false},{"$f":"IF(I$14=1,(I$15-0)+(C$10-I$16),IF(I$14=2,(I$15-$C$9)+($C$10-I$16),IF(I$14=3,(I$15-0)+($E$10-I$16),IF(I$14=4,(I$15-E$9)+($E$10-I$16),IF(I$14=5,(I$15-0)+($G$10-I$16),IF(I$14=6,(I$15-G$9)+($G$10-I$16),IF(I$14=7,(I$15-0)+($I$10-I$16),IF(I$14=8,(I$15-I$9)+($I$10-I$16)))))))))","v":false},{"$f":"IF(J$14=1,(J$15-0)+(C$10-J$16),IF(J$14=2,(J$15-$C$9)+($C$10-J$16),IF(J$14=3,(J$15-0)+($E$10-J$16),IF(J$14=4,(J$15-E$9)+($E$10-J$16),IF(J$14=5,(J$15-0)+($G$10-J$16),IF(J$14=6,(J$15-G$9)+($G$10-J$16),IF(J$14=7,(J$15-0)+($I$10-J$16),IF(J$14=8,(J$15-I$9)+($I$10-J$16)))))))))","v":false},{"$f":"IF(K$14=1,(K$15-0)+(C$10-K$16),IF(K$14=2,(K$15-$C$9)+($C$10-K$16),IF(K$14=3,(K$15-0)+($E$10-K$16),IF(K$14=4,(K$15-E$9)+($E$10-K$16),IF(K$14=5,(K$15-0)+($G$10-K$16),IF(K$14=6,(K$15-G$9)+($G$10-K$16),IF(K$14=7,(K$15-0)+($I$10-K$16),IF(K$14=8,(K$15-I$9)+($I$10-K$16)))))))))","v":false},{"$f":"IF(L$14=1,(L$15-0)+(C$10-L$16),IF(L$14=2,(L$15-$C$9)+($C$10-L$16),IF(L$14=3,(L$15-0)+($E$10-L$16),IF(L$14=4,(L$15-E$9)+($E$10-L$16),IF(L$14=5,(L$15-0)+($G$10-L$16),IF(L$14=6,(L$15-G$9)+($G$10-L$16),IF(L$14=7,(L$15-0)+($I$10-L$16),IF(L$14=8,(L$15-I$9)+($I$10-L$16)))))))))","v":false},{"$f":"IF(M$14=1,(M$15-0)+(C$10-M$16),IF(M$14=2,(M$15-$C$9)+($C$10-M$16),IF(M$14=3,(M$15-0)+($E$10-M$16),IF(M$14=4,(M$15-E$9)+($E$10-M$16),IF(M$14=5,(M$15-0)+($G$10-M$16),IF(M$14=6,(M$15-G$9)+($G$10-M$16),IF(M$14=7,(M$15-0)+($I$10-M$16),IF(M$14=8,(M$15-I$9)+($I$10-M$16)))))))))","v":false},{"$f":"IF(N$14=1,(N$15-0)+(C$10-N$16),IF(N$14=2,(N$15-$C$9)+($C$10-N$16),IF(N$14=3,(N$15-0)+($E$10-N$16),IF(N$14=4,(N$15-E$9)+($E$10-N$16),IF(N$14=5,(N$15-0)+($G$10-N$16),IF(N$14=6,(N$15-G$9)+($G$10-N$16),IF(N$14=7,(N$15-0)+($I$10-N$16),IF(N$14=8,(N$15-I$9)+($I$10-N$16)))))))))","v":false}]

{"sheet":"G7","index":30,"n_rows":45,"n_cols":14,"rows_kept":45,"cut":false,"hidden":true,"merged":[[0,0,3,1],[17,0,17,1],[13,0,13,1],[14,0,14,1],[15,0,15,1],[16,0,16,1],[12,0,12,1],[9,0,9,1],[11,0,11,1],[8,0,8,1],[3,2,3,3],[6,2,6,3],[6,4,6,5],[7,2,7,3],[4,5,5,8],[6,6,6,7],[7,6,7,7],[7,4,7,5],[6,8,6,9],[7,8,7,9],[6,10,6,11],[5,10,5,11],[1,12,1,13],[3,12,3,13],[3,10,3,11],[2,12,2,13],[5,12,5,13],[1,10,1,11],[2,10,2,11],[4,10,4,11],[6,12,6,13],[4,12,4,13]]}
[]
[null,null,null,null,"COMMONWEALTH OF PENNSYLVANIA",null,null,null,null,null,"District",null,{"$f":"IF(ISBLANK('G1'!M2),\" \",('G1'!M2))","v":" "}]
[null,null,null,null,"DEPARTMENT OF TRANSPORTATION",null,null,null,null,null,"Plant Code",null,{"$f":"IF(ISBLANK('G1'!M3),\" \",('G1'!M3))","v":" "}]
[null,null,{"$f":"'G1'!C4:D4","v":"Volumeter Method"},null,"LABORATORY TEST SECTION",null,null,null,null,null,"Material Class ",null,{"$f":"IF(ISBLANK('G1'!M4),\" \",('G1'!M4))","v":9.5}]
[{"$f":"'G1'!A5","v":"ESB-16"},null,null,null,null,"Maximum Specific Gravity Results",null,null,null,null,"Gyrations @ Ndes",null,{"$f":"IF(ISBLANK('G1'!M5),\" \",('G1'!M5))","v":" "}]
[null,null,null,null,null,null,null,null,null,null,"Design No.",null,{"$f":"IF(ISBLANK('G1'!M6),\" \",('G1'!M6))","v":" "}]
[null,null,"Volumeter No. ",null,{"$f":"Vol_1","v":0},null,"Volumeter No",null,{"$f":"Vol_2","v":0},null,"Design Gmm",null,{"$f":"IF(ISBLANK('G1'!M7),\" \",('G1'!M7))","v":" "}]
[null,null,"First Calibration",null,"Second Calibration",null,"First Calibration",null,"Second Calibration"]
[{"$f":"'G1'!A9:B9","v":"Wt of Dry Volumeter"},null,{"$f":"Vol_Dry1","v":0},"C\\F",{"$f":"Vol_Dry2","v":0},"C\\F",{"$f":"Vol_Dry3","v":0},"C\\F",{"$f":"Vol_Dry4","v":0},"C\\F"]
[{"$f":"'G1'!A10:B10","v":"Wt of Vol. with H20"},null,{"$f":"Vol_H2O1","v":0},{"$f":"'G1'!D10","v":1},{"$f":"Vol_H2O2","v":0},{"$f":"'G1'!F10","v":3},{"$f":"Vol_H2O3","v":0},{"$f":"'G1'!H10","v":5},{"$f":"Vol_H2O4","v":0},{"$f":"'G1'!J10","v":7}]
[]
["Sample No."]
["Date"]
["C/F"]
[{"$f":"'G1'!A15:B15","v":"Wt.of Vol.+ Mix"}]
[{"$f":"'G1'!A16:B16","v":"Wt. Of Vol.+(Mix+Water)"}]
["Gmm",null,{"$f":"IF(ISBLANK($D$9),\" \",IF(ISBLANK($D$10),\" \",IF(ISBLANK(C$15),\" \",IF(ISBLANK(C$16),\" \",ROUND(C$44/C$45,3)))))","v":" "},{"$f":"IF(ISBLANK($D$9),\" \",IF(ISBLANK($D$10),\" \",IF(ISBLANK(D$15),\" \",IF(ISBLANK(D$16),\" \",ROUND(D$44/D$45,3)))))","v":" "}," "," "," "," "," "," "," "," "," "," "]
[]
[]
[null,null,{"$f":"IF(ISTEXT(M7),1,M7-0.03)","v":1},{"$f":"IF(ISTEXT(M7),1.04,M7+0.03)","v":1.04}]
[]
[]
[]
[]
[]
[]
[]
[]
[]
[]
[]
[]
[]
[]
[]
[]
[]
[]
[]
[]
[]
[]
[]
[null,null,{"$f":"IF(C$14=1,C$15-0,IF(C$14=2,C$15-$C$9,IF(C$14=3,C$15-0,IF(C$14=4,C$15-$E$9,IF(C$14=5,C$15-0,IF(C$14=6,C$15-$G$9,IF(C$14=7,C$15-0,IF(C$14=8,C$15-$I$9))))))))","v":false},{"$f":"IF(D$14=1,D$15-0,IF(D$14=2,D$15-$C$9,IF(D$14=3,D$15-0,IF(D$14=4,D$15-$E$9,IF(D$14=5,D$15-0,IF(D$14=6,D$15-$G$9,IF(D$14=7,D$15-0,IF(D$14=8,D$15-$I$9))))))))","v":false},{"$f":"IF(E$14=1,E$15-0,IF(E$14=2,E$15-$C$9,IF(E$14=3,E$15-0,IF(E$14=4,E$15-$E$9,IF(E$14=5,E$15-0,IF(E$14=6,E$15-$G$9,IF(E$14=7,E$15-0,IF(E$14=8,E$15-$I$9))))))))","v":false},false,false,false,false,false,false,false,false,false]
[null,null,{"$f":"IF(C$14=1,(C$15-0)+(C$10-C$16),IF(C$14=2,(C$15-$C$9)+($C$10-C$16),IF(C$14=3,(C$15-0)+($E$10-C$16),IF(C$14=4,(C$15-E$9)+($E$10-C$16),IF(C$14=5,(C$15-0)+($G$10-C$16),IF(C$14=6,(C$15-$G$9)+($G$10-C$16),IF(C$14=7,(C$15-0)+($I$10-C$16),IF(C$14=8,(C$15-I$9)+($I$10-C$16)))))))))","v":false},{"$f":"IF(D$14=1,(D$15-0)+(C$10-D$16),IF(D$14=2,(D$15-$C$9)+($C$10-D$16),IF(D$14=3,(D$15-0)+($E$10-D$16),IF(D$14=4,(D$15-E$9)+($E$10-D$16),IF(D$14=5,(D$15-0)+($G$10-D$16),IF(D$14=6,(D$15-G$9)+($G$10-D$16),IF(D$14=7,(D$15-0)+($I$10-D$16),IF(D$14=8,(D$15-I$9)+($I$10-D$16)))))))))","v":false},{"$f":"IF(E$14=1,(E$15-0)+(C$10-E$16),IF(E$14=2,(E$15-$C$9)+($C$10-E$16),IF(E$14=3,(E$15-0)+($E$10-E$16),IF(E$14=4,(E$15-E$9)+($E$10-E$16),IF(E$14=5,(E$15-0)+($G$10-E$16),IF(E$14=6,(E$15-G$9)+($G$10-E$16),IF(E$14=7,(E$15-0)+($I$10-E$16),IF(E$14=8,(E$15-I$9)+($I$10-E$16)))))))))","v":false},{"$f":"IF(F$14=1,(F$15-0)+(C$10-F$16),IF(F$14=2,(F$15-$C$9)+($C$10-F$16),IF(F$14=3,(F$15-0)+($E$10-F$16),IF(F$14=4,(F$15-E$9)+($E$10-F$16),IF(F$14=5,(F$15-0)+($G$10-F$16),IF(F$14=6,(F$15-G$9)+($G$10-F$16),IF(F$14=7,(F$15-0)+($I$10-F$16),IF(F$14=8,(F$15-I$9)+($I$10-F$16)))))))))","v":false},{"$f":"IF(G$14=1,(G$15-0)+(C$10-G$16),IF(G$14=2,(G$15-$C$9)+($C$10-G$16),IF(G$14=3,(G$15-0)+($E$10-G$16),IF(G$14=4,(G$15-E$9)+($E$10-G$16),IF(G$14=5,(G$15-0)+($G$10-G$16),IF(G$14=6,(G$15-G$9)+($G$10-G$16),IF(G$14=7,(G$15-0)+($I$10-G$16),IF(G$14=8,(G$15-I$9)+($I$10-G$16)))))))))","v":false},{"$f":"IF(H$14=1,(H$15-0)+(C$10-H$16),IF(H$14=2,(H$15-$C$9)+($C$10-H$16),IF(H$14=3,(H$15-0)+($E$10-H$16),IF(H$14=4,(H$15-E$9)+($E$10-H$16),IF(H$14=5,(H$15-0)+($G$10-H$16),IF(H$14=6,(H$15-G$9)+($G$10-H$16),IF(H$14=7,(H$15-0)+($I$10-H$16),IF(H$14=8,(H$15-I$9)+($I$10-H$16)))))))))","v":false},{"$f":"IF(I$14=1,(I$15-0)+(C$10-I$16),IF(I$14=2,(I$15-$C$9)+($C$10-I$16),IF(I$14=3,(I$15-0)+($E$10-I$16),IF(I$14=4,(I$15-E$9)+($E$10-I$16),IF(I$14=5,(I$15-0)+($G$10-I$16),IF(I$14=6,(I$15-G$9)+($G$10-I$16),IF(I$14=7,(I$15-0)+($I$10-I$16),IF(I$14=8,(I$15-I$9)+($I$10-I$16)))))))))","v":false},{"$f":"IF(J$14=1,(J$15-0)+(C$10-J$16),IF(J$14=2,(J$15-$C$9)+($C$10-J$16),IF(J$14=3,(J$15-0)+($E$10-J$16),IF(J$14=4,(J$15-E$9)+($E$10-J$16),IF(J$14=5,(J$15-0)+($G$10-J$16),IF(J$14=6,(J$15-G$9)+($G$10-J$16),IF(J$14=7,(J$15-0)+($I$10-J$16),IF(J$14=8,(J$15-I$9)+($I$10-J$16)))))))))","v":false},{"$f":"IF(K$14=1,(K$15-0)+(C$10-K$16),IF(K$14=2,(K$15-$C$9)+($C$10-K$16),IF(K$14=3,(K$15-0)+($E$10-K$16),IF(K$14=4,(K$15-E$9)+($E$10-K$16),IF(K$14=5,(K$15-0)+($G$10-K$16),IF(K$14=6,(K$15-G$9)+($G$10-K$16),IF(K$14=7,(K$15-0)+($I$10-K$16),IF(K$14=8,(K$15-I$9)+($I$10-K$16)))))))))","v":false},{"$f":"IF(L$14=1,(L$15-0)+(C$10-L$16),IF(L$14=2,(L$15-$C$9)+($C$10-L$16),IF(L$14=3,(L$15-0)+($E$10-L$16),IF(L$14=4,(L$15-E$9)+($E$10-L$16),IF(L$14=5,(L$15-0)+($G$10-L$16),IF(L$14=6,(L$15-G$9)+($G$10-L$16),IF(L$14=7,(L$15-0)+($I$10-L$16),IF(L$14=8,(L$15-I$9)+($I$10-L$16)))))))))","v":false},{"$f":"IF(M$14=1,(M$15-0)+(C$10-M$16),IF(M$14=2,(M$15-$C$9)+($C$10-M$16),IF(M$14=3,(M$15-0)+($E$10-M$16),IF(M$14=4,(M$15-E$9)+($E$10-M$16),IF(M$14=5,(M$15-0)+($G$10-M$16),IF(M$14=6,(M$15-G$9)+($G$10-M$16),IF(M$14=7,(M$15-0)+($I$10-M$16),IF(M$14=8,(M$15-I$9)+($I$10-M$16)))))))))","v":false},{"$f":"IF(N$14=1,(N$15-0)+(C$10-N$16),IF(N$14=2,(N$15-$C$9)+($C$10-N$16),IF(N$14=3,(N$15-0)+($E$10-N$16),IF(N$14=4,(N$15-E$9)+($E$10-N$16),IF(N$14=5,(N$15-0)+($G$10-N$16),IF(N$14=6,(N$15-G$9)+($G$10-N$16),IF(N$14=7,(N$15-0)+($I$10-N$16),IF(N$14=8,(N$15-I$9)+($I$10-N$16)))))))))","v":false}]

{"sheet":"G8","index":31,"n_rows":45,"n_cols":14,"rows_kept":45,"cut":false,"hidden":true,"merged":[[0,0,3,1],[17,0,17,1],[13,0,13,1],[14,0,14,1],[15,0,15,1],[16,0,16,1],[12,0,12,1],[9,0,9,1],[11,0,11,1],[8,0,8,1],[3,2,3,3],[6,2,6,3],[6,4,6,5],[7,2,7,3],[4,5,5,8],[6,6,6,7],[7,6,7,7],[7,4,7,5],[6,8,6,9],[7,8,7,9],[6,10,6,11],[5,10,5,11],[1,12,1,13],[3,12,3,13],[3,10,3,11],[2,12,2,13],[5,12,5,13],[1,10,1,11],[2,10,2,11],[4,10,4,11],[6,12,6,13],[4,12,4,13]]}
[]
[null,null,null,null,"COMMONWEALTH OF PENNSYLVANIA",null,null,null,null,null,"District",null,{"$f":"IF(ISBLANK('G1'!M2),\" \",('G1'!M2))","v":" "}]
[null,null,null,null,"DEPARTMENT OF TRANSPORTATION",null,null,null,null,null,"Plant Code",null,{"$f":"IF(ISBLANK('G1'!M3),\" \",('G1'!M3))","v":" "}]
[null,null,{"$f":"'G1'!C4:D4","v":"Volumeter Method"},null,"LABORATORY TEST SECTION",null,null,null,null,null,"Material Class ",null,{"$f":"IF(ISBLANK('G1'!M4),\" \",('G1'!M4))","v":9.5}]
[{"$f":"'G1'!A5","v":"ESB-16"},null,null,null,null,"Maximum Specific Gravity Results",null,null,null,null,"Gyrations @ Ndes",null,{"$f":"IF(ISBLANK('G1'!M5),\" \",('G1'!M5))","v":" "}]
[null,null,null,null,null,null,null,null,null,null,"Design No.",null,{"$f":"IF(ISBLANK('G1'!M6),\" \",('G1'!M6))","v":" "}]
[null,null,"Volumeter No. ",null,{"$f":"Vol_1","v":0},null,"Volumeter No",null,{"$f":"Vol_2","v":0},null,"Design Gmm",null,{"$f":"IF(ISBLANK('G1'!M7),\" \",('G1'!M7))","v":" "}]
[null,null,"First Calibration",null,"Second Calibration",null,"First Calibration",null,"Second Calibration"]
[{"$f":"'G1'!A9:B9","v":"Wt of Dry Volumeter"},null,{"$f":"Vol_Dry1","v":0},"C\\F",{"$f":"Vol_Dry2","v":0},"C\\F",{"$f":"Vol_Dry3","v":0},"C\\F",{"$f":"Vol_Dry4","v":0},"C\\F"]
[{"$f":"'G1'!A10:B10","v":"Wt of Vol. with H20"},null,{"$f":"Vol_H2O1","v":0},{"$f":"'G1'!D10","v":1},{"$f":"Vol_H2O2","v":0},{"$f":"'G1'!F10","v":3},{"$f":"Vol_H2O3","v":0},{"$f":"'G1'!H10","v":5},{"$f":"Vol_H2O4","v":0},{"$f":"'G1'!J10","v":7}]
[]
["Sample No."]
["Date"]
["C/F"]
[{"$f":"'G1'!A15:B15","v":"Wt.of Vol.+ Mix"}]
[{"$f":"'G1'!A16:B16","v":"Wt. Of Vol.+(Mix+Water)"}]
["Gmm",null,{"$f":"IF(ISBLANK($D$9),\" \",IF(ISBLANK($D$10),\" \",IF(ISBLANK(C$15),\" \",IF(ISBLANK(C$16),\" \",ROUND(C$44/C$45,3)))))","v":" "},{"$f":"IF(ISBLANK($D$9),\" \",IF(ISBLANK($D$10),\" \",IF(ISBLANK(D$15),\" \",IF(ISBLANK(D$16),\" \",ROUND(D$44/D$45,3)))))","v":" "}," "," "," "," "," "," "," "," "," "," "]
[]
[]
[null,null,{"$f":"IF(ISTEXT(M7),1,M7-0.03)","v":1},{"$f":"IF(ISTEXT(M7),1.04,M7+0.03)","v":1.04}]
[]
[]
[]
[]
[]
[]
[]
[]
[]
[]
[]
[]
[]
[]
[]
[]
[]
[]
[]
[]
[]
[]
[]
[null,null,{"$f":"IF(C$14=1,C$15-0,IF(C$14=2,C$15-$C$9,IF(C$14=3,C$15-0,IF(C$14=4,C$15-$E$9,IF(C$14=5,C$15-0,IF(C$14=6,C$15-$G$9,IF(C$14=7,C$15-0,IF(C$14=8,C$15-$I$9))))))))","v":false},{"$f":"IF(D$14=1,D$15-0,IF(D$14=2,D$15-$C$9,IF(D$14=3,D$15-0,IF(D$14=4,D$15-$E$9,IF(D$14=5,D$15-0,IF(D$14=6,D$15-$G$9,IF(D$14=7,D$15-0,IF(D$14=8,D$15-$I$9))))))))","v":false},{"$f":"IF(E$14=1,E$15-0,IF(E$14=2,E$15-$C$9,IF(E$14=3,E$15-0,IF(E$14=4,E$15-$E$9,IF(E$14=5,E$15-0,IF(E$14=6,E$15-$G$9,IF(E$14=7,E$15-0,IF(E$14=8,E$15-$I$9))))))))","v":false},false,false,false,false,false,false,false,false,false]
[null,null,{"$f":"IF(C$14=1,(C$15-0)+(C$10-C$16),IF(C$14=2,(C$15-$C$9)+($C$10-C$16),IF(C$14=3,(C$15-0)+($E$10-C$16),IF(C$14=4,(C$15-E$9)+($E$10-C$16),IF(C$14=5,(C$15-0)+($G$10-C$16),IF(C$14=6,(C$15-$G$9)+($G$10-C$16),IF(C$14=7,(C$15-0)+($I$10-C$16),IF(C$14=8,(C$15-I$9)+($I$10-C$16)))))))))","v":false},{"$f":"IF(D$14=1,(D$15-0)+(C$10-D$16),IF(D$14=2,(D$15-$C$9)+($C$10-D$16),IF(D$14=3,(D$15-0)+($E$10-D$16),IF(D$14=4,(D$15-E$9)+($E$10-D$16),IF(D$14=5,(D$15-0)+($G$10-D$16),IF(D$14=6,(D$15-G$9)+($G$10-D$16),IF(D$14=7,(D$15-0)+($I$10-D$16),IF(D$14=8,(D$15-I$9)+($I$10-D$16)))))))))","v":false},{"$f":"IF(E$14=1,(E$15-0)+(C$10-E$16),IF(E$14=2,(E$15-$C$9)+($C$10-E$16),IF(E$14=3,(E$15-0)+($E$10-E$16),IF(E$14=4,(E$15-E$9)+($E$10-E$16),IF(E$14=5,(E$15-0)+($G$10-E$16),IF(E$14=6,(E$15-G$9)+($G$10-E$16),IF(E$14=7,(E$15-0)+($I$10-E$16),IF(E$14=8,(E$15-I$9)+($I$10-E$16)))))))))","v":false},{"$f":"IF(F$14=1,(F$15-0)+(C$10-F$16),IF(F$14=2,(F$15-$C$9)+($C$10-F$16),IF(F$14=3,(F$15-0)+($E$10-F$16),IF(F$14=4,(F$15-E$9)+($E$10-F$16),IF(F$14=5,(F$15-0)+($G$10-F$16),IF(F$14=6,(F$15-G$9)+($G$10-F$16),IF(F$14=7,(F$15-0)+($I$10-F$16),IF(F$14=8,(F$15-I$9)+($I$10-F$16)))))))))","v":false},{"$f":"IF(G$14=1,(G$15-0)+(C$10-G$16),IF(G$14=2,(G$15-$C$9)+($C$10-G$16),IF(G$14=3,(G$15-0)+($E$10-G$16),IF(G$14=4,(G$15-E$9)+($E$10-G$16),IF(G$14=5,(G$15-0)+($G$10-G$16),IF(G$14=6,(G$15-G$9)+($G$10-G$16),IF(G$14=7,(G$15-0)+($I$10-G$16),IF(G$14=8,(G$15-I$9)+($I$10-G$16)))))))))","v":false},{"$f":"IF(H$14=1,(H$15-0)+(C$10-H$16),IF(H$14=2,(H$15-$C$9)+($C$10-H$16),IF(H$14=3,(H$15-0)+($E$10-H$16),IF(H$14=4,(H$15-E$9)+($E$10-H$16),IF(H$14=5,(H$15-0)+($G$10-H$16),IF(H$14=6,(H$15-G$9)+($G$10-H$16),IF(H$14=7,(H$15-0)+($I$10-H$16),IF(H$14=8,(H$15-I$9)+($I$10-H$16)))))))))","v":false},{"$f":"IF(I$14=1,(I$15-0)+(C$10-I$16),IF(I$14=2,(I$15-$C$9)+($C$10-I$16),IF(I$14=3,(I$15-0)+($E$10-I$16),IF(I$14=4,(I$15-E$9)+($E$10-I$16),IF(I$14=5,(I$15-0)+($G$10-I$16),IF(I$14=6,(I$15-G$9)+($G$10-I$16),IF(I$14=7,(I$15-0)+($I$10-I$16),IF(I$14=8,(I$15-I$9)+($I$10-I$16)))))))))","v":false},{"$f":"IF(J$14=1,(J$15-0)+(C$10-J$16),IF(J$14=2,(J$15-$C$9)+($C$10-J$16),IF(J$14=3,(J$15-0)+($E$10-J$16),IF(J$14=4,(J$15-E$9)+($E$10-J$16),IF(J$14=5,(J$15-0)+($G$10-J$16),IF(J$14=6,(J$15-G$9)+($G$10-J$16),IF(J$14=7,(J$15-0)+($I$10-J$16),IF(J$14=8,(J$15-I$9)+($I$10-J$16)))))))))","v":false},{"$f":"IF(K$14=1,(K$15-0)+(C$10-K$16),IF(K$14=2,(K$15-$C$9)+($C$10-K$16),IF(K$14=3,(K$15-0)+($E$10-K$16),IF(K$14=4,(K$15-E$9)+($E$10-K$16),IF(K$14=5,(K$15-0)+($G$10-K$16),IF(K$14=6,(K$15-G$9)+($G$10-K$16),IF(K$14=7,(K$15-0)+($I$10-K$16),IF(K$14=8,(K$15-I$9)+($I$10-K$16)))))))))","v":false},{"$f":"IF(L$14=1,(L$15-0)+(C$10-L$16),IF(L$14=2,(L$15-$C$9)+($C$10-L$16),IF(L$14=3,(L$15-0)+($E$10-L$16),IF(L$14=4,(L$15-E$9)+($E$10-L$16),IF(L$14=5,(L$15-0)+($G$10-L$16),IF(L$14=6,(L$15-G$9)+($G$10-L$16),IF(L$14=7,(L$15-0)+($I$10-L$16),IF(L$14=8,(L$15-I$9)+($I$10-L$16)))))))))","v":false},{"$f":"IF(M$14=1,(M$15-0)+(C$10-M$16),IF(M$14=2,(M$15-$C$9)+($C$10-M$16),IF(M$14=3,(M$15-0)+($E$10-M$16),IF(M$14=4,(M$15-E$9)+($E$10-M$16),IF(M$14=5,(M$15-0)+($G$10-M$16),IF(M$14=6,(M$15-G$9)+($G$10-M$16),IF(M$14=7,(M$15-0)+($I$10-M$16),IF(M$14=8,(M$15-I$9)+($I$10-M$16)))))))))","v":false},{"$f":"IF(N$14=1,(N$15-0)+(C$10-N$16),IF(N$14=2,(N$15-$C$9)+($C$10-N$16),IF(N$14=3,(N$15-0)+($E$10-N$16),IF(N$14=4,(N$15-E$9)+($E$10-N$16),IF(N$14=5,(N$15-0)+($G$10-N$16),IF(N$14=6,(N$15-G$9)+($G$10-N$16),IF(N$14=7,(N$15-0)+($I$10-N$16),IF(N$14=8,(N$15-I$9)+($I$10-N$16)))))))))","v":false}]

{"sheet":"V1","index":32,"n_rows":79,"n_cols":29,"rows_kept":79,"cut":false,"hidden":false,"merged":[[18,15,18,16],[48,27,48,28],[48,25,48,26],[48,23,48,24],[48,21,48,22],[48,19,48,20],[48,17,48,18],[48,15,48,16],[37,17,37,28],[18,27,18,28],[18,25,18,26],[18,23,18,24],[18,21,18,22],[18,19,18,20],[18,17,18,18],[20,27,20,28],[22,27,22,28],[19,15,19,16],[50,15,50,16],[20,25,20,26],[20,23,20,24],[20,21,20,22],[20,19,20,20],[20,17,20,18],[22,25,22,26],[50,23,50,24],[50,25,50,26],[22,17,22,18],[22,19,22,20],[22,21,22,22],[22,23,22,24],[20,15,20,16],[21,15,21,16],[22,15,22,16],[49,15,49,16],[52,27,52,28],[51,15,51,16],[52,15,52,16],[52,17,52,18],[52,19,52,20],[52,21,52,22],[52,23,52,24],[78,10,80,11],[78,8,80,9],[54,10,54,11],[54,12,54,13],[54,8,54,9],[63,5,68,9],[78,6,80,7],[78,4,80,5],[52,25,52,26],[55,10,55,11],[54,6,54,7],[52,10,52,11],[52,12,52,13],[50,27,50,28],[50,17,50,18],[50,19,50,20],[50,21,50,22],[78,12,80,13],[75,0,77,1],[55,8,55,9],[55,2,55,3],[55,4,55,5],[55,6,55,7],[56,8,56,9],[55,0,55,1],[71,0,73,1],[78,2,80,3],[78,0,80,1],[56,12,56,13],[56,4,56,5],[56,6,56,7],[56,2,56,3],[56,10,56,11],[55,12,55,13],[58,0,69,1],[56,0,56,1],[54,0,54,1],[50,8,50,9],[50,10,50,11],[50,12,50,13],[48,12,48,13],[35,0,37,1],[35,2,37,3],[35,12,37,13],[35,10,37,11],[35,8,37,9],[35,6,37,7],[35,4,37,5],[48,6,48,7],[50,6,50,7],[42,0,42,1],[38,2,38,3],[38,4,38,5],[41,0,41,1],[49,0,49,1],[50,0,50,1],[50,2,50,3],[50,4,50,5],[47,0,47,1],[48,0,48,1],[45,0,45,1],[51,0,51,1],[52,0,52,1],[52,6,52,7],[52,8,52,9],[52,4,52,5],[53,0,53,1],[54,2,54,3],[54,4,54,5],[52,2,52,3],[46,0,46,1],[43,0,43,1],[44,0,44,1],[48,2,48,3],[48,4,48,5],[48,8,48,9],[48,10,48,11],[38,10,38,11],[33,0,33,1],[33,3,33,12],[39,12,39,13],[39,8,39,9],[39,10,39,11],[39,6,39,7],[40,0,40,1],[39,0,39,1],[39,2,39,3],[39,4,39,5],[32,2,32,3],[32,4,32,5],[32,6,32,7],[32,8,32,9],[38,12,38,13],[32,10,32,11],[32,12,32,13],[34,0,34,1],[38,0,38,1],[38,6,38,7],[38,8,38,9],[26,12,26,13],[27,2,27,3],[27,4,27,5],[27,6,27,7],[27,8,27,9],[27,10,27,11],[27,12,27,13],[26,8,26,9],[31,12,31,13],[30,10,30,11],[30,12,30,13],[31,10,31,11],[31,2,31,3],[31,4,31,5],[31,6,31,7],[31,8,31,9],[30,8,30,9],[30,2,30,3],[28,4,28,5],[28,12,28,13],[29,10,29,11],[29,12,29,13],[28,10,28,11],[28,6,28,7],[26,0,26,1],[26,2,26,3],[26,4,26,5],[26,6,26,7],[26,10,26,11],[30,4,30,5],[29,2,29,3],[29,4,29,5],[29,6,29,7],[29,8,29,9],[28,8,28,9],[28,2,28,3],[30,6,30,7],[25,10,25,11],[25,12,25,13],[24,0,24,1],[24,2,24,3],[22,12,22,13],[23,0,23,1],[22,0,22,1],[22,2,22,3],[22,4,22,5],[22,6,22,7],[24,8,24,9],[24,10,24,11],[24,4,24,5],[24,6,24,7],[24,12,24,13],[25,0,25,1],[25,2,25,3],[25,4,25,5],[25,6,25,7],[25,8,25,9],[22,8,22,9],[22,10,22,11],[20,8,20,9],[12,0,12,1],[13,0,13,1],[14,0,14,1],[15,0,15,1],[20,12,20,13],[21,0,21,1],[20,0,20,1],[20,2,20,3],[20,4,20,5],[20,6,20,7],[18,8,18,9],[18,10,18,11],[18,12,18,13],[20,10,20,11],[19,0,19,1],[18,0,18,1],[18,2,18,3],[18,4,18,5],[18,6,18,7],[16,0,16,1],[17,0,17,1],[10,0,10,1],[11,0,11,1],[7,2,7,3],[8,0,8,1],[8,2,8,3],[8,4,8,5],[9,0,9,1],[9,4,9,5],[0,0,3,1],[7,4,7,7],[8,6,8,7],[6,0,6,1],[6,2,6,3],[5,0,5,1],[5,2,5,3],[9,2,9,3],[7,0,7,1],[1,10,1,11],[1,12,1,13],[2,10,2,11],[2,12,2,13],[3,10,3,11],[3,12,3,13],[4,10,4,11],[9,8,9,9],[9,10,9,11],[7,8,7,9],[8,8,8,9],[4,12,4,13],[6,10,6,11],[5,5,5,8],[5,10,5,11],[6,12,6,13],[5,12,5,13],[9,12,9,13],[9,6,9,7],[6,4,6,9],[8,12,8,13],[8,10,8,11],[7,10,7,11],[7,12,7,13]]}
[]
[null,null,null,null,"COMMONWEALTH OF PENNSYLVANIA",null,null,null,null,null,"DISTRICT",null,{"$f":"IF(ISBLANK('S1'!M2),\" \",('S1'!M2))","v":" "}]
[null,null,null,null,"DEPARTMENT OF TRANSPORTATION",null,null,null,null,null,"PLANT CODE",null,{"$f":"IF(ISBLANK('S1'!M3),\" \",('S1'!M3))","v":" "}]
[null,null,null,null,"LABORATORY TEST SECTION",null,null,null,null,null,"Design No.",null,{"$f":"IF(ISBLANK('S1'!M6),\" \",('S1'!M6))","v":" "}]
[{"$f":"'S1'!A5","v":"ESB-16"},null,null,null,null,null,null,null,null,null,"JMF VMA"]
["Material Class ",null,{"$f":"'S1'!C6","v":9.5},null,null,"Volumetric Results",null,null,null,null,"JMF VFA"]
["Gyrations @ Ndes",null,{"$f":"IF(ISBLANK('S1'!M7),\" \",'S1'!M7)","v":" "},null,"Red values indicate corrective action is needed",null,null,null,null,null,"JMF F/A"]
["Gsb of Mix",null,null,null,"Gyratory Specimen wt. from TR 448",null,null,null,null,null,"JMF Voids"]
["Sample No."]
["Date"]
["Gmm / Gb of AC"]
["AC / -200"]
["Specimen No",null,1,2,1,2,1,2,1,2,1,2,1,2]
["Height at Ndes"]
["Mass in Air"]
["Mass in Water"]
["SSD Mass"]
["Gmb",null,{"$f":"IF(ISBLANK(C15),\" \",IF(ISBLANK(C16),\" \",IF(ISBLANK(C17),\" \",ROUND(Gmb(C15,C16,C17),3))))","v":" "}," "," "," "," "," "," "," "," "," "," "," "]
["Average Gmb",null,{"$f":"IF(ISTEXT(C18),\" \",IF(ISTEXT(D18),\" \",AVERAGE(C18:D18)))","v":" "},null,{"$f":"IF(ISTEXT(E18),\" \",IF(ISTEXT(F18),\" \",AVERAGE(E18:F18)))","v":" "},null,{"$f":"IF(ISTEXT(G18),\" \",IF(ISTEXT(H18),\" \",AVERAGE(G18:H18)))","v":" "},null,{"$f":"IF(ISTEXT(I18),\" \",IF(ISTEXT(J18),\" \",AVERAGE(I18:J18)))","v":" "},null,{"$f":"IF(ISTEXT(K18),\" \",IF(ISTEXT(L18),\" \",AVERAGE(K18:L18)))","v":" "},null,{"$f":"IF(ISTEXT(M18),\" \",IF(ISTEXT(N18),\" \",AVERAGE(M18:N18)))","v":" "},null,null,"Sample",null,1,null,2,null,3,null,4,null,5,null,6]
["(Voids)VTM",null,{"$f":"IF(ISBLANK(C11),\" \",IF(ISTEXT(C18),\" \",ROUND(Va($C$11,C18),1)))","v":" "},{"$f":"IF(ISBLANK(C11),\" \",IF(ISTEXT(D18),\" \",ROUND(Va($C$11,D18),1)))","v":" "},{"$f":"IF(ISBLANK(E11),\" \",IF(ISTEXT(E18),\" \",ROUND(Va($E$11,E18),1)))","v":" "},{"$f":"IF(ISBLANK(E11),\" \",IF(ISTEXT(F18),\" \",ROUND(Va($E$11,F18),1)))","v":" "},{"$f":"IF(ISBLANK(G11),\" \",IF(ISTEXT(G18),\" \",ROUND(Va($G$11,G18),1)))","v":" "},{"$f":"IF(ISBLANK(G11),\" \",IF(ISTEXT(H18),\" \",ROUND(Va($G$11,H18),1)))","v":" "},{"$f":"IF(ISBLANK(I11),\" \",IF(ISTEXT(I18),\" \",ROUND(Va($I$11,I18),1)))","v":" "},{"$f":"IF(ISBLANK(I11),\" \",IF(ISTEXT(J18),\" \",ROUND(Va($I$11,J18),1)))","v":" "},{"$f":"IF(ISBLANK(K11),\" \",IF(ISTEXT(K18),\" \",ROUND(Va($K$11,K18),1)))","v":" "},{"$f":"IF(ISBLANK(K11),\" \",IF(ISTEXT(L18),\" \",ROUND(Va($K$11,L18),1)))","v":" "},{"$f":"IF(ISBLANK(M11),\" \",IF(ISTEXT(M18),\" \",ROUND(Va($M$11,M18),1)))","v":" "},{"$f":"IF(ISBLANK(M11),\" \",IF(ISTEXT(N18),\" \",ROUND(Va($M$11,N18),1)))","v":" "},null,"single voids",null,{"$f":"IF(ISTEXT(C20),\" \",IF(OR(C20>$M$8+2,C20<$M$8-2),1,0))","v":" "},{"$f":"IF(ISTEXT(D20),\" \",IF(OR(D20>$M$8+2,D20<$M$8-2),1,0))","v":" "}," "," "," "," "," "," "," "," "," "," "]
["AVG.(Voids)VTM",null,{"$f":"IF(ISTEXT(C20),\" \",IF(ISTEXT(D20),\" \",ROUND(AVERAGE(C20:D20),1)))","v":" "},null,{"$f":"IF(ISTEXT(E20),\" \",IF(ISTEXT(F20),\" \",ROUND(AVERAGE(E20:F20),1)))","v":" "},null,{"$f":"IF(ISTEXT(G20),\" \",IF(ISTEXT(H20),\" \",ROUND(AVERAGE(G20:H20),1)))","v":" "},null,{"$f":"IF(ISTEXT(I20),\" \",IF(ISTEXT(J20),\" \",ROUND(AVERAGE(I20:J20),1)))","v":" "},null,{"$f":"IF(ISTEXT(K20),\" \",IF(ISTEXT(L20),\" \",ROUND(AVERAGE(K20:L20),1)))","v":" "},null,{"$f":"IF(ISTEXT(M20),\" \",IF(ISTEXT(N20),\" \",ROUND(AVERAGE(M20:N20),1)))","v":" "},null,null,"Avg voids",null,{"$f":"IF(ISTEXT(C21),\" \",IF(OR(C21>$M$8+1.5,C21<$M$8-1.5),2,0))","v":" "},null,{"$f":"IF(ISTEXT(E21),\" \",IF(OR(E21>$M$8+1.5,E21<$M$8-1.5),2,0))","v":" "},null,{"$f":"IF(ISTEXT(G21),\" \",IF(OR(G21>$M$8+1.5,G21<$M$8-1.5),2,0))","v":" "},null,{"$f":"IF(ISTEXT(I21),\" \",IF(OR(I21>$M$8+1.5,I21<$M$8-1.5),2,0))","v":" "},null,{"$f":"IF(ISTEXT(K21),\" \",IF(OR(K21>$M$8+1.5,K21<$M$8-1.5),2,0))","v":" "},null,{"$f":"IF(ISTEXT(M21),\" \",IF(OR(M21>$M$8+1.5,M21<$M$8-1.5),2,0))","v":" "}]
["VMA",null,{"$f":"IF(ISTEXT(C18),\" \",IF(ISBLANK(C12),\" \",IF(ISBLANK($C$8),\" \",ROUND(Vma(C18,C12,C73),1))))","v":" "},{"$f":"IF(ISTEXT(D18),\" \",IF(ISBLANK(C12),\" \",IF(ISBLANK($C$8),\" \",ROUND(Vma(D18,C12,C73),1))))","v":" "},{"$f":"IF(ISTEXT(E18),\" \",IF(ISBLANK(E12),\" \",IF(ISBLANK($C$8),\" \",ROUND(Vma(E18,E12,D73),1))))","v":" "},{"$f":"IF(ISTEXT(F18),\" \",IF(ISBLANK(E12),\" \",IF(ISBLANK($C$8),\" \",ROUND(Vma(F18,E12,D73),1))))","v":" "},{"$f":"IF(ISTEXT(G18),\" \",IF(ISBLANK(G12),\" \",IF(ISBLANK($C$8),\" \",ROUND(Vma(G18,G12,E73),1))))","v":" "},{"$f":"IF(ISTEXT(H18),\" \",IF(ISBLANK(G12),\" \",IF(ISBLANK($C$8),\" \",ROUND(Vma(H18,G12,E73),1))))","v":" "},{"$f":"IF(ISTEXT(I18),\" \",IF(ISBLANK(I12),\" \",IF(ISBLANK($C$8),\" \",ROUND(Vma(I18,I12,F73),1))))","v":" "},{"$f":"IF(ISTEXT(J18),\" \",IF(ISBLANK(I12),\" \",IF(ISBLANK($C$8),\" \",ROUND(Vma(J18,I12,F73),1))))","v":" "},{"$f":"IF(ISTEXT(K18),\" \",IF(ISBLANK(K12),\" \",IF(ISBLANK($C$8),\" \",ROUND(Vma(K18,K12,G73),1))))","v":" "},{"$f":"IF(ISTEXT(L18),\" \",IF(ISBLANK(K12),\" \",IF(ISBLANK($C$8),\" \",ROUND(Vma(L18,K12,G73),1))))","v":" "},{"$f":"IF(ISTEXT(M18),\" \",IF(ISBLANK(M12),\" \",IF(ISBLANK($C$8),\" \",ROUND(Vma(M18,M12,H73),1))))","v":" "},{"$f":"IF(ISTEXT(N18),\" \",IF(ISBLANK(M12),\" \",IF(ISBLANK($C$8),\" \",ROUND(Vma(N18,M12,H73),1))))","v":" "},null,"Single VMA",null,{"$f":"IF(C22<'A P'!$N$5,3,0)","v":0},{"$f":"IF(D22<'A P'!$N$5,3,0)","v":0},{"$f":"IF(E22<'A P'!$N$5,3,0)","v":0},{"$f":"IF(F22<'A P'!$N$5,3,0)","v":0},{"$f":"IF(G22<'A P'!$N$5,3,0)","v":0},{"$f":"IF(H22<'A P'!$N$5,3,0)","v":0},{"$f":"IF(I22<'A P'!$N$5,3,0)","v":0},{"$f":"IF(J22<'A P'!$N$5,3,0)","v":0},{"$f":"IF(K22<'A P'!$N$5,3,0)","v":0},{"$f":"IF(L22<'A P'!$N$5,3,0)","v":0},{"$f":"IF(M22<'A P'!$N$5,3,0)","v":0},{"$f":"IF(N22<'A P'!$N$5,3,0)","v":0}]
["Avg. VMA",null,{"$f":"IF(ISBLANK($C$8),\" \",IF(ISTEXT(C22),\" \",IF(ISTEXT(D22),\" \",ROUND(AVERAGE(C22:D22),1))))","v":" "},null,{"$f":"IF(ISBLANK($C$8),\" \",IF(ISTEXT(E22),\" \",IF(ISTEXT(F22),\" \",ROUND(AVERAGE(E22:F22),1))))","v":" "},null,{"$f":"IF(ISBLANK($C$8),\" \",IF(ISTEXT(G22),\" \",IF(ISTEXT(H22),\" \",ROUND(AVERAGE(G22:H22),1))))","v":" "},null,{"$f":"IF(ISBLANK($C$8),\" \",IF(ISTEXT(I22),\" \",IF(ISTEXT(J22),\" \",ROUND(AVERAGE(I22:J22),1))))","v":" "},null,{"$f":"IF(ISBLANK($C$8),\" \",IF(ISTEXT(K22),\" \",IF(ISTEXT(L22),\" \",ROUND(AVERAGE(K22:L22),1))))","v":" "},null,{"$f":"IF(ISBLANK($C$8),\" \",IF(ISTEXT(M22),\" \",IF(ISTEXT(N22),\" \",ROUND(AVERAGE(M22:N22),1))))","v":" "},null,null,"Max",null,{"$f":"MAX(R20:S22)","v":0},null,{"$f":"MAX(T20:U22)","v":0},null,{"$f":"MAX(V20:W22)","v":0},null,{"$f":"MAX(X20:Y22)","v":0},null,{"$f":"MAX(Z20:AA22)","v":0},null,{"$f":"MAX(AB20:AC22)","v":0}]
["VFA",null,{"$f":"IF(ISBLANK($C$8),\" \",IF(ISTEXT(C18),\" \",IF(ISTEXT(C22),\" \",Vfa(C22,C20))))","v":" "},{"$f":"IF(ISBLANK($C$8),\" \",IF(ISTEXT(D18),\" \",IF(ISTEXT(D22),\" \",Vfa(D22,D20))))","v":" "},{"$f":"IF(ISBLANK($C$8),\" \",IF(ISTEXT(E18),\" \",IF(ISTEXT(E22),\" \",Vfa(E22,E20))))","v":" "}," "," "," "," "," "," "," "," "," "]
["Avg.VFA",null,{"$f":"IF(ISBLANK($C$8),\" \",IF(ISTEXT(C24),\" \",IF(ISTEXT(D24),\" \",ROUND(AVERAGE(C24:D24),0))))","v":" "},null,{"$f":"IF(ISBLANK($C$8),\" \",IF(ISTEXT(E24),\" \",IF(ISTEXT(F24),\" \",ROUND(AVERAGE(E24:F24),0))))","v":" "},null,{"$f":"IF(ISBLANK($C$8),\" \",IF(ISTEXT(G24),\" \",IF(ISTEXT(H24),\" \",ROUND(AVERAGE(G24:H24),0))))","v":" "},null,{"$f":"IF(ISBLANK($C$8),\" \",IF(ISTEXT(I24),\" \",IF(ISTEXT(J24),\" \",ROUND(AVERAGE(I24:J24),0))))","v":" "},null,{"$f":"IF(ISBLANK($C$8),\" \",IF(ISTEXT(K24),\" \",IF(ISTEXT(L24),\" \",ROUND(AVERAGE(K24:L24),0))))","v":" "},null,{"$f":"IF(ISBLANK($C$8),\" \",IF(ISTEXT(M24),\" \",IF(ISTEXT(N24),\" \",ROUND(AVERAGE(M24:N24),0))))","v":" "}]
["F/A",null,{"$f":"IF(ISBLANK(D12),\" \",IF(ISTEXT(C30),\" \",IF(ISBLANK(D11),\" \",Fa(D12,C30))))","v":" "},null,{"$f":"IF(ISBLANK(F12),\" \",IF(ISTEXT(E30),\" \",IF(ISBLANK(F11),\" \",Fa(F12,E30))))","v":" "},null,{"$f":"IF(ISBLANK(H12),\" \",IF(ISTEXT(G30),\" \",IF(ISBLANK(H11),\" \",Fa(H12,G30))))","v":" "},null,{"$f":"IF(ISBLANK(J12),\" \",IF(ISTEXT(I30),\" \",IF(ISBLANK(J11),\" \",Fa(J12,I30))))","v":" "},null,{"$f":"IF(ISBLANK(L12),\" \",IF(ISTEXT(K30),\" \",IF(ISBLANK(L11),\" \",Fa(L12,K30))))","v":" "},null,{"$f":"IF(ISBLANK(N12),\" \",IF(ISTEXT(M30),\" \",IF(ISBLANK(N11),\" \",Fa(N12,M30))))","v":" "}]
["Pbe",null,{"$f":"C30","v":" "},null,{"$f":"E30","v":" "},null,{"$f":"G30","v":" "},null,{"$f":"I30","v":" "},null,{"$f":"K30","v":" "},null,{"$f":"M30","v":" "}]
[null,"Gse",{"$f":"ROUND((100-C$12)/((100/C$11)-(C$12/$D11)),3)","v":{"$error":"#DIV/0!"}},null,{"$f":"ROUND((100-E$12)/((100/E$11)-(E$12/F11)),3)","v":{"$error":"#DIV/0!"}},null,{"$f":"ROUND((100-G$12)/((100/G$11)-(G$12/H11)),3)","v":{"$error":"#DIV/0!"}},null,{"$f":"ROUND((100-I$12)/((100/I$11)-(I$12/J11)),3)","v":{"$error":"#DIV/0!"}},null,{"$f":"ROUND((100-K$12)/((100/K$11)-(K$12/L11)),3)","v":{"$error":"#DIV/0!"}},null,{"$f":"ROUND((100-M$12)/((100/M$11)-(M$12/N11)),3)","v":{"$error":"#DIV/0!"}}]
[null,"Pba",{"$f":"IF(ISBLANK(C28),\" \",IF(ISBLANK($C$8),\" \",(100*((C$28-C73)/(C73*C$28))*D11)))","v":" "},null,{"$f":"IF(ISBLANK(E28),\" \",IF(ISBLANK($C$8),\" \",(100*((E$28-D73)/(D73*E$28))*F11)))","v":" "},null,{"$f":"IF(ISBLANK(G28),\" \",IF(ISBLANK($C$8),\" \",(100*((G$28-E73)/(E73*G$28))*H11)))","v":" "},null,{"$f":"IF(ISBLANK(I28),\" \",IF(ISBLANK($C$8),\" \",(100*((I$28-F73)/(F73*I$28))*J11)))","v":" "},null,{"$f":"IF(ISBLANK(K28),\" \",IF(ISBLANK($C$8),\" \",(100*((K$28-G73)/(G73*K$28))*L11)))","v":" "},null,{"$f":"IF(ISBLANK(M28),\" \",IF(ISBLANK($C$8),\" \",(100*((M$28-H73)/(H73*M$28))*N11)))","v":" "}]
[null,"Pbe",{"$f":"IF(ISBLANK($C$8),\" \",IF(ISBLANK(C12),\" \",IF(ISBLANK(C29),\" \",ROUND((C$12-((C$29/100)*(100-C$12))),2))))","v":" "},null,{"$f":"IF(ISBLANK($C$8),\" \",IF(ISBLANK(E$12),\" \",IF(ISBLANK(E29),\" \",ROUND((E$12-((E$29/100)*(100-E$12))),2))))","v":" "},null,{"$f":"IF(ISBLANK($C$8),\" \",IF(ISBLANK(G$12),\" \",IF(ISBLANK(G29),\" \",ROUND((G$12-((G$29/100)*(100-G$12))),2))))","v":" "},null,{"$f":"IF(ISBLANK($C$8),\" \",IF(ISBLANK(I$12),\" \",IF(ISBLANK(I29),\" \",ROUND((I$12-((I$29/100)*(100-I$12))),2))))","v":" "},null,{"$f":"IF(ISBLANK($C$8),\" \",IF(ISBLANK(K$12),\" \",IF(ISBLANK(K29),\" \",ROUND((K$12-((K$29/100)*(100-K$12))),2))))","v":" "},null,{"$f":"IF(ISBLANK($C$8),\" \",IF(ISBLANK(M$12),\" \",IF(ISBLANK(M29),\" \",ROUND((M$12-((M$29/100)*(100-M$12))),2))))","v":" "}]
[null,"Gse",{"$f":"ROUND((100-C$42)/((100/C$41)-(C$42/D41)),3)","v":{"$error":"#DIV/0!"}},null,{"$f":"ROUND((100-E$42)/((100/E$41)-(E$42/F41)),3)","v":{"$error":"#DIV/0!"}},null,{"$f":"ROUND((100-G$42)/((100/G$41)-(G$42/H41)),3)","v":{"$error":"#DIV/0!"}},null,{"$f":"ROUND((100-I$42)/((100/I$41)-(I$42/J41)),3)","v":{"$error":"#DIV/0!"}},null,{"$f":"ROUND((100-K$42)/((100/K$41)-(K$42/L41)),3)","v":{"$error":"#DIV/0!"}},null,{"$f":"ROUND((100-M$42)/((100/M$41)-(M$42/N41)),3)","v":{"$error":"#DIV/0!"}}]
[null,"Pba",{"$f":"IF(ISBLANK(C31),\" \",IF(ISBLANK($C$8),\" \",(100*((C$31-C77)/(C77*C$31))*D41)))","v":" "},null,{"$f":"IF(ISBLANK(E31),\" \",IF(ISBLANK($C$8),\" \",(100*((E$31-D77)/(D77*E$31))*F41)))","v":" "},null,{"$f":"IF(ISBLANK(G31),\" \",IF(ISBLANK($C$8),\" \",(100*((G$31-E77)/(E77*G$31))*H41)))","v":" "},null,{"$f":"IF(ISBLANK(I31),\" \",IF(ISBLANK($C$8),\" \",(100*((I$31-F77)/(F77*I$31))*J41)))","v":" "},null,{"$f":"IF(ISBLANK(K31),\" \",IF(ISBLANK($C$8),\" \",(100*((K$31-G77)/(G77*K$31))*L41)))","v":" "},null,{"$f":"IF(ISBLANK(M31),\" \",IF(ISBLANK($C$8),\" \",(100*((M$31-H77)/(H77*M$31))*N41)))","v":" "}]
[null,"Pbe",{"$f":"IF(ISBLANK($C$8),\" \",IF(ISBLANK(C42),\" \",IF(ISBLANK(C32),\" \",ROUND((C$42-((C$32/100)*(100-C$42))),2))))","v":" "},null,{"$f":"IF(ISBLANK($C$8),\" \",IF(ISBLANK(E42),\" \",IF(ISBLANK(E32),\" \",ROUND((E$42-((E$32/100)*(100-E$42))),2))))","v":" "},null,{"$f":"IF(ISBLANK($C$8),\" \",IF(ISBLANK(G42),\" \",IF(ISBLANK(G32),\" \",ROUND((G$42-((G$32/100)*(100-G$42))),2))))","v":" "},null,{"$f":"IF(ISBLANK($C$8),\" \",IF(ISBLANK(I42),\" \",IF(ISBLANK(I32),\" \",ROUND((I$42-((I$32/100)*(100-I$42))),2))))","v":" "},null,{"$f":"IF(ISBLANK($C$8),\" \",IF(ISBLANK(K42),\" \",IF(ISBLANK(K32),\" \",ROUND((K$42-((K$32/100)*(100-K$42))),2))))","v":" "},null,{"$f":"IF(ISBLANK($C$8),\" \",IF(ISBLANK(M42),\" \",IF(ISBLANK(M32),\" \",ROUND((M$42-((M$32/100)*(100-M$42))),2))))","v":" "}]
["Offset value",null,{"$f":"'G1'!B38-C8","v":{"$error":"#DIV/0!"}}]
["Min/ Max charts",null,{"$f":"IF(C6=9.5,14,IF(C6=12.5,13,IF(C6=19,12,IF(C6=25,11,IF(C6=37.5,10,14)))))","v":14},{"$f":"C35+7","v":21},{"$f":"M6-10","v":-10},{"$f":"M6+10","v":10},{"$f":"M7-0.4","v":-0.4},{"$f":"M7+0.4","v":0.4},{"$f":"'A P'!C7+2","v":2},{"$f":"'A P'!C7-2","v":-2}]
[null,null,{"$f":"IF(OR(R20=1,S20=1,R21=2,R22=3,S22=3),\"Volumetric deviation, resample within 150 tons\",\" \")","v":" "},null,{"$f":"IF(OR(T20=1,U20=1,T21=2,T22=3,U22=3),\"Volumetric deviation, resample within 150 tons\",\" \")","v":" "},null,{"$f":"IF(AND(E36=\"Volumetric deviation, resample within 150 tons\",V23>0),\"Deviation on 150 ton sample,suspend production of JMF\",IF(OR(V20=1,W20=1,V21=2,V22=3,W22=3),\"Volumetric deviation, resample within 150 tons\",\" \"))","v":" "},null,{"$f":"IF(AND(G36=\"Volumetric deviation, resample within 150 tons\",X23>0),\"Deviation on 150 ton sample,suspend production of JMF\",IF(OR(X20=1,Y20=1,X21=2,X22=3,Y22=3),\"Volumetric deviation, resample within 150 tons\",\" \"))","v":" "},null,{"$f":"IF(AND(I36=\"Volumetric deviation, resample within 150 tons\",Z23>0),\"Deviation on 150 ton sample,suspend production of JMF\",IF(OR(Z20=1,AA20=1,Z21=2,Z22=3,AA22=3),\"Volumetric deviation, resample within 150 tons\",\" \"))","v":" "},null,{"$f":"IF(AND(K36=\"Volumetric deviation, resample within 150 tons\",AB23>0),\"Deviation on 150 ton sample,suspend production of JMF\",IF(OR(AB20=1,AC20=1,AB21=2,AB22=3,AC22=3),\"Volumetric deviation, resample within 150 tons\",\" \"))","v":" "}]
[]
[null,null,null,null,null,null,null,null,null,null,null,null,null,null,null,null,null,"This determines if samples meet single and multiple tolerances and is used for cond. Formatting and action notes"]
["Sample No.",null,"."]
["Date"]
["Gmm / Gb of AC"]
["AC / -200"]
["Specimen No",null,1,2,1,2,1,2,1,2,1,2,1,2]
["Height at Ndes"]
["Mass in Air"]
["Mass in Water"]
["SSD Mass"]
["Gmb",null,{"$f":"IF(ISBLANK(C45),\" \",IF(ISBLANK(C46),\" \",IF(ISBLANK(C47),\" \",ROUND(Gmb(C45,C46,C47),3))))","v":" "},{"$f":"IF(ISBLANK(D45),\" \",IF(ISBLANK(D46),\" \",IF(ISBLANK(D47),\" \",ROUND(Gmb(D45,D46,D47),3))))","v":" "},{"$f":"IF(ISBLANK(E45),\" \",IF(ISBLANK(E46),\" \",IF(ISBLANK(E47),\" \",ROUND(Gmb(E45,E46,E47),3))))","v":" "}," "," "," "," "," "," "," "," "," "]
["Average Gmb",null,{"$f":"IF(ISTEXT(C48),\" \",IF(ISTEXT(D48),\" \",AVERAGE(C48:D48)))","v":" "},null,{"$f":"IF(ISTEXT(E48),\" \",IF(ISTEXT(F48),\" \",AVERAGE(E48:F48)))","v":" "},null,{"$f":"IF(ISTEXT(G48),\" \",IF(ISTEXT(H48),\" \",AVERAGE(G48:H48)))","v":" "},null,{"$f":"IF(ISTEXT(I48),\" \",IF(ISTEXT(J48),\" \",AVERAGE(I48:J48)))","v":" "},null,{"$f":"IF(ISTEXT(K48),\" \",IF(ISTEXT(L48),\" \",AVERAGE(K48:L48)))","v":" "},null,{"$f":"IF(ISTEXT(M48),\" \",IF(ISTEXT(N48),\" \",AVERAGE(M48:N48)))","v":" "},null,null,"Sample",null,7,null,8,null,9,null,10,null,11,null,12]
["(Voids)VTM",null,{"$f":"IF(ISBLANK(C41),\" \",IF(ISTEXT(C48),\" \",ROUND(Va($C$41,C48),1)))","v":" "},{"$f":"IF(ISBLANK(C41),\" \",IF(ISTEXT(D48),\" \",ROUND(Va($C$41,D48),1)))","v":" "},{"$f":"IF(ISBLANK(E41),\" \",IF(ISTEXT(E48),\" \",ROUND(Va($E$41,E48),1)))","v":" "},{"$f":"IF(ISBLANK(E41),\" \",IF(ISTEXT(F48),\" \",ROUND(Va($E$41,F48),1)))","v":" "},{"$f":"IF(ISBLANK(G41),\" \",IF(ISTEXT(G48),\" \",ROUND(Va($G$41,G48),1)))","v":" "},{"$f":"IF(ISBLANK(G41),\" \",IF(ISTEXT(H48),\" \",ROUND(Va($G$41,H48),1)))","v":" "},{"$f":"IF(ISBLANK(I41),\" \",IF(ISTEXT(I48),\" \",ROUND(Va($I$41,I48),1)))","v":" "},{"$f":"IF(ISBLANK(I41),\" \",IF(ISTEXT(J48),\" \",ROUND(Va($I$41,J48),1)))","v":" "},{"$f":"IF(ISBLANK(K41),\" \",IF(ISTEXT(K48),\" \",ROUND(Va($K$41,K48),1)))","v":" "},{"$f":"IF(ISBLANK(K41),\" \",IF(ISTEXT(L48),\" \",ROUND(Va($K$41,L48),1)))","v":" "},{"$f":"IF(ISBLANK(M41),\" \",IF(ISTEXT(M48),\" \",ROUND(Va($M$41,M48),1)))","v":" "},{"$f":"IF(ISBLANK(M41),\" \",IF(ISTEXT(N48),\" \",ROUND(Va($M$41,N48),1)))","v":" "},null,"single voids",null,{"$f":"IF(ISTEXT(C50),\" \",IF(OR(C50>$M$8+2,C50<$M$8-2),1,0))","v":" "},{"$f":"IF(ISTEXT(D50),\" \",IF(OR(D50>$M$8+2,D50<$M$8-2),1,0))","v":" "},{"$f":"IF(ISTEXT(E50),\" \",IF(OR(E50>$M$8+2,E50<$M$8-2),1,0))","v":" "}," "," "," "," "," "," "," "," "," "]
["AVG.(Voids)VTM",null,{"$f":"IF(ISTEXT(C50),\" \",IF(ISTEXT(D50),\" \",ROUND(AVERAGE(C50:D50),1)))","v":" "},null,{"$f":"IF(ISTEXT(E50),\" \",IF(ISTEXT(F50),\" \",ROUND(AVERAGE(E50:F50),1)))","v":" "},null,{"$f":"IF(ISTEXT(G50),\" \",IF(ISTEXT(H50),\" \",ROUND(AVERAGE(G50:H50),1)))","v":" "},null,{"$f":"IF(ISTEXT(I50),\" \",IF(ISTEXT(J50),\" \",ROUND(AVERAGE(I50:J50),1)))","v":" "},null,{"$f":"IF(ISTEXT(K50),\" \",IF(ISTEXT(L50),\" \",ROUND(AVERAGE(K50:L50),1)))","v":" "},null,{"$f":"IF(ISTEXT(M50),\" \",IF(ISTEXT(N50),\" \",ROUND(AVERAGE(M50:N50),1)))","v":" "},null,null,"Avg voids",null,{"$f":"IF(ISTEXT(C51),\" \",IF(OR(C51>$M$8+1.5,C51<$M$8-1.5),2,0))","v":" "},null,{"$f":"IF(ISTEXT(E51),\" \",IF(OR(E51>$M$8+1.5,E51<$M$8-1.5),2,0))","v":" "},null,{"$f":"IF(ISTEXT(G51),\" \",IF(OR(G51>$M$8+1.5,G51<$M$8-1.5),2,0))","v":" "},null,{"$f":"IF(ISTEXT(I51),\" \",IF(OR(I51>$M$8+1.5,I51<$M$8-1.5),2,0))","v":" "},null,{"$f":"IF(ISTEXT(K51),\" \",IF(OR(K51>$M$8+1.5,K51<$M$8-1.5),2,0))","v":" "},null,{"$f":"IF(ISTEXT(M51),\" \",IF(OR(M51>$M$8+1.5,M51<$M$8-1.5),2,0))","v":" "}]
["VMA",null,{"$f":"IF(ISTEXT(C48),\" \",IF(ISBLANK(C42),\" \",IF(ISBLANK($C$8),\" \",ROUND(Vma(C48,C42,C77),1))))","v":" "},{"$f":"IF(ISTEXT(D48),\" \",IF(ISBLANK(C42),\" \",IF(ISBLANK($C$8),\" \",ROUND(Vma(D48,C42,C77),1))))","v":" "},{"$f":"IF(ISTEXT(E48),\" \",IF(ISBLANK(E42),\" \",IF(ISBLANK($C$8),\" \",ROUND(Vma(E48,E42,D77),1))))","v":" "},{"$f":"IF(ISTEXT(F48),\" \",IF(ISBLANK(E42),\" \",IF(ISBLANK($C$8),\" \",ROUND(Vma(F48,E42,D77),1))))","v":" "},{"$f":"IF(ISTEXT(G48),\" \",IF(ISBLANK(G42),\" \",IF(ISBLANK($C$8),\" \",ROUND(Vma(G48,G42,E77),1))))","v":" "},{"$f":"IF(ISTEXT(H48),\" \",IF(ISBLANK(G42),\" \",IF(ISBLANK($C$8),\" \",ROUND(Vma(H48,G42,E77),1))))","v":" "},{"$f":"IF(ISTEXT(I48),\" \",IF(ISBLANK(I42),\" \",IF(ISBLANK($C$8),\" \",ROUND(Vma(I48,I42,F77),1))))","v":" "},{"$f":"IF(ISTEXT(J48),\" \",IF(ISBLANK(I42),\" \",IF(ISBLANK($C$8),\" \",ROUND(Vma(J48,I42,F77),1))))","v":" "},{"$f":"IF(ISTEXT(K48),\" \",IF(ISBLANK(K42),\" \",IF(ISBLANK($C$8),\" \",ROUND(Vma(K48,K42,G77),1))))","v":" "},{"$f":"IF(ISTEXT(L48),\" \",IF(ISBLANK(K42),\" \",IF(ISBLANK($C$8),\" \",ROUND(Vma(L48,K42,G77),1))))","v":" "},{"$f":"IF(ISTEXT(M48),\" \",IF(ISBLANK(M42),\" \",IF(ISBLANK($C$8),\" \",ROUND(Vma(M48,M42,H77),1))))","v":" "},{"$f":"IF(ISTEXT(N48),\" \",IF(ISBLANK(M42),\" \",IF(ISBLANK($C$8),\" \",ROUND(Vma(N48,M42,H77),1))))","v":" "},null,"Single VMA",null,{"$f":"IF(C52<'A P'!$N$5,3,0)","v":0},{"$f":"IF(D52<'A P'!$N$5,3,0)","v":0},{"$f":"IF(E52<'A P'!$N$5,3,0)","v":0},{"$f":"IF(F52<'A P'!$N$5,3,0)","v":0},{"$f":"IF(G52<'A P'!$N$5,3,0)","v":0},{"$f":"IF(H52<'A P'!$N$5,3,0)","v":0},{"$f":"IF(I52<'A P'!$N$5,3,0)","v":0},{"$f":"IF(J52<'A P'!$N$5,3,0)","v":0},{"$f":"IF(K52<'A P'!$N$5,3,0)","v":0},{"$f":"IF(L52<'A P'!$N$5,3,0)","v":0},{"$f":"IF(M52<'A P'!$N$5,3,0)","v":0},{"$f":"IF(N52<'A P'!$N$5,3,0)","v":0}]
["Avg. VMA",null,{"$f":"IF(ISBLANK($C$8),\" \",IF(ISTEXT(C52),\" \",IF(ISTEXT(D52),\" \",ROUND(AVERAGE(C52:D52),1))))","v":" "},null,{"$f":"IF(ISBLANK($C$8),\" \",IF(ISTEXT(E52),\" \",IF(ISTEXT(F52),\" \",ROUND(AVERAGE(E52:F52),1))))","v":" "},null,{"$f":"IF(ISBLANK($C$8),\" \",IF(ISTEXT(G52),\" \",IF(ISTEXT(H52),\" \",ROUND(AVERAGE(G52:H52),1))))","v":" "},null,{"$f":"IF(ISBLANK($C$8),\" \",IF(ISTEXT(I52),\" \",IF(ISTEXT(J52),\" \",ROUND(AVERAGE(I52:J52),1))))","v":" "},null,{"$f":"IF(ISBLANK($C$8),\" \",IF(ISTEXT(K52),\" \",IF(ISTEXT(L52),\" \",ROUND(AVERAGE(K52:L52),1))))","v":" "},null,{"$f":"IF(ISBLANK($C$8),\" \",IF(ISTEXT(M52),\" \",IF(ISTEXT(N52),\" \",ROUND(AVERAGE(M52:N52),1))))","v":" "},null,null,"Max",null,{"$f":"MAX(R50:S52)","v":0},null,{"$f":"MAX(T50:U52)","v":0},null,{"$f":"MAX(V50:W52)","v":0},null,{"$f":"MAX(X50:Y52)","v":0},null,{"$f":"MAX(Z50:AA52)","v":0},null,{"$f":"MAX(AB50:AC52)","v":0}]
["VFA",null,{"$f":"IF(ISBLANK($C$8),\" \",IF(ISTEXT(C48),\" \",IF(ISTEXT(C52),\" \",Vfa(C52,C50))))","v":" "},{"$f":"IF(ISBLANK($C$8),\" \",IF(ISTEXT(D48),\" \",IF(ISTEXT(D52),\" \",Vfa(D52,D50))))","v":" "},{"$f":"IF(ISBLANK($C$8),\" \",IF(ISTEXT(E48),\" \",IF(ISTEXT(E52),\" \",Vfa(E52,E50))))","v":" "}," "," "," "," "," "," "," "," "," "]
["Avg.VFA",null,{"$f":"IF(ISBLANK($C$8),\" \",IF(ISTEXT(C54),\" \",IF(ISTEXT(D54),\" \",ROUND(AVERAGE(C54:D54),0))))","v":" "},null,{"$f":"IF(ISBLANK($C$8),\" \",IF(ISTEXT(E54),\" \",IF(ISTEXT(F54),\" \",ROUND(AVERAGE(E54:F54),0))))","v":" "},null,{"$f":"IF(ISBLANK($C$8),\" \",IF(ISTEXT(G54),\" \",IF(ISTEXT(H54),\" \",ROUND(AVERAGE(G54:H54),0))))","v":" "},null,{"$f":"IF(ISBLANK($C$8),\" \",IF(ISTEXT(I54),\" \",IF(ISTEXT(J54),\" \",ROUND(AVERAGE(I54:J54),0))))","v":" "},null,{"$f":"IF(ISBLANK($C$8),\" \",IF(ISTEXT(K54),\" \",IF(ISTEXT(L54),\" \",ROUND(AVERAGE(K54:L54),0))))","v":" "},null,{"$f":"IF(ISBLANK($C$8),\" \",IF(ISTEXT(M54),\" \",IF(ISTEXT(N54),\" \",ROUND(AVERAGE(M54:N54),0))))","v":" "}]
["F/A",null,{"$f":"IF(ISBLANK(D42),\" \",IF(ISTEXT(C33),\" \",IF(ISBLANK(D41),\" \",Fa(D42,C33))))","v":" "},null,{"$f":"IF(ISBLANK(F42),\" \",IF(ISTEXT(E33),\" \",IF(ISBLANK(F41),\" \",Fa(F42,E33))))","v":" "},null,{"$f":"IF(ISBLANK(H42),\" \",IF(ISTEXT(G33),\" \",IF(ISBLANK(H41),\" \",Fa(H42,G33))))","v":" "},null,{"$f":"IF(ISBLANK(J42),\" \",IF(ISTEXT(I33),\" \",IF(ISBLANK(J41),\" \",Fa(J42,I33))))","v":" "},null,{"$f":"IF(ISBLANK(L42),\" \",IF(ISTEXT(K33),\" \",IF(ISBLANK(L41),\" \",Fa(L42,K33))))","v":" "},null,{"$f":"IF(ISBLANK(N42),\" \",IF(ISTEXT(M33),\" \",IF(ISBLANK(N41),\" \",Fa(N42,M33))))","v":" "}]
["Pbe",null,{"$f":"C33","v":" "},null,{"$f":"E33","v":" "},null,{"$f":"G33","v":" "},null,{"$f":"I33","v":" "},null,{"$f":"K33","v":" "},null,{"$f":"M33","v":" "}]
[null,null,"Voids","VMA","VFA",null,"Upper","Lower","Target"]
["Running averages for conditional formatting tolerances",null,{"$f":"'ST1'!F2","v":{"$error":"#N/A"}},{"$f":"'ST1'!H2","v":{"$error":"#N/A"}},{"$f":"'ST1'!J2","v":{"$error":"#N/A"}},"Voids",{"$f":"'A P'!C6","v":1.5},{"$f":"'A P'!C8","v":1.5},{"$f":"'A P'!C7","v":0}]
[null,null,{"$f":"'ST1'!F3","v":{"$error":"#N/A"}},{"$f":"'ST1'!H3","v":{"$error":"#N/A"}},{"$f":"'ST1'!J3","v":{"$error":"#N/A"}},"VMA",{"$f":"'A P'!C10","v":1},{"$f":"'A P'!C11","v":1}]
[null,null,{"$f":"'ST1'!F4","v":{"$error":"#N/A"}},{"$f":"'ST1'!H4","v":{"$error":"#N/A"}},{"$f":"'ST1'!J4","v":{"$error":"#N/A"}},"VFA",{"$f":"'A P'!C13","v":0},{"$f":"'A P'!C14","v":0}]
[null,null,{"$f":"'ST1'!F5","v":{"$error":"#N/A"}},{"$f":"'ST1'!H5","v":{"$error":"#N/A"}},{"$f":"'ST1'!J5","v":{"$error":"#N/A"}}]
[null,null,{"$f":"'ST1'!F6","v":{"$error":"#N/A"}},{"$f":"'ST1'!H6","v":{"$error":"#N/A"}},{"$f":"'ST1'!J6","v":{"$error":"#N/A"}}]
[null,null,{"$f":"'ST1'!F7","v":{"$error":"#N/A"}},{"$f":"'ST1'!H7","v":{"$error":"#N/A"}},{"$f":"'ST1'!J7","v":{"$error":"#N/A"}},"Conditional formatting of running avgs have been taken out of ESB-11 but formulas have been left in place in case future changes are necessary"]
[null,null,{"$f":"'ST1'!F8","v":{"$error":"#N/A"}},{"$f":"'ST1'!H8","v":{"$error":"#N/A"}},{"$f":"'ST1'!J8","v":{"$error":"#N/A"}}]
[null,null,{"$f":"'ST1'!F9","v":{"$error":"#N/A"}},{"$f":"'ST1'!H9","v":{"$error":"#N/A"}},{"$f":"'ST1'!J9","v":{"$error":"#N/A"}}]
[null,null,{"$f":"'ST1'!F10","v":{"$error":"#N/A"}},{"$f":"'ST1'!H10","v":{"$error":"#N/A"}},{"$f":"'ST1'!J10","v":{"$error":"#N/A"}}]
[null,null,{"$f":"'ST1'!F11","v":{"$error":"#N/A"}},{"$f":"'ST1'!H11","v":{"$error":"#N/A"}},{"$f":"'ST1'!J11","v":{"$error":"#N/A"}}]
[null,null,{"$f":"'ST1'!F12","v":{"$error":"#N/A"}},{"$f":"'ST1'!H12","v":{"$error":"#N/A"}},{"$f":"'ST1'!J12","v":{"$error":"#N/A"}}]
[null,null,{"$f":"'ST1'!F13","v":{"$error":"#N/A"}},{"$f":"'ST1'!H13","v":{"$error":"#N/A"}},{"$f":"'ST1'!J13","v":{"$error":"#N/A"}}]
[]
["Corrected Gsb for upper block using offset value C34 "]
[null,null,{"$f":"C28-$C$34","v":{"$error":"#DIV/0!"}},{"$f":"E28-$C$34","v":{"$error":"#DIV/0!"}},{"$f":"G28-$C$34","v":{"$error":"#DIV/0!"}},{"$f":"I28-$C$34","v":{"$error":"#DIV/0!"}},{"$f":"K28-$C$34","v":{"$error":"#DIV/0!"}},{"$f":"M28-$C$34","v":{"$error":"#DIV/0!"}}]
[]
[]
["Corrected Gsb for lower block using offset value C34 "]
[null,null,{"$f":"C31-$C$34","v":{"$error":"#DIV/0!"}},{"$f":"E31-$C$34","v":{"$error":"#DIV/0!"}},{"$f":"G31-$C$34","v":{"$error":"#DIV/0!"}},{"$f":"I31-$C$34","v":{"$error":"#DIV/0!"}},{"$f":"K31-$C$34","v":{"$error":"#DIV/0!"}},{"$f":"M31-$C$34","v":{"$error":"#DIV/0!"}}]
[]
[null,null,{"$f":"IF(AND(M36=\"Volumetric deviation, resample within 150 tons\",R53>0),\"Deviation on 150 ton sample,suspend production of JMF\",IF(OR(R50=1,S50=1,R51=2,R52=3,S52=3),\"Volumetric deviation, resample within 150 tons\",\" \"))","v":" "},null,{"$f":"IF(AND(C79=\"Volumetric deviation, resample within 150 tons\",T53>0),\"Deviation on 150 ton sample,suspend production of JMF\",IF(OR(T50=1,U50=1,T51=2,T52=3,U52=3),\"Volumetric deviation, resample within 150 tons\",\" \"))","v":" "},null,{"$f":"IF(AND(E79=\"Volumetric deviation, resample within 150 tons\",V53>0),\"Deviation on 150 ton sample,suspend production of JMF\",IF(OR(V50=1,W50=1,V51=2,V52=3,W52=3),\"Volumetric deviation, resample within 150 tons\",\" \"))","v":" "},null,{"$f":"IF(AND(G79=\"Volumetric deviation, resample within 150 tons\",X53>0),\"Deviation on 150 ton sample,suspend production of JMF\",IF(OR(X50=1,Y50=1,X51=2,X52=3,Y52=3),\"Volumetric deviation, resample within 150 tons\",\" \"))","v":" "},null,{"$f":"IF(AND(I79=\"Volumetric deviation, resample within 150 tons\",Z53>0),\"Deviation on 150 ton sample,suspend production of JMF\",IF(OR(Z50=1,AA50=1,Z51=2,Z52=3,AA52=3),\"Volumetric deviation, resample within 150 tons\",\" \"))","v":" "},null,{"$f":"IF(AND(K79=\"Volumetric deviation, resample within 150 tons\",AB53>0),\"Deviation on 150 ton sample,suspend production of JMF\",IF(OR(AB50=1,AC50=1,AB51=2,AB52=3,AC52=3),\"Volumetric deviation, resample within 150 tons\",\" \"))","v":" "}]

{"sheet":"V2","index":33,"n_rows":79,"n_cols":29,"rows_kept":79,"cut":false,"hidden":true,"merged":[[48,23,48,24],[48,25,48,26],[18,15,18,16],[18,27,18,28],[18,25,18,26],[18,23,18,24],[18,21,18,22],[18,19,18,20],[18,17,18,18],[19,15,19,16],[20,15,20,16],[20,25,20,26],[20,27,20,28],[22,15,22,16],[22,17,22,18],[22,19,22,20],[22,21,22,22],[22,23,22,24],[20,17,20,18],[20,19,20,20],[20,21,20,22],[20,23,20,24],[71,0,73,1],[75,0,77,1],[54,8,54,9],[63,5,68,9],[7,10,7,11],[7,12,7,13],[55,8,55,9],[55,4,55,5],[55,6,55,7],[56,0,56,1],[22,4,22,5],[22,2,22,3],[48,12,48,13],[48,6,48,7],[56,12,56,13],[22,12,22,13],[22,10,22,11],[22,8,22,9],[22,6,22,7],[52,10,52,11],[58,0,69,1],[55,10,55,11],[53,0,53,1],[54,0,54,1],[55,12,55,13],[54,12,54,13],[52,8,52,9],[54,4,54,5],[54,6,54,7],[54,2,54,3],[56,8,56,9],[55,0,55,1],[56,4,56,5],[56,6,56,7],[56,10,56,11],[55,2,55,3],[52,12,52,13],[54,10,54,11],[52,6,52,7],[56,2,56,3],[52,2,52,3],[52,4,52,5],[50,6,50,7],[50,2,50,3],[40,0,40,1],[51,0,51,1],[52,0,52,1],[39,0,39,1],[39,2,39,3],[39,4,39,5],[50,12,50,13],[48,10,48,11],[48,4,48,5],[41,0,41,1],[42,0,42,1],[48,0,48,1],[48,2,48,3],[39,6,39,7],[50,4,50,5],[50,0,50,1],[39,8,39,9],[39,10,39,11],[48,8,48,9],[49,0,49,1],[50,8,50,9],[50,10,50,11],[33,0,33,1],[33,3,33,12],[32,2,32,3],[32,4,32,5],[32,6,32,7],[38,12,38,13],[32,10,32,11],[29,2,29,3],[29,6,29,7],[29,8,29,9],[30,2,30,3],[30,4,30,5],[32,8,32,9],[31,6,31,7],[31,8,31,9],[31,12,31,13],[31,2,31,3],[31,4,31,5],[29,10,29,11],[29,12,29,13],[32,12,32,13],[34,0,34,1],[38,0,38,1],[38,2,38,3],[30,12,30,13],[31,10,31,11],[26,12,26,13],[27,2,27,3],[27,4,27,5],[27,6,27,7],[27,8,27,9],[27,10,27,11],[27,12,27,13],[26,8,26,9],[26,10,26,11],[28,2,28,3],[28,12,28,13],[28,10,28,11],[26,0,26,1],[26,2,26,3],[26,4,26,5],[26,6,26,7],[24,8,24,9],[24,10,24,11],[24,4,24,5],[24,6,24,7],[30,6,30,7],[30,8,30,9],[28,8,28,9],[30,10,30,11],[28,4,28,5],[29,4,29,5],[28,6,28,7],[23,0,23,1],[22,0,22,1],[24,12,24,13],[25,0,25,1],[25,2,25,3],[25,4,25,5],[25,6,25,7],[25,8,25,9],[25,10,25,11],[25,12,25,13],[24,0,24,1],[24,2,24,3],[18,10,18,11],[18,12,18,13],[8,10,8,11],[19,0,19,1],[18,0,18,1],[18,2,18,3],[18,4,18,5],[18,6,18,7],[9,2,9,3],[16,0,16,1],[17,0,17,1],[10,0,10,1],[11,0,11,1],[12,0,12,1],[13,0,13,1],[14,0,14,1],[15,0,15,1],[18,8,18,9],[9,12,9,13],[9,6,9,7],[8,12,8,13],[9,8,9,9],[9,10,9,11],[7,0,7,1],[7,2,7,3],[8,0,8,1],[8,2,8,3],[8,4,8,5],[9,0,9,1],[9,4,9,5],[8,6,8,7],[8,8,8,9],[7,4,7,7],[7,8,7,9],[6,0,6,1],[6,2,6,3],[6,10,6,11],[5,0,5,1],[5,2,5,3],[5,5,5,8],[5,10,5,11],[6,12,6,13],[5,12,5,13],[6,4,6,9],[1,12,1,13],[2,10,2,11],[2,12,2,13],[3,10,3,11],[3,12,3,13],[4,10,4,11],[4,12,4,13],[0,0,3,1],[1,10,1,11],[78,0,80,1],[35,12,37,13],[35,10,37,11],[35,8,37,9],[35,6,37,7],[35,4,37,5],[35,2,37,3],[35,0,37,1],[78,12,80,13],[78,10,80,11],[78,8,80,9],[78,6,80,7],[78,4,80,5],[78,2,80,3],[38,10,38,11],[47,0,47,1],[45,0,45,1],[46,0,46,1],[43,0,43,1],[44,0,44,1],[38,4,38,5],[38,6,38,7],[38,8,38,9],[39,12,39,13],[20,8,20,9],[20,10,20,11],[20,12,20,13],[21,0,21,1],[20,0,20,1],[20,2,20,3],[20,4,20,5],[20,6,20,7],[21,15,21,16],[52,25,52,26],[52,27,52,28],[51,15,51,16],[52,15,52,16],[52,17,52,18],[52,19,52,20],[52,21,52,22],[52,23,52,24],[22,25,22,26],[22,27,22,28],[49,15,49,16],[50,15,50,16],[50,17,50,18],[50,19,50,20],[50,21,50,22],[50,23,50,24],[50,25,50,26],[50,27,50,28],[37,17,37,28],[48,27,48,28],[48,15,48,16],[48,17,48,18],[48,19,48,20],[48,21,48,22]]}
[]
[null,null,null,null,"COMMONWEALTH OF PENNSYLVANIA",null,null,null,null,null,"DISTRICT",null,{"$f":"IF(ISBLANK('V1'!M2),\" \",('V1'!M2))","v":" "}]
[null,null,null,null,"DEPARTMENT OF TRANSPORTATION",null,null,null,null,null,"PLANT CODE",null,{"$f":"IF(ISBLANK('V1'!M3),\" \",('V1'!M3))","v":" "}]
[null,null,null,null,"LABORATORY TEST SECTION",null,null,null,null,null,"Design No.",null,{"$f":"IF(ISBLANK('V1'!M4),\" \",('V1'!M4))","v":" "}]
[{"$f":"'S1'!A5","v":"ESB-16"},null,null,null,null,null,null,null,null,null,"JMF VMA",null,{"$f":"IF(ISBLANK('V1'!M5),\" \",('V1'!M5))","v":" "}]
["Material Class ",null,{"$f":"IF(ISBLANK('V1'!C6),\" \",('V1'!C6))","v":9.5},null,null,"Volumetric Results",null,null,null,null,"JMF VFA",null,{"$f":"IF(ISBLANK('V1'!M6),\" \",('V1'!M6))","v":" "}]
["Gyrations @ Ndes",null,{"$f":"IF(ISBLANK('V1'!C7),\" \",('V1'!C7))","v":" "},null,"Red values indicate corrective action is needed",null,null,null,null,null,"JMF F/A",null,{"$f":"IF(ISBLANK('V1'!M7),\" \",('V1'!M7))","v":" "}]
["Gsb of Mix",null,{"$f":"IF(ISBLANK('V1'!C8),\" \",('V1'!C8))","v":" "},null,"Gyratory Specimen wt. from TR 448",null,null,null,{"$f":"IF(ISBLANK('V1'!I8),\" \",('V1'!I8))","v":" "},null,"JMF Voids",null,{"$f":"IF(ISBLANK('V1'!M8),\" \",('V1'!M8))","v":" "}]
["Sample No."]
["Date"]
["Gmm / Gb of AC"]
["AC / -200"]
["Specimen No",null,1,2,1,2,1,2,1,2,1,2,1,2]
["Height at Ndes"]
["Mass in Air"]
["Mass in Water"]
["SSD Mass"]
["Gmb",null,{"$f":"IF(ISBLANK(C15),\" \",IF(ISBLANK(C16),\" \",IF(ISBLANK(C17),\" \",ROUND(Gmb(C15,C16,C17),3))))","v":" "},{"$f":"IF(ISBLANK(D15),\" \",IF(ISBLANK(D16),\" \",IF(ISBLANK(D17),\" \",ROUND(Gmb(D15,D16,D17),3))))","v":" "}," "," "," "," "," "," "," "," "," "," "]
["Average Gmb",null,{"$f":"IF(ISTEXT(C18),\" \",IF(ISTEXT(D18),\" \",AVERAGE(C18:D18)))","v":" "},null,{"$f":"IF(ISTEXT(E18),\" \",IF(ISTEXT(F18),\" \",AVERAGE(E18:F18)))","v":" "},null,{"$f":"IF(ISTEXT(G18),\" \",IF(ISTEXT(H18),\" \",AVERAGE(G18:H18)))","v":" "},null,{"$f":"IF(ISTEXT(I18),\" \",IF(ISTEXT(J18),\" \",AVERAGE(I18:J18)))","v":" "},null,{"$f":"IF(ISTEXT(K18),\" \",IF(ISTEXT(L18),\" \",AVERAGE(K18:L18)))","v":" "},null,{"$f":"IF(ISTEXT(M18),\" \",IF(ISTEXT(N18),\" \",AVERAGE(M18:N18)))","v":" "},null,null,"Sample",null,1,null,2,null,3,null,4,null,5,null,6]
["(Voids)VTM",null,{"$f":"IF(ISBLANK(C11),\" \",IF(ISTEXT(C18),\" \",ROUND(Va($C$11,C18),1)))","v":" "},{"$f":"IF(ISBLANK(C11),\" \",IF(ISTEXT(D18),\" \",ROUND(Va($C$11,D18),1)))","v":" "},{"$f":"IF(ISBLANK(E11),\" \",IF(ISTEXT(E18),\" \",ROUND(Va($E$11,E18),1)))","v":" "},{"$f":"IF(ISBLANK(E11),\" \",IF(ISTEXT(F18),\" \",ROUND(Va($E$11,F18),1)))","v":" "},{"$f":"IF(ISBLANK(G11),\" \",IF(ISTEXT(G18),\" \",ROUND(Va($G$11,G18),1)))","v":" "},{"$f":"IF(ISBLANK(G11),\" \",IF(ISTEXT(H18),\" \",ROUND(Va($G$11,H18),1)))","v":" "},{"$f":"IF(ISBLANK(I11),\" \",IF(ISTEXT(I18),\" \",ROUND(Va($I$11,I18),1)))","v":" "},{"$f":"IF(ISBLANK(I11),\" \",IF(ISTEXT(J18),\" \",ROUND(Va($I$11,J18),1)))","v":" "},{"$f":"IF(ISBLANK(K11),\" \",IF(ISTEXT(K18),\" \",ROUND(Va($K$11,K18),1)))","v":" "},{"$f":"IF(ISBLANK(K11),\" \",IF(ISTEXT(L18),\" \",ROUND(Va($K$11,L18),1)))","v":" "},{"$f":"IF(ISBLANK(M11),\" \",IF(ISTEXT(M18),\" \",ROUND(Va($M$11,M18),1)))","v":" "},{"$f":"IF(ISBLANK(M11),\" \",IF(ISTEXT(N18),\" \",ROUND(Va($M$11,N18),1)))","v":" "},null,"single voids",null,{"$f":"IF(ISTEXT(C20),\" \",IF(OR(C20>$M$8+2,C20<$M$8-2),1,0))","v":" "},{"$f":"IF(ISTEXT(D20),\" \",IF(OR(D20>$M$8+2,D20<$M$8-2),1,0))","v":" "}," "," "," "," "," "," "," "," "," "," "]
["AVG.(Voids)VTM",null,{"$f":"IF(ISTEXT(C20),\" \",IF(ISTEXT(D20),\" \",ROUND(AVERAGE(C20:D20),1)))","v":" "},null,{"$f":"IF(ISTEXT(E20),\" \",IF(ISTEXT(F20),\" \",ROUND(AVERAGE(E20:F20),1)))","v":" "},null,{"$f":"IF(ISTEXT(G20),\" \",IF(ISTEXT(H20),\" \",ROUND(AVERAGE(G20:H20),1)))","v":" "},null,{"$f":"IF(ISTEXT(I20),\" \",IF(ISTEXT(J20),\" \",ROUND(AVERAGE(I20:J20),1)))","v":" "},null,{"$f":"IF(ISTEXT(K20),\" \",IF(ISTEXT(L20),\" \",ROUND(AVERAGE(K20:L20),1)))","v":" "},null,{"$f":"IF(ISTEXT(M20),\" \",IF(ISTEXT(N20),\" \",ROUND(AVERAGE(M20:N20),1)))","v":" "},null,null,"Avg voids",null,{"$f":"IF(ISTEXT(C21),\" \",IF(OR(C21>$M$8+1.5,C21<$M$8-1.5),2,0))","v":" "},null,{"$f":"IF(ISTEXT(E21),\" \",IF(OR(E21>$M$8+1.5,E21<$M$8-1.5),2,0))","v":" "},null,{"$f":"IF(ISTEXT(G21),\" \",IF(OR(G21>$M$8+1.5,G21<$M$8-1.5),2,0))","v":" "},null,{"$f":"IF(ISTEXT(I21),\" \",IF(OR(I21>$M$8+1.5,I21<$M$8-1.5),2,0))","v":" "},null,{"$f":"IF(ISTEXT(K21),\" \",IF(OR(K21>$M$8+1.5,K21<$M$8-1.5),2,0))","v":" "},null,{"$f":"IF(ISTEXT(M21),\" \",IF(OR(M21>$M$8+1.5,M21<$M$8-1.5),2,0))","v":" "}]
["VMA",null,{"$f":"IF(ISTEXT(C18),\" \",IF(ISBLANK(C12),\" \",IF(ISBLANK($C$8),\" \",ROUND(Vma(C18,C12,C73),1))))","v":" "},{"$f":"IF(ISTEXT(D18),\" \",IF(ISBLANK(C12),\" \",IF(ISBLANK($C$8),\" \",ROUND(Vma(D18,C12,C73),1))))","v":" "},{"$f":"IF(ISTEXT(E18),\" \",IF(ISBLANK(E12),\" \",IF(ISBLANK($C$8),\" \",ROUND(Vma(E18,E12,D73),1))))","v":" "},{"$f":"IF(ISTEXT(F18),\" \",IF(ISBLANK(E12),\" \",IF(ISBLANK($C$8),\" \",ROUND(Vma(F18,E12,D73),1))))","v":" "},{"$f":"IF(ISTEXT(G18),\" \",IF(ISBLANK(G12),\" \",IF(ISBLANK($C$8),\" \",ROUND(Vma(G18,G12,E73),1))))","v":" "},{"$f":"IF(ISTEXT(H18),\" \",IF(ISBLANK(G12),\" \",IF(ISBLANK($C$8),\" \",ROUND(Vma(H18,G12,E73),1))))","v":" "},{"$f":"IF(ISTEXT(I18),\" \",IF(ISBLANK(I12),\" \",IF(ISBLANK($C$8),\" \",ROUND(Vma(I18,I12,F73),1))))","v":" "},{"$f":"IF(ISTEXT(J18),\" \",IF(ISBLANK(I12),\" \",IF(ISBLANK($C$8),\" \",ROUND(Vma(J18,I12,F73),1))))","v":" "},{"$f":"IF(ISTEXT(K18),\" \",IF(ISBLANK(K12),\" \",IF(ISBLANK($C$8),\" \",ROUND(Vma(K18,K12,G73),1))))","v":" "},{"$f":"IF(ISTEXT(L18),\" \",IF(ISBLANK(K12),\" \",IF(ISBLANK($C$8),\" \",ROUND(Vma(L18,K12,G73),1))))","v":" "},{"$f":"IF(ISTEXT(M18),\" \",IF(ISBLANK(M12),\" \",IF(ISBLANK($C$8),\" \",ROUND(Vma(M18,M12,H73),1))))","v":" "},{"$f":"IF(ISTEXT(N18),\" \",IF(ISBLANK(M12),\" \",IF(ISBLANK($C$8),\" \",ROUND(Vma(N18,M12,H73),1))))","v":" "},null,"Single VMA",null,{"$f":"IF(C22<'A P'!$N$5,3,0)","v":0},{"$f":"IF(D22<'A P'!$N$5,3,0)","v":0},{"$f":"IF(E22<'A P'!$N$5,3,0)","v":0},{"$f":"IF(F22<'A P'!$N$5,3,0)","v":0},{"$f":"IF(G22<'A P'!$N$5,3,0)","v":0},{"$f":"IF(H22<'A P'!$N$5,3,0)","v":0},{"$f":"IF(I22<'A P'!$N$5,3,0)","v":0},{"$f":"IF(J22<'A P'!$N$5,3,0)","v":0},{"$f":"IF(K22<'A P'!$N$5,3,0)","v":0},{"$f":"IF(L22<'A P'!$N$5,3,0)","v":0},{"$f":"IF(M22<'A P'!$N$5,3,0)","v":0},{"$f":"IF(N22<'A P'!$N$5,3,0)","v":0}]
["Avg. VMA",null,{"$f":"IF(ISBLANK($C$8),\" \",IF(ISTEXT(C22),\" \",IF(ISTEXT(D22),\" \",ROUND(AVERAGE(C22:D22),1))))","v":" "},null,{"$f":"IF(ISBLANK($C$8),\" \",IF(ISTEXT(E22),\" \",IF(ISTEXT(F22),\" \",ROUND(AVERAGE(E22:F22),1))))","v":" "},null,{"$f":"IF(ISBLANK($C$8),\" \",IF(ISTEXT(G22),\" \",IF(ISTEXT(H22),\" \",ROUND(AVERAGE(G22:H22),1))))","v":" "},null,{"$f":"IF(ISBLANK($C$8),\" \",IF(ISTEXT(I22),\" \",IF(ISTEXT(J22),\" \",ROUND(AVERAGE(I22:J22),1))))","v":" "},null,{"$f":"IF(ISBLANK($C$8),\" \",IF(ISTEXT(K22),\" \",IF(ISTEXT(L22),\" \",ROUND(AVERAGE(K22:L22),1))))","v":" "},null,{"$f":"IF(ISBLANK($C$8),\" \",IF(ISTEXT(M22),\" \",IF(ISTEXT(N22),\" \",ROUND(AVERAGE(M22:N22),1))))","v":" "},null,null,"Max",null,{"$f":"MAX(R20:S22)","v":0},null,{"$f":"MAX(T20:U22)","v":0},null,{"$f":"MAX(V20:W22)","v":0},null,{"$f":"MAX(X20:Y22)","v":0},null,{"$f":"MAX(Z20:AA22)","v":0},null,{"$f":"MAX(AB20:AC22)","v":0}]
["VFA",null,{"$f":"IF(ISBLANK($C$8),\" \",IF(ISTEXT(C18),\" \",IF(ISTEXT(C22),\" \",Vfa(C22,C20))))","v":" "},{"$f":"IF(ISBLANK($C$8),\" \",IF(ISTEXT(D18),\" \",IF(ISTEXT(D22),\" \",Vfa(D22,D20))))","v":" "},{"$f":"IF(ISBLANK($C$8),\" \",IF(ISTEXT(E18),\" \",IF(ISTEXT(E22),\" \",Vfa(E22,E20))))","v":" "}," "," "," "," "," "," "," "," "," "]
["Avg.VFA",null,{"$f":"IF(ISBLANK($C$8),\" \",IF(ISTEXT(C24),\" \",IF(ISTEXT(D24),\" \",ROUND(AVERAGE(C24:D24),0))))","v":" "},null,{"$f":"IF(ISBLANK($C$8),\" \",IF(ISTEXT(E24),\" \",IF(ISTEXT(F24),\" \",ROUND(AVERAGE(E24:F24),0))))","v":" "},null,{"$f":"IF(ISBLANK($C$8),\" \",IF(ISTEXT(G24),\" \",IF(ISTEXT(H24),\" \",ROUND(AVERAGE(G24:H24),0))))","v":" "},null,{"$f":"IF(ISBLANK($C$8),\" \",IF(ISTEXT(I24),\" \",IF(ISTEXT(J24),\" \",ROUND(AVERAGE(I24:J24),0))))","v":" "},null,{"$f":"IF(ISBLANK($C$8),\" \",IF(ISTEXT(K24),\" \",IF(ISTEXT(L24),\" \",ROUND(AVERAGE(K24:L24),0))))","v":" "},null,{"$f":"IF(ISBLANK($C$8),\" \",IF(ISTEXT(M24),\" \",IF(ISTEXT(N24),\" \",ROUND(AVERAGE(M24:N24),0))))","v":" "}]
["F/A",null,{"$f":"IF(ISBLANK(D12),\" \",IF(ISTEXT(C30),\" \",IF(ISBLANK(D11),\" \",Fa(D12,C30))))","v":" "},null,{"$f":"IF(ISBLANK(F12),\" \",IF(ISTEXT(E30),\" \",IF(ISBLANK(F11),\" \",Fa(F12,E30))))","v":" "},null,{"$f":"IF(ISBLANK(H12),\" \",IF(ISTEXT(G30),\" \",IF(ISBLANK(H11),\" \",Fa(H12,G30))))","v":" "},null,{"$f":"IF(ISBLANK(J12),\" \",IF(ISTEXT(I30),\" \",IF(ISBLANK(J11),\" \",Fa(J12,I30))))","v":" "},null,{"$f":"IF(ISBLANK(L12),\" \",IF(ISTEXT(K30),\" \",IF(ISBLANK(L11),\" \",Fa(L12,K30))))","v":" "},null,{"$f":"IF(ISBLANK(N12),\" \",IF(ISTEXT(M30),\" \",IF(ISBLANK(N11),\" \",Fa(N12,M30))))","v":" "}]
["Pbe",null,{"$f":"C30","v":" "},null,{"$f":"E30","v":" "},null,{"$f":"G30","v":" "},null,{"$f":"I30","v":" "},null,{"$f":"K30","v":" "},null,{"$f":"M30","v":" "}]
[null,"Gse",{"$f":"ROUND((100-C$12)/((100/C$11)-(C$12/$D11)),3)","v":{"$error":"#DIV/0!"}},null,{"$f":"ROUND((100-E$12)/((100/E$11)-(E$12/F11)),3)","v":{"$error":"#DIV/0!"}},null,{"$f":"ROUND((100-G$12)/((100/G$11)-(G$12/H11)),3)","v":{"$error":"#DIV/0!"}},null,{"$f":"ROUND((100-I$12)/((100/I$11)-(I$12/J11)),3)","v":{"$error":"#DIV/0!"}},null,{"$f":"ROUND((100-K$12)/((100/K$11)-(K$12/L11)),3)","v":{"$error":"#DIV/0!"}},null,{"$f":"ROUND((100-M$12)/((100/M$11)-(M$12/N11)),3)","v":{"$error":"#DIV/0!"}}]
[null,"Pba",{"$f":"IF(ISBLANK(C28),\" \",IF(ISBLANK($C$8),\" \",(100*((C$28-C73)/(C73*C$28))*D11)))","v":{"$error":"#DIV/0!"}},null,{"$f":"IF(ISBLANK(E28),\" \",IF(ISBLANK($C$8),\" \",(100*((E$28-D73)/(D73*E$28))*F11)))","v":{"$error":"#DIV/0!"}},null,{"$f":"IF(ISBLANK(G28),\" \",IF(ISBLANK($C$8),\" \",(100*((G$28-E73)/(E73*G$28))*H11)))","v":{"$error":"#DIV/0!"}},null,{"$f":"IF(ISBLANK(I28),\" \",IF(ISBLANK($C$8),\" \",(100*((I$28-F73)/(F73*I$28))*J11)))","v":{"$error":"#DIV/0!"}},null,{"$f":"IF(ISBLANK(K28),\" \",IF(ISBLANK($C$8),\" \",(100*((K$28-G73)/(G73*K$28))*L11)))","v":{"$error":"#DIV/0!"}},null,{"$f":"IF(ISBLANK(M28),\" \",IF(ISBLANK($C$8),\" \",(100*((M$28-H73)/(H73*M$28))*N11)))","v":{"$error":"#DIV/0!"}}]
[null,"Pbe",{"$f":"IF(ISBLANK($C$8),\" \",IF(ISBLANK(C12),\" \",IF(ISBLANK(C29),\" \",ROUND((C$12-((C$29/100)*(100-C$12))),2))))","v":" "},null,{"$f":"IF(ISBLANK($C$8),\" \",IF(ISBLANK(E$12),\" \",IF(ISBLANK(E29),\" \",ROUND((E$12-((E$29/100)*(100-E$12))),2))))","v":" "},null,{"$f":"IF(ISBLANK($C$8),\" \",IF(ISBLANK(G$12),\" \",IF(ISBLANK(G29),\" \",ROUND((G$12-((G$29/100)*(100-G$12))),2))))","v":" "},null,{"$f":"IF(ISBLANK($C$8),\" \",IF(ISBLANK(I$12),\" \",IF(ISBLANK(I29),\" \",ROUND((I$12-((I$29/100)*(100-I$12))),2))))","v":" "},null,{"$f":"IF(ISBLANK($C$8),\" \",IF(ISBLANK(K$12),\" \",IF(ISBLANK(K29),\" \",ROUND((K$12-((K$29/100)*(100-K$12))),2))))","v":" "},null,{"$f":"IF(ISBLANK($C$8),\" \",IF(ISBLANK(M$12),\" \",IF(ISBLANK(M29),\" \",ROUND((M$12-((M$29/100)*(100-M$12))),2))))","v":" "}]
[null,"Gse",{"$f":"ROUND((100-C$42)/((100/C$41)-(C$42/D41)),3)","v":{"$error":"#DIV/0!"}},null,{"$f":"ROUND((100-E$42)/((100/E$41)-(E$42/F41)),3)","v":{"$error":"#DIV/0!"}},null,{"$f":"ROUND((100-G$42)/((100/G$41)-(G$42/H41)),3)","v":{"$error":"#DIV/0!"}},null,{"$f":"ROUND((100-I$42)/((100/I$41)-(I$42/J41)),3)","v":{"$error":"#DIV/0!"}},null,{"$f":"ROUND((100-K$42)/((100/K$41)-(K$42/L41)),3)","v":{"$error":"#DIV/0!"}},null,{"$f":"ROUND((100-M$42)/((100/M$41)-(M$42/N41)),3)","v":{"$error":"#DIV/0!"}}]
[null,"Pba",{"$f":"IF(ISBLANK(C31),\" \",IF(ISBLANK($C$8),\" \",(100*((C$31-C77)/(C77*C$31))*D41)))","v":{"$error":"#DIV/0!"}},null,{"$f":"IF(ISBLANK(E31),\" \",IF(ISBLANK($C$8),\" \",(100*((E$31-D77)/(D77*E$31))*F41)))","v":{"$error":"#DIV/0!"}},null,{"$f":"IF(ISBLANK(G31),\" \",IF(ISBLANK($C$8),\" \",(100*((G$31-E77)/(E77*G$31))*H41)))","v":{"$error":"#DIV/0!"}},null,{"$f":"IF(ISBLANK(I31),\" \",IF(ISBLANK($C$8),\" \",(100*((I$31-F77)/(F77*I$31))*J41)))","v":{"$error":"#DIV/0!"}},null,{"$f":"IF(ISBLANK(K31),\" \",IF(ISBLANK($C$8),\" \",(100*((K$31-G77)/(G77*K$31))*L41)))","v":{"$error":"#DIV/0!"}},null,{"$f":"IF(ISBLANK(M31),\" \",IF(ISBLANK($C$8),\" \",(100*((M$31-H77)/(H77*M$31))*N41)))","v":{"$error":"#DIV/0!"}}]
[null,"Pbe",{"$f":"IF(ISBLANK($C$8),\" \",IF(ISBLANK(C42),\" \",IF(ISBLANK(C32),\" \",ROUND((C$42-((C$32/100)*(100-C$42))),2))))","v":" "},null,{"$f":"IF(ISBLANK($C$8),\" \",IF(ISBLANK(E42),\" \",IF(ISBLANK(E32),\" \",ROUND((E$42-((E$32/100)*(100-E$42))),2))))","v":" "},null,{"$f":"IF(ISBLANK($C$8),\" \",IF(ISBLANK(G42),\" \",IF(ISBLANK(G32),\" \",ROUND((G$42-((G$32/100)*(100-G$42))),2))))","v":" "},null,{"$f":"IF(ISBLANK($C$8),\" \",IF(ISBLANK(I42),\" \",IF(ISBLANK(I32),\" \",ROUND((I$42-((I$32/100)*(100-I$42))),2))))","v":" "},null,{"$f":"IF(ISBLANK($C$8),\" \",IF(ISBLANK(K42),\" \",IF(ISBLANK(K32),\" \",ROUND((K$42-((K$32/100)*(100-K$42))),2))))","v":" "},null,{"$f":"IF(ISBLANK($C$8),\" \",IF(ISBLANK(M42),\" \",IF(ISBLANK(M32),\" \",ROUND((M$42-((M$32/100)*(100-M$42))),2))))","v":" "}]
["Offset value",null,{"$f":"'G1'!B38-C8","v":{"$error":"#DIV/0!"}}]
[]
[null,null,{"$f":"IF(AND('V1'!M79=\"Volumetric deviation, resample within 150 tons\",R23>0),\"Deviation on 150 ton sample,suspend production of JMF\",IF(OR(R20=1,S20=1,R21=2,R22=3,S22=3),\"Volumetric deviation, resample within 150 tons\",\" \"))","v":" "},null,{"$f":"IF(AND(C36=\"Volumetric deviation, resample within 150 tons\",T23>0),\"Deviation on 150 ton sample,suspend production of JMF\",IF(OR(T20=1,U20=1,T21=2,T22=3,U22=3),\"Volumetric deviation, resample within 150 tons\",\" \"))","v":" "},null,{"$f":"IF(AND(E36=\"Volumetric deviation, resample within 150 tons\",V23>0),\"Deviation on 150 ton sample,suspend production of JMF\",IF(OR(V20=1,W20=1,V21=2,V22=3,W22=3),\"Volumetric deviation, resample within 150 tons\",\" \"))","v":" "},null,{"$f":"IF(AND(G36=\"Volumetric deviation, resample within 150 tons\",X23>0),\"Deviation on 150 ton sample,suspend production of JMF\",IF(OR(X20=1,Y20=1,X21=2,X22=3,Y22=3),\"Volumetric deviation, resample within 150 tons\",\" \"))","v":" "},null,{"$f":"IF(AND(I36=\"Volumetric deviation, resample within 150 tons\",Z23>0),\"Deviation on 150 ton sample,suspend production of JMF\",IF(OR(Z20=1,AA20=1,Z21=2,Z22=3,AA22=3),\"Volumetric deviation, resample within 150 tons\",\" \"))","v":" "},null,{"$f":"IF(AND(K36=\"Volumetric deviation, resample within 150 tons\",AB23>0),\"Deviation on 150 ton sample,suspend production of JMF\",IF(OR(AB20=1,AC20=1,AB21=2,AB22=3,AC22=3),\"Volumetric deviation, resample within 150 tons\",\" \"))","v":" "}]
[]
[null,null,null,null,null,null,null,null,null,null,null,null,null,null,null,null,null,"This determines if samples meet single and multiple tolerances and is used for cond. Formatting and action notes"]
["Sample No."]
["Date"]
["Gmm / Gb of AC"]
["AC / -200"]
["Specimen No",null,1,2,1,2,1,2,1,2,1,2,1,2]
["Height at Ndes"]
["Mass in Air"]
["Mass in Water"]
["SSD Mass"]
["Gmb",null,{"$f":"IF(ISBLANK(C45),\" \",IF(ISBLANK(C46),\" \",IF(ISBLANK(C47),\" \",ROUND(Gmb(C45,C46,C47),3))))","v":" "}," "," "," "," "," "," "," ",{"$f":"IF(ISBLANK(K45),\" \",IF(ISBLANK(K46),\" \",IF(ISBLANK(K47),\" \",ROUND(Gmb(K45,K46,K47),3))))","v":" "},{"$f":"IF(ISBLANK(L45),\" \",IF(ISBLANK(L46),\" \",IF(ISBLANK(L47),\" \",ROUND(Gmb(L45,L46,L47),3))))","v":" "}," "," "]
["Average Gmb",null,{"$f":"IF(ISTEXT(C48),\" \",IF(ISTEXT(D48),\" \",AVERAGE(C48:D48)))","v":" "},null,{"$f":"IF(ISTEXT(E48),\" \",IF(ISTEXT(F48),\" \",AVERAGE(E48:F48)))","v":" "},null,{"$f":"IF(ISTEXT(G48),\" \",IF(ISTEXT(H48),\" \",AVERAGE(G48:H48)))","v":" "},null,{"$f":"IF(ISTEXT(I48),\" \",IF(ISTEXT(J48),\" \",AVERAGE(I48:J48)))","v":" "},null,{"$f":"IF(ISTEXT(K48),\" \",IF(ISTEXT(L48),\" \",AVERAGE(K48:L48)))","v":" "},null,{"$f":"IF(ISTEXT(M48),\" \",IF(ISTEXT(N48),\" \",AVERAGE(M48:N48)))","v":" "},null,null,"Sample",null,7,null,8,null,9,null,10,null,11,null,12]
["(Voids)VTM",null,{"$f":"IF(ISBLANK(C41),\" \",IF(ISTEXT(C48),\" \",ROUND(Va($C$41,C48),1)))","v":" "},{"$f":"IF(ISBLANK(C41),\" \",IF(ISTEXT(D48),\" \",ROUND(Va($C$41,D48),1)))","v":" "},{"$f":"IF(ISBLANK(E41),\" \",IF(ISTEXT(E48),\" \",ROUND(Va($E$41,E48),1)))","v":" "},{"$f":"IF(ISBLANK(E41),\" \",IF(ISTEXT(F48),\" \",ROUND(Va($E$41,F48),1)))","v":" "},{"$f":"IF(ISBLANK(G41),\" \",IF(ISTEXT(G48),\" \",ROUND(Va($G$41,G48),1)))","v":" "},{"$f":"IF(ISBLANK(G41),\" \",IF(ISTEXT(H48),\" \",ROUND(Va($G$41,H48),1)))","v":" "},{"$f":"IF(ISBLANK(I41),\" \",IF(ISTEXT(I48),\" \",ROUND(Va($I$41,I48),1)))","v":" "},{"$f":"IF(ISBLANK(I41),\" \",IF(ISTEXT(J48),\" \",ROUND(Va($I$41,J48),1)))","v":" "},{"$f":"IF(ISBLANK(K41),\" \",IF(ISTEXT(K48),\" \",ROUND(Va($K$41,K48),1)))","v":" "},{"$f":"IF(ISBLANK(K41),\" \",IF(ISTEXT(L48),\" \",ROUND(Va($K$41,L48),1)))","v":" "},{"$f":"IF(ISBLANK(M41),\" \",IF(ISTEXT(M48),\" \",ROUND(Va($M$41,M48),1)))","v":" "},{"$f":"IF(ISBLANK(M41),\" \",IF(ISTEXT(N48),\" \",ROUND(Va($M$41,N48),1)))","v":" "},null,"single voids",null,{"$f":"IF(ISTEXT(C50),\" \",IF(OR(C50>$M$8+2,C50<$M$8-2),1,0))","v":" "},{"$f":"IF(ISTEXT(D50),\" \",IF(OR(D50>$M$8+2,D50<$M$8-2),1,0))","v":" "},{"$f":"IF(ISTEXT(E50),\" \",IF(OR(E50>$M$8+2,E50<$M$8-2),1,0))","v":" "}," "," "," "," "," "," "," "," "," "]
["AVG.(Voids)VTM",null,{"$f":"IF(ISTEXT(C50),\" \",IF(ISTEXT(D50),\" \",ROUND(AVERAGE(C50:D50),1)))","v":" "},null,{"$f":"IF(ISTEXT(E50),\" \",IF(ISTEXT(F50),\" \",ROUND(AVERAGE(E50:F50),1)))","v":" "},null,{"$f":"IF(ISTEXT(G50),\" \",IF(ISTEXT(H50),\" \",ROUND(AVERAGE(G50:H50),1)))","v":" "},null,{"$f":"IF(ISTEXT(I50),\" \",IF(ISTEXT(J50),\" \",ROUND(AVERAGE(I50:J50),1)))","v":" "},null,{"$f":"IF(ISTEXT(K50),\" \",IF(ISTEXT(L50),\" \",ROUND(AVERAGE(K50:L50),1)))","v":" "},null,{"$f":"IF(ISTEXT(M50),\" \",IF(ISTEXT(N50),\" \",ROUND(AVERAGE(M50:N50),1)))","v":" "},null,null,"Avg voids",null,{"$f":"IF(ISTEXT(C51),\" \",IF(OR(C51>$M$8+1.5,C51<$M$8-1.5),2,0))","v":" "},null,{"$f":"IF(ISTEXT(E51),\" \",IF(OR(E51>$M$8+1.5,E51<$M$8-1.5),2,0))","v":" "},null,{"$f":"IF(ISTEXT(G51),\" \",IF(OR(G51>$M$8+1.5,G51<$M$8-1.5),2,0))","v":" "},null,{"$f":"IF(ISTEXT(I51),\" \",IF(OR(I51>$M$8+1.5,I51<$M$8-1.5),2,0))","v":" "},null,{"$f":"IF(ISTEXT(K51),\" \",IF(OR(K51>$M$8+1.5,K51<$M$8-1.5),2,0))","v":" "},null,{"$f":"IF(ISTEXT(M51),\" \",IF(OR(M51>$M$8+1.5,M51<$M$8-1.5),2,0))","v":" "}]
["VMA",null,{"$f":"IF(ISTEXT(C48),\" \",IF(ISBLANK(C42),\" \",IF(ISBLANK($C$8),\" \",ROUND(Vma(C48,C42,C77),1))))","v":" "},{"$f":"IF(ISTEXT(D48),\" \",IF(ISBLANK(C42),\" \",IF(ISBLANK($C$8),\" \",ROUND(Vma(D48,C42,C77),1))))","v":" "},{"$f":"IF(ISTEXT(E48),\" \",IF(ISBLANK(E42),\" \",IF(ISBLANK($C$8),\" \",ROUND(Vma(E48,E42,D77),1))))","v":" "},{"$f":"IF(ISTEXT(F48),\" \",IF(ISBLANK(E42),\" \",IF(ISBLANK($C$8),\" \",ROUND(Vma(F48,E42,D77),1))))","v":" "},{"$f":"IF(ISTEXT(G48),\" \",IF(ISBLANK(G42),\" \",IF(ISBLANK($C$8),\" \",ROUND(Vma(G48,G42,E77),1))))","v":" "},{"$f":"IF(ISTEXT(H48),\" \",IF(ISBLANK(G42),\" \",IF(ISBLANK($C$8),\" \",ROUND(Vma(H48,G42,E77),1))))","v":" "},{"$f":"IF(ISTEXT(I48),\" \",IF(ISBLANK(I42),\" \",IF(ISBLANK($C$8),\" \",ROUND(Vma(I48,I42,F77),1))))","v":" "},{"$f":"IF(ISTEXT(J48),\" \",IF(ISBLANK(I42),\" \",IF(ISBLANK($C$8),\" \",ROUND(Vma(J48,I42,F77),1))))","v":" "},{"$f":"IF(ISTEXT(K48),\" \",IF(ISBLANK(K42),\" \",IF(ISBLANK($C$8),\" \",ROUND(Vma(K48,K42,G77),1))))","v":" "},{"$f":"IF(ISTEXT(L48),\" \",IF(ISBLANK(K42),\" \",IF(ISBLANK($C$8),\" \",ROUND(Vma(L48,K42,G77),1))))","v":" "},{"$f":"IF(ISTEXT(M48),\" \",IF(ISBLANK(M42),\" \",IF(ISBLANK($C$8),\" \",ROUND(Vma(M48,M42,H77),1))))","v":" "},{"$f":"IF(ISTEXT(N48),\" \",IF(ISBLANK(M42),\" \",IF(ISBLANK($C$8),\" \",ROUND(Vma(N48,M42,H77),1))))","v":" "},null,"Single VMA",null,{"$f":"IF(C52<'A P'!$N$5,3,0)","v":0},{"$f":"IF(D52<'A P'!$N$5,3,0)","v":0},{"$f":"IF(E52<'A P'!$N$5,3,0)","v":0},{"$f":"IF(F52<'A P'!$N$5,3,0)","v":0},{"$f":"IF(G52<'A P'!$N$5,3,0)","v":0},{"$f":"IF(H52<'A P'!$N$5,3,0)","v":0},{"$f":"IF(I52<'A P'!$N$5,3,0)","v":0},{"$f":"IF(J52<'A P'!$N$5,3,0)","v":0},{"$f":"IF(K52<'A P'!$N$5,3,0)","v":0},{"$f":"IF(L52<'A P'!$N$5,3,0)","v":0},{"$f":"IF(M52<'A P'!$N$5,3,0)","v":0},{"$f":"IF(N52<'A P'!$N$5,3,0)","v":0}]
["Avg. VMA",null,{"$f":"IF(ISBLANK($C$8),\" \",IF(ISTEXT(C52),\" \",IF(ISTEXT(D52),\" \",ROUND(AVERAGE(C52:D52),1))))","v":" "},null,{"$f":"IF(ISBLANK($C$8),\" \",IF(ISTEXT(E52),\" \",IF(ISTEXT(F52),\" \",ROUND(AVERAGE(E52:F52),1))))","v":" "},null,{"$f":"IF(ISBLANK($C$8),\" \",IF(ISTEXT(G52),\" \",IF(ISTEXT(H52),\" \",ROUND(AVERAGE(G52:H52),1))))","v":" "},null,{"$f":"IF(ISBLANK($C$8),\" \",IF(ISTEXT(I52),\" \",IF(ISTEXT(J52),\" \",ROUND(AVERAGE(I52:J52),1))))","v":" "},null,{"$f":"IF(ISBLANK($C$8),\" \",IF(ISTEXT(K52),\" \",IF(ISTEXT(L52),\" \",ROUND(AVERAGE(K52:L52),1))))","v":" "},null,{"$f":"IF(ISBLANK($C$8),\" \",IF(ISTEXT(M52),\" \",IF(ISTEXT(N52),\" \",ROUND(AVERAGE(M52:N52),1))))","v":" "},null,null,"Max",null,{"$f":"MAX(R50:S52)","v":0},null,{"$f":"MAX(T50:U52)","v":0},null,{"$f":"MAX(V50:W52)","v":0},null,{"$f":"MAX(X50:Y52)","v":0},null,{"$f":"MAX(Z50:AA52)","v":0},null,{"$f":"MAX(AB50:AC52)","v":0}]
["VFA",null,{"$f":"IF(ISBLANK($C$8),\" \",IF(ISTEXT(C48),\" \",IF(ISTEXT(C52),\" \",Vfa(C52,C50))))","v":" "},{"$f":"IF(ISBLANK($C$8),\" \",IF(ISTEXT(D48),\" \",IF(ISTEXT(D52),\" \",Vfa(D52,D50))))","v":" "},{"$f":"IF(ISBLANK($C$8),\" \",IF(ISTEXT(E48),\" \",IF(ISTEXT(E52),\" \",Vfa(E52,E50))))","v":" "}," "," "," "," "," "," "," "," "," "]
["Avg.VFA",null,{"$f":"IF(ISBLANK($C$8),\" \",IF(ISTEXT(C54),\" \",IF(ISTEXT(D54),\" \",ROUND(AVERAGE(C54:D54),0))))","v":" "},null,{"$f":"IF(ISBLANK($C$8),\" \",IF(ISTEXT(E54),\" \",IF(ISTEXT(F54),\" \",ROUND(AVERAGE(E54:F54),0))))","v":" "},null,{"$f":"IF(ISBLANK($C$8),\" \",IF(ISTEXT(G54),\" \",IF(ISTEXT(H54),\" \",ROUND(AVERAGE(G54:H54),0))))","v":" "},null,{"$f":"IF(ISBLANK($C$8),\" \",IF(ISTEXT(I54),\" \",IF(ISTEXT(J54),\" \",ROUND(AVERAGE(I54:J54),0))))","v":" "},null,{"$f":"IF(ISBLANK($C$8),\" \",IF(ISTEXT(K54),\" \",IF(ISTEXT(L54),\" \",ROUND(AVERAGE(K54:L54),0))))","v":" "},null,{"$f":"IF(ISBLANK($C$8),\" \",IF(ISTEXT(M54),\" \",IF(ISTEXT(N54),\" \",ROUND(AVERAGE(M54:N54),0))))","v":" "}]
["F/A",null,{"$f":"IF(ISBLANK(D42),\" \",IF(ISTEXT(C33),\" \",IF(ISBLANK(D41),\" \",Fa(D42,C33))))","v":" "},null,{"$f":"IF(ISBLANK(F42),\" \",IF(ISTEXT(E33),\" \",IF(ISBLANK(F41),\" \",Fa(F42,E33))))","v":" "},null,{"$f":"IF(ISBLANK(H42),\" \",IF(ISTEXT(G33),\" \",IF(ISBLANK(H41),\" \",Fa(H42,G33))))","v":" "},null,{"$f":"IF(ISBLANK(J42),\" \",IF(ISTEXT(I33),\" \",IF(ISBLANK(J41),\" \",Fa(J42,I33))))","v":" "},null,{"$f":"IF(ISBLANK(L42),\" \",IF(ISTEXT(K33),\" \",IF(ISBLANK(L41),\" \",Fa(L42,K33))))","v":" "},null,{"$f":"IF(ISBLANK(N42),\" \",IF(ISTEXT(M33),\" \",IF(ISBLANK(N41),\" \",Fa(N42,M33))))","v":" "}]
["Pbe",null,{"$f":"C33","v":" "},null,{"$f":"E33","v":" "},null,{"$f":"G33","v":" "},null,{"$f":"I33","v":" "},null,{"$f":"K33","v":" "},null,{"$f":"M33","v":" "}]
[null,null,"Voids","VMA","VFA",null,"Upper","Lower","Target"]
["Running averages for conditional formatting tolerances",null,{"$f":"'ST1'!F14","v":{"$error":"#N/A"}},{"$f":"'ST1'!H14","v":{"$error":"#N/A"}},{"$f":"'ST1'!J14","v":{"$error":"#N/A"}},"Voids",{"$f":"'A P'!C6","v":1.5},{"$f":"'A P'!C8","v":1.5},{"$f":"'A P'!C7","v":0}]
[null,null,{"$f":"'ST1'!F15","v":{"$error":"#N/A"}},{"$f":"'ST1'!H15","v":{"$error":"#N/A"}},{"$f":"'ST1'!J15","v":{"$error":"#N/A"}},"VMA",{"$f":"'A P'!C10","v":1},{"$f":"'A P'!C11","v":1}]
[null,null,{"$f":"'ST1'!F16","v":{"$error":"#N/A"}},{"$f":"'ST1'!H16","v":{"$error":"#N/A"}},{"$f":"'ST1'!J16","v":{"$error":"#N/A"}},"VFA",{"$f":"'A P'!C13","v":0},{"$f":"'A P'!C14","v":0}]
[null,null,{"$f":"'ST1'!F17","v":{"$error":"#N/A"}},{"$f":"'ST1'!H17","v":{"$error":"#N/A"}},{"$f":"'ST1'!J17","v":{"$error":"#N/A"}}]
[null,null,{"$f":"'ST1'!F18","v":{"$error":"#N/A"}},{"$f":"'ST1'!H18","v":{"$error":"#N/A"}},{"$f":"'ST1'!J18","v":{"$error":"#N/A"}}]
[null,null,{"$f":"'ST1'!F19","v":{"$error":"#N/A"}},{"$f":"'ST1'!H19","v":{"$error":"#N/A"}},{"$f":"'ST1'!J19","v":{"$error":"#N/A"}},"Conditional formatting of running avgs have been taken out of ESB-11 but formulas have been left in place in case future changes are necessary"]
[null,null,{"$f":"'ST1'!F20","v":{"$error":"#N/A"}},{"$f":"'ST1'!H20","v":{"$error":"#N/A"}},{"$f":"'ST1'!J20","v":{"$error":"#N/A"}}]
[null,null,{"$f":"'ST1'!F21","v":{"$error":"#N/A"}},{"$f":"'ST1'!H21","v":{"$error":"#N/A"}},{"$f":"'ST1'!J21","v":{"$error":"#N/A"}}]
[null,null,{"$f":"'ST1'!F22","v":{"$error":"#N/A"}},{"$f":"'ST1'!H22","v":{"$error":"#N/A"}},{"$f":"'ST1'!J22","v":{"$error":"#N/A"}}]
[null,null,{"$f":"'ST1'!F23","v":{"$error":"#N/A"}},{"$f":"'ST1'!H23","v":{"$error":"#N/A"}},{"$f":"'ST1'!J23","v":{"$error":"#N/A"}}]
[null,null,{"$f":"'ST1'!F24","v":{"$error":"#N/A"}},{"$f":"'ST1'!H24","v":{"$error":"#N/A"}},{"$f":"'ST1'!J24","v":{"$error":"#N/A"}}]
[null,null,{"$f":"'ST1'!F25","v":{"$error":"#N/A"}},{"$f":"'ST1'!H25","v":{"$error":"#N/A"}},{"$f":"'ST1'!J25","v":{"$error":"#N/A"}}]
[]
["Corrected Gsb for upper block using offset value C34 "]
[null,null,{"$f":"C28-$C$34","v":{"$error":"#DIV/0!"}},{"$f":"E28-$C$34","v":{"$error":"#DIV/0!"}},{"$f":"G28-$C$34","v":{"$error":"#DIV/0!"}},{"$f":"I28-$C$34","v":{"$error":"#DIV/0!"}},{"$f":"K28-$C$34","v":{"$error":"#DIV/0!"}},{"$f":"M28-$C$34","v":{"$error":"#DIV/0!"}}]
[]
[]
["Corrected Gsb for lower block using offset value C34 "]
[null,null,{"$f":"C31-$C$34","v":{"$error":"#DIV/0!"}},{"$f":"E31-$C$34","v":{"$error":"#DIV/0!"}},{"$f":"G31-$C$34","v":{"$error":"#DIV/0!"}},{"$f":"I31-$C$34","v":{"$error":"#DIV/0!"}},{"$f":"K31-$C$34","v":{"$error":"#DIV/0!"}},{"$f":"M31-$C$34","v":{"$error":"#DIV/0!"}}]
[]
[null,null,{"$f":"IF(AND(M36=\"Volumetric deviation, resample within 150 tons\",R53>0),\"Deviation on 150 ton sample,suspend production of JMF\",IF(OR(R50=1,S50=1,R51=2,R52=3,S52=3),\"Volumetric deviation, resample within 150 tons\",\" \"))","v":" "},null,{"$f":"IF(AND(C79=\"Volumetric deviation, resample within 150 tons\",T53>0),\"Deviation on 150 ton sample,suspend production of JMF\",IF(OR(T50=1,U50=1,T51=2,T52=3,U52=3),\"Volumetric deviation, resample within 150 tons\",\" \"))","v":" "},null,{"$f":"IF(AND(E79=\"Volumetric deviation, resample within 150 tons\",V53>0),\"Deviation on 150 ton sample,suspend production of JMF\",IF(OR(V50=1,W50=1,V51=2,V52=3,W52=3),\"Volumetric deviation, resample within 150 tons\",\" \"))","v":" "},null,{"$f":"IF(AND(G79=\"Volumetric deviation, resample within 150 tons\",X53>0),\"Deviation on 150 ton sample,suspend production of JMF\",IF(OR(X50=1,Y50=1,X51=2,X52=3,Y52=3),\"Volumetric deviation, resample within 150 tons\",\" \"))","v":" "},null,{"$f":"IF(AND(I79=\"Volumetric deviation, resample within 150 tons\",Z53>0),\"Deviation on 150 ton sample,suspend production of JMF\",IF(OR(Z50=1,AA50=1,Z51=2,Z52=3,AA52=3),\"Volumetric deviation, resample within 150 tons\",\" \"))","v":" "},null,{"$f":"IF(AND(K79=\"Volumetric deviation, resample within 150 tons\",AB53>0),\"Deviation on 150 ton sample,suspend production of JMF\",IF(OR(AB50=1,AC50=1,AB51=2,AB52=3,AC52=3),\"Volumetric deviation, resample within 150 tons\",\" \"))","v":" "}]

{"sheet":"V3","index":34,"n_rows":79,"n_cols":29,"rows_kept":79,"cut":false,"hidden":true,"merged":[[18,21,18,22],[22,25,22,26],[22,27,22,28],[48,15,48,16],[48,17,48,18],[48,19,48,20],[48,21,48,22],[48,23,48,24],[48,25,48,26],[48,27,48,28],[37,17,37,28],[18,23,18,24],[18,25,18,26],[50,21,50,22],[50,23,50,24],[50,25,50,26],[50,27,50,28],[51,15,51,16],[52,15,52,16],[52,17,52,18],[52,19,52,20],[52,21,52,22],[52,23,52,24],[52,25,52,26],[52,27,52,28],[78,0,80,1],[35,12,37,13],[35,10,37,11],[35,8,37,9],[35,6,37,7],[18,27,18,28],[19,15,19,16],[20,15,20,16],[20,17,20,18],[20,19,20,20],[20,21,20,22],[20,23,20,24],[20,25,20,26],[20,27,20,28],[18,15,18,16],[21,15,21,16],[22,15,22,16],[22,17,22,18],[22,19,22,20],[22,21,22,22],[22,23,22,24],[78,12,80,13],[78,10,80,11],[78,8,80,9],[78,6,80,7],[78,4,80,5],[78,2,80,3],[56,8,56,9],[18,17,18,18],[18,19,18,20],[49,15,49,16],[50,15,50,16],[50,17,50,18],[50,19,50,20],[38,6,38,7],[39,12,39,13],[39,10,39,11],[32,10,32,11],[32,12,32,13],[35,4,37,5],[35,2,37,3],[26,12,26,13],[26,8,26,9],[28,10,28,11],[28,6,28,7],[32,8,32,9],[30,12,30,13],[31,10,31,11],[71,0,73,1],[75,0,77,1],[54,8,54,9],[52,10,52,11],[52,12,52,13],[58,0,69,1],[55,10,55,11],[53,0,53,1],[54,0,54,1],[54,2,54,3],[55,0,55,1],[56,0,56,1],[56,2,56,3],[56,10,56,11],[56,12,56,13],[56,4,56,5],[56,6,56,7],[55,8,55,9],[55,2,55,3],[55,4,55,5],[55,6,55,7],[54,4,54,5],[54,6,54,7],[49,0,49,1],[55,12,55,13],[54,10,54,11],[54,12,54,13],[50,8,50,9],[50,10,50,11],[50,12,50,13],[48,10,48,11],[52,6,52,7],[48,12,48,13],[48,6,48,7],[51,0,51,1],[52,0,52,1],[50,0,50,1],[52,8,52,9],[52,2,52,3],[52,4,52,5],[50,6,50,7],[50,2,50,3],[50,4,50,5],[40,0,40,1],[39,0,39,1],[39,2,39,3],[39,4,39,5],[38,8,38,9],[48,2,48,3],[48,4,48,5],[41,0,41,1],[42,0,42,1],[38,2,38,3],[38,4,38,5],[48,0,48,1],[48,8,48,9],[39,6,39,7],[39,8,39,9],[47,0,47,1],[45,0,45,1],[46,0,46,1],[43,0,43,1],[44,0,44,1],[35,0,37,1],[34,0,34,1],[38,0,38,1],[28,8,28,9],[28,2,28,3],[38,10,38,11],[33,0,33,1],[33,3,33,12],[32,2,32,3],[32,4,32,5],[38,12,38,13],[31,12,31,13],[30,10,30,11],[32,6,32,7],[29,2,29,3],[29,4,29,5],[29,6,29,7],[29,8,29,9],[30,2,30,3],[30,4,30,5],[31,2,31,3],[28,12,28,13],[29,10,29,11],[29,12,29,13],[27,2,27,3],[27,4,27,5],[27,6,27,7],[27,8,27,9],[27,10,27,11],[27,12,27,13],[31,4,31,5],[31,6,31,7],[31,8,31,9],[30,6,30,7],[30,8,30,9],[26,0,26,1],[26,2,26,3],[26,4,26,5],[26,6,26,7],[26,10,26,11],[24,8,24,9],[24,10,24,11],[24,4,24,5],[24,6,24,7],[22,12,22,13],[23,0,23,1],[22,0,22,1],[22,2,22,3],[22,4,22,5],[22,6,22,7],[24,12,24,13],[25,0,25,1],[25,2,25,3],[25,4,25,5],[25,6,25,7],[25,8,25,9],[25,10,25,11],[25,12,25,13],[24,0,24,1],[24,2,24,3],[20,8,20,9],[12,0,12,1],[13,0,13,1],[14,0,14,1],[15,0,15,1],[20,12,20,13],[21,0,21,1],[20,0,20,1],[20,2,20,3],[20,4,20,5],[20,6,20,7],[18,8,18,9],[18,10,18,11],[18,12,18,13],[19,0,19,1],[18,0,18,1],[18,2,18,3],[18,4,18,5],[18,6,18,7],[9,2,9,3],[16,0,16,1],[17,0,17,1],[10,0,10,1],[11,0,11,1],[5,10,5,11],[6,12,6,13],[5,12,5,13],[9,12,9,13],[7,0,7,1],[7,2,7,3],[8,0,8,1],[8,2,8,3],[8,4,8,5],[9,0,9,1],[9,4,9,5],[9,6,9,7],[8,12,8,13],[7,10,7,11],[7,12,7,13],[8,10,8,11],[6,4,6,9],[7,4,7,7],[7,8,7,9],[0,0,3,1],[1,10,1,11],[1,12,1,13],[2,10,2,11],[2,12,2,13],[3,10,3,11],[3,12,3,13],[63,5,68,9],[4,10,4,11],[9,8,9,9],[9,10,9,11],[8,6,8,7],[8,8,8,9],[20,10,20,11],[22,8,22,9],[22,10,22,11],[28,4,28,5],[4,12,4,13],[6,0,6,1],[6,2,6,3],[6,10,6,11],[5,0,5,1],[5,2,5,3],[5,5,5,8]]}
[]
[null,null,null,null,"COMMONWEALTH OF PENNSYLVANIA",null,null,null,null,null,"DISTRICT",null,{"$f":"IF(ISBLANK('V1'!M2),\" \",('V1'!M2))","v":" "}]
[null,null,null,null,"DEPARTMENT OF TRANSPORTATION",null,null,null,null,null,"PLANT CODE",null,{"$f":"IF(ISBLANK('V1'!M3),\" \",('V1'!M3))","v":" "}]
[null,null,null,null,"LABORATORY TEST SECTION",null,null,null,null,null,"Design No.",null,{"$f":"IF(ISBLANK('V1'!M4),\" \",('V1'!M4))","v":" "}]
[{"$f":"'S1'!A5","v":"ESB-16"},null,null,null,null,null,null,null,null,null,"JMF VMA",null,{"$f":"IF(ISBLANK('V1'!M5),\" \",('V1'!M5))","v":" "}]
["Material Class ",null,{"$f":"IF(ISBLANK('V1'!C6),\" \",('V1'!C6))","v":9.5},null,null,"Volumetric Results",null,null,null,null,"JMF VFA",null,{"$f":"IF(ISBLANK('V1'!M6),\" \",('V1'!M6))","v":" "}]
["Gyrations @ Ndes",null,{"$f":"IF(ISBLANK('V1'!C7),\" \",('V1'!C7))","v":" "},null,"Red values indicate corrective action is needed",null,null,null,null,null,"JMF F/A",null,{"$f":"IF(ISBLANK('V1'!M7),\" \",('V1'!M7))","v":" "}]
["Gsb of Mix",null,{"$f":"IF(ISBLANK('V1'!C8),\" \",('V1'!C8))","v":" "},null,"Gyratory Specimen wt. from TR 448",null,null,null,{"$f":"IF(ISBLANK('V1'!I8),\" \",('V1'!I8))","v":" "},null,"JMF Voids",null,{"$f":"IF(ISBLANK('V1'!M8),\" \",('V1'!M8))","v":" "}]
["Sample No."]
["Date"]
["Gmm / Gb of AC"]
["AC / -200"]
["Specimen No",null,1,2,1,2,1,2,1,2,1,2,1,2]
["Height at Ndes"]
["Mass in Air"]
["Mass in Water"]
["SSD Mass"]
["Gmb",null,{"$f":"IF(ISBLANK(C15),\" \",IF(ISBLANK(C16),\" \",IF(ISBLANK(C17),\" \",ROUND(Gmb(C15,C16,C17),3))))","v":" "},{"$f":"IF(ISBLANK(D15),\" \",IF(ISBLANK(D16),\" \",IF(ISBLANK(D17),\" \",ROUND(Gmb(D15,D16,D17),3))))","v":" "}," "," "," "," "," "," "," "," "," "," "]
["Average Gmb",null,{"$f":"IF(ISTEXT(C18),\" \",IF(ISTEXT(D18),\" \",AVERAGE(C18:D18)))","v":" "},null,{"$f":"IF(ISTEXT(E18),\" \",IF(ISTEXT(F18),\" \",AVERAGE(E18:F18)))","v":" "},null,{"$f":"IF(ISTEXT(G18),\" \",IF(ISTEXT(H18),\" \",AVERAGE(G18:H18)))","v":" "},null,{"$f":"IF(ISTEXT(I18),\" \",IF(ISTEXT(J18),\" \",AVERAGE(I18:J18)))","v":" "},null,{"$f":"IF(ISTEXT(K18),\" \",IF(ISTEXT(L18),\" \",AVERAGE(K18:L18)))","v":" "},null,{"$f":"IF(ISTEXT(M18),\" \",IF(ISTEXT(N18),\" \",AVERAGE(M18:N18)))","v":" "},null,null,"Sample",null,1,null,2,null,3,null,4,null,5,null,6]
["(Voids)VTM",null,{"$f":"IF(ISBLANK(C11),\" \",IF(ISTEXT(C18),\" \",ROUND(Va($C$11,C18),1)))","v":" "},{"$f":"IF(ISBLANK(C11),\" \",IF(ISTEXT(D18),\" \",ROUND(Va($C$11,D18),1)))","v":" "},{"$f":"IF(ISBLANK(E11),\" \",IF(ISTEXT(E18),\" \",ROUND(Va($E$11,E18),1)))","v":" "},{"$f":"IF(ISBLANK(E11),\" \",IF(ISTEXT(F18),\" \",ROUND(Va($E$11,F18),1)))","v":" "},{"$f":"IF(ISBLANK(G11),\" \",IF(ISTEXT(G18),\" \",ROUND(Va($G$11,G18),1)))","v":" "},{"$f":"IF(ISBLANK(G11),\" \",IF(ISTEXT(H18),\" \",ROUND(Va($G$11,H18),1)))","v":" "},{"$f":"IF(ISBLANK(I11),\" \",IF(ISTEXT(I18),\" \",ROUND(Va($I$11,I18),1)))","v":" "},{"$f":"IF(ISBLANK(I11),\" \",IF(ISTEXT(J18),\" \",ROUND(Va($I$11,J18),1)))","v":" "},{"$f":"IF(ISBLANK(K11),\" \",IF(ISTEXT(K18),\" \",ROUND(Va($K$11,K18),1)))","v":" "},{"$f":"IF(ISBLANK(K11),\" \",IF(ISTEXT(L18),\" \",ROUND(Va($K$11,L18),1)))","v":" "},{"$f":"IF(ISBLANK(M11),\" \",IF(ISTEXT(M18),\" \",ROUND(Va($M$11,M18),1)))","v":" "},{"$f":"IF(ISBLANK(M11),\" \",IF(ISTEXT(N18),\" \",ROUND(Va($M$11,N18),1)))","v":" "},null,"single voids",null,{"$f":"IF(ISTEXT(C20),\" \",IF(OR(C20>$M$8+2,C20<$M$8-2),1,0))","v":" "},{"$f":"IF(ISTEXT(D20),\" \",IF(OR(D20>$M$8+2,D20<$M$8-2),1,0))","v":" "}," "," "," "," "," "," "," "," "," "," "]
["AVG.(Voids)VTM",null,{"$f":"IF(ISTEXT(C20),\" \",IF(ISTEXT(D20),\" \",ROUND(AVERAGE(C20:D20),1)))","v":" "},null,{"$f":"IF(ISTEXT(E20),\" \",IF(ISTEXT(F20),\" \",ROUND(AVERAGE(E20:F20),1)))","v":" "},null,{"$f":"IF(ISTEXT(G20),\" \",IF(ISTEXT(H20),\" \",ROUND(AVERAGE(G20:H20),1)))","v":" "},null,{"$f":"IF(ISTEXT(I20),\" \",IF(ISTEXT(J20),\" \",ROUND(AVERAGE(I20:J20),1)))","v":" "},null,{"$f":"IF(ISTEXT(K20),\" \",IF(ISTEXT(L20),\" \",ROUND(AVERAGE(K20:L20),1)))","v":" "},null,{"$f":"IF(ISTEXT(M20),\" \",IF(ISTEXT(N20),\" \",ROUND(AVERAGE(M20:N20),1)))","v":" "},null,null,"Avg voids",null,{"$f":"IF(ISTEXT(C21),\" \",IF(OR(C21>$M$8+1.5,C21<$M$8-1.5),2,0))","v":" "},null,{"$f":"IF(ISTEXT(E21),\" \",IF(OR(E21>$M$8+1.5,E21<$M$8-1.5),2,0))","v":" "},null,{"$f":"IF(ISTEXT(G21),\" \",IF(OR(G21>$M$8+1.5,G21<$M$8-1.5),2,0))","v":" "},null,{"$f":"IF(ISTEXT(I21),\" \",IF(OR(I21>$M$8+1.5,I21<$M$8-1.5),2,0))","v":" "},null,{"$f":"IF(ISTEXT(K21),\" \",IF(OR(K21>$M$8+1.5,K21<$M$8-1.5),2,0))","v":" "},null,{"$f":"IF(ISTEXT(M21),\" \",IF(OR(M21>$M$8+1.5,M21<$M$8-1.5),2,0))","v":" "}]
["VMA",null,{"$f":"IF(ISTEXT(C18),\" \",IF(ISBLANK(C12),\" \",IF(ISBLANK($C$8),\" \",ROUND(Vma(C18,C12,C73),1))))","v":" "},{"$f":"IF(ISTEXT(D18),\" \",IF(ISBLANK(C12),\" \",IF(ISBLANK($C$8),\" \",ROUND(Vma(D18,C12,C73),1))))","v":" "},{"$f":"IF(ISTEXT(E18),\" \",IF(ISBLANK(E12),\" \",IF(ISBLANK($C$8),\" \",ROUND(Vma(E18,E12,D73),1))))","v":" "},{"$f":"IF(ISTEXT(F18),\" \",IF(ISBLANK(E12),\" \",IF(ISBLANK($C$8),\" \",ROUND(Vma(F18,E12,D73),1))))","v":" "},{"$f":"IF(ISTEXT(G18),\" \",IF(ISBLANK(G12),\" \",IF(ISBLANK($C$8),\" \",ROUND(Vma(G18,G12,E73),1))))","v":" "},{"$f":"IF(ISTEXT(H18),\" \",IF(ISBLANK(G12),\" \",IF(ISBLANK($C$8),\" \",ROUND(Vma(H18,G12,E73),1))))","v":" "},{"$f":"IF(ISTEXT(I18),\" \",IF(ISBLANK(I12),\" \",IF(ISBLANK($C$8),\" \",ROUND(Vma(I18,I12,F73),1))))","v":" "},{"$f":"IF(ISTEXT(J18),\" \",IF(ISBLANK(I12),\" \",IF(ISBLANK($C$8),\" \",ROUND(Vma(J18,I12,F73),1))))","v":" "},{"$f":"IF(ISTEXT(K18),\" \",IF(ISBLANK(K12),\" \",IF(ISBLANK($C$8),\" \",ROUND(Vma(K18,K12,G73),1))))","v":" "},{"$f":"IF(ISTEXT(L18),\" \",IF(ISBLANK(K12),\" \",IF(ISBLANK($C$8),\" \",ROUND(Vma(L18,K12,G73),1))))","v":" "},{"$f":"IF(ISTEXT(M18),\" \",IF(ISBLANK(M12),\" \",IF(ISBLANK($C$8),\" \",ROUND(Vma(M18,M12,H73),1))))","v":" "},{"$f":"IF(ISTEXT(N18),\" \",IF(ISBLANK(M12),\" \",IF(ISBLANK($C$8),\" \",ROUND(Vma(N18,M12,H73),1))))","v":" "},null,"Single VMA",null,{"$f":"IF(C22<'A P'!$N$5,3,0)","v":0},{"$f":"IF(D22<'A P'!$N$5,3,0)","v":0},{"$f":"IF(E22<'A P'!$N$5,3,0)","v":0},{"$f":"IF(F22<'A P'!$N$5,3,0)","v":0},{"$f":"IF(G22<'A P'!$N$5,3,0)","v":0},{"$f":"IF(H22<'A P'!$N$5,3,0)","v":0},{"$f":"IF(I22<'A P'!$N$5,3,0)","v":0},{"$f":"IF(J22<'A P'!$N$5,3,0)","v":0},{"$f":"IF(K22<'A P'!$N$5,3,0)","v":0},{"$f":"IF(L22<'A P'!$N$5,3,0)","v":0},{"$f":"IF(M22<'A P'!$N$5,3,0)","v":0},{"$f":"IF(N22<'A P'!$N$5,3,0)","v":0}]
["Avg. VMA",null,{"$f":"IF(ISBLANK($C$8),\" \",IF(ISTEXT(C22),\" \",IF(ISTEXT(D22),\" \",ROUND(AVERAGE(C22:D22),1))))","v":" "},null,{"$f":"IF(ISBLANK($C$8),\" \",IF(ISTEXT(E22),\" \",IF(ISTEXT(F22),\" \",ROUND(AVERAGE(E22:F22),1))))","v":" "},null,{"$f":"IF(ISBLANK($C$8),\" \",IF(ISTEXT(G22),\" \",IF(ISTEXT(H22),\" \",ROUND(AVERAGE(G22:H22),1))))","v":" "},null,{"$f":"IF(ISBLANK($C$8),\" \",IF(ISTEXT(I22),\" \",IF(ISTEXT(J22),\" \",ROUND(AVERAGE(I22:J22),1))))","v":" "},null,{"$f":"IF(ISBLANK($C$8),\" \",IF(ISTEXT(K22),\" \",IF(ISTEXT(L22),\" \",ROUND(AVERAGE(K22:L22),1))))","v":" "},null,{"$f":"IF(ISBLANK($C$8),\" \",IF(ISTEXT(M22),\" \",IF(ISTEXT(N22),\" \",ROUND(AVERAGE(M22:N22),1))))","v":" "},null,null,"Max",null,{"$f":"MAX(R20:S22)","v":0},null,{"$f":"MAX(T20:U22)","v":0},null,{"$f":"MAX(V20:W22)","v":0},null,{"$f":"MAX(X20:Y22)","v":0},null,{"$f":"MAX(Z20:AA22)","v":0},null,{"$f":"MAX(AB20:AC22)","v":0}]
["VFA",null,{"$f":"IF(ISBLANK($C$8),\" \",IF(ISTEXT(C18),\" \",IF(ISTEXT(C22),\" \",Vfa(C22,C20))))","v":" "},{"$f":"IF(ISBLANK($C$8),\" \",IF(ISTEXT(D18),\" \",IF(ISTEXT(D22),\" \",Vfa(D22,D20))))","v":" "},{"$f":"IF(ISBLANK($C$8),\" \",IF(ISTEXT(E18),\" \",IF(ISTEXT(E22),\" \",Vfa(E22,E20))))","v":" "}," "," "," "," "," "," "," "," "," "]
["Avg.VFA",null,{"$f":"IF(ISBLANK($C$8),\" \",IF(ISTEXT(C24),\" \",IF(ISTEXT(D24),\" \",ROUND(AVERAGE(C24:D24),0))))","v":" "},null,{"$f":"IF(ISBLANK($C$8),\" \",IF(ISTEXT(E24),\" \",IF(ISTEXT(F24),\" \",ROUND(AVERAGE(E24:F24),0))))","v":" "},null,{"$f":"IF(ISBLANK($C$8),\" \",IF(ISTEXT(G24),\" \",IF(ISTEXT(H24),\" \",ROUND(AVERAGE(G24:H24),0))))","v":" "},null,{"$f":"IF(ISBLANK($C$8),\" \",IF(ISTEXT(I24),\" \",IF(ISTEXT(J24),\" \",ROUND(AVERAGE(I24:J24),0))))","v":" "},null,{"$f":"IF(ISBLANK($C$8),\" \",IF(ISTEXT(K24),\" \",IF(ISTEXT(L24),\" \",ROUND(AVERAGE(K24:L24),0))))","v":" "},null,{"$f":"IF(ISBLANK($C$8),\" \",IF(ISTEXT(M24),\" \",IF(ISTEXT(N24),\" \",ROUND(AVERAGE(M24:N24),0))))","v":" "}]
["F/A",null,{"$f":"IF(ISBLANK(D12),\" \",IF(ISTEXT(C30),\" \",IF(ISBLANK(D11),\" \",Fa(D12,C30))))","v":" "},null,{"$f":"IF(ISBLANK(F12),\" \",IF(ISTEXT(E30),\" \",IF(ISBLANK(F11),\" \",Fa(F12,E30))))","v":" "},null,{"$f":"IF(ISBLANK(H12),\" \",IF(ISTEXT(G30),\" \",IF(ISBLANK(H11),\" \",Fa(H12,G30))))","v":" "},null,{"$f":"IF(ISBLANK(J12),\" \",IF(ISTEXT(I30),\" \",IF(ISBLANK(J11),\" \",Fa(J12,I30))))","v":" "},null,{"$f":"IF(ISBLANK(L12),\" \",IF(ISTEXT(K30),\" \",IF(ISBLANK(L11),\" \",Fa(L12,K30))))","v":" "},null,{"$f":"IF(ISBLANK(N12),\" \",IF(ISTEXT(M30),\" \",IF(ISBLANK(N11),\" \",Fa(N12,M30))))","v":" "}]
["Pbe",null,{"$f":"C30","v":" "},null,{"$f":"E30","v":" "},null,{"$f":"G30","v":" "},null,{"$f":"I30","v":" "},null,{"$f":"K30","v":" "},null,{"$f":"M30","v":" "}]
[null,"Gse",{"$f":"ROUND((100-C$12)/((100/C$11)-(C$12/$D11)),3)","v":{"$error":"#DIV/0!"}},null,{"$f":"ROUND((100-E$12)/((100/E$11)-(E$12/F11)),3)","v":{"$error":"#DIV/0!"}},null,{"$f":"ROUND((100-G$12)/((100/G$11)-(G$12/H11)),3)","v":{"$error":"#DIV/0!"}},null,{"$f":"ROUND((100-I$12)/((100/I$11)-(I$12/J11)),3)","v":{"$error":"#DIV/0!"}},null,{"$f":"ROUND((100-K$12)/((100/K$11)-(K$12/L11)),3)","v":{"$error":"#DIV/0!"}},null,{"$f":"ROUND((100-M$12)/((100/M$11)-(M$12/N11)),3)","v":{"$error":"#DIV/0!"}}]
[null,"Pba",{"$f":"IF(ISBLANK(C28),\" \",IF(ISBLANK($C$8),\" \",(100*((C$28-C73)/(C73*C$28))*D11)))","v":{"$error":"#DIV/0!"}},null,{"$f":"IF(ISBLANK(E28),\" \",IF(ISBLANK($C$8),\" \",(100*((E$28-D73)/(D73*E$28))*F11)))","v":{"$error":"#DIV/0!"}},null,{"$f":"IF(ISBLANK(G28),\" \",IF(ISBLANK($C$8),\" \",(100*((G$28-E73)/(E73*G$28))*H11)))","v":{"$error":"#DIV/0!"}},null,{"$f":"IF(ISBLANK(I28),\" \",IF(ISBLANK($C$8),\" \",(100*((I$28-F73)/(F73*I$28))*J11)))","v":{"$error":"#DIV/0!"}},null,{"$f":"IF(ISBLANK(K28),\" \",IF(ISBLANK($C$8),\" \",(100*((K$28-G73)/(G73*K$28))*L11)))","v":{"$error":"#DIV/0!"}},null,{"$f":"IF(ISBLANK(M28),\" \",IF(ISBLANK($C$8),\" \",(100*((M$28-H73)/(H73*M$28))*N11)))","v":{"$error":"#DIV/0!"}}]
[null,"Pbe",{"$f":"IF(ISBLANK($C$8),\" \",IF(ISBLANK(C12),\" \",IF(ISBLANK(C29),\" \",ROUND((C$12-((C$29/100)*(100-C$12))),2))))","v":" "},null,{"$f":"IF(ISBLANK($C$8),\" \",IF(ISBLANK(E$12),\" \",IF(ISBLANK(E29),\" \",ROUND((E$12-((E$29/100)*(100-E$12))),2))))","v":" "},null,{"$f":"IF(ISBLANK($C$8),\" \",IF(ISBLANK(G$12),\" \",IF(ISBLANK(G29),\" \",ROUND((G$12-((G$29/100)*(100-G$12))),2))))","v":" "},null,{"$f":"IF(ISBLANK($C$8),\" \",IF(ISBLANK(I$12),\" \",IF(ISBLANK(I29),\" \",ROUND((I$12-((I$29/100)*(100-I$12))),2))))","v":" "},null,{"$f":"IF(ISBLANK($C$8),\" \",IF(ISBLANK(K$12),\" \",IF(ISBLANK(K29),\" \",ROUND((K$12-((K$29/100)*(100-K$12))),2))))","v":" "},null,{"$f":"IF(ISBLANK($C$8),\" \",IF(ISBLANK(M$12),\" \",IF(ISBLANK(M29),\" \",ROUND((M$12-((M$29/100)*(100-M$12))),2))))","v":" "}]
[null,"Gse",{"$f":"ROUND((100-C$42)/((100/C$41)-(C$42/D41)),3)","v":{"$error":"#DIV/0!"}},null,{"$f":"ROUND((100-E$42)/((100/E$41)-(E$42/F41)),3)","v":{"$error":"#DIV/0!"}},null,{"$f":"ROUND((100-G$42)/((100/G$41)-(G$42/H41)),3)","v":{"$error":"#DIV/0!"}},null,{"$f":"ROUND((100-I$42)/((100/I$41)-(I$42/J41)),3)","v":{"$error":"#DIV/0!"}},null,{"$f":"ROUND((100-K$42)/((100/K$41)-(K$42/L41)),3)","v":{"$error":"#DIV/0!"}},null,{"$f":"ROUND((100-M$42)/((100/M$41)-(M$42/N41)),3)","v":{"$error":"#DIV/0!"}}]
[null,"Pba",{"$f":"IF(ISBLANK(C31),\" \",IF(ISBLANK($C$8),\" \",(100*((C$31-C77)/(C77*C$31))*D41)))","v":{"$error":"#DIV/0!"}},null,{"$f":"IF(ISBLANK(E31),\" \",IF(ISBLANK($C$8),\" \",(100*((E$31-D77)/(D77*E$31))*F41)))","v":{"$error":"#DIV/0!"}},null,{"$f":"IF(ISBLANK(G31),\" \",IF(ISBLANK($C$8),\" \",(100*((G$31-E77)/(E77*G$31))*H41)))","v":{"$error":"#DIV/0!"}},null,{"$f":"IF(ISBLANK(I31),\" \",IF(ISBLANK($C$8),\" \",(100*((I$31-F77)/(F77*I$31))*J41)))","v":{"$error":"#DIV/0!"}},null,{"$f":"IF(ISBLANK(K31),\" \",IF(ISBLANK($C$8),\" \",(100*((K$31-G77)/(G77*K$31))*L41)))","v":{"$error":"#DIV/0!"}},null,{"$f":"IF(ISBLANK(M31),\" \",IF(ISBLANK($C$8),\" \",(100*((M$31-H77)/(H77*M$31))*N41)))","v":{"$error":"#DIV/0!"}}]
[null,"Pbe",{"$f":"IF(ISBLANK($C$8),\" \",IF(ISBLANK(C42),\" \",IF(ISBLANK(C32),\" \",ROUND((C$42-((C$32/100)*(100-C$42))),2))))","v":" "},null,{"$f":"IF(ISBLANK($C$8),\" \",IF(ISBLANK(E42),\" \",IF(ISBLANK(E32),\" \",ROUND((E$42-((E$32/100)*(100-E$42))),2))))","v":" "},null,{"$f":"IF(ISBLANK($C$8),\" \",IF(ISBLANK(G42),\" \",IF(ISBLANK(G32),\" \",ROUND((G$42-((G$32/100)*(100-G$42))),2))))","v":" "},null,{"$f":"IF(ISBLANK($C$8),\" \",IF(ISBLANK(I42),\" \",IF(ISBLANK(I32),\" \",ROUND((I$42-((I$32/100)*(100-I$42))),2))))","v":" "},null,{"$f":"IF(ISBLANK($C$8),\" \",IF(ISBLANK(K42),\" \",IF(ISBLANK(K32),\" \",ROUND((K$42-((K$32/100)*(100-K$42))),2))))","v":" "},null,{"$f":"IF(ISBLANK($C$8),\" \",IF(ISBLANK(M42),\" \",IF(ISBLANK(M32),\" \",ROUND((M$42-((M$32/100)*(100-M$42))),2))))","v":" "}]
["Offset value",null,{"$f":"'G1'!B38-C8","v":{"$error":"#DIV/0!"}}]
[]
[null,null,{"$f":"IF(AND('V2'!M79=\"Volumetric deviation, resample within 150 tons\",R23>0),\"Deviation on 150 ton sample, suspend production of JMF\",IF(OR(R20=1,S20=1,R21=2,R22=3,S22=3),\"Volumetric deviation, resample within 150 tons\",\" \"))","v":" "},null,{"$f":"IF(AND(C36=\"Volumetric deviation, resample within 150 tons\",T23>0),\"Deviation on 150 ton sample, suspend production of JMF\",IF(OR(T20=1,U20=1,T21=2,T22=3,U22=3),\"Volumetric deviation, resample within 150 tons\",\" \"))","v":" "},null,{"$f":"IF(AND(E36=\"Volumetric deviation, resample within 150 tons\",V23>0),\"Deviation on 150 ton sample, suspend production of JMF\",IF(OR(V20=1,W20=1,V21=2,V22=3,W22=3),\"Volumetric deviation, resample within 150 tons\",\" \"))","v":" "},null,{"$f":"IF(AND(G36=\"Volumetric deviation, resample within 150 tons\",X23>0),\"Deviation on 150 ton sample, suspend production of JMF\",IF(OR(X20=1,Y20=1,X21=2,X22=3,Y22=3),\"Volumetric deviation, resample within 150 tons\",\" \"))","v":" "},null,{"$f":"IF(AND(I36=\"Volumetric deviation, resample within 150 tons\",Z23>0),\"Deviation on 150 ton sample, suspend production of JMF\",IF(OR(Z20=1,AA20=1,Z21=2,Z22=3,AA22=3),\"Volumetric deviation, resample within 150 tons\",\" \"))","v":" "},null,{"$f":"IF(AND(K36=\"Volumetric deviation, resample within 150 tons\",AB23>0),\"Deviation on 150 ton sample, suspend production of JMF\",IF(OR(AB20=1,AC20=1,AB21=2,AB22=3,AC22=3),\"Volumetric deviation, resample within 150 tons\",\" \"))","v":" "}]
[]
[null,null,null,null,null,null,null,null,null,null,null,null,null,null,null,null,null,"This determines if samples meet single and multiple tolerances and is used for cond. Formatting and action notes"]
["Sample No."]
["Date"]
["Gmm / Gb of AC"]
["AC / -200"]
["Specimen No",null,1,2,1,2,1,2,1,2,1,2,1,2]
["Height at Ndes"]
["Mass in Air"]
["Mass in Water"]
["SSD Mass"]
["Gmb",null,{"$f":"IF(ISBLANK(C45),\" \",IF(ISBLANK(C46),\" \",IF(ISBLANK(C47),\" \",ROUND(Gmb(C45,C46,C47),3))))","v":" "}," "," "," "," "," "," "," "," "," "," "," "]
["Average Gmb",null,{"$f":"IF(ISTEXT(C48),\" \",IF(ISTEXT(D48),\" \",AVERAGE(C48:D48)))","v":" "},null,{"$f":"IF(ISTEXT(E48),\" \",IF(ISTEXT(F48),\" \",AVERAGE(E48:F48)))","v":" "},null,{"$f":"IF(ISTEXT(G48),\" \",IF(ISTEXT(H48),\" \",AVERAGE(G48:H48)))","v":" "},null,{"$f":"IF(ISTEXT(I48),\" \",IF(ISTEXT(J48),\" \",AVERAGE(I48:J48)))","v":" "},null,{"$f":"IF(ISTEXT(K48),\" \",IF(ISTEXT(L48),\" \",AVERAGE(K48:L48)))","v":" "},null,{"$f":"IF(ISTEXT(M48),\" \",IF(ISTEXT(N48),\" \",AVERAGE(M48:N48)))","v":" "},null,null,"Sample",null,7,null,8,null,9,null,10,null,11,null,12]
["(Voids)VTM",null,{"$f":"IF(ISBLANK(C41),\" \",IF(ISTEXT(C48),\" \",ROUND(Va($C$41,C48),1)))","v":" "},{"$f":"IF(ISBLANK(C41),\" \",IF(ISTEXT(D48),\" \",ROUND(Va($C$41,D48),1)))","v":" "},{"$f":"IF(ISBLANK(E41),\" \",IF(ISTEXT(E48),\" \",ROUND(Va($E$41,E48),1)))","v":" "},{"$f":"IF(ISBLANK(E41),\" \",IF(ISTEXT(F48),\" \",ROUND(Va($E$41,F48),1)))","v":" "},{"$f":"IF(ISBLANK(G41),\" \",IF(ISTEXT(G48),\" \",ROUND(Va($G$41,G48),1)))","v":" "},{"$f":"IF(ISBLANK(G41),\" \",IF(ISTEXT(H48),\" \",ROUND(Va($G$41,H48),1)))","v":" "},{"$f":"IF(ISBLANK(I41),\" \",IF(ISTEXT(I48),\" \",ROUND(Va($I$41,I48),1)))","v":" "},{"$f":"IF(ISBLANK(I41),\" \",IF(ISTEXT(J48),\" \",ROUND(Va($I$41,J48),1)))","v":" "},{"$f":"IF(ISBLANK(K41),\" \",IF(ISTEXT(K48),\" \",ROUND(Va($K$41,K48),1)))","v":" "},{"$f":"IF(ISBLANK(K41),\" \",IF(ISTEXT(L48),\" \",ROUND(Va($K$41,L48),1)))","v":" "},{"$f":"IF(ISBLANK(M41),\" \",IF(ISTEXT(M48),\" \",ROUND(Va($M$41,M48),1)))","v":" "},{"$f":"IF(ISBLANK(M41),\" \",IF(ISTEXT(N48),\" \",ROUND(Va($M$41,N48),1)))","v":" "},null,"single voids",null,{"$f":"IF(ISTEXT(C50),\" \",IF(OR(C50>$M$8+2,C50<$M$8-2),1,0))","v":" "},{"$f":"IF(ISTEXT(D50),\" \",IF(OR(D50>$M$8+2,D50<$M$8-2),1,0))","v":" "},{"$f":"IF(ISTEXT(E50),\" \",IF(OR(E50>$M$8+2,E50<$M$8-2),1,0))","v":" "}," "," "," "," "," "," "," "," "," "]
["AVG.(Voids)VTM",null,{"$f":"IF(ISTEXT(C50),\" \",IF(ISTEXT(D50),\" \",ROUND(AVERAGE(C50:D50),1)))","v":" "},null,{"$f":"IF(ISTEXT(E50),\" \",IF(ISTEXT(F50),\" \",ROUND(AVERAGE(E50:F50),1)))","v":" "},null,{"$f":"IF(ISTEXT(G50),\" \",IF(ISTEXT(H50),\" \",ROUND(AVERAGE(G50:H50),1)))","v":" "},null,{"$f":"IF(ISTEXT(I50),\" \",IF(ISTEXT(J50),\" \",ROUND(AVERAGE(I50:J50),1)))","v":" "},null,{"$f":"IF(ISTEXT(K50),\" \",IF(ISTEXT(L50),\" \",ROUND(AVERAGE(K50:L50),1)))","v":" "},null,{"$f":"IF(ISTEXT(M50),\" \",IF(ISTEXT(N50),\" \",ROUND(AVERAGE(M50:N50),1)))","v":" "},null,null,"Avg voids",null,{"$f":"IF(ISTEXT(C51),\" \",IF(OR(C51>$M$8+1.5,C51<$M$8-1.5),2,0))","v":" "},null,{"$f":"IF(ISTEXT(E51),\" \",IF(OR(E51>$M$8+1.5,E51<$M$8-1.5),2,0))","v":" "},null,{"$f":"IF(ISTEXT(G51),\" \",IF(OR(G51>$M$8+1.5,G51<$M$8-1.5),2,0))","v":" "},null,{"$f":"IF(ISTEXT(I51),\" \",IF(OR(I51>$M$8+1.5,I51<$M$8-1.5),2,0))","v":" "},null,{"$f":"IF(ISTEXT(K51),\" \",IF(OR(K51>$M$8+1.5,K51<$M$8-1.5),2,0))","v":" "},null,{"$f":"IF(ISTEXT(M51),\" \",IF(OR(M51>$M$8+1.5,M51<$M$8-1.5),2,0))","v":" "}]
["VMA",null,{"$f":"IF(ISTEXT(C48),\" \",IF(ISBLANK(C42),\" \",IF(ISBLANK($C$8),\" \",ROUND(Vma(C48,C42,C77),1))))","v":" "},{"$f":"IF(ISTEXT(D48),\" \",IF(ISBLANK(C42),\" \",IF(ISBLANK($C$8),\" \",ROUND(Vma(D48,C42,C77),1))))","v":" "},{"$f":"IF(ISTEXT(E48),\" \",IF(ISBLANK(E42),\" \",IF(ISBLANK($C$8),\" \",ROUND(Vma(E48,E42,D77),1))))","v":" "},{"$f":"IF(ISTEXT(F48),\" \",IF(ISBLANK(E42),\" \",IF(ISBLANK($C$8),\" \",ROUND(Vma(F48,E42,D77),1))))","v":" "},{"$f":"IF(ISTEXT(G48),\" \",IF(ISBLANK(G42),\" \",IF(ISBLANK($C$8),\" \",ROUND(Vma(G48,G42,E77),1))))","v":" "},{"$f":"IF(ISTEXT(H48),\" \",IF(ISBLANK(G42),\" \",IF(ISBLANK($C$8),\" \",ROUND(Vma(H48,G42,E77),1))))","v":" "},{"$f":"IF(ISTEXT(I48),\" \",IF(ISBLANK(I42),\" \",IF(ISBLANK($C$8),\" \",ROUND(Vma(I48,I42,F77),1))))","v":" "},{"$f":"IF(ISTEXT(J48),\" \",IF(ISBLANK(I42),\" \",IF(ISBLANK($C$8),\" \",ROUND(Vma(J48,I42,F77),1))))","v":" "},{"$f":"IF(ISTEXT(K48),\" \",IF(ISBLANK(K42),\" \",IF(ISBLANK($C$8),\" \",ROUND(Vma(K48,K42,G77),1))))","v":" "},{"$f":"IF(ISTEXT(L48),\" \",IF(ISBLANK(K42),\" \",IF(ISBLANK($C$8),\" \",ROUND(Vma(L48,K42,G77),1))))","v":" "},{"$f":"IF(ISTEXT(M48),\" \",IF(ISBLANK(M42),\" \",IF(ISBLANK($C$8),\" \",ROUND(Vma(M48,M42,H77),1))))","v":" "},{"$f":"IF(ISTEXT(N48),\" \",IF(ISBLANK(M42),\" \",IF(ISBLANK($C$8),\" \",ROUND(Vma(N48,M42,H77),1))))","v":" "},null,"Single VMA",null,{"$f":"IF(C52<'A P'!$N$5,3,0)","v":0},{"$f":"IF(D52<'A P'!$N$5,3,0)","v":0},{"$f":"IF(E52<'A P'!$N$5,3,0)","v":0},{"$f":"IF(F52<'A P'!$N$5,3,0)","v":0},{"$f":"IF(G52<'A P'!$N$5,3,0)","v":0},{"$f":"IF(H52<'A P'!$N$5,3,0)","v":0},{"$f":"IF(I52<'A P'!$N$5,3,0)","v":0},{"$f":"IF(J52<'A P'!$N$5,3,0)","v":0},{"$f":"IF(K52<'A P'!$N$5,3,0)","v":0},{"$f":"IF(L52<'A P'!$N$5,3,0)","v":0},{"$f":"IF(M52<'A P'!$N$5,3,0)","v":0},{"$f":"IF(N52<'A P'!$N$5,3,0)","v":0}]
["Avg. VMA",null,{"$f":"IF(ISBLANK($C$8),\" \",IF(ISTEXT(C52),\" \",IF(ISTEXT(D52),\" \",ROUND(AVERAGE(C52:D52),1))))","v":" "},null,{"$f":"IF(ISBLANK($C$8),\" \",IF(ISTEXT(E52),\" \",IF(ISTEXT(F52),\" \",ROUND(AVERAGE(E52:F52),1))))","v":" "},null,{"$f":"IF(ISBLANK($C$8),\" \",IF(ISTEXT(G52),\" \",IF(ISTEXT(H52),\" \",ROUND(AVERAGE(G52:H52),1))))","v":" "},null,{"$f":"IF(ISBLANK($C$8),\" \",IF(ISTEXT(I52),\" \",IF(ISTEXT(J52),\" \",ROUND(AVERAGE(I52:J52),1))))","v":" "},null,{"$f":"IF(ISBLANK($C$8),\" \",IF(ISTEXT(K52),\" \",IF(ISTEXT(L52),\" \",ROUND(AVERAGE(K52:L52),1))))","v":" "},null,{"$f":"IF(ISBLANK($C$8),\" \",IF(ISTEXT(M52),\" \",IF(ISTEXT(N52),\" \",ROUND(AVERAGE(M52:N52),1))))","v":" "},null,null,"Max",null,{"$f":"MAX(R50:S52)","v":0},null,{"$f":"MAX(T50:U52)","v":0},null,{"$f":"MAX(V50:W52)","v":0},null,{"$f":"MAX(X50:Y52)","v":0},null,{"$f":"MAX(Z50:AA52)","v":0},null,{"$f":"MAX(AB50:AC52)","v":0}]
["VFA",null,{"$f":"IF(ISBLANK($C$8),\" \",IF(ISTEXT(C48),\" \",IF(ISTEXT(C52),\" \",Vfa(C52,C50))))","v":" "},{"$f":"IF(ISBLANK($C$8),\" \",IF(ISTEXT(D48),\" \",IF(ISTEXT(D52),\" \",Vfa(D52,D50))))","v":" "},{"$f":"IF(ISBLANK($C$8),\" \",IF(ISTEXT(E48),\" \",IF(ISTEXT(E52),\" \",Vfa(E52,E50))))","v":" "}," "," "," "," "," "," "," "," "," "]
["Avg.VFA",null,{"$f":"IF(ISBLANK($C$8),\" \",IF(ISTEXT(C54),\" \",IF(ISTEXT(D54),\" \",ROUND(AVERAGE(C54:D54),0))))","v":" "},null,{"$f":"IF(ISBLANK($C$8),\" \",IF(ISTEXT(E54),\" \",IF(ISTEXT(F54),\" \",ROUND(AVERAGE(E54:F54),0))))","v":" "},null,{"$f":"IF(ISBLANK($C$8),\" \",IF(ISTEXT(G54),\" \",IF(ISTEXT(H54),\" \",ROUND(AVERAGE(G54:H54),0))))","v":" "},null,{"$f":"IF(ISBLANK($C$8),\" \",IF(ISTEXT(I54),\" \",IF(ISTEXT(J54),\" \",ROUND(AVERAGE(I54:J54),0))))","v":" "},null,{"$f":"IF(ISBLANK($C$8),\" \",IF(ISTEXT(K54),\" \",IF(ISTEXT(L54),\" \",ROUND(AVERAGE(K54:L54),0))))","v":" "},null,{"$f":"IF(ISBLANK($C$8),\" \",IF(ISTEXT(M54),\" \",IF(ISTEXT(N54),\" \",ROUND(AVERAGE(M54:N54),0))))","v":" "}]
["F/A",null,{"$f":"IF(ISBLANK(D42),\" \",IF(ISTEXT(C33),\" \",IF(ISBLANK(D41),\" \",Fa(D42,C33))))","v":" "},null,{"$f":"IF(ISBLANK(F42),\" \",IF(ISTEXT(E33),\" \",IF(ISBLANK(F41),\" \",Fa(F42,E33))))","v":" "},null,{"$f":"IF(ISBLANK(H42),\" \",IF(ISTEXT(G33),\" \",IF(ISBLANK(H41),\" \",Fa(H42,G33))))","v":" "},null,{"$f":"IF(ISBLANK(J42),\" \",IF(ISTEXT(I33),\" \",IF(ISBLANK(J41),\" \",Fa(J42,I33))))","v":" "},null,{"$f":"IF(ISBLANK(L42),\" \",IF(ISTEXT(K33),\" \",IF(ISBLANK(L41),\" \",Fa(L42,K33))))","v":" "},null,{"$f":"IF(ISBLANK(N42),\" \",IF(ISTEXT(M33),\" \",IF(ISBLANK(N41),\" \",Fa(N42,M33))))","v":" "}]
["Pbe",null,{"$f":"C33","v":" "},null,{"$f":"E33","v":" "},null,{"$f":"G33","v":" "},null,{"$f":"I33","v":" "},null,{"$f":"K33","v":" "},null,{"$f":"M33","v":" "}]
[null,null,"Voids","VMA","VFA",null,"Upper","Lower","Target"]
["Running averages for conditional formatting tolerances",null,{"$f":"'ST1'!F26","v":{"$error":"#N/A"}},{"$f":"'ST1'!H26","v":{"$error":"#N/A"}},{"$f":"'ST1'!J26","v":{"$error":"#N/A"}},"Voids",{"$f":"'A P'!C6","v":1.5},{"$f":"'A P'!C8","v":1.5},{"$f":"'A P'!C7","v":0}]
[null,null,{"$f":"'ST1'!F27","v":{"$error":"#N/A"}},{"$f":"'ST1'!H27","v":{"$error":"#N/A"}},{"$f":"'ST1'!J27","v":{"$error":"#N/A"}},"VMA",{"$f":"'A P'!C10","v":1},{"$f":"'A P'!C11","v":1}]
[null,null,{"$f":"'ST1'!F28","v":{"$error":"#N/A"}},{"$f":"'ST1'!H28","v":{"$error":"#N/A"}},{"$f":"'ST1'!J28","v":{"$error":"#N/A"}},"VFA",{"$f":"'A P'!C13","v":0},{"$f":"'A P'!C14","v":0}]
[null,null,{"$f":"'ST1'!F29","v":{"$error":"#N/A"}},{"$f":"'ST1'!H29","v":{"$error":"#N/A"}},{"$f":"'ST1'!J29","v":{"$error":"#N/A"}}]
[null,null,{"$f":"'ST1'!F30","v":{"$error":"#N/A"}},{"$f":"'ST1'!H30","v":{"$error":"#N/A"}},{"$f":"'ST1'!J30","v":{"$error":"#N/A"}}]
[null,null,{"$f":"'ST1'!F31","v":{"$error":"#N/A"}},{"$f":"'ST1'!H31","v":{"$error":"#N/A"}},{"$f":"'ST1'!J31","v":{"$error":"#N/A"}},"Conditional formatting of running avgs have been taken out of ESB-11 but formulas have been left in place in case future changes are necessary"]
[null,null,{"$f":"'ST1'!F32","v":{"$error":"#N/A"}},{"$f":"'ST1'!H32","v":{"$error":"#N/A"}},{"$f":"'ST1'!J32","v":{"$error":"#N/A"}}]
[null,null,{"$f":"'ST1'!F33","v":{"$error":"#N/A"}},{"$f":"'ST1'!H33","v":{"$error":"#N/A"}},{"$f":"'ST1'!J33","v":{"$error":"#N/A"}}]
[null,null,{"$f":"'ST1'!F34","v":{"$error":"#N/A"}},{"$f":"'ST1'!H34","v":{"$error":"#N/A"}},{"$f":"'ST1'!J34","v":{"$error":"#N/A"}}]
[null,null,{"$f":"'ST1'!F35","v":{"$error":"#N/A"}},{"$f":"'ST1'!H35","v":{"$error":"#N/A"}},{"$f":"'ST1'!J35","v":{"$error":"#N/A"}}]
[null,null,{"$f":"'ST1'!F36","v":{"$error":"#N/A"}},{"$f":"'ST1'!H36","v":{"$error":"#N/A"}},{"$f":"'ST1'!J36","v":{"$error":"#N/A"}}]
[null,null,{"$f":"'ST1'!F37","v":{"$error":"#N/A"}},{"$f":"'ST1'!H37","v":{"$error":"#N/A"}},{"$f":"'ST1'!J37","v":{"$error":"#N/A"}}]
[]
["Corrected Gsb for upper block using offset value C34 "]
[null,null,{"$f":"C28-$C$34","v":{"$error":"#DIV/0!"}},{"$f":"E28-$C$34","v":{"$error":"#DIV/0!"}},{"$f":"G28-$C$34","v":{"$error":"#DIV/0!"}},{"$f":"I28-$C$34","v":{"$error":"#DIV/0!"}},{"$f":"K28-$C$34","v":{"$error":"#DIV/0!"}},{"$f":"M28-$C$34","v":{"$error":"#DIV/0!"}}]
[]
[]
["Corrected Gsb for lower block using offset value C34 "]
[null,null,{"$f":"C31-$C$34","v":{"$error":"#DIV/0!"}},{"$f":"E31-$C$34","v":{"$error":"#DIV/0!"}},{"$f":"G31-$C$34","v":{"$error":"#DIV/0!"}},{"$f":"I31-$C$34","v":{"$error":"#DIV/0!"}},{"$f":"K31-$C$34","v":{"$error":"#DIV/0!"}},{"$f":"M31-$C$34","v":{"$error":"#DIV/0!"}}]
[]
[null,null,{"$f":"IF(AND(M36=\"Volumetric deviation, resample within 150 tons\",R53>0),\"Deviation on 150 ton sample, suspend production of JMF\",IF(OR(R50=1,S50=1,R51=2,R52=3,S52=3),\"Volumetric deviation, resample within 150 tons\",\" \"))","v":" "},null,{"$f":"IF(AND(C79=\"Volumetric deviation, resample within 150 tons\",T53>0),\"Deviation on 150 ton sample, suspend production of JMF\",IF(OR(T50=1,U50=1,T51=2,T52=3,U52=3),\"Volumetric deviation, resample within 150 tons\",\" \"))","v":" "},null,{"$f":"IF(AND(E79=\"Volumetric deviation, resample within 150 tons\",V53>0),\"Deviation on 150 ton sample, suspend production of JMF\",IF(OR(V50=1,W50=1,V51=2,V52=3,W52=3),\"Volumetric deviation, resample within 150 tons\",\" \"))","v":" "},null,{"$f":"IF(AND(G79=\"Volumetric deviation, resample within 150 tons\",X53>0),\"Deviation on 150 ton sample, suspend production of JMF\",IF(OR(X50=1,Y50=1,X51=2,X52=3,Y52=3),\"Volumetric deviation, resample within 150 tons\",\" \"))","v":" "},null,{"$f":"IF(AND(I79=\"Volumetric deviation, resample within 150 tons\",Z53>0),\"Deviation on 150 ton sample, suspend production of JMF\",IF(OR(Z50=1,AA50=1,Z51=2,Z52=3,AA52=3),\"Volumetric deviation, resample within 150 tons\",\" \"))","v":" "},null,{"$f":"IF(AND(K79=\"Volumetric deviation, resample within 150 tons\",AB53>0),\"Deviation on 150 ton sample, suspend production of JMF\",IF(OR(AB50=1,AC50=1,AB51=2,AB52=3,AC52=3),\"Volumetric deviation, resample within 150 tons\",\" \"))","v":" "}]

{"sheet":"V4","index":35,"n_rows":79,"n_cols":29,"rows_kept":79,"cut":false,"hidden":true,"merged":[[18,21,18,22],[22,25,22,26],[22,27,22,28],[48,15,48,16],[48,17,48,18],[48,19,48,20],[48,21,48,22],[48,23,48,24],[48,25,48,26],[48,27,48,28],[37,17,37,28],[18,23,18,24],[18,25,18,26],[50,21,50,22],[50,23,50,24],[50,25,50,26],[50,27,50,28],[51,15,51,16],[52,15,52,16],[52,17,52,18],[52,19,52,20],[52,21,52,22],[52,23,52,24],[52,25,52,26],[52,27,52,28],[78,0,80,1],[35,12,37,13],[35,10,37,11],[35,8,37,9],[35,6,37,7],[18,27,18,28],[19,15,19,16],[20,15,20,16],[20,17,20,18],[20,19,20,20],[20,21,20,22],[20,23,20,24],[20,25,20,26],[20,27,20,28],[18,15,18,16],[21,15,21,16],[22,15,22,16],[22,17,22,18],[22,19,22,20],[22,21,22,22],[22,23,22,24],[78,12,80,13],[78,10,80,11],[78,8,80,9],[78,6,80,7],[78,4,80,5],[78,2,80,3],[56,8,56,9],[18,17,18,18],[18,19,18,20],[49,15,49,16],[50,15,50,16],[50,17,50,18],[50,19,50,20],[38,6,38,7],[39,12,39,13],[39,10,39,11],[32,10,32,11],[32,12,32,13],[35,4,37,5],[35,2,37,3],[26,12,26,13],[26,8,26,9],[28,10,28,11],[28,6,28,7],[32,8,32,9],[30,12,30,13],[31,10,31,11],[71,0,73,1],[75,0,77,1],[54,8,54,9],[52,10,52,11],[52,12,52,13],[58,0,69,1],[55,10,55,11],[53,0,53,1],[54,0,54,1],[54,2,54,3],[55,0,55,1],[56,0,56,1],[56,2,56,3],[56,10,56,11],[56,12,56,13],[56,4,56,5],[56,6,56,7],[55,8,55,9],[55,2,55,3],[55,4,55,5],[55,6,55,7],[54,4,54,5],[54,6,54,7],[49,0,49,1],[55,12,55,13],[54,10,54,11],[54,12,54,13],[50,8,50,9],[50,10,50,11],[50,12,50,13],[48,10,48,11],[52,6,52,7],[48,12,48,13],[48,6,48,7],[51,0,51,1],[52,0,52,1],[50,0,50,1],[52,8,52,9],[52,2,52,3],[52,4,52,5],[50,6,50,7],[50,2,50,3],[50,4,50,5],[40,0,40,1],[39,0,39,1],[39,2,39,3],[39,4,39,5],[38,8,38,9],[48,2,48,3],[48,4,48,5],[41,0,41,1],[42,0,42,1],[38,2,38,3],[38,4,38,5],[48,0,48,1],[48,8,48,9],[39,6,39,7],[39,8,39,9],[47,0,47,1],[45,0,45,1],[46,0,46,1],[43,0,43,1],[44,0,44,1],[35,0,37,1],[34,0,34,1],[38,0,38,1],[28,8,28,9],[28,2,28,3],[38,10,38,11],[33,0,33,1],[33,3,33,12],[32,2,32,3],[32,4,32,5],[38,12,38,13],[31,12,31,13],[30,10,30,11],[32,6,32,7],[29,2,29,3],[29,4,29,5],[29,6,29,7],[29,8,29,9],[30,2,30,3],[30,4,30,5],[31,2,31,3],[28,12,28,13],[29,10,29,11],[29,12,29,13],[27,2,27,3],[27,4,27,5],[27,6,27,7],[27,8,27,9],[27,10,27,11],[27,12,27,13],[31,4,31,5],[31,6,31,7],[31,8,31,9],[30,6,30,7],[30,8,30,9],[26,0,26,1],[26,2,26,3],[26,4,26,5],[26,6,26,7],[26,10,26,11],[24,8,24,9],[24,10,24,11],[24,4,24,5],[24,6,24,7],[22,12,22,13],[23,0,23,1],[22,0,22,1],[22,2,22,3],[22,4,22,5],[22,6,22,7],[24,12,24,13],[25,0,25,1],[25,2,25,3],[25,4,25,5],[25,6,25,7],[25,8,25,9],[25,10,25,11],[25,12,25,13],[24,0,24,1],[24,2,24,3],[20,8,20,9],[12,0,12,1],[13,0,13,1],[14,0,14,1],[15,0,15,1],[20,12,20,13],[21,0,21,1],[20,0,20,1],[20,2,20,3],[20,4,20,5],[20,6,20,7],[18,8,18,9],[18,10,18,11],[18,12,18,13],[19,0,19,1],[18,0,18,1],[18,2,18,3],[18,4,18,5],[18,6,18,7],[9,2,9,3],[16,0,16,1],[17,0,17,1],[10,0,10,1],[11,0,11,1],[5,10,5,11],[6,12,6,13],[5,12,5,13],[9,12,9,13],[7,0,7,1],[7,2,7,3],[8,0,8,1],[8,2,8,3],[8,4,8,5],[9,0,9,1],[9,4,9,5],[9,6,9,7],[8,12,8,13],[7,10,7,11],[7,12,7,13],[8,10,8,11],[6,4,6,9],[7,4,7,7],[7,8,7,9],[0,0,3,1],[1,10,1,11],[1,12,1,13],[2,10,2,11],[2,12,2,13],[3,10,3,11],[3,12,3,13],[63,5,68,9],[4,10,4,11],[9,8,9,9],[9,10,9,11],[8,6,8,7],[8,8,8,9],[20,10,20,11],[22,8,22,9],[22,10,22,11],[28,4,28,5],[4,12,4,13],[6,0,6,1],[6,2,6,3],[6,10,6,11],[5,0,5,1],[5,2,5,3],[5,5,5,8]]}
[]
[null,null,null,null,"COMMONWEALTH OF PENNSYLVANIA",null,null,null,null,null,"DISTRICT",null,{"$f":"IF(ISBLANK('V1'!M2),\" \",('V1'!M2))","v":" "}]
[null,null,null,null,"DEPARTMENT OF TRANSPORTATION",null,null,null,null,null,"PLANT CODE",null,{"$f":"IF(ISBLANK('V1'!M3),\" \",('V1'!M3))","v":" "}]
[null,null,null,null,"LABORATORY TEST SECTION",null,null,null,null,null,"Design No.",null,{"$f":"IF(ISBLANK('V1'!M4),\" \",('V1'!M4))","v":" "}]
[{"$f":"'S1'!A5","v":"ESB-16"},null,null,null,null,null,null,null,null,null,"JMF VMA",null,{"$f":"IF(ISBLANK('V1'!M5),\" \",('V1'!M5))","v":" "}]
["Material Class ",null,{"$f":"IF(ISBLANK('V1'!C6),\" \",('V1'!C6))","v":9.5},null,null,"Volumetric Results",null,null,null,null,"JMF VFA",null,{"$f":"IF(ISBLANK('V1'!M6),\" \",('V1'!M6))","v":" "}]
["Gyrations @ Ndes",null,{"$f":"IF(ISBLANK('V1'!C7),\" \",('V1'!C7))","v":" "},null,"Red values indicate corrective action is needed",null,null,null,null,null,"JMF F/A",null,{"$f":"IF(ISBLANK('V1'!M7),\" \",('V1'!M7))","v":" "}]
["Gsb of Mix",null,{"$f":"IF(ISBLANK('V1'!C8),\" \",('V1'!C8))","v":" "},null,"Gyratory Specimen wt. from TR 448",null,null,null,{"$f":"IF(ISBLANK('V1'!I8),\" \",('V1'!I8))","v":" "},null,"JMF Voids",null,{"$f":"IF(ISBLANK('V1'!M8),\" \",('V1'!M8))","v":" "}]
["Sample No."]
["Date"]
["Gmm / Gb of AC"]
["AC / -200"]
["Specimen No",null,1,2,1,2,1,2,1,2,1,2,1,2]
["Height at Ndes"]
["Mass in Air"]
["Mass in Water"]
["SSD Mass"]
["Gmb",null,{"$f":"IF(ISBLANK(C15),\" \",IF(ISBLANK(C16),\" \",IF(ISBLANK(C17),\" \",ROUND(Gmb(C15,C16,C17),3))))","v":" "},{"$f":"IF(ISBLANK(D15),\" \",IF(ISBLANK(D16),\" \",IF(ISBLANK(D17),\" \",ROUND(Gmb(D15,D16,D17),3))))","v":" "}," "," "," "," "," "," "," "," "," "," "]
["Average Gmb",null,{"$f":"IF(ISTEXT(C18),\" \",IF(ISTEXT(D18),\" \",AVERAGE(C18:D18)))","v":" "},null,{"$f":"IF(ISTEXT(E18),\" \",IF(ISTEXT(F18),\" \",AVERAGE(E18:F18)))","v":" "},null,{"$f":"IF(ISTEXT(G18),\" \",IF(ISTEXT(H18),\" \",AVERAGE(G18:H18)))","v":" "},null,{"$f":"IF(ISTEXT(I18),\" \",IF(ISTEXT(J18),\" \",AVERAGE(I18:J18)))","v":" "},null,{"$f":"IF(ISTEXT(K18),\" \",IF(ISTEXT(L18),\" \",AVERAGE(K18:L18)))","v":" "},null,{"$f":"IF(ISTEXT(M18),\" \",IF(ISTEXT(N18),\" \",AVERAGE(M18:N18)))","v":" "},null,null,"Sample",null,1,null,2,null,3,null,4,null,5,null,6]
["(Voids)VTM",null,{"$f":"IF(ISBLANK(C11),\" \",IF(ISTEXT(C18),\" \",ROUND(Va($C$11,C18),1)))","v":" "},{"$f":"IF(ISBLANK(C11),\" \",IF(ISTEXT(D18),\" \",ROUND(Va($C$11,D18),1)))","v":" "},{"$f":"IF(ISBLANK(E11),\" \",IF(ISTEXT(E18),\" \",ROUND(Va($E$11,E18),1)))","v":" "},{"$f":"IF(ISBLANK(E11),\" \",IF(ISTEXT(F18),\" \",ROUND(Va($E$11,F18),1)))","v":" "},{"$f":"IF(ISBLANK(G11),\" \",IF(ISTEXT(G18),\" \",ROUND(Va($G$11,G18),1)))","v":" "},{"$f":"IF(ISBLANK(G11),\" \",IF(ISTEXT(H18),\" \",ROUND(Va($G$11,H18),1)))","v":" "},{"$f":"IF(ISBLANK(I11),\" \",IF(ISTEXT(I18),\" \",ROUND(Va($I$11,I18),1)))","v":" "},{"$f":"IF(ISBLANK(I11),\" \",IF(ISTEXT(J18),\" \",ROUND(Va($I$11,J18),1)))","v":" "},{"$f":"IF(ISBLANK(K11),\" \",IF(ISTEXT(K18),\" \",ROUND(Va($K$11,K18),1)))","v":" "},{"$f":"IF(ISBLANK(K11),\" \",IF(ISTEXT(L18),\" \",ROUND(Va($K$11,L18),1)))","v":" "},{"$f":"IF(ISBLANK(M11),\" \",IF(ISTEXT(M18),\" \",ROUND(Va($M$11,M18),1)))","v":" "},{"$f":"IF(ISBLANK(M11),\" \",IF(ISTEXT(N18),\" \",ROUND(Va($M$11,N18),1)))","v":" "},null,"single voids",null,{"$f":"IF(ISTEXT(C20),\" \",IF(OR(C20>$M$8+2,C20<$M$8-2),1,0))","v":" "},{"$f":"IF(ISTEXT(D20),\" \",IF(OR(D20>$M$8+2,D20<$M$8-2),1,0))","v":" "}," "," "," "," "," "," "," "," "," "," "]
["AVG.(Voids)VTM",null,{"$f":"IF(ISTEXT(C20),\" \",IF(ISTEXT(D20),\" \",ROUND(AVERAGE(C20:D20),1)))","v":" "},null,{"$f":"IF(ISTEXT(E20),\" \",IF(ISTEXT(F20),\" \",ROUND(AVERAGE(E20:F20),1)))","v":" "},null,{"$f":"IF(ISTEXT(G20),\" \",IF(ISTEXT(H20),\" \",ROUND(AVERAGE(G20:H20),1)))","v":" "},null,{"$f":"IF(ISTEXT(I20),\" \",IF(ISTEXT(J20),\" \",ROUND(AVERAGE(I20:J20),1)))","v":" "},null,{"$f":"IF(ISTEXT(K20),\" \",IF(ISTEXT(L20),\" \",ROUND(AVERAGE(K20:L20),1)))","v":" "},null,{"$f":"IF(ISTEXT(M20),\" \",IF(ISTEXT(N20),\" \",ROUND(AVERAGE(M20:N20),1)))","v":" "},null,null,"Avg voids",null,{"$f":"IF(ISTEXT(C21),\" \",IF(OR(C21>$M$8+1.5,C21<$M$8-1.5),2,0))","v":" "},null,{"$f":"IF(ISTEXT(E21),\" \",IF(OR(E21>$M$8+1.5,E21<$M$8-1.5),2,0))","v":" "},null,{"$f":"IF(ISTEXT(G21),\" \",IF(OR(G21>$M$8+1.5,G21<$M$8-1.5),2,0))","v":" "},null,{"$f":"IF(ISTEXT(I21),\" \",IF(OR(I21>$M$8+1.5,I21<$M$8-1.5),2,0))","v":" "},null,{"$f":"IF(ISTEXT(K21),\" \",IF(OR(K21>$M$8+1.5,K21<$M$8-1.5),2,0))","v":" "},null,{"$f":"IF(ISTEXT(M21),\" \",IF(OR(M21>$M$8+1.5,M21<$M$8-1.5),2,0))","v":" "}]
["VMA",null,{"$f":"IF(ISTEXT(C18),\" \",IF(ISBLANK(C12),\" \",IF(ISBLANK($C$8),\" \",ROUND(Vma(C18,C12,C73),1))))","v":" "},{"$f":"IF(ISTEXT(D18),\" \",IF(ISBLANK(C12),\" \",IF(ISBLANK($C$8),\" \",ROUND(Vma(D18,C12,C73),1))))","v":" "},{"$f":"IF(ISTEXT(E18),\" \",IF(ISBLANK(E12),\" \",IF(ISBLANK($C$8),\" \",ROUND(Vma(E18,E12,D73),1))))","v":" "},{"$f":"IF(ISTEXT(F18),\" \",IF(ISBLANK(E12),\" \",IF(ISBLANK($C$8),\" \",ROUND(Vma(F18,E12,D73),1))))","v":" "},{"$f":"IF(ISTEXT(G18),\" \",IF(ISBLANK(G12),\" \",IF(ISBLANK($C$8),\" \",ROUND(Vma(G18,G12,E73),1))))","v":" "},{"$f":"IF(ISTEXT(H18),\" \",IF(ISBLANK(G12),\" \",IF(ISBLANK($C$8),\" \",ROUND(Vma(H18,G12,E73),1))))","v":" "},{"$f":"IF(ISTEXT(I18),\" \",IF(ISBLANK(I12),\" \",IF(ISBLANK($C$8),\" \",ROUND(Vma(I18,I12,F73),1))))","v":" "},{"$f":"IF(ISTEXT(J18),\" \",IF(ISBLANK(I12),\" \",IF(ISBLANK($C$8),\" \",ROUND(Vma(J18,I12,F73),1))))","v":" "},{"$f":"IF(ISTEXT(K18),\" \",IF(ISBLANK(K12),\" \",IF(ISBLANK($C$8),\" \",ROUND(Vma(K18,K12,G73),1))))","v":" "},{"$f":"IF(ISTEXT(L18),\" \",IF(ISBLANK(K12),\" \",IF(ISBLANK($C$8),\" \",ROUND(Vma(L18,K12,G73),1))))","v":" "},{"$f":"IF(ISTEXT(M18),\" \",IF(ISBLANK(M12),\" \",IF(ISBLANK($C$8),\" \",ROUND(Vma(M18,M12,H73),1))))","v":" "},{"$f":"IF(ISTEXT(N18),\" \",IF(ISBLANK(M12),\" \",IF(ISBLANK($C$8),\" \",ROUND(Vma(N18,M12,H73),1))))","v":" "},null,"Single VMA",null,{"$f":"IF(C22<'A P'!$N$5,3,0)","v":0},{"$f":"IF(D22<'A P'!$N$5,3,0)","v":0},{"$f":"IF(E22<'A P'!$N$5,3,0)","v":0},{"$f":"IF(F22<'A P'!$N$5,3,0)","v":0},{"$f":"IF(G22<'A P'!$N$5,3,0)","v":0},{"$f":"IF(H22<'A P'!$N$5,3,0)","v":0},{"$f":"IF(I22<'A P'!$N$5,3,0)","v":0},{"$f":"IF(J22<'A P'!$N$5,3,0)","v":0},{"$f":"IF(K22<'A P'!$N$5,3,0)","v":0},{"$f":"IF(L22<'A P'!$N$5,3,0)","v":0},{"$f":"IF(M22<'A P'!$N$5,3,0)","v":0},{"$f":"IF(N22<'A P'!$N$5,3,0)","v":0}]
["Avg. VMA",null,{"$f":"IF(ISBLANK($C$8),\" \",IF(ISTEXT(C22),\" \",IF(ISTEXT(D22),\" \",ROUND(AVERAGE(C22:D22),1))))","v":" "},null,{"$f":"IF(ISBLANK($C$8),\" \",IF(ISTEXT(E22),\" \",IF(ISTEXT(F22),\" \",ROUND(AVERAGE(E22:F22),1))))","v":" "},null,{"$f":"IF(ISBLANK($C$8),\" \",IF(ISTEXT(G22),\" \",IF(ISTEXT(H22),\" \",ROUND(AVERAGE(G22:H22),1))))","v":" "},null,{"$f":"IF(ISBLANK($C$8),\" \",IF(ISTEXT(I22),\" \",IF(ISTEXT(J22),\" \",ROUND(AVERAGE(I22:J22),1))))","v":" "},null,{"$f":"IF(ISBLANK($C$8),\" \",IF(ISTEXT(K22),\" \",IF(ISTEXT(L22),\" \",ROUND(AVERAGE(K22:L22),1))))","v":" "},null,{"$f":"IF(ISBLANK($C$8),\" \",IF(ISTEXT(M22),\" \",IF(ISTEXT(N22),\" \",ROUND(AVERAGE(M22:N22),1))))","v":" "},null,null,"Max",null,{"$f":"MAX(R20:S22)","v":0},null,{"$f":"MAX(T20:U22)","v":0},null,{"$f":"MAX(V20:W22)","v":0},null,{"$f":"MAX(X20:Y22)","v":0},null,{"$f":"MAX(Z20:AA22)","v":0},null,{"$f":"MAX(AB20:AC22)","v":0}]
["VFA",null,{"$f":"IF(ISBLANK($C$8),\" \",IF(ISTEXT(C18),\" \",IF(ISTEXT(C22),\" \",Vfa(C22,C20))))","v":" "},{"$f":"IF(ISBLANK($C$8),\" \",IF(ISTEXT(D18),\" \",IF(ISTEXT(D22),\" \",Vfa(D22,D20))))","v":" "},{"$f":"IF(ISBLANK($C$8),\" \",IF(ISTEXT(E18),\" \",IF(ISTEXT(E22),\" \",Vfa(E22,E20))))","v":" "}," "," "," "," "," "," "," "," "," "]
["Avg.VFA",null,{"$f":"IF(ISBLANK($C$8),\" \",IF(ISTEXT(C24),\" \",IF(ISTEXT(D24),\" \",ROUND(AVERAGE(C24:D24),0))))","v":" "},null,{"$f":"IF(ISBLANK($C$8),\" \",IF(ISTEXT(E24),\" \",IF(ISTEXT(F24),\" \",ROUND(AVERAGE(E24:F24),0))))","v":" "},null,{"$f":"IF(ISBLANK($C$8),\" \",IF(ISTEXT(G24),\" \",IF(ISTEXT(H24),\" \",ROUND(AVERAGE(G24:H24),0))))","v":" "},null,{"$f":"IF(ISBLANK($C$8),\" \",IF(ISTEXT(I24),\" \",IF(ISTEXT(J24),\" \",ROUND(AVERAGE(I24:J24),0))))","v":" "},null,{"$f":"IF(ISBLANK($C$8),\" \",IF(ISTEXT(K24),\" \",IF(ISTEXT(L24),\" \",ROUND(AVERAGE(K24:L24),0))))","v":" "},null,{"$f":"IF(ISBLANK($C$8),\" \",IF(ISTEXT(M24),\" \",IF(ISTEXT(N24),\" \",ROUND(AVERAGE(M24:N24),0))))","v":" "}]
["F/A",null,{"$f":"IF(ISBLANK(D12),\" \",IF(ISTEXT(C30),\" \",IF(ISBLANK(D11),\" \",Fa(D12,C30))))","v":" "},null,{"$f":"IF(ISBLANK(F12),\" \",IF(ISTEXT(E30),\" \",IF(ISBLANK(F11),\" \",Fa(F12,E30))))","v":" "},null,{"$f":"IF(ISBLANK(H12),\" \",IF(ISTEXT(G30),\" \",IF(ISBLANK(H11),\" \",Fa(H12,G30))))","v":" "},null,{"$f":"IF(ISBLANK(J12),\" \",IF(ISTEXT(I30),\" \",IF(ISBLANK(J11),\" \",Fa(J12,I30))))","v":" "},null,{"$f":"IF(ISBLANK(L12),\" \",IF(ISTEXT(K30),\" \",IF(ISBLANK(L11),\" \",Fa(L12,K30))))","v":" "},null,{"$f":"IF(ISBLANK(N12),\" \",IF(ISTEXT(M30),\" \",IF(ISBLANK(N11),\" \",Fa(N12,M30))))","v":" "}]
["Pbe",null,{"$f":"C30","v":" "},null,{"$f":"E30","v":" "},null,{"$f":"G30","v":" "},null,{"$f":"I30","v":" "},null,{"$f":"K30","v":" "},null,{"$f":"M30","v":" "}]
[null,"Gse",{"$f":"ROUND((100-C$12)/((100/C$11)-(C$12/$D11)),3)","v":{"$error":"#DIV/0!"}},null,{"$f":"ROUND((100-E$12)/((100/E$11)-(E$12/F11)),3)","v":{"$error":"#DIV/0!"}},null,{"$f":"ROUND((100-G$12)/((100/G$11)-(G$12/H11)),3)","v":{"$error":"#DIV/0!"}},null,{"$f":"ROUND((100-I$12)/((100/I$11)-(I$12/J11)),3)","v":{"$error":"#DIV/0!"}},null,{"$f":"ROUND((100-K$12)/((100/K$11)-(K$12/L11)),3)","v":{"$error":"#DIV/0!"}},null,{"$f":"ROUND((100-M$12)/((100/M$11)-(M$12/N11)),3)","v":{"$error":"#DIV/0!"}}]
[null,"Pba",{"$f":"IF(ISBLANK(C28),\" \",IF(ISBLANK($C$8),\" \",(100*((C$28-C73)/(C73*C$28))*D11)))","v":{"$error":"#DIV/0!"}},null,{"$f":"IF(ISBLANK(E28),\" \",IF(ISBLANK($C$8),\" \",(100*((E$28-D73)/(D73*E$28))*F11)))","v":{"$error":"#DIV/0!"}},null,{"$f":"IF(ISBLANK(G28),\" \",IF(ISBLANK($C$8),\" \",(100*((G$28-E73)/(E73*G$28))*H11)))","v":{"$error":"#DIV/0!"}},null,{"$f":"IF(ISBLANK(I28),\" \",IF(ISBLANK($C$8),\" \",(100*((I$28-F73)/(F73*I$28))*J11)))","v":{"$error":"#DIV/0!"}},null,{"$f":"IF(ISBLANK(K28),\" \",IF(ISBLANK($C$8),\" \",(100*((K$28-G73)/(G73*K$28))*L11)))","v":{"$error":"#DIV/0!"}},null,{"$f":"IF(ISBLANK(M28),\" \",IF(ISBLANK($C$8),\" \",(100*((M$28-H73)/(H73*M$28))*N11)))","v":{"$error":"#DIV/0!"}}]
[null,"Pbe",{"$f":"IF(ISBLANK($C$8),\" \",IF(ISBLANK(C12),\" \",IF(ISBLANK(C29),\" \",ROUND((C$12-((C$29/100)*(100-C$12))),2))))","v":" "},null,{"$f":"IF(ISBLANK($C$8),\" \",IF(ISBLANK(E$12),\" \",IF(ISBLANK(E29),\" \",ROUND((E$12-((E$29/100)*(100-E$12))),2))))","v":" "},null,{"$f":"IF(ISBLANK($C$8),\" \",IF(ISBLANK(G$12),\" \",IF(ISBLANK(G29),\" \",ROUND((G$12-((G$29/100)*(100-G$12))),2))))","v":" "},null,{"$f":"IF(ISBLANK($C$8),\" \",IF(ISBLANK(I$12),\" \",IF(ISBLANK(I29),\" \",ROUND((I$12-((I$29/100)*(100-I$12))),2))))","v":" "},null,{"$f":"IF(ISBLANK($C$8),\" \",IF(ISBLANK(K$12),\" \",IF(ISBLANK(K29),\" \",ROUND((K$12-((K$29/100)*(100-K$12))),2))))","v":" "},null,{"$f":"IF(ISBLANK($C$8),\" \",IF(ISBLANK(M$12),\" \",IF(ISBLANK(M29),\" \",ROUND((M$12-((M$29/100)*(100-M$12))),2))))","v":" "}]
[null,"Gse",{"$f":"ROUND((100-C$42)/((100/C$41)-(C$42/D41)),3)","v":{"$error":"#DIV/0!"}},null,{"$f":"ROUND((100-E$42)/((100/E$41)-(E$42/F41)),3)","v":{"$error":"#DIV/0!"}},null,{"$f":"ROUND((100-G$42)/((100/G$41)-(G$42/H41)),3)","v":{"$error":"#DIV/0!"}},null,{"$f":"ROUND((100-I$42)/((100/I$41)-(I$42/J41)),3)","v":{"$error":"#DIV/0!"}},null,{"$f":"ROUND((100-K$42)/((100/K$41)-(K$42/L41)),3)","v":{"$error":"#DIV/0!"}},null,{"$f":"ROUND((100-M$42)/((100/M$41)-(M$42/N41)),3)","v":{"$error":"#DIV/0!"}}]
[null,"Pba",{"$f":"IF(ISBLANK(C31),\" \",IF(ISBLANK($C$8),\" \",(100*((C$31-C77)/(C77*C$31))*D41)))","v":{"$error":"#DIV/0!"}},null,{"$f":"IF(ISBLANK(E31),\" \",IF(ISBLANK($C$8),\" \",(100*((E$31-D77)/(D77*E$31))*F41)))","v":{"$error":"#DIV/0!"}},null,{"$f":"IF(ISBLANK(G31),\" \",IF(ISBLANK($C$8),\" \",(100*((G$31-E77)/(E77*G$31))*H41)))","v":{"$error":"#DIV/0!"}},null,{"$f":"IF(ISBLANK(I31),\" \",IF(ISBLANK($C$8),\" \",(100*((I$31-F77)/(F77*I$31))*J41)))","v":{"$error":"#DIV/0!"}},null,{"$f":"IF(ISBLANK(K31),\" \",IF(ISBLANK($C$8),\" \",(100*((K$31-G77)/(G77*K$31))*L41)))","v":{"$error":"#DIV/0!"}},null,{"$f":"IF(ISBLANK(M31),\" \",IF(ISBLANK($C$8),\" \",(100*((M$31-H77)/(H77*M$31))*N41)))","v":{"$error":"#DIV/0!"}}]
[null,"Pbe",{"$f":"IF(ISBLANK($C$8),\" \",IF(ISBLANK(C42),\" \",IF(ISBLANK(C32),\" \",ROUND((C$42-((C$32/100)*(100-C$42))),2))))","v":" "},null,{"$f":"IF(ISBLANK($C$8),\" \",IF(ISBLANK(E42),\" \",IF(ISBLANK(E32),\" \",ROUND((E$42-((E$32/100)*(100-E$42))),2))))","v":" "},null,{"$f":"IF(ISBLANK($C$8),\" \",IF(ISBLANK(G42),\" \",IF(ISBLANK(G32),\" \",ROUND((G$42-((G$32/100)*(100-G$42))),2))))","v":" "},null,{"$f":"IF(ISBLANK($C$8),\" \",IF(ISBLANK(I42),\" \",IF(ISBLANK(I32),\" \",ROUND((I$42-((I$32/100)*(100-I$42))),2))))","v":" "},null,{"$f":"IF(ISBLANK($C$8),\" \",IF(ISBLANK(K42),\" \",IF(ISBLANK(K32),\" \",ROUND((K$42-((K$32/100)*(100-K$42))),2))))","v":" "},null,{"$f":"IF(ISBLANK($C$8),\" \",IF(ISBLANK(M42),\" \",IF(ISBLANK(M32),\" \",ROUND((M$42-((M$32/100)*(100-M$42))),2))))","v":" "}]
["Offset value",null,{"$f":"'G1'!B38-C8","v":{"$error":"#DIV/0!"}}]
[]
[null,null,{"$f":"IF(AND('V3'!M79=\"Volumetric deviation, resample within 150 tons\",R23>0),\"Deviation on 150 ton sample, suspend production of JMF\",IF(OR(R20=1,S20=1,R21=2,R22=3,S22=3),\"Volumetric deviation, resample within 150 tons\",\" \"))","v":" "},null,{"$f":"IF(AND(C36=\"Volumetric deviation, resample within 150 tons\",T23>0),\"Deviation on 150 ton sample, suspend production of JMF\",IF(OR(T20=1,U20=1,T21=2,T22=3,U22=3),\"Volumetric deviation, resample within 150 tons\",\" \"))","v":" "},null,{"$f":"IF(AND(E36=\"Volumetric deviation, resample within 150 tons\",V23>0),\"Deviation on 150 ton sample, suspend production of JMF\",IF(OR(V20=1,W20=1,V21=2,V22=3,W22=3),\"Volumetric deviation, resample within 150 tons\",\" \"))","v":" "},null,{"$f":"IF(AND(G36=\"Volumetric deviation, resample within 150 tons\",X23>0),\"Deviation on 150 ton sample, suspend production of JMF\",IF(OR(X20=1,Y20=1,X21=2,X22=3,Y22=3),\"Volumetric deviation, resample within 150 tons\",\" \"))","v":" "},null,{"$f":"IF(AND(I36=\"Volumetric deviation, resample within 150 tons\",Z23>0),\"Deviation on 150 ton sample, suspend production of JMF\",IF(OR(Z20=1,AA20=1,Z21=2,Z22=3,AA22=3),\"Volumetric deviation, resample within 150 tons\",\" \"))","v":" "},null,{"$f":"IF(AND(K36=\"Volumetric deviation, resample within 150 tons\",AB23>0),\"Deviation on 150 ton sample, suspend production of JMF\",IF(OR(AB20=1,AC20=1,AB21=2,AB22=3,AC22=3),\"Volumetric deviation, resample within 150 tons\",\" \"))","v":" "}]
[]
[null,null,null,null,null,null,null,null,null,null,null,null,null,null,null,null,null,"This determines if samples meet single and multiple tolerances and is used for cond. Formatting and action notes"]
["Sample No."]
["Date"]
["Gmm / Gb of AC"]
["AC / -200"]
["Specimen No",null,1,2,1,2,1,2,1,2,1,2,1,2]
["Height at Ndes"]
["Mass in Air"]
["Mass in Water"]
["SSD Mass"]
["Gmb",null,{"$f":"IF(ISBLANK(C45),\" \",IF(ISBLANK(C46),\" \",IF(ISBLANK(C47),\" \",ROUND(Gmb(C45,C46,C47),3))))","v":" "}," "," "," "," "," "," "," "," "," "," "," "]
["Average Gmb",null,{"$f":"IF(ISTEXT(C48),\" \",IF(ISTEXT(D48),\" \",AVERAGE(C48:D48)))","v":" "},null,{"$f":"IF(ISTEXT(E48),\" \",IF(ISTEXT(F48),\" \",AVERAGE(E48:F48)))","v":" "},null,{"$f":"IF(ISTEXT(G48),\" \",IF(ISTEXT(H48),\" \",AVERAGE(G48:H48)))","v":" "},null,{"$f":"IF(ISTEXT(I48),\" \",IF(ISTEXT(J48),\" \",AVERAGE(I48:J48)))","v":" "},null,{"$f":"IF(ISTEXT(K48),\" \",IF(ISTEXT(L48),\" \",AVERAGE(K48:L48)))","v":" "},null,{"$f":"IF(ISTEXT(M48),\" \",IF(ISTEXT(N48),\" \",AVERAGE(M48:N48)))","v":" "},null,null,"Sample",null,7,null,8,null,9,null,10,null,11,null,12]
["(Voids)VTM",null,{"$f":"IF(ISBLANK(C41),\" \",IF(ISTEXT(C48),\" \",ROUND(Va($C$41,C48),1)))","v":" "},{"$f":"IF(ISBLANK(C41),\" \",IF(ISTEXT(D48),\" \",ROUND(Va($C$41,D48),1)))","v":" "},{"$f":"IF(ISBLANK(E41),\" \",IF(ISTEXT(E48),\" \",ROUND(Va($E$41,E48),1)))","v":" "},{"$f":"IF(ISBLANK(E41),\" \",IF(ISTEXT(F48),\" \",ROUND(Va($E$41,F48),1)))","v":" "},{"$f":"IF(ISBLANK(G41),\" \",IF(ISTEXT(G48),\" \",ROUND(Va($G$41,G48),1)))","v":" "},{"$f":"IF(ISBLANK(G41),\" \",IF(ISTEXT(H48),\" \",ROUND(Va($G$41,H48),1)))","v":" "},{"$f":"IF(ISBLANK(I41),\" \",IF(ISTEXT(I48),\" \",ROUND(Va($I$41,I48),1)))","v":" "},{"$f":"IF(ISBLANK(I41),\" \",IF(ISTEXT(J48),\" \",ROUND(Va($I$41,J48),1)))","v":" "},{"$f":"IF(ISBLANK(K41),\" \",IF(ISTEXT(K48),\" \",ROUND(Va($K$41,K48),1)))","v":" "},{"$f":"IF(ISBLANK(K41),\" \",IF(ISTEXT(L48),\" \",ROUND(Va($K$41,L48),1)))","v":" "},{"$f":"IF(ISBLANK(M41),\" \",IF(ISTEXT(M48),\" \",ROUND(Va($M$41,M48),1)))","v":" "},{"$f":"IF(ISBLANK(M41),\" \",IF(ISTEXT(N48),\" \",ROUND(Va($M$41,N48),1)))","v":" "},null,"single voids",null,{"$f":"IF(ISTEXT(C50),\" \",IF(OR(C50>$M$8+2,C50<$M$8-2),1,0))","v":" "},{"$f":"IF(ISTEXT(D50),\" \",IF(OR(D50>$M$8+2,D50<$M$8-2),1,0))","v":" "},{"$f":"IF(ISTEXT(E50),\" \",IF(OR(E50>$M$8+2,E50<$M$8-2),1,0))","v":" "}," "," "," "," "," "," "," "," "," "]
["AVG.(Voids)VTM",null,{"$f":"IF(ISTEXT(C50),\" \",IF(ISTEXT(D50),\" \",ROUND(AVERAGE(C50:D50),1)))","v":" "},null,{"$f":"IF(ISTEXT(E50),\" \",IF(ISTEXT(F50),\" \",ROUND(AVERAGE(E50:F50),1)))","v":" "},null,{"$f":"IF(ISTEXT(G50),\" \",IF(ISTEXT(H50),\" \",ROUND(AVERAGE(G50:H50),1)))","v":" "},null,{"$f":"IF(ISTEXT(I50),\" \",IF(ISTEXT(J50),\" \",ROUND(AVERAGE(I50:J50),1)))","v":" "},null,{"$f":"IF(ISTEXT(K50),\" \",IF(ISTEXT(L50),\" \",ROUND(AVERAGE(K50:L50),1)))","v":" "},null,{"$f":"IF(ISTEXT(M50),\" \",IF(ISTEXT(N50),\" \",ROUND(AVERAGE(M50:N50),1)))","v":" "},null,null,"Avg voids",null,{"$f":"IF(ISTEXT(C51),\" \",IF(OR(C51>$M$8+1.5,C51<$M$8-1.5),2,0))","v":" "},null,{"$f":"IF(ISTEXT(E51),\" \",IF(OR(E51>$M$8+1.5,E51<$M$8-1.5),2,0))","v":" "},null,{"$f":"IF(ISTEXT(G51),\" \",IF(OR(G51>$M$8+1.5,G51<$M$8-1.5),2,0))","v":" "},null,{"$f":"IF(ISTEXT(I51),\" \",IF(OR(I51>$M$8+1.5,I51<$M$8-1.5),2,0))","v":" "},null,{"$f":"IF(ISTEXT(K51),\" \",IF(OR(K51>$M$8+1.5,K51<$M$8-1.5),2,0))","v":" "},null,{"$f":"IF(ISTEXT(M51),\" \",IF(OR(M51>$M$8+1.5,M51<$M$8-1.5),2,0))","v":" "}]
["VMA",null,{"$f":"IF(ISTEXT(C48),\" \",IF(ISBLANK(C42),\" \",IF(ISBLANK($C$8),\" \",ROUND(Vma(C48,C42,C77),1))))","v":" "},{"$f":"IF(ISTEXT(D48),\" \",IF(ISBLANK(C42),\" \",IF(ISBLANK($C$8),\" \",ROUND(Vma(D48,C42,C77),1))))","v":" "},{"$f":"IF(ISTEXT(E48),\" \",IF(ISBLANK(E42),\" \",IF(ISBLANK($C$8),\" \",ROUND(Vma(E48,E42,D77),1))))","v":" "},{"$f":"IF(ISTEXT(F48),\" \",IF(ISBLANK(E42),\" \",IF(ISBLANK($C$8),\" \",ROUND(Vma(F48,E42,D77),1))))","v":" "},{"$f":"IF(ISTEXT(G48),\" \",IF(ISBLANK(G42),\" \",IF(ISBLANK($C$8),\" \",ROUND(Vma(G48,G42,E77),1))))","v":" "},{"$f":"IF(ISTEXT(H48),\" \",IF(ISBLANK(G42),\" \",IF(ISBLANK($C$8),\" \",ROUND(Vma(H48,G42,E77),1))))","v":" "},{"$f":"IF(ISTEXT(I48),\" \",IF(ISBLANK(I42),\" \",IF(ISBLANK($C$8),\" \",ROUND(Vma(I48,I42,F77),1))))","v":" "},{"$f":"IF(ISTEXT(J48),\" \",IF(ISBLANK(I42),\" \",IF(ISBLANK($C$8),\" \",ROUND(Vma(J48,I42,F77),1))))","v":" "},{"$f":"IF(ISTEXT(K48),\" \",IF(ISBLANK(K42),\" \",IF(ISBLANK($C$8),\" \",ROUND(Vma(K48,K42,G77),1))))","v":" "},{"$f":"IF(ISTEXT(L48),\" \",IF(ISBLANK(K42),\" \",IF(ISBLANK($C$8),\" \",ROUND(Vma(L48,K42,G77),1))))","v":" "},{"$f":"IF(ISTEXT(M48),\" \",IF(ISBLANK(M42),\" \",IF(ISBLANK($C$8),\" \",ROUND(Vma(M48,M42,H77),1))))","v":" "},{"$f":"IF(ISTEXT(N48),\" \",IF(ISBLANK(M42),\" \",IF(ISBLANK($C$8),\" \",ROUND(Vma(N48,M42,H77),1))))","v":" "},null,"Single VMA",null,{"$f":"IF(C52<'A P'!$N$5,3,0)","v":0},{"$f":"IF(D52<'A P'!$N$5,3,0)","v":0},{"$f":"IF(E52<'A P'!$N$5,3,0)","v":0},{"$f":"IF(F52<'A P'!$N$5,3,0)","v":0},{"$f":"IF(G52<'A P'!$N$5,3,0)","v":0},{"$f":"IF(H52<'A P'!$N$5,3,0)","v":0},{"$f":"IF(I52<'A P'!$N$5,3,0)","v":0},{"$f":"IF(J52<'A P'!$N$5,3,0)","v":0},{"$f":"IF(K52<'A P'!$N$5,3,0)","v":0},{"$f":"IF(L52<'A P'!$N$5,3,0)","v":0},{"$f":"IF(M52<'A P'!$N$5,3,0)","v":0},{"$f":"IF(N52<'A P'!$N$5,3,0)","v":0}]
["Avg. VMA",null,{"$f":"IF(ISBLANK($C$8),\" \",IF(ISTEXT(C52),\" \",IF(ISTEXT(D52),\" \",ROUND(AVERAGE(C52:D52),1))))","v":" "},null,{"$f":"IF(ISBLANK($C$8),\" \",IF(ISTEXT(E52),\" \",IF(ISTEXT(F52),\" \",ROUND(AVERAGE(E52:F52),1))))","v":" "},null,{"$f":"IF(ISBLANK($C$8),\" \",IF(ISTEXT(G52),\" \",IF(ISTEXT(H52),\" \",ROUND(AVERAGE(G52:H52),1))))","v":" "},null,{"$f":"IF(ISBLANK($C$8),\" \",IF(ISTEXT(I52),\" \",IF(ISTEXT(J52),\" \",ROUND(AVERAGE(I52:J52),1))))","v":" "},null,{"$f":"IF(ISBLANK($C$8),\" \",IF(ISTEXT(K52),\" \",IF(ISTEXT(L52),\" \",ROUND(AVERAGE(K52:L52),1))))","v":" "},null,{"$f":"IF(ISBLANK($C$8),\" \",IF(ISTEXT(M52),\" \",IF(ISTEXT(N52),\" \",ROUND(AVERAGE(M52:N52),1))))","v":" "},null,null,"Max",null,{"$f":"MAX(R50:S52)","v":0},null,{"$f":"MAX(T50:U52)","v":0},null,{"$f":"MAX(V50:W52)","v":0},null,{"$f":"MAX(X50:Y52)","v":0},null,{"$f":"MAX(Z50:AA52)","v":0},null,{"$f":"MAX(AB50:AC52)","v":0}]
["VFA",null,{"$f":"IF(ISBLANK($C$8),\" \",IF(ISTEXT(C48),\" \",IF(ISTEXT(C52),\" \",Vfa(C52,C50))))","v":" "},{"$f":"IF(ISBLANK($C$8),\" \",IF(ISTEXT(D48),\" \",IF(ISTEXT(D52),\" \",Vfa(D52,D50))))","v":" "},{"$f":"IF(ISBLANK($C$8),\" \",IF(ISTEXT(E48),\" \",IF(ISTEXT(E52),\" \",Vfa(E52,E50))))","v":" "}," "," "," "," "," "," "," "," "," "]
["Avg.VFA",null,{"$f":"IF(ISBLANK($C$8),\" \",IF(ISTEXT(C54),\" \",IF(ISTEXT(D54),\" \",ROUND(AVERAGE(C54:D54),0))))","v":" "},null,{"$f":"IF(ISBLANK($C$8),\" \",IF(ISTEXT(E54),\" \",IF(ISTEXT(F54),\" \",ROUND(AVERAGE(E54:F54),0))))","v":" "},null,{"$f":"IF(ISBLANK($C$8),\" \",IF(ISTEXT(G54),\" \",IF(ISTEXT(H54),\" \",ROUND(AVERAGE(G54:H54),0))))","v":" "},null,{"$f":"IF(ISBLANK($C$8),\" \",IF(ISTEXT(I54),\" \",IF(ISTEXT(J54),\" \",ROUND(AVERAGE(I54:J54),0))))","v":" "},null,{"$f":"IF(ISBLANK($C$8),\" \",IF(ISTEXT(K54),\" \",IF(ISTEXT(L54),\" \",ROUND(AVERAGE(K54:L54),0))))","v":" "},null,{"$f":"IF(ISBLANK($C$8),\" \",IF(ISTEXT(M54),\" \",IF(ISTEXT(N54),\" \",ROUND(AVERAGE(M54:N54),0))))","v":" "}]
["F/A",null,{"$f":"IF(ISBLANK(D42),\" \",IF(ISTEXT(C33),\" \",IF(ISBLANK(D41),\" \",Fa(D42,C33))))","v":" "},null,{"$f":"IF(ISBLANK(F42),\" \",IF(ISTEXT(E33),\" \",IF(ISBLANK(F41),\" \",Fa(F42,E33))))","v":" "},null,{"$f":"IF(ISBLANK(H42),\" \",IF(ISTEXT(G33),\" \",IF(ISBLANK(H41),\" \",Fa(H42,G33))))","v":" "},null,{"$f":"IF(ISBLANK(J42),\" \",IF(ISTEXT(I33),\" \",IF(ISBLANK(J41),\" \",Fa(J42,I33))))","v":" "},null,{"$f":"IF(ISBLANK(L42),\" \",IF(ISTEXT(K33),\" \",IF(ISBLANK(L41),\" \",Fa(L42,K33))))","v":" "},null,{"$f":"IF(ISBLANK(N42),\" \",IF(ISTEXT(M33),\" \",IF(ISBLANK(N41),\" \",Fa(N42,M33))))","v":" "}]
["Pbe",null,{"$f":"C33","v":" "},null,{"$f":"E33","v":" "},null,{"$f":"G33","v":" "},null,{"$f":"I33","v":" "},null,{"$f":"K33","v":" "},null,{"$f":"M33","v":" "}]
[null,null,"Voids","VMA","VFA",null,"Upper","Lower","Target"]
["Running averages for conditional formatting tolerances",null,{"$f":"'ST1'!F38","v":{"$error":"#N/A"}},{"$f":"'ST1'!H38","v":{"$error":"#N/A"}},{"$f":"'ST1'!J38","v":{"$error":"#N/A"}},"Voids",{"$f":"'A P'!C6","v":1.5},{"$f":"'A P'!C8","v":1.5},{"$f":"'A P'!C7","v":0}]
[null,null,{"$f":"'ST1'!F39","v":{"$error":"#N/A"}},{"$f":"'ST1'!H39","v":{"$error":"#N/A"}},{"$f":"'ST1'!J39","v":{"$error":"#N/A"}},"VMA",{"$f":"'A P'!C10","v":1},{"$f":"'A P'!C11","v":1}]
[null,null,{"$f":"'ST1'!F40","v":{"$error":"#N/A"}},{"$f":"'ST1'!H40","v":{"$error":"#N/A"}},{"$f":"'ST1'!J40","v":{"$error":"#N/A"}},"VFA",{"$f":"'A P'!C13","v":0},{"$f":"'A P'!C14","v":0}]
[null,null,{"$f":"'ST1'!F41","v":{"$error":"#N/A"}},{"$f":"'ST1'!H41","v":{"$error":"#N/A"}},{"$f":"'ST1'!J41","v":{"$error":"#N/A"}}]
[null,null,{"$f":"'ST1'!F42","v":{"$error":"#N/A"}},{"$f":"'ST1'!H42","v":{"$error":"#N/A"}},{"$f":"'ST1'!J42","v":{"$error":"#N/A"}}]
[null,null,{"$f":"'ST1'!F43","v":{"$error":"#N/A"}},{"$f":"'ST1'!H43","v":{"$error":"#N/A"}},{"$f":"'ST1'!J43","v":{"$error":"#N/A"}},"Conditional formatting of running avgs have been taken out of ESB-11 but formulas have been left in place in case future changes are necessary"]
[null,null,{"$f":"'ST1'!F44","v":{"$error":"#N/A"}},{"$f":"'ST1'!H44","v":{"$error":"#N/A"}},{"$f":"'ST1'!J44","v":{"$error":"#N/A"}}]
[null,null,{"$f":"'ST1'!F45","v":{"$error":"#N/A"}},{"$f":"'ST1'!H45","v":{"$error":"#N/A"}},{"$f":"'ST1'!J45","v":{"$error":"#N/A"}}]
[null,null,{"$f":"'ST1'!F46","v":{"$error":"#N/A"}},{"$f":"'ST1'!H46","v":{"$error":"#N/A"}},{"$f":"'ST1'!J46","v":{"$error":"#N/A"}}]
[null,null,{"$f":"'ST1'!F47","v":{"$error":"#N/A"}},{"$f":"'ST1'!H47","v":{"$error":"#N/A"}},{"$f":"'ST1'!J47","v":{"$error":"#N/A"}}]
[null,null,{"$f":"'ST1'!F48","v":{"$error":"#N/A"}},{"$f":"'ST1'!H48","v":{"$error":"#N/A"}},{"$f":"'ST1'!J48","v":{"$error":"#N/A"}}]
[null,null,{"$f":"'ST1'!F49","v":{"$error":"#N/A"}},{"$f":"'ST1'!H49","v":{"$error":"#N/A"}},{"$f":"'ST1'!J49","v":{"$error":"#N/A"}}]
[]
["Corrected Gsb for upper block using offset value C34 "]
[null,null,{"$f":"C28-$C$34","v":{"$error":"#DIV/0!"}},{"$f":"E28-$C$34","v":{"$error":"#DIV/0!"}},{"$f":"G28-$C$34","v":{"$error":"#DIV/0!"}},{"$f":"I28-$C$34","v":{"$error":"#DIV/0!"}},{"$f":"K28-$C$34","v":{"$error":"#DIV/0!"}},{"$f":"M28-$C$34","v":{"$error":"#DIV/0!"}}]
[]
[]
["Corrected Gsb for lower block using offset value C34 "]
[null,null,{"$f":"C31-$C$34","v":{"$error":"#DIV/0!"}},{"$f":"E31-$C$34","v":{"$error":"#DIV/0!"}},{"$f":"G31-$C$34","v":{"$error":"#DIV/0!"}},{"$f":"I31-$C$34","v":{"$error":"#DIV/0!"}},{"$f":"K31-$C$34","v":{"$error":"#DIV/0!"}},{"$f":"M31-$C$34","v":{"$error":"#DIV/0!"}}]
[]
[null,null,{"$f":"IF(AND(M36=\"Volumetric deviation, resample within 150 tons\",R53>0),\"Deviation on 150 ton sample, suspend production of JMF\",IF(OR(R50=1,S50=1,R51=2,R52=3,S52=3),\"Volumetric deviation, resample within 150 tons\",\" \"))","v":" "},null,{"$f":"IF(AND(C79=\"Volumetric deviation, resample within 150 tons\",T53>0),\"Deviation on 150 ton sample, suspend production of JMF\",IF(OR(T50=1,U50=1,T51=2,T52=3,U52=3),\"Volumetric deviation, resample within 150 tons\",\" \"))","v":" "},null,{"$f":"IF(AND(E79=\"Volumetric deviation, resample within 150 tons\",V53>0),\"Deviation on 150 ton sample, suspend production of JMF\",IF(OR(V50=1,W50=1,V51=2,V52=3,W52=3),\"Volumetric deviation, resample within 150 tons\",\" \"))","v":" "},null,{"$f":"IF(AND(G79=\"Volumetric deviation, resample within 150 tons\",X53>0),\"Deviation on 150 ton sample, suspend production of JMF\",IF(OR(X50=1,Y50=1,X51=2,X52=3,Y52=3),\"Volumetric deviation, resample within 150 tons\",\" \"))","v":" "},null,{"$f":"IF(AND(I79=\"Volumetric deviation, resample within 150 tons\",Z53>0),\"Deviation on 150 ton sample, suspend production of JMF\",IF(OR(Z50=1,AA50=1,Z51=2,Z52=3,AA52=3),\"Volumetric deviation, resample within 150 tons\",\" \"))","v":" "},null,{"$f":"IF(AND(K79=\"Volumetric deviation, resample within 150 tons\",AB53>0),\"Deviation on 150 ton sample, suspend production of JMF\",IF(OR(AB50=1,AC50=1,AB51=2,AB52=3,AC52=3),\"Volumetric deviation, resample within 150 tons\",\" \"))","v":" "}]

{"sheet":"V5","index":36,"n_rows":79,"n_cols":29,"rows_kept":79,"cut":false,"hidden":true,"merged":[[18,21,18,22],[22,25,22,26],[22,27,22,28],[48,15,48,16],[48,17,48,18],[48,19,48,20],[48,21,48,22],[48,23,48,24],[48,25,48,26],[48,27,48,28],[37,17,37,28],[18,23,18,24],[18,25,18,26],[50,21,50,22],[50,23,50,24],[50,25,50,26],[50,27,50,28],[51,15,51,16],[52,15,52,16],[52,17,52,18],[52,19,52,20],[52,21,52,22],[52,23,52,24],[52,25,52,26],[52,27,52,28],[78,0,80,1],[35,12,37,13],[35,10,37,11],[35,8,37,9],[35,6,37,7],[18,27,18,28],[19,15,19,16],[20,15,20,16],[20,17,20,18],[20,19,20,20],[20,21,20,22],[20,23,20,24],[20,25,20,26],[20,27,20,28],[18,15,18,16],[21,15,21,16],[22,15,22,16],[22,17,22,18],[22,19,22,20],[22,21,22,22],[22,23,22,24],[78,12,80,13],[78,10,80,11],[78,8,80,9],[78,6,80,7],[78,4,80,5],[78,2,80,3],[56,8,56,9],[18,17,18,18],[18,19,18,20],[49,15,49,16],[50,15,50,16],[50,17,50,18],[50,19,50,20],[38,6,38,7],[39,12,39,13],[39,10,39,11],[32,10,32,11],[32,12,32,13],[35,4,37,5],[35,2,37,3],[26,12,26,13],[26,8,26,9],[28,10,28,11],[28,6,28,7],[32,8,32,9],[30,12,30,13],[31,10,31,11],[71,0,73,1],[75,0,77,1],[54,8,54,9],[52,10,52,11],[52,12,52,13],[58,0,69,1],[55,10,55,11],[53,0,53,1],[54,0,54,1],[54,2,54,3],[55,0,55,1],[56,0,56,1],[56,2,56,3],[56,10,56,11],[56,12,56,13],[56,4,56,5],[56,6,56,7],[55,8,55,9],[55,2,55,3],[55,4,55,5],[55,6,55,7],[54,4,54,5],[54,6,54,7],[49,0,49,1],[55,12,55,13],[54,10,54,11],[54,12,54,13],[50,8,50,9],[50,10,50,11],[50,12,50,13],[48,10,48,11],[52,6,52,7],[48,12,48,13],[48,6,48,7],[51,0,51,1],[52,0,52,1],[50,0,50,1],[52,8,52,9],[52,2,52,3],[52,4,52,5],[50,6,50,7],[50,2,50,3],[50,4,50,5],[40,0,40,1],[39,0,39,1],[39,2,39,3],[39,4,39,5],[38,8,38,9],[48,2,48,3],[48,4,48,5],[41,0,41,1],[42,0,42,1],[38,2,38,3],[38,4,38,5],[48,0,48,1],[48,8,48,9],[39,6,39,7],[39,8,39,9],[47,0,47,1],[45,0,45,1],[46,0,46,1],[43,0,43,1],[44,0,44,1],[35,0,37,1],[34,0,34,1],[38,0,38,1],[28,8,28,9],[28,2,28,3],[38,10,38,11],[33,0,33,1],[33,3,33,12],[32,2,32,3],[32,4,32,5],[38,12,38,13],[31,12,31,13],[30,10,30,11],[32,6,32,7],[29,2,29,3],[29,4,29,5],[29,6,29,7],[29,8,29,9],[30,2,30,3],[30,4,30,5],[31,2,31,3],[28,12,28,13],[29,10,29,11],[29,12,29,13],[27,2,27,3],[27,4,27,5],[27,6,27,7],[27,8,27,9],[27,10,27,11],[27,12,27,13],[31,4,31,5],[31,6,31,7],[31,8,31,9],[30,6,30,7],[30,8,30,9],[26,0,26,1],[26,2,26,3],[26,4,26,5],[26,6,26,7],[26,10,26,11],[24,8,24,9],[24,10,24,11],[24,4,24,5],[24,6,24,7],[22,12,22,13],[23,0,23,1],[22,0,22,1],[22,2,22,3],[22,4,22,5],[22,6,22,7],[24,12,24,13],[25,0,25,1],[25,2,25,3],[25,4,25,5],[25,6,25,7],[25,8,25,9],[25,10,25,11],[25,12,25,13],[24,0,24,1],[24,2,24,3],[20,8,20,9],[12,0,12,1],[13,0,13,1],[14,0,14,1],[15,0,15,1],[20,12,20,13],[21,0,21,1],[20,0,20,1],[20,2,20,3],[20,4,20,5],[20,6,20,7],[18,8,18,9],[18,10,18,11],[18,12,18,13],[19,0,19,1],[18,0,18,1],[18,2,18,3],[18,4,18,5],[18,6,18,7],[9,2,9,3],[16,0,16,1],[17,0,17,1],[10,0,10,1],[11,0,11,1],[5,10,5,11],[6,12,6,13],[5,12,5,13],[9,12,9,13],[7,0,7,1],[7,2,7,3],[8,0,8,1],[8,2,8,3],[8,4,8,5],[9,0,9,1],[9,4,9,5],[9,6,9,7],[8,12,8,13],[7,10,7,11],[7,12,7,13],[8,10,8,11],[6,4,6,9],[7,4,7,7],[7,8,7,9],[0,0,3,1],[1,10,1,11],[1,12,1,13],[2,10,2,11],[2,12,2,13],[3,10,3,11],[3,12,3,13],[63,5,68,9],[4,10,4,11],[9,8,9,9],[9,10,9,11],[8,6,8,7],[8,8,8,9],[20,10,20,11],[22,8,22,9],[22,10,22,11],[28,4,28,5],[4,12,4,13],[6,0,6,1],[6,2,6,3],[6,10,6,11],[5,0,5,1],[5,2,5,3],[5,5,5,8]]}
[]
[null,null,null,null,"COMMONWEALTH OF PENNSYLVANIA",null,null,null,null,null,"DISTRICT",null,{"$f":"IF(ISBLANK('V1'!M2),\" \",('V1'!M2))","v":" "}]
[null,null,null,null,"DEPARTMENT OF TRANSPORTATION",null,null,null,null,null,"PLANT CODE",null,{"$f":"IF(ISBLANK('V1'!M3),\" \",('V1'!M3))","v":" "}]
[null,null,null,null,"LABORATORY TEST SECTION",null,null,null,null,null,"Design No.",null,{"$f":"IF(ISBLANK('V1'!M4),\" \",('V1'!M4))","v":" "}]
[{"$f":"'S1'!A5","v":"ESB-16"},null,null,null,null,null,null,null,null,null,"JMF VMA",null,{"$f":"IF(ISBLANK('V1'!M5),\" \",('V1'!M5))","v":" "}]
["Material Class ",null,{"$f":"IF(ISBLANK('V1'!C6),\" \",('V1'!C6))","v":9.5},null,null,"Volumetric Results",null,null,null,null,"JMF VFA",null,{"$f":"IF(ISBLANK('V1'!M6),\" \",('V1'!M6))","v":" "}]
["Gyrations @ Ndes",null,{"$f":"IF(ISBLANK('V1'!C7),\" \",('V1'!C7))","v":" "},null,"Red values indicate corrective action is needed",null,null,null,null,null,"JMF F/A",null,{"$f":"IF(ISBLANK('V1'!M7),\" \",('V1'!M7))","v":" "}]
["Gsb of Mix",null,{"$f":"IF(ISBLANK('V1'!C8),\" \",('V1'!C8))","v":" "},null,"Gyratory Specimen wt. from TR 448",null,null,null,{"$f":"IF(ISBLANK('V1'!I8),\" \",('V1'!I8))","v":" "},null,"JMF Voids",null,{"$f":"IF(ISBLANK('V1'!M8),\" \",('V1'!M8))","v":" "}]
["Sample No."]
["Date"]
["Gmm / Gb of AC"]
["AC / -200"]
["Specimen No",null,1,2,1,2,1,2,1,2,1,2,1,2]
["Height at Ndes"]
["Mass in Air"]
["Mass in Water"]
["SSD Mass"]
["Gmb",null,{"$f":"IF(ISBLANK(C15),\" \",IF(ISBLANK(C16),\" \",IF(ISBLANK(C17),\" \",ROUND(Gmb(C15,C16,C17),3))))","v":" "},{"$f":"IF(ISBLANK(D15),\" \",IF(ISBLANK(D16),\" \",IF(ISBLANK(D17),\" \",ROUND(Gmb(D15,D16,D17),3))))","v":" "}," "," "," "," "," "," "," "," "," "," "]
["Average Gmb",null,{"$f":"IF(ISTEXT(C18),\" \",IF(ISTEXT(D18),\" \",AVERAGE(C18:D18)))","v":" "},null,{"$f":"IF(ISTEXT(E18),\" \",IF(ISTEXT(F18),\" \",AVERAGE(E18:F18)))","v":" "},null,{"$f":"IF(ISTEXT(G18),\" \",IF(ISTEXT(H18),\" \",AVERAGE(G18:H18)))","v":" "},null,{"$f":"IF(ISTEXT(I18),\" \",IF(ISTEXT(J18),\" \",AVERAGE(I18:J18)))","v":" "},null,{"$f":"IF(ISTEXT(K18),\" \",IF(ISTEXT(L18),\" \",AVERAGE(K18:L18)))","v":" "},null,{"$f":"IF(ISTEXT(M18),\" \",IF(ISTEXT(N18),\" \",AVERAGE(M18:N18)))","v":" "},null,null,"Sample",null,1,null,2,null,3,null,4,null,5,null,6]
["(Voids)VTM",null,{"$f":"IF(ISBLANK(C11),\" \",IF(ISTEXT(C18),\" \",ROUND(Va($C$11,C18),1)))","v":" "},{"$f":"IF(ISBLANK(C11),\" \",IF(ISTEXT(D18),\" \",ROUND(Va($C$11,D18),1)))","v":" "},{"$f":"IF(ISBLANK(E11),\" \",IF(ISTEXT(E18),\" \",ROUND(Va($E$11,E18),1)))","v":" "},{"$f":"IF(ISBLANK(E11),\" \",IF(ISTEXT(F18),\" \",ROUND(Va($E$11,F18),1)))","v":" "},{"$f":"IF(ISBLANK(G11),\" \",IF(ISTEXT(G18),\" \",ROUND(Va($G$11,G18),1)))","v":" "},{"$f":"IF(ISBLANK(G11),\" \",IF(ISTEXT(H18),\" \",ROUND(Va($G$11,H18),1)))","v":" "},{"$f":"IF(ISBLANK(I11),\" \",IF(ISTEXT(I18),\" \",ROUND(Va($I$11,I18),1)))","v":" "},{"$f":"IF(ISBLANK(I11),\" \",IF(ISTEXT(J18),\" \",ROUND(Va($I$11,J18),1)))","v":" "},{"$f":"IF(ISBLANK(K11),\" \",IF(ISTEXT(K18),\" \",ROUND(Va($K$11,K18),1)))","v":" "},{"$f":"IF(ISBLANK(K11),\" \",IF(ISTEXT(L18),\" \",ROUND(Va($K$11,L18),1)))","v":" "},{"$f":"IF(ISBLANK(M11),\" \",IF(ISTEXT(M18),\" \",ROUND(Va($M$11,M18),1)))","v":" "},{"$f":"IF(ISBLANK(M11),\" \",IF(ISTEXT(N18),\" \",ROUND(Va($M$11,N18),1)))","v":" "},null,"single voids",null,{"$f":"IF(ISTEXT(C20),\" \",IF(OR(C20>$M$8+2,C20<$M$8-2),1,0))","v":" "},{"$f":"IF(ISTEXT(D20),\" \",IF(OR(D20>$M$8+2,D20<$M$8-2),1,0))","v":" "}," "," "," "," "," "," "," "," "," "," "]
["AVG.(Voids)VTM",null,{"$f":"IF(ISTEXT(C20),\" \",IF(ISTEXT(D20),\" \",ROUND(AVERAGE(C20:D20),1)))","v":" "},null,{"$f":"IF(ISTEXT(E20),\" \",IF(ISTEXT(F20),\" \",ROUND(AVERAGE(E20:F20),1)))","v":" "},null,{"$f":"IF(ISTEXT(G20),\" \",IF(ISTEXT(H20),\" \",ROUND(AVERAGE(G20:H20),1)))","v":" "},null,{"$f":"IF(ISTEXT(I20),\" \",IF(ISTEXT(J20),\" \",ROUND(AVERAGE(I20:J20),1)))","v":" "},null,{"$f":"IF(ISTEXT(K20),\" \",IF(ISTEXT(L20),\" \",ROUND(AVERAGE(K20:L20),1)))","v":" "},null,{"$f":"IF(ISTEXT(M20),\" \",IF(ISTEXT(N20),\" \",ROUND(AVERAGE(M20:N20),1)))","v":" "},null,null,"Avg voids",null,{"$f":"IF(ISTEXT(C21),\" \",IF(OR(C21>$M$8+1.5,C21<$M$8-1.5),2,0))","v":" "},null,{"$f":"IF(ISTEXT(E21),\" \",IF(OR(E21>$M$8+1.5,E21<$M$8-1.5),2,0))","v":" "},null,{"$f":"IF(ISTEXT(G21),\" \",IF(OR(G21>$M$8+1.5,G21<$M$8-1.5),2,0))","v":" "},null,{"$f":"IF(ISTEXT(I21),\" \",IF(OR(I21>$M$8+1.5,I21<$M$8-1.5),2,0))","v":" "},null,{"$f":"IF(ISTEXT(K21),\" \",IF(OR(K21>$M$8+1.5,K21<$M$8-1.5),2,0))","v":" "},null,{"$f":"IF(ISTEXT(M21),\" \",IF(OR(M21>$M$8+1.5,M21<$M$8-1.5),2,0))","v":" "}]
["VMA",null,{"$f":"IF(ISTEXT(C18),\" \",IF(ISBLANK(C12),\" \",IF(ISBLANK($C$8),\" \",ROUND(Vma(C18,C12,C73),1))))","v":" "},{"$f":"IF(ISTEXT(D18),\" \",IF(ISBLANK(C12),\" \",IF(ISBLANK($C$8),\" \",ROUND(Vma(D18,C12,C73),1))))","v":" "},{"$f":"IF(ISTEXT(E18),\" \",IF(ISBLANK(E12),\" \",IF(ISBLANK($C$8),\" \",ROUND(Vma(E18,E12,D73),1))))","v":" "},{"$f":"IF(ISTEXT(F18),\" \",IF(ISBLANK(E12),\" \",IF(ISBLANK($C$8),\" \",ROUND(Vma(F18,E12,D73),1))))","v":" "},{"$f":"IF(ISTEXT(G18),\" \",IF(ISBLANK(G12),\" \",IF(ISBLANK($C$8),\" \",ROUND(Vma(G18,G12,E73),1))))","v":" "},{"$f":"IF(ISTEXT(H18),\" \",IF(ISBLANK(G12),\" \",IF(ISBLANK($C$8),\" \",ROUND(Vma(H18,G12,E73),1))))","v":" "},{"$f":"IF(ISTEXT(I18),\" \",IF(ISBLANK(I12),\" \",IF(ISBLANK($C$8),\" \",ROUND(Vma(I18,I12,F73),1))))","v":" "},{"$f":"IF(ISTEXT(J18),\" \",IF(ISBLANK(I12),\" \",IF(ISBLANK($C$8),\" \",ROUND(Vma(J18,I12,F73),1))))","v":" "},{"$f":"IF(ISTEXT(K18),\" \",IF(ISBLANK(K12),\" \",IF(ISBLANK($C$8),\" \",ROUND(Vma(K18,K12,G73),1))))","v":" "},{"$f":"IF(ISTEXT(L18),\" \",IF(ISBLANK(K12),\" \",IF(ISBLANK($C$8),\" \",ROUND(Vma(L18,K12,G73),1))))","v":" "},{"$f":"IF(ISTEXT(M18),\" \",IF(ISBLANK(M12),\" \",IF(ISBLANK($C$8),\" \",ROUND(Vma(M18,M12,H73),1))))","v":" "},{"$f":"IF(ISTEXT(N18),\" \",IF(ISBLANK(M12),\" \",IF(ISBLANK($C$8),\" \",ROUND(Vma(N18,M12,H73),1))))","v":" "},null,"Single VMA",null,{"$f":"IF(C22<'A P'!$N$5,3,0)","v":0},{"$f":"IF(D22<'A P'!$N$5,3,0)","v":0},{"$f":"IF(E22<'A P'!$N$5,3,0)","v":0},{"$f":"IF(F22<'A P'!$N$5,3,0)","v":0},{"$f":"IF(G22<'A P'!$N$5,3,0)","v":0},{"$f":"IF(H22<'A P'!$N$5,3,0)","v":0},{"$f":"IF(I22<'A P'!$N$5,3,0)","v":0},{"$f":"IF(J22<'A P'!$N$5,3,0)","v":0},{"$f":"IF(K22<'A P'!$N$5,3,0)","v":0},{"$f":"IF(L22<'A P'!$N$5,3,0)","v":0},{"$f":"IF(M22<'A P'!$N$5,3,0)","v":0},{"$f":"IF(N22<'A P'!$N$5,3,0)","v":0}]
["Avg. VMA",null,{"$f":"IF(ISBLANK($C$8),\" \",IF(ISTEXT(C22),\" \",IF(ISTEXT(D22),\" \",ROUND(AVERAGE(C22:D22),1))))","v":" "},null,{"$f":"IF(ISBLANK($C$8),\" \",IF(ISTEXT(E22),\" \",IF(ISTEXT(F22),\" \",ROUND(AVERAGE(E22:F22),1))))","v":" "},null,{"$f":"IF(ISBLANK($C$8),\" \",IF(ISTEXT(G22),\" \",IF(ISTEXT(H22),\" \",ROUND(AVERAGE(G22:H22),1))))","v":" "},null,{"$f":"IF(ISBLANK($C$8),\" \",IF(ISTEXT(I22),\" \",IF(ISTEXT(J22),\" \",ROUND(AVERAGE(I22:J22),1))))","v":" "},null,{"$f":"IF(ISBLANK($C$8),\" \",IF(ISTEXT(K22),\" \",IF(ISTEXT(L22),\" \",ROUND(AVERAGE(K22:L22),1))))","v":" "},null,{"$f":"IF(ISBLANK($C$8),\" \",IF(ISTEXT(M22),\" \",IF(ISTEXT(N22),\" \",ROUND(AVERAGE(M22:N22),1))))","v":" "},null,null,"Max",null,{"$f":"MAX(R20:S22)","v":0},null,{"$f":"MAX(T20:U22)","v":0},null,{"$f":"MAX(V20:W22)","v":0},null,{"$f":"MAX(X20:Y22)","v":0},null,{"$f":"MAX(Z20:AA22)","v":0},null,{"$f":"MAX(AB20:AC22)","v":0}]
["VFA",null,{"$f":"IF(ISBLANK($C$8),\" \",IF(ISTEXT(C18),\" \",IF(ISTEXT(C22),\" \",Vfa(C22,C20))))","v":" "},{"$f":"IF(ISBLANK($C$8),\" \",IF(ISTEXT(D18),\" \",IF(ISTEXT(D22),\" \",Vfa(D22,D20))))","v":" "},{"$f":"IF(ISBLANK($C$8),\" \",IF(ISTEXT(E18),\" \",IF(ISTEXT(E22),\" \",Vfa(E22,E20))))","v":" "}," "," "," "," "," "," "," "," "," "]
["Avg.VFA",null,{"$f":"IF(ISBLANK($C$8),\" \",IF(ISTEXT(C24),\" \",IF(ISTEXT(D24),\" \",ROUND(AVERAGE(C24:D24),0))))","v":" "},null,{"$f":"IF(ISBLANK($C$8),\" \",IF(ISTEXT(E24),\" \",IF(ISTEXT(F24),\" \",ROUND(AVERAGE(E24:F24),0))))","v":" "},null,{"$f":"IF(ISBLANK($C$8),\" \",IF(ISTEXT(G24),\" \",IF(ISTEXT(H24),\" \",ROUND(AVERAGE(G24:H24),0))))","v":" "},null,{"$f":"IF(ISBLANK($C$8),\" \",IF(ISTEXT(I24),\" \",IF(ISTEXT(J24),\" \",ROUND(AVERAGE(I24:J24),0))))","v":" "},null,{"$f":"IF(ISBLANK($C$8),\" \",IF(ISTEXT(K24),\" \",IF(ISTEXT(L24),\" \",ROUND(AVERAGE(K24:L24),0))))","v":" "},null,{"$f":"IF(ISBLANK($C$8),\" \",IF(ISTEXT(M24),\" \",IF(ISTEXT(N24),\" \",ROUND(AVERAGE(M24:N24),0))))","v":" "}]
["F/A",null,{"$f":"IF(ISBLANK(D12),\" \",IF(ISTEXT(C30),\" \",IF(ISBLANK(D11),\" \",Fa(D12,C30))))","v":" "},null,{"$f":"IF(ISBLANK(F12),\" \",IF(ISTEXT(E30),\" \",IF(ISBLANK(F11),\" \",Fa(F12,E30))))","v":" "},null,{"$f":"IF(ISBLANK(H12),\" \",IF(ISTEXT(G30),\" \",IF(ISBLANK(H11),\" \",Fa(H12,G30))))","v":" "},null,{"$f":"IF(ISBLANK(J12),\" \",IF(ISTEXT(I30),\" \",IF(ISBLANK(J11),\" \",Fa(J12,I30))))","v":" "},null,{"$f":"IF(ISBLANK(L12),\" \",IF(ISTEXT(K30),\" \",IF(ISBLANK(L11),\" \",Fa(L12,K30))))","v":" "},null,{"$f":"IF(ISBLANK(N12),\" \",IF(ISTEXT(M30),\" \",IF(ISBLANK(N11),\" \",Fa(N12,M30))))","v":" "}]
["Pbe",null,{"$f":"C30","v":" "},null,{"$f":"E30","v":" "},null,{"$f":"G30","v":" "},null,{"$f":"I30","v":" "},null,{"$f":"K30","v":" "},null,{"$f":"M30","v":" "}]
[null,"Gse",{"$f":"ROUND((100-C$12)/((100/C$11)-(C$12/$D11)),3)","v":{"$error":"#DIV/0!"}},null,{"$f":"ROUND((100-E$12)/((100/E$11)-(E$12/F11)),3)","v":{"$error":"#DIV/0!"}},null,{"$f":"ROUND((100-G$12)/((100/G$11)-(G$12/H11)),3)","v":{"$error":"#DIV/0!"}},null,{"$f":"ROUND((100-I$12)/((100/I$11)-(I$12/J11)),3)","v":{"$error":"#DIV/0!"}},null,{"$f":"ROUND((100-K$12)/((100/K$11)-(K$12/L11)),3)","v":{"$error":"#DIV/0!"}},null,{"$f":"ROUND((100-M$12)/((100/M$11)-(M$12/N11)),3)","v":{"$error":"#DIV/0!"}}]
[null,"Pba",{"$f":"IF(ISBLANK(C28),\" \",IF(ISBLANK($C$8),\" \",(100*((C$28-C73)/(C73*C$28))*D11)))","v":{"$error":"#DIV/0!"}},null,{"$f":"IF(ISBLANK(E28),\" \",IF(ISBLANK($C$8),\" \",(100*((E$28-D73)/(D73*E$28))*F11)))","v":{"$error":"#DIV/0!"}},null,{"$f":"IF(ISBLANK(G28),\" \",IF(ISBLANK($C$8),\" \",(100*((G$28-E73)/(E73*G$28))*H11)))","v":{"$error":"#DIV/0!"}},null,{"$f":"IF(ISBLANK(I28),\" \",IF(ISBLANK($C$8),\" \",(100*((I$28-F73)/(F73*I$28))*J11)))","v":{"$error":"#DIV/0!"}},null,{"$f":"IF(ISBLANK(K28),\" \",IF(ISBLANK($C$8),\" \",(100*((K$28-G73)/(G73*K$28))*L11)))","v":{"$error":"#DIV/0!"}},null,{"$f":"IF(ISBLANK(M28),\" \",IF(ISBLANK($C$8),\" \",(100*((M$28-H73)/(H73*M$28))*N11)))","v":{"$error":"#DIV/0!"}}]
[null,"Pbe",{"$f":"IF(ISBLANK($C$8),\" \",IF(ISBLANK(C12),\" \",IF(ISBLANK(C29),\" \",ROUND((C$12-((C$29/100)*(100-C$12))),2))))","v":" "},null,{"$f":"IF(ISBLANK($C$8),\" \",IF(ISBLANK(E$12),\" \",IF(ISBLANK(E29),\" \",ROUND((E$12-((E$29/100)*(100-E$12))),2))))","v":" "},null,{"$f":"IF(ISBLANK($C$8),\" \",IF(ISBLANK(G$12),\" \",IF(ISBLANK(G29),\" \",ROUND((G$12-((G$29/100)*(100-G$12))),2))))","v":" "},null,{"$f":"IF(ISBLANK($C$8),\" \",IF(ISBLANK(I$12),\" \",IF(ISBLANK(I29),\" \",ROUND((I$12-((I$29/100)*(100-I$12))),2))))","v":" "},null,{"$f":"IF(ISBLANK($C$8),\" \",IF(ISBLANK(K$12),\" \",IF(ISBLANK(K29),\" \",ROUND((K$12-((K$29/100)*(100-K$12))),2))))","v":" "},null,{"$f":"IF(ISBLANK($C$8),\" \",IF(ISBLANK(M$12),\" \",IF(ISBLANK(M29),\" \",ROUND((M$12-((M$29/100)*(100-M$12))),2))))","v":" "}]
[null,"Gse",{"$f":"ROUND((100-C$42)/((100/C$41)-(C$42/D41)),3)","v":{"$error":"#DIV/0!"}},null,{"$f":"ROUND((100-E$42)/((100/E$41)-(E$42/F41)),3)","v":{"$error":"#DIV/0!"}},null,{"$f":"ROUND((100-G$42)/((100/G$41)-(G$42/H41)),3)","v":{"$error":"#DIV/0!"}},null,{"$f":"ROUND((100-I$42)/((100/I$41)-(I$42/J41)),3)","v":{"$error":"#DIV/0!"}},null,{"$f":"ROUND((100-K$42)/((100/K$41)-(K$42/L41)),3)","v":{"$error":"#DIV/0!"}},null,{"$f":"ROUND((100-M$42)/((100/M$41)-(M$42/N41)),3)","v":{"$error":"#DIV/0!"}}]
[null,"Pba",{"$f":"IF(ISBLANK(C31),\" \",IF(ISBLANK($C$8),\" \",(100*((C$31-C77)/(C77*C$31))*D41)))","v":{"$error":"#DIV/0!"}},null,{"$f":"IF(ISBLANK(E31),\" \",IF(ISBLANK($C$8),\" \",(100*((E$31-D77)/(D77*E$31))*F41)))","v":{"$error":"#DIV/0!"}},null,{"$f":"IF(ISBLANK(G31),\" \",IF(ISBLANK($C$8),\" \",(100*((G$31-E77)/(E77*G$31))*H41)))","v":{"$error":"#DIV/0!"}},null,{"$f":"IF(ISBLANK(I31),\" \",IF(ISBLANK($C$8),\" \",(100*((I$31-F77)/(F77*I$31))*J41)))","v":{"$error":"#DIV/0!"}},null,{"$f":"IF(ISBLANK(K31),\" \",IF(ISBLANK($C$8),\" \",(100*((K$31-G77)/(G77*K$31))*L41)))","v":{"$error":"#DIV/0!"}},null,{"$f":"IF(ISBLANK(M31),\" \",IF(ISBLANK($C$8),\" \",(100*((M$31-H77)/(H77*M$31))*N41)))","v":{"$error":"#DIV/0!"}}]
[null,"Pbe",{"$f":"IF(ISBLANK($C$8),\" \",IF(ISBLANK(C42),\" \",IF(ISBLANK(C32),\" \",ROUND((C$42-((C$32/100)*(100-C$42))),2))))","v":" "},null,{"$f":"IF(ISBLANK($C$8),\" \",IF(ISBLANK(E42),\" \",IF(ISBLANK(E32),\" \",ROUND((E$42-((E$32/100)*(100-E$42))),2))))","v":" "},null,{"$f":"IF(ISBLANK($C$8),\" \",IF(ISBLANK(G42),\" \",IF(ISBLANK(G32),\" \",ROUND((G$42-((G$32/100)*(100-G$42))),2))))","v":" "},null,{"$f":"IF(ISBLANK($C$8),\" \",IF(ISBLANK(I42),\" \",IF(ISBLANK(I32),\" \",ROUND((I$42-((I$32/100)*(100-I$42))),2))))","v":" "},null,{"$f":"IF(ISBLANK($C$8),\" \",IF(ISBLANK(K42),\" \",IF(ISBLANK(K32),\" \",ROUND((K$42-((K$32/100)*(100-K$42))),2))))","v":" "},null,{"$f":"IF(ISBLANK($C$8),\" \",IF(ISBLANK(M42),\" \",IF(ISBLANK(M32),\" \",ROUND((M$42-((M$32/100)*(100-M$42))),2))))","v":" "}]
["Offset value",null,{"$f":"'G1'!B38-C8","v":{"$error":"#DIV/0!"}}]
[]
[null,null,{"$f":"IF(AND('V4'!M79=\"Volumetric deviation, resample within 150 tons\",R23>0),\"Deviation on 150 ton sample, suspend production of JMF\",IF(OR(R20=1,S20=1,R21=2,R22=3,S22=3),\"Volumetric deviation, resample within 150 tons\",\" \"))","v":" "},null,{"$f":"IF(AND(C36=\"Volumetric deviation, resample within 150 tons\",T23>0),\"Deviation on 150 ton sample, suspend production of JMF\",IF(OR(T20=1,U20=1,T21=2,T22=3,U22=3),\"Volumetric deviation, resample within 150 tons\",\" \"))","v":" "},null,{"$f":"IF(AND(E36=\"Volumetric deviation, resample within 150 tons\",V23>0),\"Deviation on 150 ton sample, suspend production of JMF\",IF(OR(V20=1,W20=1,V21=2,V22=3,W22=3),\"Volumetric deviation, resample within 150 tons\",\" \"))","v":" "},null,{"$f":"IF(AND(G36=\"Volumetric deviation, resample within 150 tons\",X23>0),\"Deviation on 150 ton sample, suspend production of JMF\",IF(OR(X20=1,Y20=1,X21=2,X22=3,Y22=3),\"Volumetric deviation, resample within 150 tons\",\" \"))","v":" "},null,{"$f":"IF(AND(I36=\"Volumetric deviation, resample within 150 tons\",Z23>0),\"Deviation on 150 ton sample, suspend production of JMF\",IF(OR(Z20=1,AA20=1,Z21=2,Z22=3,AA22=3),\"Volumetric deviation, resample within 150 tons\",\" \"))","v":" "},null,{"$f":"IF(AND(K36=\"Volumetric deviation, resample within 150 tons\",AB23>0),\"Deviation on 150 ton sample, suspend production of JMF\",IF(OR(AB20=1,AC20=1,AB21=2,AB22=3,AC22=3),\"Volumetric deviation, resample within 150 tons\",\" \"))","v":" "}]
[]
[null,null,null,null,null,null,null,null,null,null,null,null,null,null,null,null,null,"This determines if samples meet single and multiple tolerances and is used for cond. Formatting and action notes"]
["Sample No."]
["Date"]
["Gmm / Gb of AC"]
["AC / -200"]
["Specimen No",null,1,2,1,2,1,2,1,2,1,2,1,2]
["Height at Ndes"]
["Mass in Air"]
["Mass in Water"]
["SSD Mass"]
["Gmb",null,{"$f":"IF(ISBLANK(C45),\" \",IF(ISBLANK(C46),\" \",IF(ISBLANK(C47),\" \",ROUND(Gmb(C45,C46,C47),3))))","v":" "}," "," "," "," "," "," "," "," "," "," "," "]
["Average Gmb",null,{"$f":"IF(ISTEXT(C48),\" \",IF(ISTEXT(D48),\" \",AVERAGE(C48:D48)))","v":" "},null,{"$f":"IF(ISTEXT(E48),\" \",IF(ISTEXT(F48),\" \",AVERAGE(E48:F48)))","v":" "},null,{"$f":"IF(ISTEXT(G48),\" \",IF(ISTEXT(H48),\" \",AVERAGE(G48:H48)))","v":" "},null,{"$f":"IF(ISTEXT(I48),\" \",IF(ISTEXT(J48),\" \",AVERAGE(I48:J48)))","v":" "},null,{"$f":"IF(ISTEXT(K48),\" \",IF(ISTEXT(L48),\" \",AVERAGE(K48:L48)))","v":" "},null,{"$f":"IF(ISTEXT(M48),\" \",IF(ISTEXT(N48),\" \",AVERAGE(M48:N48)))","v":" "},null,null,"Sample",null,7,null,8,null,9,null,10,null,11,null,12]
["(Voids)VTM",null,{"$f":"IF(ISBLANK(C41),\" \",IF(ISTEXT(C48),\" \",ROUND(Va($C$41,C48),1)))","v":" "},{"$f":"IF(ISBLANK(C41),\" \",IF(ISTEXT(D48),\" \",ROUND(Va($C$41,D48),1)))","v":" "},{"$f":"IF(ISBLANK(E41),\" \",IF(ISTEXT(E48),\" \",ROUND(Va($E$41,E48),1)))","v":" "},{"$f":"IF(ISBLANK(E41),\" \",IF(ISTEXT(F48),\" \",ROUND(Va($E$41,F48),1)))","v":" "},{"$f":"IF(ISBLANK(G41),\" \",IF(ISTEXT(G48),\" \",ROUND(Va($G$41,G48),1)))","v":" "},{"$f":"IF(ISBLANK(G41),\" \",IF(ISTEXT(H48),\" \",ROUND(Va($G$41,H48),1)))","v":" "},{"$f":"IF(ISBLANK(I41),\" \",IF(ISTEXT(I48),\" \",ROUND(Va($I$41,I48),1)))","v":" "},{"$f":"IF(ISBLANK(I41),\" \",IF(ISTEXT(J48),\" \",ROUND(Va($I$41,J48),1)))","v":" "},{"$f":"IF(ISBLANK(K41),\" \",IF(ISTEXT(K48),\" \",ROUND(Va($K$41,K48),1)))","v":" "},{"$f":"IF(ISBLANK(K41),\" \",IF(ISTEXT(L48),\" \",ROUND(Va($K$41,L48),1)))","v":" "},{"$f":"IF(ISBLANK(M41),\" \",IF(ISTEXT(M48),\" \",ROUND(Va($M$41,M48),1)))","v":" "},{"$f":"IF(ISBLANK(M41),\" \",IF(ISTEXT(N48),\" \",ROUND(Va($M$41,N48),1)))","v":" "},null,"single voids",null,{"$f":"IF(ISTEXT(C50),\" \",IF(OR(C50>$M$8+2,C50<$M$8-2),1,0))","v":" "},{"$f":"IF(ISTEXT(D50),\" \",IF(OR(D50>$M$8+2,D50<$M$8-2),1,0))","v":" "},{"$f":"IF(ISTEXT(E50),\" \",IF(OR(E50>$M$8+2,E50<$M$8-2),1,0))","v":" "}," "," "," "," "," "," "," "," "," "]
["AVG.(Voids)VTM",null,{"$f":"IF(ISTEXT(C50),\" \",IF(ISTEXT(D50),\" \",ROUND(AVERAGE(C50:D50),1)))","v":" "},null,{"$f":"IF(ISTEXT(E50),\" \",IF(ISTEXT(F50),\" \",ROUND(AVERAGE(E50:F50),1)))","v":" "},null,{"$f":"IF(ISTEXT(G50),\" \",IF(ISTEXT(H50),\" \",ROUND(AVERAGE(G50:H50),1)))","v":" "},null,{"$f":"IF(ISTEXT(I50),\" \",IF(ISTEXT(J50),\" \",ROUND(AVERAGE(I50:J50),1)))","v":" "},null,{"$f":"IF(ISTEXT(K50),\" \",IF(ISTEXT(L50),\" \",ROUND(AVERAGE(K50:L50),1)))","v":" "},null,{"$f":"IF(ISTEXT(M50),\" \",IF(ISTEXT(N50),\" \",ROUND(AVERAGE(M50:N50),1)))","v":" "},null,null,"Avg voids",null,{"$f":"IF(ISTEXT(C51),\" \",IF(OR(C51>$M$8+1.5,C51<$M$8-1.5),2,0))","v":" "},null,{"$f":"IF(ISTEXT(E51),\" \",IF(OR(E51>$M$8+1.5,E51<$M$8-1.5),2,0))","v":" "},null,{"$f":"IF(ISTEXT(G51),\" \",IF(OR(G51>$M$8+1.5,G51<$M$8-1.5),2,0))","v":" "},null,{"$f":"IF(ISTEXT(I51),\" \",IF(OR(I51>$M$8+1.5,I51<$M$8-1.5),2,0))","v":" "},null,{"$f":"IF(ISTEXT(K51),\" \",IF(OR(K51>$M$8+1.5,K51<$M$8-1.5),2,0))","v":" "},null,{"$f":"IF(ISTEXT(M51),\" \",IF(OR(M51>$M$8+1.5,M51<$M$8-1.5),2,0))","v":" "}]
["VMA",null,{"$f":"IF(ISTEXT(C48),\" \",IF(ISBLANK(C42),\" \",IF(ISBLANK($C$8),\" \",ROUND(Vma(C48,C42,C77),1))))","v":" "},{"$f":"IF(ISTEXT(D48),\" \",IF(ISBLANK(C42),\" \",IF(ISBLANK($C$8),\" \",ROUND(Vma(D48,C42,C77),1))))","v":" "},{"$f":"IF(ISTEXT(E48),\" \",IF(ISBLANK(E42),\" \",IF(ISBLANK($C$8),\" \",ROUND(Vma(E48,E42,D77),1))))","v":" "},{"$f":"IF(ISTEXT(F48),\" \",IF(ISBLANK(E42),\" \",IF(ISBLANK($C$8),\" \",ROUND(Vma(F48,E42,D77),1))))","v":" "},{"$f":"IF(ISTEXT(G48),\" \",IF(ISBLANK(G42),\" \",IF(ISBLANK($C$8),\" \",ROUND(Vma(G48,G42,E77),1))))","v":" "},{"$f":"IF(ISTEXT(H48),\" \",IF(ISBLANK(G42),\" \",IF(ISBLANK($C$8),\" \",ROUND(Vma(H48,G42,E77),1))))","v":" "},{"$f":"IF(ISTEXT(I48),\" \",IF(ISBLANK(I42),\" \",IF(ISBLANK($C$8),\" \",ROUND(Vma(I48,I42,F77),1))))","v":" "},{"$f":"IF(ISTEXT(J48),\" \",IF(ISBLANK(I42),\" \",IF(ISBLANK($C$8),\" \",ROUND(Vma(J48,I42,F77),1))))","v":" "},{"$f":"IF(ISTEXT(K48),\" \",IF(ISBLANK(K42),\" \",IF(ISBLANK($C$8),\" \",ROUND(Vma(K48,K42,G77),1))))","v":" "},{"$f":"IF(ISTEXT(L48),\" \",IF(ISBLANK(K42),\" \",IF(ISBLANK($C$8),\" \",ROUND(Vma(L48,K42,G77),1))))","v":" "},{"$f":"IF(ISTEXT(M48),\" \",IF(ISBLANK(M42),\" \",IF(ISBLANK($C$8),\" \",ROUND(Vma(M48,M42,H77),1))))","v":" "},{"$f":"IF(ISTEXT(N48),\" \",IF(ISBLANK(M42),\" \",IF(ISBLANK($C$8),\" \",ROUND(Vma(N48,M42,H77),1))))","v":" "},null,"Single VMA",null,{"$f":"IF(C52<'A P'!$N$5,3,0)","v":0},{"$f":"IF(D52<'A P'!$N$5,3,0)","v":0},{"$f":"IF(E52<'A P'!$N$5,3,0)","v":0},{"$f":"IF(F52<'A P'!$N$5,3,0)","v":0},{"$f":"IF(G52<'A P'!$N$5,3,0)","v":0},{"$f":"IF(H52<'A P'!$N$5,3,0)","v":0},{"$f":"IF(I52<'A P'!$N$5,3,0)","v":0},{"$f":"IF(J52<'A P'!$N$5,3,0)","v":0},{"$f":"IF(K52<'A P'!$N$5,3,0)","v":0},{"$f":"IF(L52<'A P'!$N$5,3,0)","v":0},{"$f":"IF(M52<'A P'!$N$5,3,0)","v":0},{"$f":"IF(N52<'A P'!$N$5,3,0)","v":0}]
["Avg. VMA",null,{"$f":"IF(ISBLANK($C$8),\" \",IF(ISTEXT(C52),\" \",IF(ISTEXT(D52),\" \",ROUND(AVERAGE(C52:D52),1))))","v":" "},null,{"$f":"IF(ISBLANK($C$8),\" \",IF(ISTEXT(E52),\" \",IF(ISTEXT(F52),\" \",ROUND(AVERAGE(E52:F52),1))))","v":" "},null,{"$f":"IF(ISBLANK($C$8),\" \",IF(ISTEXT(G52),\" \",IF(ISTEXT(H52),\" \",ROUND(AVERAGE(G52:H52),1))))","v":" "},null,{"$f":"IF(ISBLANK($C$8),\" \",IF(ISTEXT(I52),\" \",IF(ISTEXT(J52),\" \",ROUND(AVERAGE(I52:J52),1))))","v":" "},null,{"$f":"IF(ISBLANK($C$8),\" \",IF(ISTEXT(K52),\" \",IF(ISTEXT(L52),\" \",ROUND(AVERAGE(K52:L52),1))))","v":" "},null,{"$f":"IF(ISBLANK($C$8),\" \",IF(ISTEXT(M52),\" \",IF(ISTEXT(N52),\" \",ROUND(AVERAGE(M52:N52),1))))","v":" "},null,null,"Max",null,{"$f":"MAX(R50:S52)","v":0},null,{"$f":"MAX(T50:U52)","v":0},null,{"$f":"MAX(V50:W52)","v":0},null,{"$f":"MAX(X50:Y52)","v":0},null,{"$f":"MAX(Z50:AA52)","v":0},null,{"$f":"MAX(AB50:AC52)","v":0}]
["VFA",null,{"$f":"IF(ISBLANK($C$8),\" \",IF(ISTEXT(C48),\" \",IF(ISTEXT(C52),\" \",Vfa(C52,C50))))","v":" "},{"$f":"IF(ISBLANK($C$8),\" \",IF(ISTEXT(D48),\" \",IF(ISTEXT(D52),\" \",Vfa(D52,D50))))","v":" "},{"$f":"IF(ISBLANK($C$8),\" \",IF(ISTEXT(E48),\" \",IF(ISTEXT(E52),\" \",Vfa(E52,E50))))","v":" "}," "," "," "," "," "," "," "," "," "]
["Avg.VFA",null,{"$f":"IF(ISBLANK($C$8),\" \",IF(ISTEXT(C54),\" \",IF(ISTEXT(D54),\" \",ROUND(AVERAGE(C54:D54),0))))","v":" "},null,{"$f":"IF(ISBLANK($C$8),\" \",IF(ISTEXT(E54),\" \",IF(ISTEXT(F54),\" \",ROUND(AVERAGE(E54:F54),0))))","v":" "},null,{"$f":"IF(ISBLANK($C$8),\" \",IF(ISTEXT(G54),\" \",IF(ISTEXT(H54),\" \",ROUND(AVERAGE(G54:H54),0))))","v":" "},null,{"$f":"IF(ISBLANK($C$8),\" \",IF(ISTEXT(I54),\" \",IF(ISTEXT(J54),\" \",ROUND(AVERAGE(I54:J54),0))))","v":" "},null,{"$f":"IF(ISBLANK($C$8),\" \",IF(ISTEXT(K54),\" \",IF(ISTEXT(L54),\" \",ROUND(AVERAGE(K54:L54),0))))","v":" "},null,{"$f":"IF(ISBLANK($C$8),\" \",IF(ISTEXT(M54),\" \",IF(ISTEXT(N54),\" \",ROUND(AVERAGE(M54:N54),0))))","v":" "}]
["F/A",null,{"$f":"IF(ISBLANK(D42),\" \",IF(ISTEXT(C33),\" \",IF(ISBLANK(D41),\" \",Fa(D42,C33))))","v":" "},null,{"$f":"IF(ISBLANK(F42),\" \",IF(ISTEXT(E33),\" \",IF(ISBLANK(F41),\" \",Fa(F42,E33))))","v":" "},null,{"$f":"IF(ISBLANK(H42),\" \",IF(ISTEXT(G33),\" \",IF(ISBLANK(H41),\" \",Fa(H42,G33))))","v":" "},null,{"$f":"IF(ISBLANK(J42),\" \",IF(ISTEXT(I33),\" \",IF(ISBLANK(J41),\" \",Fa(J42,I33))))","v":" "},null,{"$f":"IF(ISBLANK(L42),\" \",IF(ISTEXT(K33),\" \",IF(ISBLANK(L41),\" \",Fa(L42,K33))))","v":" "},null,{"$f":"IF(ISBLANK(N42),\" \",IF(ISTEXT(M33),\" \",IF(ISBLANK(N41),\" \",Fa(N42,M33))))","v":" "}]
["Pbe",null,{"$f":"C33","v":" "},null,{"$f":"E33","v":" "},null,{"$f":"G33","v":" "},null,{"$f":"I33","v":" "},null,{"$f":"K33","v":" "},null,{"$f":"M33","v":" "}]
[null,null,"Voids","VMA","VFA",null,"Upper","Lower","Target"]
["Running averages for conditional formatting tolerances",null,{"$f":"'ST1'!F50","v":{"$error":"#N/A"}},{"$f":"'ST1'!H50","v":{"$error":"#N/A"}},{"$f":"'ST1'!J50","v":{"$error":"#N/A"}},"Voids",{"$f":"'A P'!C6","v":1.5},{"$f":"'A P'!C8","v":1.5},{"$f":"'A P'!C7","v":0}]
[null,null,{"$f":"'ST1'!F51","v":{"$error":"#N/A"}},{"$f":"'ST1'!H51","v":{"$error":"#N/A"}},{"$f":"'ST1'!J51","v":{"$error":"#N/A"}},"VMA",{"$f":"'A P'!C10","v":1},{"$f":"'A P'!C11","v":1}]
[null,null,{"$f":"'ST1'!F52","v":{"$error":"#N/A"}},{"$f":"'ST1'!H52","v":{"$error":"#N/A"}},{"$f":"'ST1'!J52","v":{"$error":"#N/A"}},"VFA",{"$f":"'A P'!C13","v":0},{"$f":"'A P'!C14","v":0}]
[null,null,{"$f":"'ST1'!F53","v":{"$error":"#N/A"}},{"$f":"'ST1'!H53","v":{"$error":"#N/A"}},{"$f":"'ST1'!J53","v":{"$error":"#N/A"}}]
[null,null,{"$f":"'ST1'!F54","v":{"$error":"#N/A"}},{"$f":"'ST1'!H54","v":{"$error":"#N/A"}},{"$f":"'ST1'!J54","v":{"$error":"#N/A"}}]
[null,null,{"$f":"'ST1'!F55","v":{"$error":"#N/A"}},{"$f":"'ST1'!H55","v":{"$error":"#N/A"}},{"$f":"'ST1'!J55","v":{"$error":"#N/A"}},"Conditional formatting of running avgs have been taken out of ESB-11 but formulas have been left in place in case future changes are necessary"]
[null,null,{"$f":"'ST1'!F56","v":{"$error":"#N/A"}},{"$f":"'ST1'!H56","v":{"$error":"#N/A"}},{"$f":"'ST1'!J56","v":{"$error":"#N/A"}}]
[null,null,{"$f":"'ST1'!F57","v":{"$error":"#N/A"}},{"$f":"'ST1'!H57","v":{"$error":"#N/A"}},{"$f":"'ST1'!J57","v":{"$error":"#N/A"}}]
[null,null,{"$f":"'ST1'!F58","v":{"$error":"#N/A"}},{"$f":"'ST1'!H58","v":{"$error":"#N/A"}},{"$f":"'ST1'!J58","v":{"$error":"#N/A"}}]
[null,null,{"$f":"'ST1'!F59","v":{"$error":"#N/A"}},{"$f":"'ST1'!H59","v":{"$error":"#N/A"}},{"$f":"'ST1'!J59","v":{"$error":"#N/A"}}]
[null,null,{"$f":"'ST1'!F60","v":{"$error":"#N/A"}},{"$f":"'ST1'!H60","v":{"$error":"#N/A"}},{"$f":"'ST1'!J60","v":{"$error":"#N/A"}}]
[null,null,{"$f":"'ST1'!F61","v":{"$error":"#N/A"}},{"$f":"'ST1'!H61","v":{"$error":"#N/A"}},{"$f":"'ST1'!J61","v":{"$error":"#N/A"}}]
[]
["Corrected Gsb for upper block using offset value C34 "]
[null,null,{"$f":"C28-$C$34","v":{"$error":"#DIV/0!"}},{"$f":"E28-$C$34","v":{"$error":"#DIV/0!"}},{"$f":"G28-$C$34","v":{"$error":"#DIV/0!"}},{"$f":"I28-$C$34","v":{"$error":"#DIV/0!"}},{"$f":"K28-$C$34","v":{"$error":"#DIV/0!"}},{"$f":"M28-$C$34","v":{"$error":"#DIV/0!"}}]
[]
[]
["Corrected Gsb for lower block using offset value C34 "]
[null,null,{"$f":"C31-$C$34","v":{"$error":"#DIV/0!"}},{"$f":"E31-$C$34","v":{"$error":"#DIV/0!"}},{"$f":"G31-$C$34","v":{"$error":"#DIV/0!"}},{"$f":"I31-$C$34","v":{"$error":"#DIV/0!"}},{"$f":"K31-$C$34","v":{"$error":"#DIV/0!"}},{"$f":"M31-$C$34","v":{"$error":"#DIV/0!"}}]
[]
[null,null,{"$f":"IF(AND(M36=\"Volumetric deviation, resample within 150 tons\",R53>0),\"Deviation on 150 ton sample, suspend production of JMF\",IF(OR(R50=1,S50=1,R51=2,R52=3,S52=3),\"Volumetric deviation, resample within 150 tons\",\" \"))","v":" "},null,{"$f":"IF(AND(C79=\"Volumetric deviation, resample within 150 tons\",T53>0),\"Deviation on 150 ton sample, suspend production of JMF\",IF(OR(T50=1,U50=1,T51=2,T52=3,U52=3),\"Volumetric deviation, resample within 150 tons\",\" \"))","v":" "},null,{"$f":"IF(AND(E79=\"Volumetric deviation, resample within 150 tons\",V53>0),\"Deviation on 150 ton sample, suspend production of JMF\",IF(OR(V50=1,W50=1,V51=2,V52=3,W52=3),\"Volumetric deviation, resample within 150 tons\",\" \"))","v":" "},null,{"$f":"IF(AND(G79=\"Volumetric deviation, resample within 150 tons\",X53>0),\"Deviation on 150 ton sample, suspend production of JMF\",IF(OR(X50=1,Y50=1,X51=2,X52=3,Y52=3),\"Volumetric deviation, resample within 150 tons\",\" \"))","v":" "},null,{"$f":"IF(AND(I79=\"Volumetric deviation, resample within 150 tons\",Z53>0),\"Deviation on 150 ton sample, suspend production of JMF\",IF(OR(Z50=1,AA50=1,Z51=2,Z52=3,AA52=3),\"Volumetric deviation, resample within 150 tons\",\" \"))","v":" "},null,{"$f":"IF(AND(K79=\"Volumetric deviation, resample within 150 tons\",AB53>0),\"Deviation on 150 ton sample, suspend production of JMF\",IF(OR(AB50=1,AC50=1,AB51=2,AB52=3,AC52=3),\"Volumetric deviation, resample within 150 tons\",\" \"))","v":" "}]

{"sheet":"V6","index":37,"n_rows":79,"n_cols":29,"rows_kept":79,"cut":false,"hidden":true,"merged":[[18,21,18,22],[22,25,22,26],[22,27,22,28],[48,15,48,16],[48,17,48,18],[48,19,48,20],[48,21,48,22],[48,23,48,24],[48,25,48,26],[48,27,48,28],[37,17,37,28],[18,23,18,24],[18,25,18,26],[50,21,50,22],[50,23,50,24],[50,25,50,26],[50,27,50,28],[51,15,51,16],[52,15,52,16],[52,17,52,18],[52,19,52,20],[52,21,52,22],[52,23,52,24],[52,25,52,26],[52,27,52,28],[78,0,80,1],[35,12,37,13],[35,10,37,11],[35,8,37,9],[35,6,37,7],[18,27,18,28],[19,15,19,16],[20,15,20,16],[20,17,20,18],[20,19,20,20],[20,21,20,22],[20,23,20,24],[20,25,20,26],[20,27,20,28],[18,15,18,16],[21,15,21,16],[22,15,22,16],[22,17,22,18],[22,19,22,20],[22,21,22,22],[22,23,22,24],[78,12,80,13],[78,10,80,11],[78,8,80,9],[78,6,80,7],[78,4,80,5],[78,2,80,3],[56,8,56,9],[18,17,18,18],[18,19,18,20],[49,15,49,16],[50,15,50,16],[50,17,50,18],[50,19,50,20],[38,6,38,7],[39,12,39,13],[39,10,39,11],[32,10,32,11],[32,12,32,13],[35,4,37,5],[35,2,37,3],[26,12,26,13],[26,8,26,9],[28,10,28,11],[28,6,28,7],[32,8,32,9],[30,12,30,13],[31,10,31,11],[71,0,73,1],[75,0,77,1],[54,8,54,9],[52,10,52,11],[52,12,52,13],[58,0,69,1],[55,10,55,11],[53,0,53,1],[54,0,54,1],[54,2,54,3],[55,0,55,1],[56,0,56,1],[56,2,56,3],[56,10,56,11],[56,12,56,13],[56,4,56,5],[56,6,56,7],[55,8,55,9],[55,2,55,3],[55,4,55,5],[55,6,55,7],[54,4,54,5],[54,6,54,7],[49,0,49,1],[55,12,55,13],[54,10,54,11],[54,12,54,13],[50,8,50,9],[50,10,50,11],[50,12,50,13],[48,10,48,11],[52,6,52,7],[48,12,48,13],[48,6,48,7],[51,0,51,1],[52,0,52,1],[50,0,50,1],[52,8,52,9],[52,2,52,3],[52,4,52,5],[50,6,50,7],[50,2,50,3],[50,4,50,5],[40,0,40,1],[39,0,39,1],[39,2,39,3],[39,4,39,5],[38,8,38,9],[48,2,48,3],[48,4,48,5],[41,0,41,1],[42,0,42,1],[38,2,38,3],[38,4,38,5],[48,0,48,1],[48,8,48,9],[39,6,39,7],[39,8,39,9],[47,0,47,1],[45,0,45,1],[46,0,46,1],[43,0,43,1],[44,0,44,1],[35,0,37,1],[34,0,34,1],[38,0,38,1],[28,8,28,9],[28,2,28,3],[38,10,38,11],[33,0,33,1],[33,3,33,12],[32,2,32,3],[32,4,32,5],[38,12,38,13],[31,12,31,13],[30,10,30,11],[32,6,32,7],[29,2,29,3],[29,4,29,5],[29,6,29,7],[29,8,29,9],[30,2,30,3],[30,4,30,5],[31,2,31,3],[28,12,28,13],[29,10,29,11],[29,12,29,13],[27,2,27,3],[27,4,27,5],[27,6,27,7],[27,8,27,9],[27,10,27,11],[27,12,27,13],[31,4,31,5],[31,6,31,7],[31,8,31,9],[30,6,30,7],[30,8,30,9],[26,0,26,1],[26,2,26,3],[26,4,26,5],[26,6,26,7],[26,10,26,11],[24,8,24,9],[24,10,24,11],[24,4,24,5],[24,6,24,7],[22,12,22,13],[23,0,23,1],[22,0,22,1],[22,2,22,3],[22,4,22,5],[22,6,22,7],[24,12,24,13],[25,0,25,1],[25,2,25,3],[25,4,25,5],[25,6,25,7],[25,8,25,9],[25,10,25,11],[25,12,25,13],[24,0,24,1],[24,2,24,3],[20,8,20,9],[12,0,12,1],[13,0,13,1],[14,0,14,1],[15,0,15,1],[20,12,20,13],[21,0,21,1],[20,0,20,1],[20,2,20,3],[20,4,20,5],[20,6,20,7],[18,8,18,9],[18,10,18,11],[18,12,18,13],[19,0,19,1],[18,0,18,1],[18,2,18,3],[18,4,18,5],[18,6,18,7],[9,2,9,3],[16,0,16,1],[17,0,17,1],[10,0,10,1],[11,0,11,1],[5,10,5,11],[6,12,6,13],[5,12,5,13],[9,12,9,13],[7,0,7,1],[7,2,7,3],[8,0,8,1],[8,2,8,3],[8,4,8,5],[9,0,9,1],[9,4,9,5],[9,6,9,7],[8,12,8,13],[7,10,7,11],[7,12,7,13],[8,10,8,11],[6,4,6,9],[7,4,7,7],[7,8,7,9],[0,0,3,1],[1,10,1,11],[1,12,1,13],[2,10,2,11],[2,12,2,13],[3,10,3,11],[3,12,3,13],[63,5,68,9],[4,10,4,11],[9,8,9,9],[9,10,9,11],[8,6,8,7],[8,8,8,9],[20,10,20,11],[22,8,22,9],[22,10,22,11],[28,4,28,5],[4,12,4,13],[6,0,6,1],[6,2,6,3],[6,10,6,11],[5,0,5,1],[5,2,5,3],[5,5,5,8]]}
[]
[null,null,null,null,"COMMONWEALTH OF PENNSYLVANIA",null,null,null,null,null,"DISTRICT",null,{"$f":"IF(ISBLANK('V1'!M2),\" \",('V1'!M2))","v":" "}]
[null,null,null,null,"DEPARTMENT OF TRANSPORTATION",null,null,null,null,null,"PLANT CODE",null,{"$f":"IF(ISBLANK('V1'!M3),\" \",('V1'!M3))","v":" "}]
[null,null,null,null,"LABORATORY TEST SECTION",null,null,null,null,null,"Design No.",null,{"$f":"IF(ISBLANK('V1'!M4),\" \",('V1'!M4))","v":" "}]
[{"$f":"'S1'!A5","v":"ESB-16"},null,null,null,null,null,null,null,null,null,"JMF VMA",null,{"$f":"IF(ISBLANK('V1'!M5),\" \",('V1'!M5))","v":" "}]
["Material Class ",null,{"$f":"IF(ISBLANK('V1'!C6),\" \",('V1'!C6))","v":9.5},null,null,"Volumetric Results",null,null,null,null,"JMF VFA",null,{"$f":"IF(ISBLANK('V1'!M6),\" \",('V1'!M6))","v":" "}]
["Gyrations @ Ndes",null,{"$f":"IF(ISBLANK('V1'!C7),\" \",('V1'!C7))","v":" "},null,"Red values indicate corrective action is needed",null,null,null,null,null,"JMF F/A",null,{"$f":"IF(ISBLANK('V1'!M7),\" \",('V1'!M7))","v":" "}]
["Gsb of Mix",null,{"$f":"IF(ISBLANK('V1'!C8),\" \",('V1'!C8))","v":" "},null,"Gyratory Specimen wt. from TR 448",null,null,null,{"$f":"IF(ISBLANK('V1'!I8),\" \",('V1'!I8))","v":" "},null,"JMF Voids",null,{"$f":"IF(ISBLANK('V1'!M8),\" \",('V1'!M8))","v":" "}]
["Sample No."]
["Date"]
["Gmm / Gb of AC"]
["AC / -200"]
["Specimen No",null,1,2,1,2,1,2,1,2,1,2,1,2]
["Height at Ndes"]
["Mass in Air"]
["Mass in Water"]
["SSD Mass"]
["Gmb",null,{"$f":"IF(ISBLANK(C15),\" \",IF(ISBLANK(C16),\" \",IF(ISBLANK(C17),\" \",ROUND(Gmb(C15,C16,C17),3))))","v":" "},{"$f":"IF(ISBLANK(D15),\" \",IF(ISBLANK(D16),\" \",IF(ISBLANK(D17),\" \",ROUND(Gmb(D15,D16,D17),3))))","v":" "}," "," "," "," "," "," "," "," "," "," "]
["Average Gmb",null,{"$f":"IF(ISTEXT(C18),\" \",IF(ISTEXT(D18),\" \",AVERAGE(C18:D18)))","v":" "},null,{"$f":"IF(ISTEXT(E18),\" \",IF(ISTEXT(F18),\" \",AVERAGE(E18:F18)))","v":" "},null,{"$f":"IF(ISTEXT(G18),\" \",IF(ISTEXT(H18),\" \",AVERAGE(G18:H18)))","v":" "},null,{"$f":"IF(ISTEXT(I18),\" \",IF(ISTEXT(J18),\" \",AVERAGE(I18:J18)))","v":" "},null,{"$f":"IF(ISTEXT(K18),\" \",IF(ISTEXT(L18),\" \",AVERAGE(K18:L18)))","v":" "},null,{"$f":"IF(ISTEXT(M18),\" \",IF(ISTEXT(N18),\" \",AVERAGE(M18:N18)))","v":" "},null,null,"Sample",null,1,null,2,null,3,null,4,null,5,null,6]
["(Voids)VTM",null,{"$f":"IF(ISBLANK(C11),\" \",IF(ISTEXT(C18),\" \",ROUND(Va($C$11,C18),1)))","v":" "},{"$f":"IF(ISBLANK(C11),\" \",IF(ISTEXT(D18),\" \",ROUND(Va($C$11,D18),1)))","v":" "},{"$f":"IF(ISBLANK(E11),\" \",IF(ISTEXT(E18),\" \",ROUND(Va($E$11,E18),1)))","v":" "},{"$f":"IF(ISBLANK(E11),\" \",IF(ISTEXT(F18),\" \",ROUND(Va($E$11,F18),1)))","v":" "},{"$f":"IF(ISBLANK(G11),\" \",IF(ISTEXT(G18),\" \",ROUND(Va($G$11,G18),1)))","v":" "},{"$f":"IF(ISBLANK(G11),\" \",IF(ISTEXT(H18),\" \",ROUND(Va($G$11,H18),1)))","v":" "},{"$f":"IF(ISBLANK(I11),\" \",IF(ISTEXT(I18),\" \",ROUND(Va($I$11,I18),1)))","v":" "},{"$f":"IF(ISBLANK(I11),\" \",IF(ISTEXT(J18),\" \",ROUND(Va($I$11,J18),1)))","v":" "},{"$f":"IF(ISBLANK(K11),\" \",IF(ISTEXT(K18),\" \",ROUND(Va($K$11,K18),1)))","v":" "},{"$f":"IF(ISBLANK(K11),\" \",IF(ISTEXT(L18),\" \",ROUND(Va($K$11,L18),1)))","v":" "},{"$f":"IF(ISBLANK(M11),\" \",IF(ISTEXT(M18),\" \",ROUND(Va($M$11,M18),1)))","v":" "},{"$f":"IF(ISBLANK(M11),\" \",IF(ISTEXT(N18),\" \",ROUND(Va($M$11,N18),1)))","v":" "},null,"single voids",null,{"$f":"IF(ISTEXT(C20),\" \",IF(OR(C20>$M$8+2,C20<$M$8-2),1,0))","v":" "},{"$f":"IF(ISTEXT(D20),\" \",IF(OR(D20>$M$8+2,D20<$M$8-2),1,0))","v":" "}," "," "," "," "," "," "," "," "," "," "]
["AVG.(Voids)VTM",null,{"$f":"IF(ISTEXT(C20),\" \",IF(ISTEXT(D20),\" \",ROUND(AVERAGE(C20:D20),1)))","v":" "},null,{"$f":"IF(ISTEXT(E20),\" \",IF(ISTEXT(F20),\" \",ROUND(AVERAGE(E20:F20),1)))","v":" "},null,{"$f":"IF(ISTEXT(G20),\" \",IF(ISTEXT(H20),\" \",ROUND(AVERAGE(G20:H20),1)))","v":" "},null,{"$f":"IF(ISTEXT(I20),\" \",IF(ISTEXT(J20),\" \",ROUND(AVERAGE(I20:J20),1)))","v":" "},null,{"$f":"IF(ISTEXT(K20),\" \",IF(ISTEXT(L20),\" \",ROUND(AVERAGE(K20:L20),1)))","v":" "},null,{"$f":"IF(ISTEXT(M20),\" \",IF(ISTEXT(N20),\" \",ROUND(AVERAGE(M20:N20),1)))","v":" "},null,null,"Avg voids",null,{"$f":"IF(ISTEXT(C21),\" \",IF(OR(C21>$M$8+1.5,C21<$M$8-1.5),2,0))","v":" "},null,{"$f":"IF(ISTEXT(E21),\" \",IF(OR(E21>$M$8+1.5,E21<$M$8-1.5),2,0))","v":" "},null,{"$f":"IF(ISTEXT(G21),\" \",IF(OR(G21>$M$8+1.5,G21<$M$8-1.5),2,0))","v":" "},null,{"$f":"IF(ISTEXT(I21),\" \",IF(OR(I21>$M$8+1.5,I21<$M$8-1.5),2,0))","v":" "},null,{"$f":"IF(ISTEXT(K21),\" \",IF(OR(K21>$M$8+1.5,K21<$M$8-1.5),2,0))","v":" "},null,{"$f":"IF(ISTEXT(M21),\" \",IF(OR(M21>$M$8+1.5,M21<$M$8-1.5),2,0))","v":" "}]
["VMA",null,{"$f":"IF(ISTEXT(C18),\" \",IF(ISBLANK(C12),\" \",IF(ISBLANK($C$8),\" \",ROUND(Vma(C18,C12,C73),1))))","v":" "},{"$f":"IF(ISTEXT(D18),\" \",IF(ISBLANK(C12),\" \",IF(ISBLANK($C$8),\" \",ROUND(Vma(D18,C12,C73),1))))","v":" "},{"$f":"IF(ISTEXT(E18),\" \",IF(ISBLANK(E12),\" \",IF(ISBLANK($C$8),\" \",ROUND(Vma(E18,E12,D73),1))))","v":" "},{"$f":"IF(ISTEXT(F18),\" \",IF(ISBLANK(E12),\" \",IF(ISBLANK($C$8),\" \",ROUND(Vma(F18,E12,D73),1))))","v":" "},{"$f":"IF(ISTEXT(G18),\" \",IF(ISBLANK(G12),\" \",IF(ISBLANK($C$8),\" \",ROUND(Vma(G18,G12,E73),1))))","v":" "},{"$f":"IF(ISTEXT(H18),\" \",IF(ISBLANK(G12),\" \",IF(ISBLANK($C$8),\" \",ROUND(Vma(H18,G12,E73),1))))","v":" "},{"$f":"IF(ISTEXT(I18),\" \",IF(ISBLANK(I12),\" \",IF(ISBLANK($C$8),\" \",ROUND(Vma(I18,I12,F73),1))))","v":" "},{"$f":"IF(ISTEXT(J18),\" \",IF(ISBLANK(I12),\" \",IF(ISBLANK($C$8),\" \",ROUND(Vma(J18,I12,F73),1))))","v":" "},{"$f":"IF(ISTEXT(K18),\" \",IF(ISBLANK(K12),\" \",IF(ISBLANK($C$8),\" \",ROUND(Vma(K18,K12,G73),1))))","v":" "},{"$f":"IF(ISTEXT(L18),\" \",IF(ISBLANK(K12),\" \",IF(ISBLANK($C$8),\" \",ROUND(Vma(L18,K12,G73),1))))","v":" "},{"$f":"IF(ISTEXT(M18),\" \",IF(ISBLANK(M12),\" \",IF(ISBLANK($C$8),\" \",ROUND(Vma(M18,M12,H73),1))))","v":" "},{"$f":"IF(ISTEXT(N18),\" \",IF(ISBLANK(M12),\" \",IF(ISBLANK($C$8),\" \",ROUND(Vma(N18,M12,H73),1))))","v":" "},null,"Single VMA",null,{"$f":"IF(C22<'A P'!$N$5,3,0)","v":0},{"$f":"IF(D22<'A P'!$N$5,3,0)","v":0},{"$f":"IF(E22<'A P'!$N$5,3,0)","v":0},{"$f":"IF(F22<'A P'!$N$5,3,0)","v":0},{"$f":"IF(G22<'A P'!$N$5,3,0)","v":0},{"$f":"IF(H22<'A P'!$N$5,3,0)","v":0},{"$f":"IF(I22<'A P'!$N$5,3,0)","v":0},{"$f":"IF(J22<'A P'!$N$5,3,0)","v":0},{"$f":"IF(K22<'A P'!$N$5,3,0)","v":0},{"$f":"IF(L22<'A P'!$N$5,3,0)","v":0},{"$f":"IF(M22<'A P'!$N$5,3,0)","v":0},{"$f":"IF(N22<'A P'!$N$5,3,0)","v":0}]
["Avg. VMA",null,{"$f":"IF(ISBLANK($C$8),\" \",IF(ISTEXT(C22),\" \",IF(ISTEXT(D22),\" \",ROUND(AVERAGE(C22:D22),1))))","v":" "},null,{"$f":"IF(ISBLANK($C$8),\" \",IF(ISTEXT(E22),\" \",IF(ISTEXT(F22),\" \",ROUND(AVERAGE(E22:F22),1))))","v":" "},null,{"$f":"IF(ISBLANK($C$8),\" \",IF(ISTEXT(G22),\" \",IF(ISTEXT(H22),\" \",ROUND(AVERAGE(G22:H22),1))))","v":" "},null,{"$f":"IF(ISBLANK($C$8),\" \",IF(ISTEXT(I22),\" \",IF(ISTEXT(J22),\" \",ROUND(AVERAGE(I22:J22),1))))","v":" "},null,{"$f":"IF(ISBLANK($C$8),\" \",IF(ISTEXT(K22),\" \",IF(ISTEXT(L22),\" \",ROUND(AVERAGE(K22:L22),1))))","v":" "},null,{"$f":"IF(ISBLANK($C$8),\" \",IF(ISTEXT(M22),\" \",IF(ISTEXT(N22),\" \",ROUND(AVERAGE(M22:N22),1))))","v":" "},null,null,"Max",null,{"$f":"MAX(R20:S22)","v":0},null,{"$f":"MAX(T20:U22)","v":0},null,{"$f":"MAX(V20:W22)","v":0},null,{"$f":"MAX(X20:Y22)","v":0},null,{"$f":"MAX(Z20:AA22)","v":0},null,{"$f":"MAX(AB20:AC22)","v":0}]
["VFA",null,{"$f":"IF(ISBLANK($C$8),\" \",IF(ISTEXT(C18),\" \",IF(ISTEXT(C22),\" \",Vfa(C22,C20))))","v":" "},{"$f":"IF(ISBLANK($C$8),\" \",IF(ISTEXT(D18),\" \",IF(ISTEXT(D22),\" \",Vfa(D22,D20))))","v":" "},{"$f":"IF(ISBLANK($C$8),\" \",IF(ISTEXT(E18),\" \",IF(ISTEXT(E22),\" \",Vfa(E22,E20))))","v":" "}," "," "," "," "," "," "," "," "," "]
["Avg.VFA",null,{"$f":"IF(ISBLANK($C$8),\" \",IF(ISTEXT(C24),\" \",IF(ISTEXT(D24),\" \",ROUND(AVERAGE(C24:D24),0))))","v":" "},null,{"$f":"IF(ISBLANK($C$8),\" \",IF(ISTEXT(E24),\" \",IF(ISTEXT(F24),\" \",ROUND(AVERAGE(E24:F24),0))))","v":" "},null,{"$f":"IF(ISBLANK($C$8),\" \",IF(ISTEXT(G24),\" \",IF(ISTEXT(H24),\" \",ROUND(AVERAGE(G24:H24),0))))","v":" "},null,{"$f":"IF(ISBLANK($C$8),\" \",IF(ISTEXT(I24),\" \",IF(ISTEXT(J24),\" \",ROUND(AVERAGE(I24:J24),0))))","v":" "},null,{"$f":"IF(ISBLANK($C$8),\" \",IF(ISTEXT(K24),\" \",IF(ISTEXT(L24),\" \",ROUND(AVERAGE(K24:L24),0))))","v":" "},null,{"$f":"IF(ISBLANK($C$8),\" \",IF(ISTEXT(M24),\" \",IF(ISTEXT(N24),\" \",ROUND(AVERAGE(M24:N24),0))))","v":" "}]
["F/A",null,{"$f":"IF(ISBLANK(D12),\" \",IF(ISTEXT(C30),\" \",IF(ISBLANK(D11),\" \",Fa(D12,C30))))","v":" "},null,{"$f":"IF(ISBLANK(F12),\" \",IF(ISTEXT(E30),\" \",IF(ISBLANK(F11),\" \",Fa(F12,E30))))","v":" "},null,{"$f":"IF(ISBLANK(H12),\" \",IF(ISTEXT(G30),\" \",IF(ISBLANK(H11),\" \",Fa(H12,G30))))","v":" "},null,{"$f":"IF(ISBLANK(J12),\" \",IF(ISTEXT(I30),\" \",IF(ISBLANK(J11),\" \",Fa(J12,I30))))","v":" "},null,{"$f":"IF(ISBLANK(L12),\" \",IF(ISTEXT(K30),\" \",IF(ISBLANK(L11),\" \",Fa(L12,K30))))","v":" "},null,{"$f":"IF(ISBLANK(N12),\" \",IF(ISTEXT(M30),\" \",IF(ISBLANK(N11),\" \",Fa(N12,M30))))","v":" "}]
["Pbe",null,{"$f":"C30","v":" "},null,{"$f":"E30","v":" "},null,{"$f":"G30","v":" "},null,{"$f":"I30","v":" "},null,{"$f":"K30","v":" "},null,{"$f":"M30","v":" "}]
[null,"Gse",{"$f":"ROUND((100-C$12)/((100/C$11)-(C$12/$D11)),3)","v":{"$error":"#DIV/0!"}},null,{"$f":"ROUND((100-E$12)/((100/E$11)-(E$12/F11)),3)","v":{"$error":"#DIV/0!"}},null,{"$f":"ROUND((100-G$12)/((100/G$11)-(G$12/H11)),3)","v":{"$error":"#DIV/0!"}},null,{"$f":"ROUND((100-I$12)/((100/I$11)-(I$12/J11)),3)","v":{"$error":"#DIV/0!"}},null,{"$f":"ROUND((100-K$12)/((100/K$11)-(K$12/L11)),3)","v":{"$error":"#DIV/0!"}},null,{"$f":"ROUND((100-M$12)/((100/M$11)-(M$12/N11)),3)","v":{"$error":"#DIV/0!"}}]
[null,"Pba",{"$f":"IF(ISBLANK(C28),\" \",IF(ISBLANK($C$8),\" \",(100*((C$28-C73)/(C73*C$28))*D11)))","v":{"$error":"#DIV/0!"}},null,{"$f":"IF(ISBLANK(E28),\" \",IF(ISBLANK($C$8),\" \",(100*((E$28-D73)/(D73*E$28))*F11)))","v":{"$error":"#DIV/0!"}},null,{"$f":"IF(ISBLANK(G28),\" \",IF(ISBLANK($C$8),\" \",(100*((G$28-E73)/(E73*G$28))*H11)))","v":{"$error":"#DIV/0!"}},null,{"$f":"IF(ISBLANK(I28),\" \",IF(ISBLANK($C$8),\" \",(100*((I$28-F73)/(F73*I$28))*J11)))","v":{"$error":"#DIV/0!"}},null,{"$f":"IF(ISBLANK(K28),\" \",IF(ISBLANK($C$8),\" \",(100*((K$28-G73)/(G73*K$28))*L11)))","v":{"$error":"#DIV/0!"}},null,{"$f":"IF(ISBLANK(M28),\" \",IF(ISBLANK($C$8),\" \",(100*((M$28-H73)/(H73*M$28))*N11)))","v":{"$error":"#DIV/0!"}}]
[null,"Pbe",{"$f":"IF(ISBLANK($C$8),\" \",IF(ISBLANK(C12),\" \",IF(ISBLANK(C29),\" \",ROUND((C$12-((C$29/100)*(100-C$12))),2))))","v":" "},null,{"$f":"IF(ISBLANK($C$8),\" \",IF(ISBLANK(E$12),\" \",IF(ISBLANK(E29),\" \",ROUND((E$12-((E$29/100)*(100-E$12))),2))))","v":" "},null,{"$f":"IF(ISBLANK($C$8),\" \",IF(ISBLANK(G$12),\" \",IF(ISBLANK(G29),\" \",ROUND((G$12-((G$29/100)*(100-G$12))),2))))","v":" "},null,{"$f":"IF(ISBLANK($C$8),\" \",IF(ISBLANK(I$12),\" \",IF(ISBLANK(I29),\" \",ROUND((I$12-((I$29/100)*(100-I$12))),2))))","v":" "},null,{"$f":"IF(ISBLANK($C$8),\" \",IF(ISBLANK(K$12),\" \",IF(ISBLANK(K29),\" \",ROUND((K$12-((K$29/100)*(100-K$12))),2))))","v":" "},null,{"$f":"IF(ISBLANK($C$8),\" \",IF(ISBLANK(M$12),\" \",IF(ISBLANK(M29),\" \",ROUND((M$12-((M$29/100)*(100-M$12))),2))))","v":" "}]
[null,"Gse",{"$f":"ROUND((100-C$42)/((100/C$41)-(C$42/D41)),3)","v":{"$error":"#DIV/0!"}},null,{"$f":"ROUND((100-E$42)/((100/E$41)-(E$42/F41)),3)","v":{"$error":"#DIV/0!"}},null,{"$f":"ROUND((100-G$42)/((100/G$41)-(G$42/H41)),3)","v":{"$error":"#DIV/0!"}},null,{"$f":"ROUND((100-I$42)/((100/I$41)-(I$42/J41)),3)","v":{"$error":"#DIV/0!"}},null,{"$f":"ROUND((100-K$42)/((100/K$41)-(K$42/L41)),3)","v":{"$error":"#DIV/0!"}},null,{"$f":"ROUND((100-M$42)/((100/M$41)-(M$42/N41)),3)","v":{"$error":"#DIV/0!"}}]
[null,"Pba",{"$f":"IF(ISBLANK(C31),\" \",IF(ISBLANK($C$8),\" \",(100*((C$31-C77)/(C77*C$31))*D41)))","v":{"$error":"#DIV/0!"}},null,{"$f":"IF(ISBLANK(E31),\" \",IF(ISBLANK($C$8),\" \",(100*((E$31-D77)/(D77*E$31))*F41)))","v":{"$error":"#DIV/0!"}},null,{"$f":"IF(ISBLANK(G31),\" \",IF(ISBLANK($C$8),\" \",(100*((G$31-E77)/(E77*G$31))*H41)))","v":{"$error":"#DIV/0!"}},null,{"$f":"IF(ISBLANK(I31),\" \",IF(ISBLANK($C$8),\" \",(100*((I$31-F77)/(F77*I$31))*J41)))","v":{"$error":"#DIV/0!"}},null,{"$f":"IF(ISBLANK(K31),\" \",IF(ISBLANK($C$8),\" \",(100*((K$31-G77)/(G77*K$31))*L41)))","v":{"$error":"#DIV/0!"}},null,{"$f":"IF(ISBLANK(M31),\" \",IF(ISBLANK($C$8),\" \",(100*((M$31-H77)/(H77*M$31))*N41)))","v":{"$error":"#DIV/0!"}}]
[null,"Pbe",{"$f":"IF(ISBLANK($C$8),\" \",IF(ISBLANK(C42),\" \",IF(ISBLANK(C32),\" \",ROUND((C$42-((C$32/100)*(100-C$42))),2))))","v":" "},null,{"$f":"IF(ISBLANK($C$8),\" \",IF(ISBLANK(E42),\" \",IF(ISBLANK(E32),\" \",ROUND((E$42-((E$32/100)*(100-E$42))),2))))","v":" "},null,{"$f":"IF(ISBLANK($C$8),\" \",IF(ISBLANK(G42),\" \",IF(ISBLANK(G32),\" \",ROUND((G$42-((G$32/100)*(100-G$42))),2))))","v":" "},null,{"$f":"IF(ISBLANK($C$8),\" \",IF(ISBLANK(I42),\" \",IF(ISBLANK(I32),\" \",ROUND((I$42-((I$32/100)*(100-I$42))),2))))","v":" "},null,{"$f":"IF(ISBLANK($C$8),\" \",IF(ISBLANK(K42),\" \",IF(ISBLANK(K32),\" \",ROUND((K$42-((K$32/100)*(100-K$42))),2))))","v":" "},null,{"$f":"IF(ISBLANK($C$8),\" \",IF(ISBLANK(M42),\" \",IF(ISBLANK(M32),\" \",ROUND((M$42-((M$32/100)*(100-M$42))),2))))","v":" "}]
["Offset value",null,{"$f":"'G1'!B38-C8","v":{"$error":"#DIV/0!"}}]
[]
[null,null,{"$f":"IF(AND('V5'!M79=\"Volumetric deviation, resample within 150 tons\",R23>0),\"Deviation on 150 ton sample, suspend production of JMF\",IF(OR(R20=1,S20=1,R21=2,R22=3,S22=3),\"Volumetric deviation, resample within 150 tons\",\" \"))","v":" "},null,{"$f":"IF(AND(C36=\"Volumetric deviation, resample within 150 tons\",T23>0),\"Deviation on 150 ton sample, suspend production of JMF\",IF(OR(T20=1,U20=1,T21=2,T22=3,U22=3),\"Volumetric deviation, resample within 150 tons\",\" \"))","v":" "},null,{"$f":"IF(AND(E36=\"Volumetric deviation, resample within 150 tons\",V23>0),\"Deviation on 150 ton sample, suspend production of JMF\",IF(OR(V20=1,W20=1,V21=2,V22=3,W22=3),\"Volumetric deviation, resample within 150 tons\",\" \"))","v":" "},null,{"$f":"IF(AND(G36=\"Volumetric deviation, resample within 150 tons\",X23>0),\"Deviation on 150 ton sample, suspend production of JMF\",IF(OR(X20=1,Y20=1,X21=2,X22=3,Y22=3),\"Volumetric deviation, resample within 150 tons\",\" \"))","v":" "},null,{"$f":"IF(AND(I36=\"Volumetric deviation, resample within 150 tons\",Z23>0),\"Deviation on 150 ton sample, suspend production of JMF\",IF(OR(Z20=1,AA20=1,Z21=2,Z22=3,AA22=3),\"Volumetric deviation, resample within 150 tons\",\" \"))","v":" "},null,{"$f":"IF(AND(K36=\"Volumetric deviation, resample within 150 tons\",AB23>0),\"Deviation on 150 ton sample, suspend production of JMF\",IF(OR(AB20=1,AC20=1,AB21=2,AB22=3,AC22=3),\"Volumetric deviation, resample within 150 tons\",\" \"))","v":" "}]
[]
[null,null,null,null,null,null,null,null,null,null,null,null,null,null,null,null,null,"This determines if samples meet single and multiple tolerances and is used for cond. Formatting and action notes"]
["Sample No."]
["Date"]
["Gmm / Gb of AC"]
["AC / -200"]
["Specimen No",null,1,2,1,2,1,2,1,2,1,2,1,2]
["Height at Ndes"]
["Mass in Air"]
["Mass in Water"]
["SSD Mass"]
["Gmb",null,{"$f":"IF(ISBLANK(C45),\" \",IF(ISBLANK(C46),\" \",IF(ISBLANK(C47),\" \",ROUND(Gmb(C45,C46,C47),3))))","v":" "}," "," "," "," "," "," "," "," "," "," "," "]
["Average Gmb",null,{"$f":"IF(ISTEXT(C48),\" \",IF(ISTEXT(D48),\" \",AVERAGE(C48:D48)))","v":" "},null,{"$f":"IF(ISTEXT(E48),\" \",IF(ISTEXT(F48),\" \",AVERAGE(E48:F48)))","v":" "},null,{"$f":"IF(ISTEXT(G48),\" \",IF(ISTEXT(H48),\" \",AVERAGE(G48:H48)))","v":" "},null,{"$f":"IF(ISTEXT(I48),\" \",IF(ISTEXT(J48),\" \",AVERAGE(I48:J48)))","v":" "},null,{"$f":"IF(ISTEXT(K48),\" \",IF(ISTEXT(L48),\" \",AVERAGE(K48:L48)))","v":" "},null,{"$f":"IF(ISTEXT(M48),\" \",IF(ISTEXT(N48),\" \",AVERAGE(M48:N48)))","v":" "},null,null,"Sample",null,7,null,8,null,9,null,10,null,11,null,12]
["(Voids)VTM",null,{"$f":"IF(ISBLANK(C41),\" \",IF(ISTEXT(C48),\" \",ROUND(Va($C$41,C48),1)))","v":" "},{"$f":"IF(ISBLANK(C41),\" \",IF(ISTEXT(D48),\" \",ROUND(Va($C$41,D48),1)))","v":" "},{"$f":"IF(ISBLANK(E41),\" \",IF(ISTEXT(E48),\" \",ROUND(Va($E$41,E48),1)))","v":" "},{"$f":"IF(ISBLANK(E41),\" \",IF(ISTEXT(F48),\" \",ROUND(Va($E$41,F48),1)))","v":" "},{"$f":"IF(ISBLANK(G41),\" \",IF(ISTEXT(G48),\" \",ROUND(Va($G$41,G48),1)))","v":" "},{"$f":"IF(ISBLANK(G41),\" \",IF(ISTEXT(H48),\" \",ROUND(Va($G$41,H48),1)))","v":" "},{"$f":"IF(ISBLANK(I41),\" \",IF(ISTEXT(I48),\" \",ROUND(Va($I$41,I48),1)))","v":" "},{"$f":"IF(ISBLANK(I41),\" \",IF(ISTEXT(J48),\" \",ROUND(Va($I$41,J48),1)))","v":" "},{"$f":"IF(ISBLANK(K41),\" \",IF(ISTEXT(K48),\" \",ROUND(Va($K$41,K48),1)))","v":" "},{"$f":"IF(ISBLANK(K41),\" \",IF(ISTEXT(L48),\" \",ROUND(Va($K$41,L48),1)))","v":" "},{"$f":"IF(ISBLANK(M41),\" \",IF(ISTEXT(M48),\" \",ROUND(Va($M$41,M48),1)))","v":" "},{"$f":"IF(ISBLANK(M41),\" \",IF(ISTEXT(N48),\" \",ROUND(Va($M$41,N48),1)))","v":" "},null,"single voids",null,{"$f":"IF(ISTEXT(C50),\" \",IF(OR(C50>$M$8+2,C50<$M$8-2),1,0))","v":" "},{"$f":"IF(ISTEXT(D50),\" \",IF(OR(D50>$M$8+2,D50<$M$8-2),1,0))","v":" "},{"$f":"IF(ISTEXT(E50),\" \",IF(OR(E50>$M$8+2,E50<$M$8-2),1,0))","v":" "}," "," "," "," "," "," "," "," "," "]
["AVG.(Voids)VTM",null,{"$f":"IF(ISTEXT(C50),\" \",IF(ISTEXT(D50),\" \",ROUND(AVERAGE(C50:D50),1)))","v":" "},null,{"$f":"IF(ISTEXT(E50),\" \",IF(ISTEXT(F50),\" \",ROUND(AVERAGE(E50:F50),1)))","v":" "},null,{"$f":"IF(ISTEXT(G50),\" \",IF(ISTEXT(H50),\" \",ROUND(AVERAGE(G50:H50),1)))","v":" "},null,{"$f":"IF(ISTEXT(I50),\" \",IF(ISTEXT(J50),\" \",ROUND(AVERAGE(I50:J50),1)))","v":" "},null,{"$f":"IF(ISTEXT(K50),\" \",IF(ISTEXT(L50),\" \",ROUND(AVERAGE(K50:L50),1)))","v":" "},null,{"$f":"IF(ISTEXT(M50),\" \",IF(ISTEXT(N50),\" \",ROUND(AVERAGE(M50:N50),1)))","v":" "},null,null,"Avg voids",null,{"$f":"IF(ISTEXT(C51),\" \",IF(OR(C51>$M$8+1.5,C51<$M$8-1.5),2,0))","v":" "},null,{"$f":"IF(ISTEXT(E51),\" \",IF(OR(E51>$M$8+1.5,E51<$M$8-1.5),2,0))","v":" "},null,{"$f":"IF(ISTEXT(G51),\" \",IF(OR(G51>$M$8+1.5,G51<$M$8-1.5),2,0))","v":" "},null,{"$f":"IF(ISTEXT(I51),\" \",IF(OR(I51>$M$8+1.5,I51<$M$8-1.5),2,0))","v":" "},null,{"$f":"IF(ISTEXT(K51),\" \",IF(OR(K51>$M$8+1.5,K51<$M$8-1.5),2,0))","v":" "},null,{"$f":"IF(ISTEXT(M51),\" \",IF(OR(M51>$M$8+1.5,M51<$M$8-1.5),2,0))","v":" "}]
["VMA",null,{"$f":"IF(ISTEXT(C48),\" \",IF(ISBLANK(C42),\" \",IF(ISBLANK($C$8),\" \",ROUND(Vma(C48,C42,C77),1))))","v":" "},{"$f":"IF(ISTEXT(D48),\" \",IF(ISBLANK(C42),\" \",IF(ISBLANK($C$8),\" \",ROUND(Vma(D48,C42,C77),1))))","v":" "},{"$f":"IF(ISTEXT(E48),\" \",IF(ISBLANK(E42),\" \",IF(ISBLANK($C$8),\" \",ROUND(Vma(E48,E42,D77),1))))","v":" "},{"$f":"IF(ISTEXT(F48),\" \",IF(ISBLANK(E42),\" \",IF(ISBLANK($C$8),\" \",ROUND(Vma(F48,E42,D77),1))))","v":" "},{"$f":"IF(ISTEXT(G48),\" \",IF(ISBLANK(G42),\" \",IF(ISBLANK($C$8),\" \",ROUND(Vma(G48,G42,E77),1))))","v":" "},{"$f":"IF(ISTEXT(H48),\" \",IF(ISBLANK(G42),\" \",IF(ISBLANK($C$8),\" \",ROUND(Vma(H48,G42,E77),1))))","v":" "},{"$f":"IF(ISTEXT(I48),\" \",IF(ISBLANK(I42),\" \",IF(ISBLANK($C$8),\" \",ROUND(Vma(I48,I42,F77),1))))","v":" "},{"$f":"IF(ISTEXT(J48),\" \",IF(ISBLANK(I42),\" \",IF(ISBLANK($C$8),\" \",ROUND(Vma(J48,I42,F77),1))))","v":" "},{"$f":"IF(ISTEXT(K48),\" \",IF(ISBLANK(K42),\" \",IF(ISBLANK($C$8),\" \",ROUND(Vma(K48,K42,G77),1))))","v":" "},{"$f":"IF(ISTEXT(L48),\" \",IF(ISBLANK(K42),\" \",IF(ISBLANK($C$8),\" \",ROUND(Vma(L48,K42,G77),1))))","v":" "},{"$f":"IF(ISTEXT(M48),\" \",IF(ISBLANK(M42),\" \",IF(ISBLANK($C$8),\" \",ROUND(Vma(M48,M42,H77),1))))","v":" "},{"$f":"IF(ISTEXT(N48),\" \",IF(ISBLANK(M42),\" \",IF(ISBLANK($C$8),\" \",ROUND(Vma(N48,M42,H77),1))))","v":" "},null,"Single VMA",null,{"$f":"IF(C52<'A P'!$N$5,3,0)","v":0},{"$f":"IF(D52<'A P'!$N$5,3,0)","v":0},{"$f":"IF(E52<'A P'!$N$5,3,0)","v":0},{"$f":"IF(F52<'A P'!$N$5,3,0)","v":0},{"$f":"IF(G52<'A P'!$N$5,3,0)","v":0},{"$f":"IF(H52<'A P'!$N$5,3,0)","v":0},{"$f":"IF(I52<'A P'!$N$5,3,0)","v":0},{"$f":"IF(J52<'A P'!$N$5,3,0)","v":0},{"$f":"IF(K52<'A P'!$N$5,3,0)","v":0},{"$f":"IF(L52<'A P'!$N$5,3,0)","v":0},{"$f":"IF(M52<'A P'!$N$5,3,0)","v":0},{"$f":"IF(N52<'A P'!$N$5,3,0)","v":0}]
["Avg. VMA",null,{"$f":"IF(ISBLANK($C$8),\" \",IF(ISTEXT(C52),\" \",IF(ISTEXT(D52),\" \",ROUND(AVERAGE(C52:D52),1))))","v":" "},null,{"$f":"IF(ISBLANK($C$8),\" \",IF(ISTEXT(E52),\" \",IF(ISTEXT(F52),\" \",ROUND(AVERAGE(E52:F52),1))))","v":" "},null,{"$f":"IF(ISBLANK($C$8),\" \",IF(ISTEXT(G52),\" \",IF(ISTEXT(H52),\" \",ROUND(AVERAGE(G52:H52),1))))","v":" "},null,{"$f":"IF(ISBLANK($C$8),\" \",IF(ISTEXT(I52),\" \",IF(ISTEXT(J52),\" \",ROUND(AVERAGE(I52:J52),1))))","v":" "},null,{"$f":"IF(ISBLANK($C$8),\" \",IF(ISTEXT(K52),\" \",IF(ISTEXT(L52),\" \",ROUND(AVERAGE(K52:L52),1))))","v":" "},null,{"$f":"IF(ISBLANK($C$8),\" \",IF(ISTEXT(M52),\" \",IF(ISTEXT(N52),\" \",ROUND(AVERAGE(M52:N52),1))))","v":" "},null,null,"Max",null,{"$f":"MAX(R50:S52)","v":0},null,{"$f":"MAX(T50:U52)","v":0},null,{"$f":"MAX(V50:W52)","v":0},null,{"$f":"MAX(X50:Y52)","v":0},null,{"$f":"MAX(Z50:AA52)","v":0},null,{"$f":"MAX(AB50:AC52)","v":0}]
["VFA",null,{"$f":"IF(ISBLANK($C$8),\" \",IF(ISTEXT(C48),\" \",IF(ISTEXT(C52),\" \",Vfa(C52,C50))))","v":" "},{"$f":"IF(ISBLANK($C$8),\" \",IF(ISTEXT(D48),\" \",IF(ISTEXT(D52),\" \",Vfa(D52,D50))))","v":" "},{"$f":"IF(ISBLANK($C$8),\" \",IF(ISTEXT(E48),\" \",IF(ISTEXT(E52),\" \",Vfa(E52,E50))))","v":" "}," "," "," "," "," "," "," "," "," "]
["Avg.VFA",null,{"$f":"IF(ISBLANK($C$8),\" \",IF(ISTEXT(C54),\" \",IF(ISTEXT(D54),\" \",ROUND(AVERAGE(C54:D54),0))))","v":" "},null,{"$f":"IF(ISBLANK($C$8),\" \",IF(ISTEXT(E54),\" \",IF(ISTEXT(F54),\" \",ROUND(AVERAGE(E54:F54),0))))","v":" "},null,{"$f":"IF(ISBLANK($C$8),\" \",IF(ISTEXT(G54),\" \",IF(ISTEXT(H54),\" \",ROUND(AVERAGE(G54:H54),0))))","v":" "},null,{"$f":"IF(ISBLANK($C$8),\" \",IF(ISTEXT(I54),\" \",IF(ISTEXT(J54),\" \",ROUND(AVERAGE(I54:J54),0))))","v":" "},null,{"$f":"IF(ISBLANK($C$8),\" \",IF(ISTEXT(K54),\" \",IF(ISTEXT(L54),\" \",ROUND(AVERAGE(K54:L54),0))))","v":" "},null,{"$f":"IF(ISBLANK($C$8),\" \",IF(ISTEXT(M54),\" \",IF(ISTEXT(N54),\" \",ROUND(AVERAGE(M54:N54),0))))","v":" "}]
["F/A",null,{"$f":"IF(ISBLANK(D42),\" \",IF(ISTEXT(C33),\" \",IF(ISBLANK(D41),\" \",Fa(D42,C33))))","v":" "},null,{"$f":"IF(ISBLANK(F42),\" \",IF(ISTEXT(E33),\" \",IF(ISBLANK(F41),\" \",Fa(F42,E33))))","v":" "},null,{"$f":"IF(ISBLANK(H42),\" \",IF(ISTEXT(G33),\" \",IF(ISBLANK(H41),\" \",Fa(H42,G33))))","v":" "},null,{"$f":"IF(ISBLANK(J42),\" \",IF(ISTEXT(I33),\" \",IF(ISBLANK(J41),\" \",Fa(J42,I33))))","v":" "},null,{"$f":"IF(ISBLANK(L42),\" \",IF(ISTEXT(K33),\" \",IF(ISBLANK(L41),\" \",Fa(L42,K33))))","v":" "},null,{"$f":"IF(ISBLANK(N42),\" \",IF(ISTEXT(M33),\" \",IF(ISBLANK(N41),\" \",Fa(N42,M33))))","v":" "}]
["Pbe",null,{"$f":"C33","v":" "},null,{"$f":"E33","v":" "},null,{"$f":"G33","v":" "},null,{"$f":"I33","v":" "},null,{"$f":"K33","v":" "},null,{"$f":"M33","v":" "}]
[null,null,"Voids","VMA","VFA",null,"Upper","Lower","Target"]
["Running averages for conditional formatting tolerances",null,{"$f":"'ST1'!F62","v":{"$error":"#N/A"}},{"$f":"'ST1'!H62","v":{"$error":"#N/A"}},{"$f":"'ST1'!J62","v":{"$error":"#N/A"}},"Voids",{"$f":"'A P'!C6","v":1.5},{"$f":"'A P'!C8","v":1.5},{"$f":"'A P'!C7","v":0}]
[null,null,{"$f":"'ST1'!F63","v":{"$error":"#N/A"}},{"$f":"'ST1'!H63","v":{"$error":"#N/A"}},{"$f":"'ST1'!J63","v":{"$error":"#N/A"}},"VMA",{"$f":"'A P'!C10","v":1},{"$f":"'A P'!C11","v":1}]
[null,null,{"$f":"'ST1'!F64","v":{"$error":"#N/A"}},{"$f":"'ST1'!H64","v":{"$error":"#N/A"}},{"$f":"'ST1'!J64","v":{"$error":"#N/A"}},"VFA",{"$f":"'A P'!C13","v":0},{"$f":"'A P'!C14","v":0}]
[null,null,{"$f":"'ST1'!F65","v":{"$error":"#N/A"}},{"$f":"'ST1'!H65","v":{"$error":"#N/A"}},{"$f":"'ST1'!J65","v":{"$error":"#N/A"}}]
[null,null,{"$f":"'ST1'!F66","v":{"$error":"#N/A"}},{"$f":"'ST1'!H66","v":{"$error":"#N/A"}},{"$f":"'ST1'!J66","v":{"$error":"#N/A"}}]
[null,null,{"$f":"'ST1'!F67","v":{"$error":"#N/A"}},{"$f":"'ST1'!H67","v":{"$error":"#N/A"}},{"$f":"'ST1'!J67","v":{"$error":"#N/A"}},"Conditional formatting of running avgs have been taken out of ESB-11 but formulas have been left in place in case future changes are necessary"]
[null,null,{"$f":"'ST1'!F68","v":{"$error":"#N/A"}},{"$f":"'ST1'!H68","v":{"$error":"#N/A"}},{"$f":"'ST1'!J68","v":{"$error":"#N/A"}}]
[null,null,{"$f":"'ST1'!F69","v":{"$error":"#N/A"}},{"$f":"'ST1'!H69","v":{"$error":"#N/A"}},{"$f":"'ST1'!J69","v":{"$error":"#N/A"}}]
[null,null,{"$f":"'ST1'!F70","v":{"$error":"#N/A"}},{"$f":"'ST1'!H70","v":{"$error":"#N/A"}},{"$f":"'ST1'!J70","v":{"$error":"#N/A"}}]
[null,null,{"$f":"'ST1'!F71","v":{"$error":"#N/A"}},{"$f":"'ST1'!H71","v":{"$error":"#N/A"}},{"$f":"'ST1'!J71","v":{"$error":"#N/A"}}]
[null,null,{"$f":"'ST1'!F72","v":{"$error":"#N/A"}},{"$f":"'ST1'!H72","v":{"$error":"#N/A"}},{"$f":"'ST1'!J72","v":{"$error":"#N/A"}}]
[null,null,{"$f":"'ST1'!F73","v":{"$error":"#N/A"}},{"$f":"'ST1'!H73","v":{"$error":"#N/A"}},{"$f":"'ST1'!J73","v":{"$error":"#N/A"}}]
[]
["Corrected Gsb for upper block using offset value C34 "]
[null,null,{"$f":"C28-$C$34","v":{"$error":"#DIV/0!"}},{"$f":"E28-$C$34","v":{"$error":"#DIV/0!"}},{"$f":"G28-$C$34","v":{"$error":"#DIV/0!"}},{"$f":"I28-$C$34","v":{"$error":"#DIV/0!"}},{"$f":"K28-$C$34","v":{"$error":"#DIV/0!"}},{"$f":"M28-$C$34","v":{"$error":"#DIV/0!"}}]
[]
[]
["Corrected Gsb for lower block using offset value C34 "]
[null,null,{"$f":"C31-$C$34","v":{"$error":"#DIV/0!"}},{"$f":"E31-$C$34","v":{"$error":"#DIV/0!"}},{"$f":"G31-$C$34","v":{"$error":"#DIV/0!"}},{"$f":"I31-$C$34","v":{"$error":"#DIV/0!"}},{"$f":"K31-$C$34","v":{"$error":"#DIV/0!"}},{"$f":"M31-$C$34","v":{"$error":"#DIV/0!"}}]
[]
[null,null,{"$f":"IF(AND(M36=\"Volumetric deviation, resample within 150 tons\",R53>0),\"Deviation on 150 ton sample, suspend production of JMF\",IF(OR(R50=1,S50=1,R51=2,R52=3,S52=3),\"Volumetric deviation, resample within 150 tons\",\" \"))","v":" "},null,{"$f":"IF(AND(C79=\"Volumetric deviation, resample within 150 tons\",T53>0),\"Deviation on 150 ton sample, suspend production of JMF\",IF(OR(T50=1,U50=1,T51=2,T52=3,U52=3),\"Volumetric deviation, resample within 150 tons\",\" \"))","v":" "},null,{"$f":"IF(AND(E79=\"Volumetric deviation, resample within 150 tons\",V53>0),\"Deviation on 150 ton sample, suspend production of JMF\",IF(OR(V50=1,W50=1,V51=2,V52=3,W52=3),\"Volumetric deviation, resample within 150 tons\",\" \"))","v":" "},null,{"$f":"IF(AND(G79=\"Volumetric deviation, resample within 150 tons\",X53>0),\"Deviation on 150 ton sample, suspend production of JMF\",IF(OR(X50=1,Y50=1,X51=2,X52=3,Y52=3),\"Volumetric deviation, resample within 150 tons\",\" \"))","v":" "},null,{"$f":"IF(AND(I79=\"Volumetric deviation, resample within 150 tons\",Z53>0),\"Deviation on 150 ton sample, suspend production of JMF\",IF(OR(Z50=1,AA50=1,Z51=2,Z52=3,AA52=3),\"Volumetric deviation, resample within 150 tons\",\" \"))","v":" "},null,{"$f":"IF(AND(K79=\"Volumetric deviation, resample within 150 tons\",AB53>0),\"Deviation on 150 ton sample, suspend production of JMF\",IF(OR(AB50=1,AC50=1,AB51=2,AB52=3,AC52=3),\"Volumetric deviation, resample within 150 tons\",\" \"))","v":" "}]

{"sheet":"V7","index":38,"n_rows":79,"n_cols":29,"rows_kept":79,"cut":false,"hidden":true,"merged":[[50,21,50,22],[50,23,50,24],[50,25,50,26],[50,27,50,28],[51,15,51,16],[52,15,52,16],[52,17,52,18],[52,19,52,20],[52,21,52,22],[52,23,52,24],[52,25,52,26],[52,27,52,28],[22,25,22,26],[22,27,22,28],[48,15,48,16],[48,17,48,18],[48,19,48,20],[48,21,48,22],[48,23,48,24],[48,25,48,26],[48,27,48,28],[37,17,37,28],[18,21,18,22],[18,23,18,24],[18,25,18,26],[78,0,80,1],[35,12,37,13],[35,10,37,11],[35,8,37,9],[35,6,37,7],[18,27,18,28],[19,15,19,16],[20,15,20,16],[20,17,20,18],[20,19,20,20],[20,21,20,22],[20,23,20,24],[20,25,20,26],[20,27,20,28],[18,15,18,16],[21,15,21,16],[22,15,22,16],[22,17,22,18],[22,19,22,20],[22,21,22,22],[22,23,22,24],[78,12,80,13],[78,10,80,11],[78,8,80,9],[78,6,80,7],[78,4,80,5],[78,2,80,3],[38,10,38,11],[18,17,18,18],[18,19,18,20],[49,15,49,16],[50,15,50,16],[50,17,50,18],[50,19,50,20],[20,12,20,13],[18,10,18,11],[22,10,22,11],[22,12,22,13],[18,12,18,13],[25,10,25,11],[24,10,24,11],[24,4,24,5],[24,6,24,7],[22,8,22,9],[22,4,22,5],[5,0,5,1],[5,2,5,3],[7,10,7,11],[5,5,5,8],[7,12,7,13],[9,6,9,7],[9,8,9,9],[0,0,3,1],[1,10,1,11],[1,12,1,13],[2,10,2,11],[2,12,2,13],[3,10,3,11],[3,12,3,13],[6,10,6,11],[6,12,6,13],[4,10,4,11],[4,12,4,13],[5,12,5,13],[5,10,5,11],[6,4,6,9],[7,4,7,7],[7,8,7,9],[10,0,10,1],[6,0,6,1],[6,2,6,3],[9,10,9,11],[9,0,9,1],[9,12,9,13],[8,0,8,1],[8,2,8,3],[8,4,8,5],[8,6,8,7],[8,12,8,13],[8,8,8,9],[8,10,8,11],[9,2,9,3],[9,4,9,5],[7,0,7,1],[7,2,7,3],[15,0,15,1],[18,8,18,9],[18,6,18,7],[11,0,11,1],[12,0,12,1],[13,0,13,1],[14,0,14,1],[16,0,16,1],[17,0,17,1],[19,0,19,1],[18,0,18,1],[18,2,18,3],[18,4,18,5],[21,0,21,1],[20,0,20,1],[20,2,20,3],[20,4,20,5],[20,6,20,7],[22,6,22,7],[20,8,20,9],[20,10,20,11],[23,0,23,1],[22,0,22,1],[22,2,22,3],[24,12,24,13],[25,0,25,1],[25,2,25,3],[25,4,25,5],[25,6,25,7],[25,8,25,9],[25,12,25,13],[26,12,26,13],[27,2,27,3],[27,4,27,5],[27,6,27,7],[27,8,27,9],[27,10,27,11],[24,0,24,1],[24,2,24,3],[24,8,24,9],[27,12,27,13],[26,8,26,9],[26,10,26,11],[26,0,26,1],[26,2,26,3],[26,4,26,5],[26,6,26,7],[29,2,29,3],[29,4,29,5],[29,6,29,7],[29,8,29,9],[30,2,30,3],[30,4,30,5],[31,2,31,3],[31,4,31,5],[28,2,28,3],[28,4,28,5],[28,6,28,7],[28,8,28,9],[31,6,31,7],[31,8,31,9],[30,6,30,7],[30,8,30,9],[32,2,32,3],[32,4,32,5],[32,6,32,7],[32,8,32,9],[28,10,28,11],[32,10,32,11],[32,12,32,13],[34,0,34,1],[38,0,38,1],[38,2,38,3],[38,4,38,5],[33,0,33,1],[33,3,33,12],[38,6,38,7],[35,4,37,5],[35,2,37,3],[35,0,37,1],[28,12,28,13],[29,10,29,11],[29,12,29,13],[30,10,30,11],[30,12,30,13],[31,10,31,11],[31,12,31,13],[47,0,47,1],[48,0,48,1],[41,0,41,1],[42,0,42,1],[43,0,43,1],[44,0,44,1],[45,0,45,1],[46,0,46,1],[48,6,48,7],[39,12,39,13],[40,0,40,1],[39,0,39,1],[39,2,39,3],[39,4,39,5],[39,6,39,7],[39,8,39,9],[39,10,39,11],[38,8,38,9],[38,12,38,13],[51,0,51,1],[52,0,52,1],[52,2,52,3],[52,4,52,5],[48,10,48,11],[48,12,48,13],[49,0,49,1],[50,0,50,1],[50,2,50,3],[50,4,50,5],[48,8,48,9],[54,12,54,13],[52,10,52,11],[52,12,52,13],[48,2,48,3],[48,4,48,5],[50,10,50,11],[50,12,50,13],[50,6,50,7],[50,8,50,9],[54,0,54,1],[54,2,54,3],[54,4,54,5],[54,6,54,7],[54,8,54,9],[52,6,52,7],[52,8,52,9],[53,0,53,1],[54,10,54,11],[55,12,55,13],[56,0,56,1],[56,2,56,3],[56,4,56,5],[56,6,56,7],[56,8,56,9],[56,10,56,11],[56,12,56,13],[55,0,55,1],[63,5,68,9],[58,0,69,1],[71,0,73,1],[75,0,77,1],[55,8,55,9],[55,2,55,3],[55,4,55,5],[55,6,55,7],[55,10,55,11]]}
[]
[null,null,null,null,"COMMONWEALTH OF PENNSYLVANIA",null,null,null,null,null,"DISTRICT",null,{"$f":"IF(ISBLANK('V1'!M2),\" \",('V1'!M2))","v":" "}]
[null,null,null,null,"DEPARTMENT OF TRANSPORTATION",null,null,null,null,null,"PLANT CODE",null,{"$f":"IF(ISBLANK('V1'!M3),\" \",('V1'!M3))","v":" "}]
[null,null,null,null,"LABORATORY TEST SECTION",null,null,null,null,null,"Design No.",null,{"$f":"IF(ISBLANK('V1'!M4),\" \",('V1'!M4))","v":" "}]
[{"$f":"'S1'!A5","v":"ESB-16"},null,null,null,null,null,null,null,null,null,"JMF VMA",null,{"$f":"IF(ISBLANK('V1'!M5),\" \",('V1'!M5))","v":" "}]
["Material Class ",null,{"$f":"IF(ISBLANK('V1'!C6),\" \",('V1'!C6))","v":9.5},null,null,"Volumetric Results",null,null,null,null,"JMF VFA",null,{"$f":"IF(ISBLANK('V1'!M6),\" \",('V1'!M6))","v":" "}]
["Gyrations @ Ndes",null,{"$f":"IF(ISBLANK('V1'!C7),\" \",('V1'!C7))","v":" "},null,"Red values indicate corrective action is needed",null,null,null,null,null,"JMF F/A",null,{"$f":"IF(ISBLANK('V1'!M7),\" \",('V1'!M7))","v":" "}]
["Gsb of Mix",null,{"$f":"IF(ISBLANK('V1'!C8),\" \",('V1'!C8))","v":" "},null,"Gyratory Specimen wt. from TR 448",null,null,null,{"$f":"IF(ISBLANK('V1'!I8),\" \",('V1'!I8))","v":" "},null,"JMF Voids",null,{"$f":"IF(ISBLANK('V1'!M8),\" \",('V1'!M8))","v":" "}]
["Sample No."]
["Date"]
["Gmm / Gb of AC"]
["AC / -200"]
["Specimen No",null,1,2,1,2,1,2,1,2,1,2,1,2]
["Height at Ndes"]
["Mass in Air"]
["Mass in Water"]
["SSD Mass"]
["Gmb",null,{"$f":"IF(ISBLANK(C15),\" \",IF(ISBLANK(C16),\" \",IF(ISBLANK(C17),\" \",ROUND(Gmb(C15,C16,C17),3))))","v":" "},{"$f":"IF(ISBLANK(D15),\" \",IF(ISBLANK(D16),\" \",IF(ISBLANK(D17),\" \",ROUND(Gmb(D15,D16,D17),3))))","v":" "}," "," "," "," "," "," "," "," "," "," "]
["Average Gmb",null,{"$f":"IF(ISTEXT(C18),\" \",IF(ISTEXT(D18),\" \",AVERAGE(C18:D18)))","v":" "},null,{"$f":"IF(ISTEXT(E18),\" \",IF(ISTEXT(F18),\" \",AVERAGE(E18:F18)))","v":" "},null,{"$f":"IF(ISTEXT(G18),\" \",IF(ISTEXT(H18),\" \",AVERAGE(G18:H18)))","v":" "},null,{"$f":"IF(ISTEXT(I18),\" \",IF(ISTEXT(J18),\" \",AVERAGE(I18:J18)))","v":" "},null,{"$f":"IF(ISTEXT(K18),\" \",IF(ISTEXT(L18),\" \",AVERAGE(K18:L18)))","v":" "},null,{"$f":"IF(ISTEXT(M18),\" \",IF(ISTEXT(N18),\" \",AVERAGE(M18:N18)))","v":" "},null,null,"Sample",null,1,null,2,null,3,null,4,null,5,null,6]
["(Voids)VTM",null,{"$f":"IF(ISBLANK(C11),\" \",IF(ISTEXT(C18),\" \",ROUND(Va($C$11,C18),1)))","v":" "},{"$f":"IF(ISBLANK(C11),\" \",IF(ISTEXT(D18),\" \",ROUND(Va($C$11,D18),1)))","v":" "},{"$f":"IF(ISBLANK(E11),\" \",IF(ISTEXT(E18),\" \",ROUND(Va($E$11,E18),1)))","v":" "},{"$f":"IF(ISBLANK(E11),\" \",IF(ISTEXT(F18),\" \",ROUND(Va($E$11,F18),1)))","v":" "},{"$f":"IF(ISBLANK(G11),\" \",IF(ISTEXT(G18),\" \",ROUND(Va($G$11,G18),1)))","v":" "},{"$f":"IF(ISBLANK(G11),\" \",IF(ISTEXT(H18),\" \",ROUND(Va($G$11,H18),1)))","v":" "},{"$f":"IF(ISBLANK(I11),\" \",IF(ISTEXT(I18),\" \",ROUND(Va($I$11,I18),1)))","v":" "},{"$f":"IF(ISBLANK(I11),\" \",IF(ISTEXT(J18),\" \",ROUND(Va($I$11,J18),1)))","v":" "},{"$f":"IF(ISBLANK(K11),\" \",IF(ISTEXT(K18),\" \",ROUND(Va($K$11,K18),1)))","v":" "},{"$f":"IF(ISBLANK(K11),\" \",IF(ISTEXT(L18),\" \",ROUND(Va($K$11,L18),1)))","v":" "},{"$f":"IF(ISBLANK(M11),\" \",IF(ISTEXT(M18),\" \",ROUND(Va($M$11,M18),1)))","v":" "},{"$f":"IF(ISBLANK(M11),\" \",IF(ISTEXT(N18),\" \",ROUND(Va($M$11,N18),1)))","v":" "},null,"single voids",null,{"$f":"IF(ISTEXT(C20),\" \",IF(OR(C20>$M$8+2,C20<$M$8-2),1,0))","v":" "},{"$f":"IF(ISTEXT(D20),\" \",IF(OR(D20>$M$8+2,D20<$M$8-2),1,0))","v":" "}," "," "," "," "," "," "," "," "," "," "]
["AVG.(Voids)VTM",null,{"$f":"IF(ISTEXT(C20),\" \",IF(ISTEXT(D20),\" \",ROUND(AVERAGE(C20:D20),1)))","v":" "},null,{"$f":"IF(ISTEXT(E20),\" \",IF(ISTEXT(F20),\" \",ROUND(AVERAGE(E20:F20),1)))","v":" "},null,{"$f":"IF(ISTEXT(G20),\" \",IF(ISTEXT(H20),\" \",ROUND(AVERAGE(G20:H20),1)))","v":" "},null,{"$f":"IF(ISTEXT(I20),\" \",IF(ISTEXT(J20),\" \",ROUND(AVERAGE(I20:J20),1)))","v":" "},null,{"$f":"IF(ISTEXT(K20),\" \",IF(ISTEXT(L20),\" \",ROUND(AVERAGE(K20:L20),1)))","v":" "},null,{"$f":"IF(ISTEXT(M20),\" \",IF(ISTEXT(N20),\" \",ROUND(AVERAGE(M20:N20),1)))","v":" "},null,null,"Avg voids",null,{"$f":"IF(ISTEXT(C21),\" \",IF(OR(C21>$M$8+1.5,C21<$M$8-1.5),2,0))","v":" "},null,{"$f":"IF(ISTEXT(E21),\" \",IF(OR(E21>$M$8+1.5,E21<$M$8-1.5),2,0))","v":" "},null,{"$f":"IF(ISTEXT(G21),\" \",IF(OR(G21>$M$8+1.5,G21<$M$8-1.5),2,0))","v":" "},null,{"$f":"IF(ISTEXT(I21),\" \",IF(OR(I21>$M$8+1.5,I21<$M$8-1.5),2,0))","v":" "},null,{"$f":"IF(ISTEXT(K21),\" \",IF(OR(K21>$M$8+1.5,K21<$M$8-1.5),2,0))","v":" "},null,{"$f":"IF(ISTEXT(M21),\" \",IF(OR(M21>$M$8+1.5,M21<$M$8-1.5),2,0))","v":" "}]
["VMA",null,{"$f":"IF(ISTEXT(C18),\" \",IF(ISBLANK(C12),\" \",IF(ISBLANK($C$8),\" \",ROUND(Vma(C18,C12,C73),1))))","v":" "},{"$f":"IF(ISTEXT(D18),\" \",IF(ISBLANK(C12),\" \",IF(ISBLANK($C$8),\" \",ROUND(Vma(D18,C12,C73),1))))","v":" "},{"$f":"IF(ISTEXT(E18),\" \",IF(ISBLANK(E12),\" \",IF(ISBLANK($C$8),\" \",ROUND(Vma(E18,E12,D73),1))))","v":" "},{"$f":"IF(ISTEXT(F18),\" \",IF(ISBLANK(E12),\" \",IF(ISBLANK($C$8),\" \",ROUND(Vma(F18,E12,D73),1))))","v":" "},{"$f":"IF(ISTEXT(G18),\" \",IF(ISBLANK(G12),\" \",IF(ISBLANK($C$8),\" \",ROUND(Vma(G18,G12,E73),1))))","v":" "},{"$f":"IF(ISTEXT(H18),\" \",IF(ISBLANK(G12),\" \",IF(ISBLANK($C$8),\" \",ROUND(Vma(H18,G12,E73),1))))","v":" "},{"$f":"IF(ISTEXT(I18),\" \",IF(ISBLANK(I12),\" \",IF(ISBLANK($C$8),\" \",ROUND(Vma(I18,I12,F73),1))))","v":" "},{"$f":"IF(ISTEXT(J18),\" \",IF(ISBLANK(I12),\" \",IF(ISBLANK($C$8),\" \",ROUND(Vma(J18,I12,F73),1))))","v":" "},{"$f":"IF(ISTEXT(K18),\" \",IF(ISBLANK(K12),\" \",IF(ISBLANK($C$8),\" \",ROUND(Vma(K18,K12,G73),1))))","v":" "},{"$f":"IF(ISTEXT(L18),\" \",IF(ISBLANK(K12),\" \",IF(ISBLANK($C$8),\" \",ROUND(Vma(L18,K12,G73),1))))","v":" "},{"$f":"IF(ISTEXT(M18),\" \",IF(ISBLANK(M12),\" \",IF(ISBLANK($C$8),\" \",ROUND(Vma(M18,M12,H73),1))))","v":" "},{"$f":"IF(ISTEXT(N18),\" \",IF(ISBLANK(M12),\" \",IF(ISBLANK($C$8),\" \",ROUND(Vma(N18,M12,H73),1))))","v":" "},null,"Single VMA",null,{"$f":"IF(C22<'A P'!$N$5,3,0)","v":0},{"$f":"IF(D22<'A P'!$N$5,3,0)","v":0},{"$f":"IF(E22<'A P'!$N$5,3,0)","v":0},{"$f":"IF(F22<'A P'!$N$5,3,0)","v":0},{"$f":"IF(G22<'A P'!$N$5,3,0)","v":0},{"$f":"IF(H22<'A P'!$N$5,3,0)","v":0},{"$f":"IF(I22<'A P'!$N$5,3,0)","v":0},{"$f":"IF(J22<'A P'!$N$5,3,0)","v":0},{"$f":"IF(K22<'A P'!$N$5,3,0)","v":0},{"$f":"IF(L22<'A P'!$N$5,3,0)","v":0},{"$f":"IF(M22<'A P'!$N$5,3,0)","v":0},{"$f":"IF(N22<'A P'!$N$5,3,0)","v":0}]
["Avg. VMA",null,{"$f":"IF(ISBLANK($C$8),\" \",IF(ISTEXT(C22),\" \",IF(ISTEXT(D22),\" \",ROUND(AVERAGE(C22:D22),1))))","v":" "},null,{"$f":"IF(ISBLANK($C$8),\" \",IF(ISTEXT(E22),\" \",IF(ISTEXT(F22),\" \",ROUND(AVERAGE(E22:F22),1))))","v":" "},null,{"$f":"IF(ISBLANK($C$8),\" \",IF(ISTEXT(G22),\" \",IF(ISTEXT(H22),\" \",ROUND(AVERAGE(G22:H22),1))))","v":" "},null,{"$f":"IF(ISBLANK($C$8),\" \",IF(ISTEXT(I22),\" \",IF(ISTEXT(J22),\" \",ROUND(AVERAGE(I22:J22),1))))","v":" "},null,{"$f":"IF(ISBLANK($C$8),\" \",IF(ISTEXT(K22),\" \",IF(ISTEXT(L22),\" \",ROUND(AVERAGE(K22:L22),1))))","v":" "},null,{"$f":"IF(ISBLANK($C$8),\" \",IF(ISTEXT(M22),\" \",IF(ISTEXT(N22),\" \",ROUND(AVERAGE(M22:N22),1))))","v":" "},null,null,"Max",null,{"$f":"MAX(R20:S22)","v":0},null,{"$f":"MAX(T20:U22)","v":0},null,{"$f":"MAX(V20:W22)","v":0},null,{"$f":"MAX(X20:Y22)","v":0},null,{"$f":"MAX(Z20:AA22)","v":0},null,{"$f":"MAX(AB20:AC22)","v":0}]
["VFA",null,{"$f":"IF(ISBLANK($C$8),\" \",IF(ISTEXT(C18),\" \",IF(ISTEXT(C22),\" \",Vfa(C22,C20))))","v":" "},{"$f":"IF(ISBLANK($C$8),\" \",IF(ISTEXT(D18),\" \",IF(ISTEXT(D22),\" \",Vfa(D22,D20))))","v":" "},{"$f":"IF(ISBLANK($C$8),\" \",IF(ISTEXT(E18),\" \",IF(ISTEXT(E22),\" \",Vfa(E22,E20))))","v":" "}," "," "," "," "," "," "," "," "," "]
["Avg.VFA",null,{"$f":"IF(ISBLANK($C$8),\" \",IF(ISTEXT(C24),\" \",IF(ISTEXT(D24),\" \",ROUND(AVERAGE(C24:D24),0))))","v":" "},null,{"$f":"IF(ISBLANK($C$8),\" \",IF(ISTEXT(E24),\" \",IF(ISTEXT(F24),\" \",ROUND(AVERAGE(E24:F24),0))))","v":" "},null,{"$f":"IF(ISBLANK($C$8),\" \",IF(ISTEXT(G24),\" \",IF(ISTEXT(H24),\" \",ROUND(AVERAGE(G24:H24),0))))","v":" "},null,{"$f":"IF(ISBLANK($C$8),\" \",IF(ISTEXT(I24),\" \",IF(ISTEXT(J24),\" \",ROUND(AVERAGE(I24:J24),0))))","v":" "},null,{"$f":"IF(ISBLANK($C$8),\" \",IF(ISTEXT(K24),\" \",IF(ISTEXT(L24),\" \",ROUND(AVERAGE(K24:L24),0))))","v":" "},null,{"$f":"IF(ISBLANK($C$8),\" \",IF(ISTEXT(M24),\" \",IF(ISTEXT(N24),\" \",ROUND(AVERAGE(M24:N24),0))))","v":" "}]
["F/A",null,{"$f":"IF(ISBLANK(D12),\" \",IF(ISTEXT(C30),\" \",IF(ISBLANK(D11),\" \",Fa(D12,C30))))","v":" "},null,{"$f":"IF(ISBLANK(F12),\" \",IF(ISTEXT(E30),\" \",IF(ISBLANK(F11),\" \",Fa(F12,E30))))","v":" "},null,{"$f":"IF(ISBLANK(H12),\" \",IF(ISTEXT(G30),\" \",IF(ISBLANK(H11),\" \",Fa(H12,G30))))","v":" "},null,{"$f":"IF(ISBLANK(J12),\" \",IF(ISTEXT(I30),\" \",IF(ISBLANK(J11),\" \",Fa(J12,I30))))","v":" "},null,{"$f":"IF(ISBLANK(L12),\" \",IF(ISTEXT(K30),\" \",IF(ISBLANK(L11),\" \",Fa(L12,K30))))","v":" "},null,{"$f":"IF(ISBLANK(N12),\" \",IF(ISTEXT(M30),\" \",IF(ISBLANK(N11),\" \",Fa(N12,M30))))","v":" "}]
["Pbe",null,{"$f":"C30","v":" "},null,{"$f":"E30","v":" "},null,{"$f":"G30","v":" "},null,{"$f":"I30","v":" "},null,{"$f":"K30","v":" "},null,{"$f":"M30","v":" "}]
[null,"Gse",{"$f":"ROUND((100-C$12)/((100/C$11)-(C$12/$D11)),3)","v":{"$error":"#DIV/0!"}},null,{"$f":"ROUND((100-E$12)/((100/E$11)-(E$12/F11)),3)","v":{"$error":"#DIV/0!"}},null,{"$f":"ROUND((100-G$12)/((100/G$11)-(G$12/H11)),3)","v":{"$error":"#DIV/0!"}},null,{"$f":"ROUND((100-I$12)/((100/I$11)-(I$12/J11)),3)","v":{"$error":"#DIV/0!"}},null,{"$f":"ROUND((100-K$12)/((100/K$11)-(K$12/L11)),3)","v":{"$error":"#DIV/0!"}},null,{"$f":"ROUND((100-M$12)/((100/M$11)-(M$12/N11)),3)","v":{"$error":"#DIV/0!"}}]
[null,"Pba",{"$f":"IF(ISBLANK(C28),\" \",IF(ISBLANK($C$8),\" \",(100*((C$28-C73)/(C73*C$28))*D11)))","v":{"$error":"#DIV/0!"}},null,{"$f":"IF(ISBLANK(E28),\" \",IF(ISBLANK($C$8),\" \",(100*((E$28-D73)/(D73*E$28))*F11)))","v":{"$error":"#DIV/0!"}},null,{"$f":"IF(ISBLANK(G28),\" \",IF(ISBLANK($C$8),\" \",(100*((G$28-E73)/(E73*G$28))*H11)))","v":{"$error":"#DIV/0!"}},null,{"$f":"IF(ISBLANK(I28),\" \",IF(ISBLANK($C$8),\" \",(100*((I$28-F73)/(F73*I$28))*J11)))","v":{"$error":"#DIV/0!"}},null,{"$f":"IF(ISBLANK(K28),\" \",IF(ISBLANK($C$8),\" \",(100*((K$28-G73)/(G73*K$28))*L11)))","v":{"$error":"#DIV/0!"}},null,{"$f":"IF(ISBLANK(M28),\" \",IF(ISBLANK($C$8),\" \",(100*((M$28-H73)/(H73*M$28))*N11)))","v":{"$error":"#DIV/0!"}}]
[null,"Pbe",{"$f":"IF(ISBLANK($C$8),\" \",IF(ISBLANK(C12),\" \",IF(ISBLANK(C29),\" \",ROUND((C$12-((C$29/100)*(100-C$12))),2))))","v":" "},null,{"$f":"IF(ISBLANK($C$8),\" \",IF(ISBLANK(E$12),\" \",IF(ISBLANK(E29),\" \",ROUND((E$12-((E$29/100)*(100-E$12))),2))))","v":" "},null,{"$f":"IF(ISBLANK($C$8),\" \",IF(ISBLANK(G$12),\" \",IF(ISBLANK(G29),\" \",ROUND((G$12-((G$29/100)*(100-G$12))),2))))","v":" "},null,{"$f":"IF(ISBLANK($C$8),\" \",IF(ISBLANK(I$12),\" \",IF(ISBLANK(I29),\" \",ROUND((I$12-((I$29/100)*(100-I$12))),2))))","v":" "},null,{"$f":"IF(ISBLANK($C$8),\" \",IF(ISBLANK(K$12),\" \",IF(ISBLANK(K29),\" \",ROUND((K$12-((K$29/100)*(100-K$12))),2))))","v":" "},null,{"$f":"IF(ISBLANK($C$8),\" \",IF(ISBLANK(M$12),\" \",IF(ISBLANK(M29),\" \",ROUND((M$12-((M$29/100)*(100-M$12))),2))))","v":" "}]
[null,"Gse",{"$f":"ROUND((100-C$42)/((100/C$41)-(C$42/D41)),3)","v":{"$error":"#DIV/0!"}},null,{"$f":"ROUND((100-E$42)/((100/E$41)-(E$42/F41)),3)","v":{"$error":"#DIV/0!"}},null,{"$f":"ROUND((100-G$42)/((100/G$41)-(G$42/H41)),3)","v":{"$error":"#DIV/0!"}},null,{"$f":"ROUND((100-I$42)/((100/I$41)-(I$42/J41)),3)","v":{"$error":"#DIV/0!"}},null,{"$f":"ROUND((100-K$42)/((100/K$41)-(K$42/L41)),3)","v":{"$error":"#DIV/0!"}},null,{"$f":"ROUND((100-M$42)/((100/M$41)-(M$42/N41)),3)","v":{"$error":"#DIV/0!"}}]
[null,"Pba",{"$f":"IF(ISBLANK(C31),\" \",IF(ISBLANK($C$8),\" \",(100*((C$31-C77)/(C77*C$31))*D41)))","v":{"$error":"#DIV/0!"}},null,{"$f":"IF(ISBLANK(E31),\" \",IF(ISBLANK($C$8),\" \",(100*((E$31-D77)/(D77*E$31))*F41)))","v":{"$error":"#DIV/0!"}},null,{"$f":"IF(ISBLANK(G31),\" \",IF(ISBLANK($C$8),\" \",(100*((G$31-E77)/(E77*G$31))*H41)))","v":{"$error":"#DIV/0!"}},null,{"$f":"IF(ISBLANK(I31),\" \",IF(ISBLANK($C$8),\" \",(100*((I$31-F77)/(F77*I$31))*J41)))","v":{"$error":"#DIV/0!"}},null,{"$f":"IF(ISBLANK(K31),\" \",IF(ISBLANK($C$8),\" \",(100*((K$31-G77)/(G77*K$31))*L41)))","v":{"$error":"#DIV/0!"}},null,{"$f":"IF(ISBLANK(M31),\" \",IF(ISBLANK($C$8),\" \",(100*((M$31-H77)/(H77*M$31))*N41)))","v":{"$error":"#DIV/0!"}}]
[null,"Pbe",{"$f":"IF(ISBLANK($C$8),\" \",IF(ISBLANK(C42),\" \",IF(ISBLANK(C32),\" \",ROUND((C$42-((C$32/100)*(100-C$42))),2))))","v":" "},null,{"$f":"IF(ISBLANK($C$8),\" \",IF(ISBLANK(E42),\" \",IF(ISBLANK(E32),\" \",ROUND((E$42-((E$32/100)*(100-E$42))),2))))","v":" "},null,{"$f":"IF(ISBLANK($C$8),\" \",IF(ISBLANK(G42),\" \",IF(ISBLANK(G32),\" \",ROUND((G$42-((G$32/100)*(100-G$42))),2))))","v":" "},null,{"$f":"IF(ISBLANK($C$8),\" \",IF(ISBLANK(I42),\" \",IF(ISBLANK(I32),\" \",ROUND((I$42-((I$32/100)*(100-I$42))),2))))","v":" "},null,{"$f":"IF(ISBLANK($C$8),\" \",IF(ISBLANK(K42),\" \",IF(ISBLANK(K32),\" \",ROUND((K$42-((K$32/100)*(100-K$42))),2))))","v":" "},null,{"$f":"IF(ISBLANK($C$8),\" \",IF(ISBLANK(M42),\" \",IF(ISBLANK(M32),\" \",ROUND((M$42-((M$32/100)*(100-M$42))),2))))","v":" "}]
["Offset value",null,{"$f":"'G1'!B38-C8","v":{"$error":"#DIV/0!"}}]
[]
[null,null,{"$f":"IF(AND('V6'!M79=\"Volumetric deviation, resample within 150 tons\",R23>0),\"Deviation on 150 ton sample, suspend production of JMF\",IF(OR(R20=1,S20=1,R21=2,R22=3,S22=3),\"Volumetric deviation, resample within 150 tons\",\" \"))","v":" "},null,{"$f":"IF(AND(C36=\"Volumetric deviation, resample within 150 tons\",T23>0),\"Deviation on 150 ton sample, suspend production of JMF\",IF(OR(T20=1,U20=1,T21=2,T22=3,U22=3),\"Volumetric deviation, resample within 150 tons\",\" \"))","v":" "},null,{"$f":"IF(AND(E36=\"Volumetric deviation, resample within 150 tons\",V23>0),\"Deviation on 150 ton sample, suspend production of JMF\",IF(OR(V20=1,W20=1,V21=2,V22=3,W22=3),\"Volumetric deviation, resample within 150 tons\",\" \"))","v":" "},null,{"$f":"IF(AND(G36=\"Volumetric deviation, resample within 150 tons\",X23>0),\"Deviation on 150 ton sample, suspend production of JMF\",IF(OR(X20=1,Y20=1,X21=2,X22=3,Y22=3),\"Volumetric deviation, resample within 150 tons\",\" \"))","v":" "},null,{"$f":"IF(AND(I36=\"Volumetric deviation, resample within 150 tons\",Z23>0),\"Deviation on 150 ton sample, suspend production of JMF\",IF(OR(Z20=1,AA20=1,Z21=2,Z22=3,AA22=3),\"Volumetric deviation, resample within 150 tons\",\" \"))","v":" "},null,{"$f":"IF(AND(K36=\"Volumetric deviation, resample within 150 tons\",AB23>0),\"Deviation on 150 ton sample, suspend production of JMF\",IF(OR(AB20=1,AC20=1,AB21=2,AB22=3,AC22=3),\"Volumetric deviation, resample within 150 tons\",\" \"))","v":" "}]
[]
[null,null,null,null,null,null,null,null,null,null,null,null,null,null,null,null,null,"This determines if samples meet single and multiple tolerances and is used for cond. Formatting and action notes"]
["Sample No."]
["Date"]
["Gmm / Gb of AC"]
["AC / -200"]
["Specimen No",null,1,2,1,2,1,2,1,2,1,2,1,2]
["Height at Ndes"]
["Mass in Air"]
["Mass in Water"]
["SSD Mass"]
["Gmb",null,{"$f":"IF(ISBLANK(C45),\" \",IF(ISBLANK(C46),\" \",IF(ISBLANK(C47),\" \",ROUND(Gmb(C45,C46,C47),3))))","v":" "}," "," "," "," "," "," "," "," "," "," "," "]
["Average Gmb",null,{"$f":"IF(ISTEXT(C48),\" \",IF(ISTEXT(D48),\" \",AVERAGE(C48:D48)))","v":" "},null,{"$f":"IF(ISTEXT(E48),\" \",IF(ISTEXT(F48),\" \",AVERAGE(E48:F48)))","v":" "},null,{"$f":"IF(ISTEXT(G48),\" \",IF(ISTEXT(H48),\" \",AVERAGE(G48:H48)))","v":" "},null,{"$f":"IF(ISTEXT(I48),\" \",IF(ISTEXT(J48),\" \",AVERAGE(I48:J48)))","v":" "},null,{"$f":"IF(ISTEXT(K48),\" \",IF(ISTEXT(L48),\" \",AVERAGE(K48:L48)))","v":" "},null,{"$f":"IF(ISTEXT(M48),\" \",IF(ISTEXT(N48),\" \",AVERAGE(M48:N48)))","v":" "},null,null,"Sample",null,7,null,8,null,9,null,10,null,11,null,12]
["(Voids)VTM",null,{"$f":"IF(ISBLANK(C41),\" \",IF(ISTEXT(C48),\" \",ROUND(Va($C$41,C48),1)))","v":" "},{"$f":"IF(ISBLANK(C41),\" \",IF(ISTEXT(D48),\" \",ROUND(Va($C$41,D48),1)))","v":" "},{"$f":"IF(ISBLANK(E41),\" \",IF(ISTEXT(E48),\" \",ROUND(Va($E$41,E48),1)))","v":" "},{"$f":"IF(ISBLANK(E41),\" \",IF(ISTEXT(F48),\" \",ROUND(Va($E$41,F48),1)))","v":" "},{"$f":"IF(ISBLANK(G41),\" \",IF(ISTEXT(G48),\" \",ROUND(Va($G$41,G48),1)))","v":" "},{"$f":"IF(ISBLANK(G41),\" \",IF(ISTEXT(H48),\" \",ROUND(Va($G$41,H48),1)))","v":" "},{"$f":"IF(ISBLANK(I41),\" \",IF(ISTEXT(I48),\" \",ROUND(Va($I$41,I48),1)))","v":" "},{"$f":"IF(ISBLANK(I41),\" \",IF(ISTEXT(J48),\" \",ROUND(Va($I$41,J48),1)))","v":" "},{"$f":"IF(ISBLANK(K41),\" \",IF(ISTEXT(K48),\" \",ROUND(Va($K$41,K48),1)))","v":" "},{"$f":"IF(ISBLANK(K41),\" \",IF(ISTEXT(L48),\" \",ROUND(Va($K$41,L48),1)))","v":" "},{"$f":"IF(ISBLANK(M41),\" \",IF(ISTEXT(M48),\" \",ROUND(Va($M$41,M48),1)))","v":" "},{"$f":"IF(ISBLANK(M41),\" \",IF(ISTEXT(N48),\" \",ROUND(Va($M$41,N48),1)))","v":" "},null,"single voids",null,{"$f":"IF(ISTEXT(C50),\" \",IF(OR(C50>$M$8+2,C50<$M$8-2),1,0))","v":" "},{"$f":"IF(ISTEXT(D50),\" \",IF(OR(D50>$M$8+2,D50<$M$8-2),1,0))","v":" "},{"$f":"IF(ISTEXT(E50),\" \",IF(OR(E50>$M$8+2,E50<$M$8-2),1,0))","v":" "}," "," "," "," "," "," "," "," "," "]
["AVG.(Voids)VTM",null,{"$f":"IF(ISTEXT(C50),\" \",IF(ISTEXT(D50),\" \",ROUND(AVERAGE(C50:D50),1)))","v":" "},null,{"$f":"IF(ISTEXT(E50),\" \",IF(ISTEXT(F50),\" \",ROUND(AVERAGE(E50:F50),1)))","v":" "},null,{"$f":"IF(ISTEXT(G50),\" \",IF(ISTEXT(H50),\" \",ROUND(AVERAGE(G50:H50),1)))","v":" "},null,{"$f":"IF(ISTEXT(I50),\" \",IF(ISTEXT(J50),\" \",ROUND(AVERAGE(I50:J50),1)))","v":" "},null,{"$f":"IF(ISTEXT(K50),\" \",IF(ISTEXT(L50),\" \",ROUND(AVERAGE(K50:L50),1)))","v":" "},null,{"$f":"IF(ISTEXT(M50),\" \",IF(ISTEXT(N50),\" \",ROUND(AVERAGE(M50:N50),1)))","v":" "},null,null,"Avg voids",null,{"$f":"IF(ISTEXT(C51),\" \",IF(OR(C51>$M$8+1.5,C51<$M$8-1.5),2,0))","v":" "},null,{"$f":"IF(ISTEXT(E51),\" \",IF(OR(E51>$M$8+1.5,E51<$M$8-1.5),2,0))","v":" "},null,{"$f":"IF(ISTEXT(G51),\" \",IF(OR(G51>$M$8+1.5,G51<$M$8-1.5),2,0))","v":" "},null,{"$f":"IF(ISTEXT(I51),\" \",IF(OR(I51>$M$8+1.5,I51<$M$8-1.5),2,0))","v":" "},null,{"$f":"IF(ISTEXT(K51),\" \",IF(OR(K51>$M$8+1.5,K51<$M$8-1.5),2,0))","v":" "},null,{"$f":"IF(ISTEXT(M51),\" \",IF(OR(M51>$M$8+1.5,M51<$M$8-1.5),2,0))","v":" "}]
["VMA",null,{"$f":"IF(ISTEXT(C48),\" \",IF(ISBLANK(C42),\" \",IF(ISBLANK($C$8),\" \",ROUND(Vma(C48,C42,C77),1))))","v":" "},{"$f":"IF(ISTEXT(D48),\" \",IF(ISBLANK(C42),\" \",IF(ISBLANK($C$8),\" \",ROUND(Vma(D48,C42,C77),1))))","v":" "},{"$f":"IF(ISTEXT(E48),\" \",IF(ISBLANK(E42),\" \",IF(ISBLANK($C$8),\" \",ROUND(Vma(E48,E42,D77),1))))","v":" "},{"$f":"IF(ISTEXT(F48),\" \",IF(ISBLANK(E42),\" \",IF(ISBLANK($C$8),\" \",ROUND(Vma(F48,E42,D77),1))))","v":" "},{"$f":"IF(ISTEXT(G48),\" \",IF(ISBLANK(G42),\" \",IF(ISBLANK($C$8),\" \",ROUND(Vma(G48,G42,E77),1))))","v":" "},{"$f":"IF(ISTEXT(H48),\" \",IF(ISBLANK(G42),\" \",IF(ISBLANK($C$8),\" \",ROUND(Vma(H48,G42,E77),1))))","v":" "},{"$f":"IF(ISTEXT(I48),\" \",IF(ISBLANK(I42),\" \",IF(ISBLANK($C$8),\" \",ROUND(Vma(I48,I42,F77),1))))","v":" "},{"$f":"IF(ISTEXT(J48),\" \",IF(ISBLANK(I42),\" \",IF(ISBLANK($C$8),\" \",ROUND(Vma(J48,I42,F77),1))))","v":" "},{"$f":"IF(ISTEXT(K48),\" \",IF(ISBLANK(K42),\" \",IF(ISBLANK($C$8),\" \",ROUND(Vma(K48,K42,G77),1))))","v":" "},{"$f":"IF(ISTEXT(L48),\" \",IF(ISBLANK(K42),\" \",IF(ISBLANK($C$8),\" \",ROUND(Vma(L48,K42,G77),1))))","v":" "},{"$f":"IF(ISTEXT(M48),\" \",IF(ISBLANK(M42),\" \",IF(ISBLANK($C$8),\" \",ROUND(Vma(M48,M42,H77),1))))","v":" "},{"$f":"IF(ISTEXT(N48),\" \",IF(ISBLANK(M42),\" \",IF(ISBLANK($C$8),\" \",ROUND(Vma(N48,M42,H77),1))))","v":" "},null,"Single VMA",null,{"$f":"IF(C52<'A P'!$N$5,3,0)","v":0},{"$f":"IF(D52<'A P'!$N$5,3,0)","v":0},{"$f":"IF(E52<'A P'!$N$5,3,0)","v":0},{"$f":"IF(F52<'A P'!$N$5,3,0)","v":0},{"$f":"IF(G52<'A P'!$N$5,3,0)","v":0},{"$f":"IF(H52<'A P'!$N$5,3,0)","v":0},{"$f":"IF(I52<'A P'!$N$5,3,0)","v":0},{"$f":"IF(J52<'A P'!$N$5,3,0)","v":0},{"$f":"IF(K52<'A P'!$N$5,3,0)","v":0},{"$f":"IF(L52<'A P'!$N$5,3,0)","v":0},{"$f":"IF(M52<'A P'!$N$5,3,0)","v":0},{"$f":"IF(N52<'A P'!$N$5,3,0)","v":0}]
["Avg. VMA",null,{"$f":"IF(ISBLANK($C$8),\" \",IF(ISTEXT(C52),\" \",IF(ISTEXT(D52),\" \",ROUND(AVERAGE(C52:D52),1))))","v":" "},null,{"$f":"IF(ISBLANK($C$8),\" \",IF(ISTEXT(E52),\" \",IF(ISTEXT(F52),\" \",ROUND(AVERAGE(E52:F52),1))))","v":" "},null,{"$f":"IF(ISBLANK($C$8),\" \",IF(ISTEXT(G52),\" \",IF(ISTEXT(H52),\" \",ROUND(AVERAGE(G52:H52),1))))","v":" "},null,{"$f":"IF(ISBLANK($C$8),\" \",IF(ISTEXT(I52),\" \",IF(ISTEXT(J52),\" \",ROUND(AVERAGE(I52:J52),1))))","v":" "},null,{"$f":"IF(ISBLANK($C$8),\" \",IF(ISTEXT(K52),\" \",IF(ISTEXT(L52),\" \",ROUND(AVERAGE(K52:L52),1))))","v":" "},null,{"$f":"IF(ISBLANK($C$8),\" \",IF(ISTEXT(M52),\" \",IF(ISTEXT(N52),\" \",ROUND(AVERAGE(M52:N52),1))))","v":" "},null,null,"Max",null,{"$f":"MAX(R50:S52)","v":0},null,{"$f":"MAX(T50:U52)","v":0},null,{"$f":"MAX(V50:W52)","v":0},null,{"$f":"MAX(X50:Y52)","v":0},null,{"$f":"MAX(Z50:AA52)","v":0},null,{"$f":"MAX(AB50:AC52)","v":0}]
["VFA",null,{"$f":"IF(ISBLANK($C$8),\" \",IF(ISTEXT(C48),\" \",IF(ISTEXT(C52),\" \",Vfa(C52,C50))))","v":" "},{"$f":"IF(ISBLANK($C$8),\" \",IF(ISTEXT(D48),\" \",IF(ISTEXT(D52),\" \",Vfa(D52,D50))))","v":" "},{"$f":"IF(ISBLANK($C$8),\" \",IF(ISTEXT(E48),\" \",IF(ISTEXT(E52),\" \",Vfa(E52,E50))))","v":" "}," "," "," "," "," "," "," "," "," "]
["Avg.VFA",null,{"$f":"IF(ISBLANK($C$8),\" \",IF(ISTEXT(C54),\" \",IF(ISTEXT(D54),\" \",ROUND(AVERAGE(C54:D54),0))))","v":" "},null,{"$f":"IF(ISBLANK($C$8),\" \",IF(ISTEXT(E54),\" \",IF(ISTEXT(F54),\" \",ROUND(AVERAGE(E54:F54),0))))","v":" "},null,{"$f":"IF(ISBLANK($C$8),\" \",IF(ISTEXT(G54),\" \",IF(ISTEXT(H54),\" \",ROUND(AVERAGE(G54:H54),0))))","v":" "},null,{"$f":"IF(ISBLANK($C$8),\" \",IF(ISTEXT(I54),\" \",IF(ISTEXT(J54),\" \",ROUND(AVERAGE(I54:J54),0))))","v":" "},null,{"$f":"IF(ISBLANK($C$8),\" \",IF(ISTEXT(K54),\" \",IF(ISTEXT(L54),\" \",ROUND(AVERAGE(K54:L54),0))))","v":" "},null,{"$f":"IF(ISBLANK($C$8),\" \",IF(ISTEXT(M54),\" \",IF(ISTEXT(N54),\" \",ROUND(AVERAGE(M54:N54),0))))","v":" "}]
["F/A",null,{"$f":"IF(ISBLANK(D42),\" \",IF(ISTEXT(C33),\" \",IF(ISBLANK(D41),\" \",Fa(D42,C33))))","v":" "},null,{"$f":"IF(ISBLANK(F42),\" \",IF(ISTEXT(E33),\" \",IF(ISBLANK(F41),\" \",Fa(F42,E33))))","v":" "},null,{"$f":"IF(ISBLANK(H42),\" \",IF(ISTEXT(G33),\" \",IF(ISBLANK(H41),\" \",Fa(H42,G33))))","v":" "},null,{"$f":"IF(ISBLANK(J42),\" \",IF(ISTEXT(I33),\" \",IF(ISBLANK(J41),\" \",Fa(J42,I33))))","v":" "},null,{"$f":"IF(ISBLANK(L42),\" \",IF(ISTEXT(K33),\" \",IF(ISBLANK(L41),\" \",Fa(L42,K33))))","v":" "},null,{"$f":"IF(ISBLANK(N42),\" \",IF(ISTEXT(M33),\" \",IF(ISBLANK(N41),\" \",Fa(N42,M33))))","v":" "}]
["Pbe",null,{"$f":"C33","v":" "},null,{"$f":"E33","v":" "},null,{"$f":"G33","v":" "},null,{"$f":"I33","v":" "},null,{"$f":"K33","v":" "},null,{"$f":"M33","v":" "}]
[null,null,"Voids","VMA","VFA",null,"Upper","Lower","Target"]
["Running averages for conditional formatting tolerances",null,{"$f":"'ST1'!F74","v":{"$error":"#N/A"}},{"$f":"'ST1'!H74","v":{"$error":"#N/A"}},{"$f":"'ST1'!J74","v":{"$error":"#N/A"}},"Voids",{"$f":"'A P'!C6","v":1.5},{"$f":"'A P'!C8","v":1.5},{"$f":"'A P'!C7","v":0}]
[null,null,{"$f":"'ST1'!F75","v":{"$error":"#N/A"}},{"$f":"'ST1'!H75","v":{"$error":"#N/A"}},{"$f":"'ST1'!J75","v":{"$error":"#N/A"}},"VMA",{"$f":"'A P'!C10","v":1},{"$f":"'A P'!C11","v":1}]
[null,null,{"$f":"'ST1'!F76","v":{"$error":"#N/A"}},{"$f":"'ST1'!H76","v":{"$error":"#N/A"}},{"$f":"'ST1'!J76","v":{"$error":"#N/A"}},"VFA",{"$f":"'A P'!C13","v":0},{"$f":"'A P'!C14","v":0}]
[null,null,{"$f":"'ST1'!F77","v":{"$error":"#N/A"}},{"$f":"'ST1'!H77","v":{"$error":"#N/A"}},{"$f":"'ST1'!J77","v":{"$error":"#N/A"}}]
[null,null,{"$f":"'ST1'!F78","v":{"$error":"#N/A"}},{"$f":"'ST1'!H78","v":{"$error":"#N/A"}},{"$f":"'ST1'!J78","v":{"$error":"#N/A"}}]
[null,null,{"$f":"'ST1'!F79","v":{"$error":"#N/A"}},{"$f":"'ST1'!H79","v":{"$error":"#N/A"}},{"$f":"'ST1'!J79","v":{"$error":"#N/A"}},"Conditional formatting of running avgs have been taken out of ESB-11 but formulas have been left in place in case future changes are necessary"]
[null,null,{"$f":"'ST1'!F80","v":{"$error":"#N/A"}},{"$f":"'ST1'!H80","v":{"$error":"#N/A"}},{"$f":"'ST1'!J80","v":{"$error":"#N/A"}}]
[null,null,{"$f":"'ST1'!F81","v":{"$error":"#N/A"}},{"$f":"'ST1'!H81","v":{"$error":"#N/A"}},{"$f":"'ST1'!J81","v":{"$error":"#N/A"}}]
[null,null,{"$f":"'ST1'!F82","v":{"$error":"#N/A"}},{"$f":"'ST1'!H82","v":{"$error":"#N/A"}},{"$f":"'ST1'!J82","v":{"$error":"#N/A"}}]
[null,null,{"$f":"'ST1'!F83","v":{"$error":"#N/A"}},{"$f":"'ST1'!H83","v":{"$error":"#N/A"}},{"$f":"'ST1'!J83","v":{"$error":"#N/A"}}]
[null,null,{"$f":"'ST1'!F84","v":{"$error":"#N/A"}},{"$f":"'ST1'!H84","v":{"$error":"#N/A"}},{"$f":"'ST1'!J84","v":{"$error":"#N/A"}}]
[null,null,{"$f":"'ST1'!F85","v":{"$error":"#N/A"}},{"$f":"'ST1'!H85","v":{"$error":"#N/A"}},{"$f":"'ST1'!J85","v":{"$error":"#N/A"}}]
[]
["Corrected Gsb for upper block using offset value C34 "]
[null,null,{"$f":"C28-$C$34","v":{"$error":"#DIV/0!"}},{"$f":"E28-$C$34","v":{"$error":"#DIV/0!"}},{"$f":"G28-$C$34","v":{"$error":"#DIV/0!"}},{"$f":"I28-$C$34","v":{"$error":"#DIV/0!"}},{"$f":"K28-$C$34","v":{"$error":"#DIV/0!"}},{"$f":"M28-$C$34","v":{"$error":"#DIV/0!"}}]
[]
[]
["Corrected Gsb for lower block using offset value C34 "]
[null,null,{"$f":"C31-$C$34","v":{"$error":"#DIV/0!"}},{"$f":"E31-$C$34","v":{"$error":"#DIV/0!"}},{"$f":"G31-$C$34","v":{"$error":"#DIV/0!"}},{"$f":"I31-$C$34","v":{"$error":"#DIV/0!"}},{"$f":"K31-$C$34","v":{"$error":"#DIV/0!"}},{"$f":"M31-$C$34","v":{"$error":"#DIV/0!"}}]
[]
[null,null,{"$f":"IF(AND(M36=\"Volumetric deviation, resample within 150 tons\",R53>0),\"Deviation on 150 ton sample, suspend production of JMF\",IF(OR(R50=1,S50=1,R51=2,R52=3,S52=3),\"Volumetric deviation, resample within 150 tons\",\" \"))","v":" "},null,{"$f":"IF(AND(C79=\"Volumetric deviation, resample within 150 tons\",T53>0),\"Deviation on 150 ton sample, suspend production of JMF\",IF(OR(T50=1,U50=1,T51=2,T52=3,U52=3),\"Volumetric deviation, resample within 150 tons\",\" \"))","v":" "},null,{"$f":"IF(AND(E79=\"Volumetric deviation, resample within 150 tons\",V53>0),\"Deviation on 150 ton sample, suspend production of JMF\",IF(OR(V50=1,W50=1,V51=2,V52=3,W52=3),\"Volumetric deviation, resample within 150 tons\",\" \"))","v":" "},null,{"$f":"IF(AND(G79=\"Volumetric deviation, resample within 150 tons\",X53>0),\"Deviation on 150 ton sample, suspend production of JMF\",IF(OR(X50=1,Y50=1,X51=2,X52=3,Y52=3),\"Volumetric deviation, resample within 150 tons\",\" \"))","v":" "},null,{"$f":"IF(AND(I79=\"Volumetric deviation, resample within 150 tons\",Z53>0),\"Deviation on 150 ton sample, suspend production of JMF\",IF(OR(Z50=1,AA50=1,Z51=2,Z52=3,AA52=3),\"Volumetric deviation, resample within 150 tons\",\" \"))","v":" "},null,{"$f":"IF(AND(K79=\"Volumetric deviation, resample within 150 tons\",AB53>0),\"Deviation on 150 ton sample, suspend production of JMF\",IF(OR(AB50=1,AC50=1,AB51=2,AB52=3,AC52=3),\"Volumetric deviation, resample within 150 tons\",\" \"))","v":" "}]

{"sheet":"V8","index":39,"n_rows":79,"n_cols":29,"rows_kept":79,"cut":false,"hidden":true,"merged":[[50,21,50,22],[50,23,50,24],[50,25,50,26],[50,27,50,28],[51,15,51,16],[52,15,52,16],[52,17,52,18],[52,19,52,20],[52,21,52,22],[52,23,52,24],[52,25,52,26],[52,27,52,28],[22,25,22,26],[22,27,22,28],[48,15,48,16],[48,17,48,18],[48,19,48,20],[48,21,48,22],[48,23,48,24],[48,25,48,26],[48,27,48,28],[37,17,37,28],[18,21,18,22],[18,23,18,24],[18,25,18,26],[78,0,80,1],[35,12,37,13],[35,10,37,11],[35,8,37,9],[35,6,37,7],[18,27,18,28],[19,15,19,16],[20,15,20,16],[20,17,20,18],[20,19,20,20],[20,21,20,22],[20,23,20,24],[20,25,20,26],[20,27,20,28],[18,15,18,16],[21,15,21,16],[22,15,22,16],[22,17,22,18],[22,19,22,20],[22,21,22,22],[22,23,22,24],[78,12,80,13],[78,10,80,11],[78,8,80,9],[78,6,80,7],[78,4,80,5],[78,2,80,3],[38,10,38,11],[18,17,18,18],[18,19,18,20],[49,15,49,16],[50,15,50,16],[50,17,50,18],[50,19,50,20],[20,12,20,13],[18,10,18,11],[22,10,22,11],[22,12,22,13],[18,12,18,13],[25,10,25,11],[24,10,24,11],[24,4,24,5],[24,6,24,7],[22,8,22,9],[22,4,22,5],[5,0,5,1],[5,2,5,3],[7,10,7,11],[5,5,5,8],[7,12,7,13],[9,6,9,7],[9,8,9,9],[0,0,3,1],[1,10,1,11],[1,12,1,13],[2,10,2,11],[2,12,2,13],[3,10,3,11],[3,12,3,13],[6,10,6,11],[6,12,6,13],[4,10,4,11],[4,12,4,13],[5,12,5,13],[5,10,5,11],[6,4,6,9],[7,4,7,7],[7,8,7,9],[10,0,10,1],[6,0,6,1],[6,2,6,3],[9,10,9,11],[9,0,9,1],[9,12,9,13],[8,0,8,1],[8,2,8,3],[8,4,8,5],[8,6,8,7],[8,12,8,13],[8,8,8,9],[8,10,8,11],[9,2,9,3],[9,4,9,5],[7,0,7,1],[7,2,7,3],[15,0,15,1],[18,8,18,9],[18,6,18,7],[11,0,11,1],[12,0,12,1],[13,0,13,1],[14,0,14,1],[16,0,16,1],[17,0,17,1],[19,0,19,1],[18,0,18,1],[18,2,18,3],[18,4,18,5],[21,0,21,1],[20,0,20,1],[20,2,20,3],[20,4,20,5],[20,6,20,7],[22,6,22,7],[20,8,20,9],[20,10,20,11],[23,0,23,1],[22,0,22,1],[22,2,22,3],[24,12,24,13],[25,0,25,1],[25,2,25,3],[25,4,25,5],[25,6,25,7],[25,8,25,9],[25,12,25,13],[26,12,26,13],[27,2,27,3],[27,4,27,5],[27,6,27,7],[27,8,27,9],[27,10,27,11],[24,0,24,1],[24,2,24,3],[24,8,24,9],[27,12,27,13],[26,8,26,9],[26,10,26,11],[26,0,26,1],[26,2,26,3],[26,4,26,5],[26,6,26,7],[29,2,29,3],[29,4,29,5],[29,6,29,7],[29,8,29,9],[30,2,30,3],[30,4,30,5],[31,2,31,3],[31,4,31,5],[28,2,28,3],[28,4,28,5],[28,6,28,7],[28,8,28,9],[31,6,31,7],[31,8,31,9],[30,6,30,7],[30,8,30,9],[32,2,32,3],[32,4,32,5],[32,6,32,7],[32,8,32,9],[28,10,28,11],[32,10,32,11],[32,12,32,13],[34,0,34,1],[38,0,38,1],[38,2,38,3],[38,4,38,5],[33,0,33,1],[33,3,33,12],[38,6,38,7],[35,4,37,5],[35,2,37,3],[35,0,37,1],[28,12,28,13],[29,10,29,11],[29,12,29,13],[30,10,30,11],[30,12,30,13],[31,10,31,11],[31,12,31,13],[47,0,47,1],[48,0,48,1],[41,0,41,1],[42,0,42,1],[43,0,43,1],[44,0,44,1],[45,0,45,1],[46,0,46,1],[48,6,48,7],[39,12,39,13],[40,0,40,1],[39,0,39,1],[39,2,39,3],[39,4,39,5],[39,6,39,7],[39,8,39,9],[39,10,39,11],[38,8,38,9],[38,12,38,13],[51,0,51,1],[52,0,52,1],[52,2,52,3],[52,4,52,5],[48,10,48,11],[48,12,48,13],[49,0,49,1],[50,0,50,1],[50,2,50,3],[50,4,50,5],[48,8,48,9],[54,12,54,13],[52,10,52,11],[52,12,52,13],[48,2,48,3],[48,4,48,5],[50,10,50,11],[50,12,50,13],[50,6,50,7],[50,8,50,9],[54,0,54,1],[54,2,54,3],[54,4,54,5],[54,6,54,7],[54,8,54,9],[52,6,52,7],[52,8,52,9],[53,0,53,1],[54,10,54,11],[55,12,55,13],[56,0,56,1],[56,2,56,3],[56,4,56,5],[56,6,56,7],[56,8,56,9],[56,10,56,11],[56,12,56,13],[55,0,55,1],[62,5,67,9],[58,0,69,1],[71,0,73,1],[75,0,77,1],[55,8,55,9],[55,2,55,3],[55,4,55,5],[55,6,55,7],[55,10,55,11]]}
[]
[null,null,null,null,"COMMONWEALTH OF PENNSYLVANIA",null,null,null,null,null,"DISTRICT",null,{"$f":"IF(ISBLANK('V1'!M2),\" \",('V1'!M2))","v":" "}]
[null,null,null,null,"DEPARTMENT OF TRANSPORTATION",null,null,null,null,null,"PLANT CODE",null,{"$f":"IF(ISBLANK('V1'!M3),\" \",('V1'!M3))","v":" "}]
[null,null,null,null,"LABORATORY TEST SECTION",null,null,null,null,null,"Design No.",null,{"$f":"IF(ISBLANK('V1'!M4),\" \",('V1'!M4))","v":" "}]
[{"$f":"'S1'!A5","v":"ESB-16"},null,null,null,null,null,null,null,null,null,"JMF VMA",null,{"$f":"IF(ISBLANK('V1'!M5),\" \",('V1'!M5))","v":" "}]
["Material Class ",null,{"$f":"IF(ISBLANK('V1'!C6),\" \",('V1'!C6))","v":9.5},null,null,"Volumetric Results",null,null,null,null,"JMF VFA",null,{"$f":"IF(ISBLANK('V1'!M6),\" \",('V1'!M6))","v":" "}]
["Gyrations @ Ndes",null,{"$f":"IF(ISBLANK('V1'!C7),\" \",('V1'!C7))","v":" "},null,"Red values indicate corrective action is needed",null,null,null,null,null,"JMF F/A",null,{"$f":"IF(ISBLANK('V1'!M7),\" \",('V1'!M7))","v":" "}]
["Gsb of Mix",null,{"$f":"IF(ISBLANK('V1'!C8),\" \",('V1'!C8))","v":" "},null,"Gyratory Specimen wt. from TR 448",null,null,null,{"$f":"IF(ISBLANK('V1'!I8),\" \",('V1'!I8))","v":" "},null,"JMF Voids",null,{"$f":"IF(ISBLANK('V1'!M8),\" \",('V1'!M8))","v":" "}]
["Sample No."]
["Date"]
["Gmm / Gb of AC"]
["AC / -200"]
["Specimen No",null,1,2,1,2,1,2,1,2,1,2,1,2]
["Height at Ndes"]
["Mass in Air"]
["Mass in Water"]
["SSD Mass"]
["Gmb",null,{"$f":"IF(ISBLANK(C15),\" \",IF(ISBLANK(C16),\" \",IF(ISBLANK(C17),\" \",ROUND(Gmb(C15,C16,C17),3))))","v":" "},{"$f":"IF(ISBLANK(D15),\" \",IF(ISBLANK(D16),\" \",IF(ISBLANK(D17),\" \",ROUND(Gmb(D15,D16,D17),3))))","v":" "}," "," "," "," "," "," "," "," "," "," "]
["Average Gmb",null,{"$f":"IF(ISTEXT(C18),\" \",IF(ISTEXT(D18),\" \",AVERAGE(C18:D18)))","v":" "},null,{"$f":"IF(ISTEXT(E18),\" \",IF(ISTEXT(F18),\" \",AVERAGE(E18:F18)))","v":" "},null,{"$f":"IF(ISTEXT(G18),\" \",IF(ISTEXT(H18),\" \",AVERAGE(G18:H18)))","v":" "},null,{"$f":"IF(ISTEXT(I18),\" \",IF(ISTEXT(J18),\" \",AVERAGE(I18:J18)))","v":" "},null,{"$f":"IF(ISTEXT(K18),\" \",IF(ISTEXT(L18),\" \",AVERAGE(K18:L18)))","v":" "},null,{"$f":"IF(ISTEXT(M18),\" \",IF(ISTEXT(N18),\" \",AVERAGE(M18:N18)))","v":" "},null,null,"Sample",null,1,null,2,null,3,null,4,null,5,null,6]
["(Voids)VTM",null,{"$f":"IF(ISBLANK(C11),\" \",IF(ISTEXT(C18),\" \",ROUND(Va($C$11,C18),1)))","v":" "},{"$f":"IF(ISBLANK(C11),\" \",IF(ISTEXT(D18),\" \",ROUND(Va($C$11,D18),1)))","v":" "},{"$f":"IF(ISBLANK(E11),\" \",IF(ISTEXT(E18),\" \",ROUND(Va($E$11,E18),1)))","v":" "},{"$f":"IF(ISBLANK(E11),\" \",IF(ISTEXT(F18),\" \",ROUND(Va($E$11,F18),1)))","v":" "},{"$f":"IF(ISBLANK(G11),\" \",IF(ISTEXT(G18),\" \",ROUND(Va($G$11,G18),1)))","v":" "},{"$f":"IF(ISBLANK(G11),\" \",IF(ISTEXT(H18),\" \",ROUND(Va($G$11,H18),1)))","v":" "},{"$f":"IF(ISBLANK(I11),\" \",IF(ISTEXT(I18),\" \",ROUND(Va($I$11,I18),1)))","v":" "},{"$f":"IF(ISBLANK(I11),\" \",IF(ISTEXT(J18),\" \",ROUND(Va($I$11,J18),1)))","v":" "},{"$f":"IF(ISBLANK(K11),\" \",IF(ISTEXT(K18),\" \",ROUND(Va($K$11,K18),1)))","v":" "},{"$f":"IF(ISBLANK(K11),\" \",IF(ISTEXT(L18),\" \",ROUND(Va($K$11,L18),1)))","v":" "},{"$f":"IF(ISBLANK(M11),\" \",IF(ISTEXT(M18),\" \",ROUND(Va($M$11,M18),1)))","v":" "},{"$f":"IF(ISBLANK(M11),\" \",IF(ISTEXT(N18),\" \",ROUND(Va($M$11,N18),1)))","v":" "},null,"single voids",null,{"$f":"IF(ISTEXT(C20),\" \",IF(OR(C20>$M$8+2,C20<$M$8-2),1,0))","v":" "},{"$f":"IF(ISTEXT(D20),\" \",IF(OR(D20>$M$8+2,D20<$M$8-2),1,0))","v":" "}," "," "," "," "," "," "," "," "," "," "]
["AVG.(Voids)VTM",null,{"$f":"IF(ISTEXT(C20),\" \",IF(ISTEXT(D20),\" \",ROUND(AVERAGE(C20:D20),1)))","v":" "},null,{"$f":"IF(ISTEXT(E20),\" \",IF(ISTEXT(F20),\" \",ROUND(AVERAGE(E20:F20),1)))","v":" "},null,{"$f":"IF(ISTEXT(G20),\" \",IF(ISTEXT(H20),\" \",ROUND(AVERAGE(G20:H20),1)))","v":" "},null,{"$f":"IF(ISTEXT(I20),\" \",IF(ISTEXT(J20),\" \",ROUND(AVERAGE(I20:J20),1)))","v":" "},null,{"$f":"IF(ISTEXT(K20),\" \",IF(ISTEXT(L20),\" \",ROUND(AVERAGE(K20:L20),1)))","v":" "},null,{"$f":"IF(ISTEXT(M20),\" \",IF(ISTEXT(N20),\" \",ROUND(AVERAGE(M20:N20),1)))","v":" "},null,null,"Avg voids",null,{"$f":"IF(ISTEXT(C21),\" \",IF(OR(C21>$M$8+1.5,C21<$M$8-1.5),2,0))","v":" "},null,{"$f":"IF(ISTEXT(E21),\" \",IF(OR(E21>$M$8+1.5,E21<$M$8-1.5),2,0))","v":" "},null,{"$f":"IF(ISTEXT(G21),\" \",IF(OR(G21>$M$8+1.5,G21<$M$8-1.5),2,0))","v":" "},null,{"$f":"IF(ISTEXT(I21),\" \",IF(OR(I21>$M$8+1.5,I21<$M$8-1.5),2,0))","v":" "},null,{"$f":"IF(ISTEXT(K21),\" \",IF(OR(K21>$M$8+1.5,K21<$M$8-1.5),2,0))","v":" "},null,{"$f":"IF(ISTEXT(M21),\" \",IF(OR(M21>$M$8+1.5,M21<$M$8-1.5),2,0))","v":" "}]
["VMA",null,{"$f":"IF(ISTEXT(C18),\" \",IF(ISBLANK(C12),\" \",IF(ISBLANK($C$8),\" \",ROUND(Vma(C18,C12,C73),1))))","v":" "},{"$f":"IF(ISTEXT(D18),\" \",IF(ISBLANK(C12),\" \",IF(ISBLANK($C$8),\" \",ROUND(Vma(D18,C12,C73),1))))","v":" "},{"$f":"IF(ISTEXT(E18),\" \",IF(ISBLANK(E12),\" \",IF(ISBLANK($C$8),\" \",ROUND(Vma(E18,E12,D73),1))))","v":" "},{"$f":"IF(ISTEXT(F18),\" \",IF(ISBLANK(E12),\" \",IF(ISBLANK($C$8),\" \",ROUND(Vma(F18,E12,D73),1))))","v":" "},{"$f":"IF(ISTEXT(G18),\" \",IF(ISBLANK(G12),\" \",IF(ISBLANK($C$8),\" \",ROUND(Vma(G18,G12,E73),1))))","v":" "},{"$f":"IF(ISTEXT(H18),\" \",IF(ISBLANK(G12),\" \",IF(ISBLANK($C$8),\" \",ROUND(Vma(H18,G12,E73),1))))","v":" "},{"$f":"IF(ISTEXT(I18),\" \",IF(ISBLANK(I12),\" \",IF(ISBLANK($C$8),\" \",ROUND(Vma(I18,I12,F73),1))))","v":" "},{"$f":"IF(ISTEXT(J18),\" \",IF(ISBLANK(I12),\" \",IF(ISBLANK($C$8),\" \",ROUND(Vma(J18,I12,F73),1))))","v":" "},{"$f":"IF(ISTEXT(K18),\" \",IF(ISBLANK(K12),\" \",IF(ISBLANK($C$8),\" \",ROUND(Vma(K18,K12,G73),1))))","v":" "},{"$f":"IF(ISTEXT(L18),\" \",IF(ISBLANK(K12),\" \",IF(ISBLANK($C$8),\" \",ROUND(Vma(L18,K12,G73),1))))","v":" "},{"$f":"IF(ISTEXT(M18),\" \",IF(ISBLANK(M12),\" \",IF(ISBLANK($C$8),\" \",ROUND(Vma(M18,M12,H73),1))))","v":" "},{"$f":"IF(ISTEXT(N18),\" \",IF(ISBLANK(M12),\" \",IF(ISBLANK($C$8),\" \",ROUND(Vma(N18,M12,H73),1))))","v":" "},null,"Single VMA",null,{"$f":"IF(C22<'A P'!$N$5,3,0)","v":0},{"$f":"IF(D22<'A P'!$N$5,3,0)","v":0},{"$f":"IF(E22<'A P'!$N$5,3,0)","v":0},{"$f":"IF(F22<'A P'!$N$5,3,0)","v":0},{"$f":"IF(G22<'A P'!$N$5,3,0)","v":0},{"$f":"IF(H22<'A P'!$N$5,3,0)","v":0},{"$f":"IF(I22<'A P'!$N$5,3,0)","v":0},{"$f":"IF(J22<'A P'!$N$5,3,0)","v":0},{"$f":"IF(K22<'A P'!$N$5,3,0)","v":0},{"$f":"IF(L22<'A P'!$N$5,3,0)","v":0},{"$f":"IF(M22<'A P'!$N$5,3,0)","v":0},{"$f":"IF(N22<'A P'!$N$5,3,0)","v":0}]
["Avg. VMA",null,{"$f":"IF(ISBLANK($C$8),\" \",IF(ISTEXT(C22),\" \",IF(ISTEXT(D22),\" \",ROUND(AVERAGE(C22:D22),1))))","v":" "},null,{"$f":"IF(ISBLANK($C$8),\" \",IF(ISTEXT(E22),\" \",IF(ISTEXT(F22),\" \",ROUND(AVERAGE(E22:F22),1))))","v":" "},null,{"$f":"IF(ISBLANK($C$8),\" \",IF(ISTEXT(G22),\" \",IF(ISTEXT(H22),\" \",ROUND(AVERAGE(G22:H22),1))))","v":" "},null,{"$f":"IF(ISBLANK($C$8),\" \",IF(ISTEXT(I22),\" \",IF(ISTEXT(J22),\" \",ROUND(AVERAGE(I22:J22),1))))","v":" "},null,{"$f":"IF(ISBLANK($C$8),\" \",IF(ISTEXT(K22),\" \",IF(ISTEXT(L22),\" \",ROUND(AVERAGE(K22:L22),1))))","v":" "},null,{"$f":"IF(ISBLANK($C$8),\" \",IF(ISTEXT(M22),\" \",IF(ISTEXT(N22),\" \",ROUND(AVERAGE(M22:N22),1))))","v":" "},null,null,"Max",null,{"$f":"MAX(R20:S22)","v":0},null,{"$f":"MAX(T20:U22)","v":0},null,{"$f":"MAX(V20:W22)","v":0},null,{"$f":"MAX(X20:Y22)","v":0},null,{"$f":"MAX(Z20:AA22)","v":0},null,{"$f":"MAX(AB20:AC22)","v":0}]
["VFA",null,{"$f":"IF(ISBLANK($C$8),\" \",IF(ISTEXT(C18),\" \",IF(ISTEXT(C22),\" \",Vfa(C22,C20))))","v":" "},{"$f":"IF(ISBLANK($C$8),\" \",IF(ISTEXT(D18),\" \",IF(ISTEXT(D22),\" \",Vfa(D22,D20))))","v":" "},{"$f":"IF(ISBLANK($C$8),\" \",IF(ISTEXT(E18),\" \",IF(ISTEXT(E22),\" \",Vfa(E22,E20))))","v":" "}," "," "," "," "," "," "," "," "," "]
["Avg.VFA",null,{"$f":"IF(ISBLANK($C$8),\" \",IF(ISTEXT(C24),\" \",IF(ISTEXT(D24),\" \",ROUND(AVERAGE(C24:D24),0))))","v":" "},null,{"$f":"IF(ISBLANK($C$8),\" \",IF(ISTEXT(E24),\" \",IF(ISTEXT(F24),\" \",ROUND(AVERAGE(E24:F24),0))))","v":" "},null,{"$f":"IF(ISBLANK($C$8),\" \",IF(ISTEXT(G24),\" \",IF(ISTEXT(H24),\" \",ROUND(AVERAGE(G24:H24),0))))","v":" "},null,{"$f":"IF(ISBLANK($C$8),\" \",IF(ISTEXT(I24),\" \",IF(ISTEXT(J24),\" \",ROUND(AVERAGE(I24:J24),0))))","v":" "},null,{"$f":"IF(ISBLANK($C$8),\" \",IF(ISTEXT(K24),\" \",IF(ISTEXT(L24),\" \",ROUND(AVERAGE(K24:L24),0))))","v":" "},null,{"$f":"IF(ISBLANK($C$8),\" \",IF(ISTEXT(M24),\" \",IF(ISTEXT(N24),\" \",ROUND(AVERAGE(M24:N24),0))))","v":" "}]
["F/A",null,{"$f":"IF(ISBLANK(D12),\" \",IF(ISTEXT(C30),\" \",IF(ISBLANK(D11),\" \",Fa(D12,C30))))","v":" "},null,{"$f":"IF(ISBLANK(F12),\" \",IF(ISTEXT(E30),\" \",IF(ISBLANK(F11),\" \",Fa(F12,E30))))","v":" "},null,{"$f":"IF(ISBLANK(H12),\" \",IF(ISTEXT(G30),\" \",IF(ISBLANK(H11),\" \",Fa(H12,G30))))","v":" "},null,{"$f":"IF(ISBLANK(J12),\" \",IF(ISTEXT(I30),\" \",IF(ISBLANK(J11),\" \",Fa(J12,I30))))","v":" "},null,{"$f":"IF(ISBLANK(L12),\" \",IF(ISTEXT(K30),\" \",IF(ISBLANK(L11),\" \",Fa(L12,K30))))","v":" "},null,{"$f":"IF(ISBLANK(N12),\" \",IF(ISTEXT(M30),\" \",IF(ISBLANK(N11),\" \",Fa(N12,M30))))","v":" "}]
["Pbe",null,{"$f":"C30","v":" "},null,{"$f":"E30","v":" "},null,{"$f":"G30","v":" "},null,{"$f":"I30","v":" "},null,{"$f":"K30","v":" "},null,{"$f":"M30","v":" "}]
[null,"Gse",{"$f":"ROUND((100-C$12)/((100/C$11)-(C$12/$D11)),3)","v":{"$error":"#DIV/0!"}},null,{"$f":"ROUND((100-E$12)/((100/E$11)-(E$12/F11)),3)","v":{"$error":"#DIV/0!"}},null,{"$f":"ROUND((100-G$12)/((100/G$11)-(G$12/H11)),3)","v":{"$error":"#DIV/0!"}},null,{"$f":"ROUND((100-I$12)/((100/I$11)-(I$12/J11)),3)","v":{"$error":"#DIV/0!"}},null,{"$f":"ROUND((100-K$12)/((100/K$11)-(K$12/L11)),3)","v":{"$error":"#DIV/0!"}},null,{"$f":"ROUND((100-M$12)/((100/M$11)-(M$12/N11)),3)","v":{"$error":"#DIV/0!"}}]
[null,"Pba",{"$f":"IF(ISBLANK(C28),\" \",IF(ISBLANK($C$8),\" \",(100*((C$28-C73)/(C73*C$28))*D11)))","v":{"$error":"#DIV/0!"}},null,{"$f":"IF(ISBLANK(E28),\" \",IF(ISBLANK($C$8),\" \",(100*((E$28-D73)/(D73*E$28))*F11)))","v":{"$error":"#DIV/0!"}},null,{"$f":"IF(ISBLANK(G28),\" \",IF(ISBLANK($C$8),\" \",(100*((G$28-E73)/(E73*G$28))*H11)))","v":{"$error":"#DIV/0!"}},null,{"$f":"IF(ISBLANK(I28),\" \",IF(ISBLANK($C$8),\" \",(100*((I$28-F73)/(F73*I$28))*J11)))","v":{"$error":"#DIV/0!"}},null,{"$f":"IF(ISBLANK(K28),\" \",IF(ISBLANK($C$8),\" \",(100*((K$28-G73)/(G73*K$28))*L11)))","v":{"$error":"#DIV/0!"}},null,{"$f":"IF(ISBLANK(M28),\" \",IF(ISBLANK($C$8),\" \",(100*((M$28-H73)/(H73*M$28))*N11)))","v":{"$error":"#DIV/0!"}}]
[null,"Pbe",{"$f":"IF(ISBLANK($C$8),\" \",IF(ISBLANK(C12),\" \",IF(ISBLANK(C29),\" \",ROUND((C$12-((C$29/100)*(100-C$12))),2))))","v":" "},null,{"$f":"IF(ISBLANK($C$8),\" \",IF(ISBLANK(E$12),\" \",IF(ISBLANK(E29),\" \",ROUND((E$12-((E$29/100)*(100-E$12))),2))))","v":" "},null,{"$f":"IF(ISBLANK($C$8),\" \",IF(ISBLANK(G$12),\" \",IF(ISBLANK(G29),\" \",ROUND((G$12-((G$29/100)*(100-G$12))),2))))","v":" "},null,{"$f":"IF(ISBLANK($C$8),\" \",IF(ISBLANK(I$12),\" \",IF(ISBLANK(I29),\" \",ROUND((I$12-((I$29/100)*(100-I$12))),2))))","v":" "},null,{"$f":"IF(ISBLANK($C$8),\" \",IF(ISBLANK(K$12),\" \",IF(ISBLANK(K29),\" \",ROUND((K$12-((K$29/100)*(100-K$12))),2))))","v":" "},null,{"$f":"IF(ISBLANK($C$8),\" \",IF(ISBLANK(M$12),\" \",IF(ISBLANK(M29),\" \",ROUND((M$12-((M$29/100)*(100-M$12))),2))))","v":" "}]
[null,"Gse",{"$f":"ROUND((100-C$42)/((100/C$41)-(C$42/D41)),3)","v":{"$error":"#DIV/0!"}},null,{"$f":"ROUND((100-E$42)/((100/E$41)-(E$42/F41)),3)","v":{"$error":"#DIV/0!"}},null,{"$f":"ROUND((100-G$42)/((100/G$41)-(G$42/H41)),3)","v":{"$error":"#DIV/0!"}},null,{"$f":"ROUND((100-I$42)/((100/I$41)-(I$42/J41)),3)","v":{"$error":"#DIV/0!"}},null,{"$f":"ROUND((100-K$42)/((100/K$41)-(K$42/L41)),3)","v":{"$error":"#DIV/0!"}},null,{"$f":"ROUND((100-M$42)/((100/M$41)-(M$42/N41)),3)","v":{"$error":"#DIV/0!"}}]
[null,"Pba",{"$f":"IF(ISBLANK(C31),\" \",IF(ISBLANK($C$8),\" \",(100*((C$31-C77)/(C77*C$31))*D41)))","v":{"$error":"#DIV/0!"}},null,{"$f":"IF(ISBLANK(E31),\" \",IF(ISBLANK($C$8),\" \",(100*((E$31-D77)/(D77*E$31))*F41)))","v":{"$error":"#DIV/0!"}},null,{"$f":"IF(ISBLANK(G31),\" \",IF(ISBLANK($C$8),\" \",(100*((G$31-E77)/(E77*G$31))*H41)))","v":{"$error":"#DIV/0!"}},null,{"$f":"IF(ISBLANK(I31),\" \",IF(ISBLANK($C$8),\" \",(100*((I$31-F77)/(F77*I$31))*J41)))","v":{"$error":"#DIV/0!"}},null,{"$f":"IF(ISBLANK(K31),\" \",IF(ISBLANK($C$8),\" \",(100*((K$31-G77)/(G77*K$31))*L41)))","v":{"$error":"#DIV/0!"}},null,{"$f":"IF(ISBLANK(M31),\" \",IF(ISBLANK($C$8),\" \",(100*((M$31-H77)/(H77*M$31))*N41)))","v":{"$error":"#DIV/0!"}}]
[null,"Pbe",{"$f":"IF(ISBLANK($C$8),\" \",IF(ISBLANK(C42),\" \",IF(ISBLANK(C32),\" \",ROUND((C$42-((C$32/100)*(100-C$42))),2))))","v":" "},null,{"$f":"IF(ISBLANK($C$8),\" \",IF(ISBLANK(E42),\" \",IF(ISBLANK(E32),\" \",ROUND((E$42-((E$32/100)*(100-E$42))),2))))","v":" "},null,{"$f":"IF(ISBLANK($C$8),\" \",IF(ISBLANK(G42),\" \",IF(ISBLANK(G32),\" \",ROUND((G$42-((G$32/100)*(100-G$42))),2))))","v":" "},null,{"$f":"IF(ISBLANK($C$8),\" \",IF(ISBLANK(I42),\" \",IF(ISBLANK(I32),\" \",ROUND((I$42-((I$32/100)*(100-I$42))),2))))","v":" "},null,{"$f":"IF(ISBLANK($C$8),\" \",IF(ISBLANK(K42),\" \",IF(ISBLANK(K32),\" \",ROUND((K$42-((K$32/100)*(100-K$42))),2))))","v":" "},null,{"$f":"IF(ISBLANK($C$8),\" \",IF(ISBLANK(M42),\" \",IF(ISBLANK(M32),\" \",ROUND((M$42-((M$32/100)*(100-M$42))),2))))","v":" "}]
["Offset value",null,{"$f":"'G1'!B38-C8","v":{"$error":"#DIV/0!"}}]
[]
[null,null,{"$f":"IF(AND('V7'!M79=\"Volumetric deviation, resample within 150 tons\",R23>0),\"Deviation on 150 ton sample, suspend production of JMF\",IF(OR(R20=1,S20=1,R21=2,R22=3,S22=3),\"Volumetric deviation, resample within 150 tons\",\" \"))","v":" "},null,{"$f":"IF(AND(C36=\"Volumetric deviation, resample within 150 tons\",T23>0),\"Deviation on 150 ton sample, suspend production of JMF\",IF(OR(T20=1,U20=1,T21=2,T22=3,U22=3),\"Volumetric deviation, resample within 150 tons\",\" \"))","v":" "},null,{"$f":"IF(AND(E36=\"Volumetric deviation, resample within 150 tons\",V23>0),\"Deviation on 150 ton sample, suspend production of JMF\",IF(OR(V20=1,W20=1,V21=2,V22=3,W22=3),\"Volumetric deviation, resample within 150 tons\",\" \"))","v":" "},null,{"$f":"IF(AND(G36=\"Volumetric deviation, resample within 150 tons\",X23>0),\"Deviation on 150 ton sample, suspend production of JMF\",IF(OR(X20=1,Y20=1,X21=2,X22=3,Y22=3),\"Volumetric deviation, resample within 150 tons\",\" \"))","v":" "},null,{"$f":"IF(AND(I36=\"Volumetric deviation, resample within 150 tons\",Z23>0),\"Deviation on 150 ton sample, suspend production of JMF\",IF(OR(Z20=1,AA20=1,Z21=2,Z22=3,AA22=3),\"Volumetric deviation, resample within 150 tons\",\" \"))","v":" "},null,{"$f":"IF(AND(K36=\"Volumetric deviation, resample within 150 tons\",AB23>0),\"Deviation on 150 ton sample, suspend production of JMF\",IF(OR(AB20=1,AC20=1,AB21=2,AB22=3,AC22=3),\"Volumetric deviation, resample within 150 tons\",\" \"))","v":" "}]
[]
[null,null,null,null,null,null,null,null,null,null,null,null,null,null,null,null,null,"This determines if samples meet single and multiple tolerances and is used for cond. Formatting and action notes"]
["Sample No."]
["Date"]
["Gmm / Gb of AC"]
["AC / -200"]
["Specimen No",null,1,2,1,2,1,2,1,2,1,2,1,2]
["Height at Ndes"]
["Mass in Air"]
["Mass in Water"]
["SSD Mass"]
["Gmb",null,{"$f":"IF(ISBLANK(C45),\" \",IF(ISBLANK(C46),\" \",IF(ISBLANK(C47),\" \",ROUND(Gmb(C45,C46,C47),3))))","v":" "}," "," "," "," "," "," "," "," "," "," "," "]
["Average Gmb",null,{"$f":"IF(ISTEXT(C48),\" \",IF(ISTEXT(D48),\" \",AVERAGE(C48:D48)))","v":" "},null,{"$f":"IF(ISTEXT(E48),\" \",IF(ISTEXT(F48),\" \",AVERAGE(E48:F48)))","v":" "},null,{"$f":"IF(ISTEXT(G48),\" \",IF(ISTEXT(H48),\" \",AVERAGE(G48:H48)))","v":" "},null,{"$f":"IF(ISTEXT(I48),\" \",IF(ISTEXT(J48),\" \",AVERAGE(I48:J48)))","v":" "},null,{"$f":"IF(ISTEXT(K48),\" \",IF(ISTEXT(L48),\" \",AVERAGE(K48:L48)))","v":" "},null,{"$f":"IF(ISTEXT(M48),\" \",IF(ISTEXT(N48),\" \",AVERAGE(M48:N48)))","v":" "},null,null,"Sample",null,7,null,8,null,9,null,10,null,11,null,12]
["(Voids)VTM",null,{"$f":"IF(ISBLANK(C41),\" \",IF(ISTEXT(C48),\" \",ROUND(Va($C$41,C48),1)))","v":" "},{"$f":"IF(ISBLANK(C41),\" \",IF(ISTEXT(D48),\" \",ROUND(Va($C$41,D48),1)))","v":" "},{"$f":"IF(ISBLANK(E41),\" \",IF(ISTEXT(E48),\" \",ROUND(Va($E$41,E48),1)))","v":" "},{"$f":"IF(ISBLANK(E41),\" \",IF(ISTEXT(F48),\" \",ROUND(Va($E$41,F48),1)))","v":" "},{"$f":"IF(ISBLANK(G41),\" \",IF(ISTEXT(G48),\" \",ROUND(Va($G$41,G48),1)))","v":" "},{"$f":"IF(ISBLANK(G41),\" \",IF(ISTEXT(H48),\" \",ROUND(Va($G$41,H48),1)))","v":" "},{"$f":"IF(ISBLANK(I41),\" \",IF(ISTEXT(I48),\" \",ROUND(Va($I$41,I48),1)))","v":" "},{"$f":"IF(ISBLANK(I41),\" \",IF(ISTEXT(J48),\" \",ROUND(Va($I$41,J48),1)))","v":" "},{"$f":"IF(ISBLANK(K41),\" \",IF(ISTEXT(K48),\" \",ROUND(Va($K$41,K48),1)))","v":" "},{"$f":"IF(ISBLANK(K41),\" \",IF(ISTEXT(L48),\" \",ROUND(Va($K$41,L48),1)))","v":" "},{"$f":"IF(ISBLANK(M41),\" \",IF(ISTEXT(M48),\" \",ROUND(Va($M$41,M48),1)))","v":" "},{"$f":"IF(ISBLANK(M41),\" \",IF(ISTEXT(N48),\" \",ROUND(Va($M$41,N48),1)))","v":" "},null,"single voids",null,{"$f":"IF(ISTEXT(C50),\" \",IF(OR(C50>$M$8+2,C50<$M$8-2),1,0))","v":" "},{"$f":"IF(ISTEXT(D50),\" \",IF(OR(D50>$M$8+2,D50<$M$8-2),1,0))","v":" "},{"$f":"IF(ISTEXT(E50),\" \",IF(OR(E50>$M$8+2,E50<$M$8-2),1,0))","v":" "}," "," "," "," "," "," "," "," "," "]
["AVG.(Voids)VTM",null,{"$f":"IF(ISTEXT(C50),\" \",IF(ISTEXT(D50),\" \",ROUND(AVERAGE(C50:D50),1)))","v":" "},null,{"$f":"IF(ISTEXT(E50),\" \",IF(ISTEXT(F50),\" \",ROUND(AVERAGE(E50:F50),1)))","v":" "},null,{"$f":"IF(ISTEXT(G50),\" \",IF(ISTEXT(H50),\" \",ROUND(AVERAGE(G50:H50),1)))","v":" "},null,{"$f":"IF(ISTEXT(I50),\" \",IF(ISTEXT(J50),\" \",ROUND(AVERAGE(I50:J50),1)))","v":" "},null,{"$f":"IF(ISTEXT(K50),\" \",IF(ISTEXT(L50),\" \",ROUND(AVERAGE(K50:L50),1)))","v":" "},null,{"$f":"IF(ISTEXT(M50),\" \",IF(ISTEXT(N50),\" \",ROUND(AVERAGE(M50:N50),1)))","v":" "},null,null,"Avg voids",null,{"$f":"IF(ISTEXT(C51),\" \",IF(OR(C51>$M$8+1.5,C51<$M$8-1.5),2,0))","v":" "},null,{"$f":"IF(ISTEXT(E51),\" \",IF(OR(E51>$M$8+1.5,E51<$M$8-1.5),2,0))","v":" "},null,{"$f":"IF(ISTEXT(G51),\" \",IF(OR(G51>$M$8+1.5,G51<$M$8-1.5),2,0))","v":" "},null,{"$f":"IF(ISTEXT(I51),\" \",IF(OR(I51>$M$8+1.5,I51<$M$8-1.5),2,0))","v":" "},null,{"$f":"IF(ISTEXT(K51),\" \",IF(OR(K51>$M$8+1.5,K51<$M$8-1.5),2,0))","v":" "},null,{"$f":"IF(ISTEXT(M51),\" \",IF(OR(M51>$M$8+1.5,M51<$M$8-1.5),2,0))","v":" "}]
["VMA",null,{"$f":"IF(ISTEXT(C48),\" \",IF(ISBLANK(C42),\" \",IF(ISBLANK($C$8),\" \",ROUND(Vma(C48,C42,C77),1))))","v":" "},{"$f":"IF(ISTEXT(D48),\" \",IF(ISBLANK(C42),\" \",IF(ISBLANK($C$8),\" \",ROUND(Vma(D48,C42,C77),1))))","v":" "},{"$f":"IF(ISTEXT(E48),\" \",IF(ISBLANK(E42),\" \",IF(ISBLANK($C$8),\" \",ROUND(Vma(E48,E42,D77),1))))","v":" "},{"$f":"IF(ISTEXT(F48),\" \",IF(ISBLANK(E42),\" \",IF(ISBLANK($C$8),\" \",ROUND(Vma(F48,E42,D77),1))))","v":" "},{"$f":"IF(ISTEXT(G48),\" \",IF(ISBLANK(G42),\" \",IF(ISBLANK($C$8),\" \",ROUND(Vma(G48,G42,E77),1))))","v":" "},{"$f":"IF(ISTEXT(H48),\" \",IF(ISBLANK(G42),\" \",IF(ISBLANK($C$8),\" \",ROUND(Vma(H48,G42,E77),1))))","v":" "},{"$f":"IF(ISTEXT(I48),\" \",IF(ISBLANK(I42),\" \",IF(ISBLANK($C$8),\" \",ROUND(Vma(I48,I42,F77),1))))","v":" "},{"$f":"IF(ISTEXT(J48),\" \",IF(ISBLANK(I42),\" \",IF(ISBLANK($C$8),\" \",ROUND(Vma(J48,I42,F77),1))))","v":" "},{"$f":"IF(ISTEXT(K48),\" \",IF(ISBLANK(K42),\" \",IF(ISBLANK($C$8),\" \",ROUND(Vma(K48,K42,G77),1))))","v":" "},{"$f":"IF(ISTEXT(L48),\" \",IF(ISBLANK(K42),\" \",IF(ISBLANK($C$8),\" \",ROUND(Vma(L48,K42,G77),1))))","v":" "},{"$f":"IF(ISTEXT(M48),\" \",IF(ISBLANK(M42),\" \",IF(ISBLANK($C$8),\" \",ROUND(Vma(M48,M42,H77),1))))","v":" "},{"$f":"IF(ISTEXT(N48),\" \",IF(ISBLANK(M42),\" \",IF(ISBLANK($C$8),\" \",ROUND(Vma(N48,M42,H77),1))))","v":" "},null,"Single VMA",null,{"$f":"IF(C52<'A P'!$N$5,3,0)","v":0},{"$f":"IF(D52<'A P'!$N$5,3,0)","v":0},{"$f":"IF(E52<'A P'!$N$5,3,0)","v":0},{"$f":"IF(F52<'A P'!$N$5,3,0)","v":0},{"$f":"IF(G52<'A P'!$N$5,3,0)","v":0},{"$f":"IF(H52<'A P'!$N$5,3,0)","v":0},{"$f":"IF(I52<'A P'!$N$5,3,0)","v":0},{"$f":"IF(J52<'A P'!$N$5,3,0)","v":0},{"$f":"IF(K52<'A P'!$N$5,3,0)","v":0},{"$f":"IF(L52<'A P'!$N$5,3,0)","v":0},{"$f":"IF(M52<'A P'!$N$5,3,0)","v":0},{"$f":"IF(N52<'A P'!$N$5,3,0)","v":0}]
["Avg. VMA",null,{"$f":"IF(ISBLANK($C$8),\" \",IF(ISTEXT(C52),\" \",IF(ISTEXT(D52),\" \",ROUND(AVERAGE(C52:D52),1))))","v":" "},null,{"$f":"IF(ISBLANK($C$8),\" \",IF(ISTEXT(E52),\" \",IF(ISTEXT(F52),\" \",ROUND(AVERAGE(E52:F52),1))))","v":" "},null,{"$f":"IF(ISBLANK($C$8),\" \",IF(ISTEXT(G52),\" \",IF(ISTEXT(H52),\" \",ROUND(AVERAGE(G52:H52),1))))","v":" "},null,{"$f":"IF(ISBLANK($C$8),\" \",IF(ISTEXT(I52),\" \",IF(ISTEXT(J52),\" \",ROUND(AVERAGE(I52:J52),1))))","v":" "},null,{"$f":"IF(ISBLANK($C$8),\" \",IF(ISTEXT(K52),\" \",IF(ISTEXT(L52),\" \",ROUND(AVERAGE(K52:L52),1))))","v":" "},null,{"$f":"IF(ISBLANK($C$8),\" \",IF(ISTEXT(M52),\" \",IF(ISTEXT(N52),\" \",ROUND(AVERAGE(M52:N52),1))))","v":" "},null,null,"Max",null,{"$f":"MAX(R50:S52)","v":0},null,{"$f":"MAX(T50:U52)","v":0},null,{"$f":"MAX(V50:W52)","v":0},null,{"$f":"MAX(X50:Y52)","v":0},null,{"$f":"MAX(Z50:AA52)","v":0},null,{"$f":"MAX(AB50:AC52)","v":0}]
["VFA",null,{"$f":"IF(ISBLANK($C$8),\" \",IF(ISTEXT(C48),\" \",IF(ISTEXT(C52),\" \",Vfa(C52,C50))))","v":" "},{"$f":"IF(ISBLANK($C$8),\" \",IF(ISTEXT(D48),\" \",IF(ISTEXT(D52),\" \",Vfa(D52,D50))))","v":" "},{"$f":"IF(ISBLANK($C$8),\" \",IF(ISTEXT(E48),\" \",IF(ISTEXT(E52),\" \",Vfa(E52,E50))))","v":" "}," "," "," "," "," "," "," "," "," "]
["Avg.VFA",null,{"$f":"IF(ISBLANK($C$8),\" \",IF(ISTEXT(C54),\" \",IF(ISTEXT(D54),\" \",ROUND(AVERAGE(C54:D54),0))))","v":" "},null,{"$f":"IF(ISBLANK($C$8),\" \",IF(ISTEXT(E54),\" \",IF(ISTEXT(F54),\" \",ROUND(AVERAGE(E54:F54),0))))","v":" "},null,{"$f":"IF(ISBLANK($C$8),\" \",IF(ISTEXT(G54),\" \",IF(ISTEXT(H54),\" \",ROUND(AVERAGE(G54:H54),0))))","v":" "},null,{"$f":"IF(ISBLANK($C$8),\" \",IF(ISTEXT(I54),\" \",IF(ISTEXT(J54),\" \",ROUND(AVERAGE(I54:J54),0))))","v":" "},null,{"$f":"IF(ISBLANK($C$8),\" \",IF(ISTEXT(K54),\" \",IF(ISTEXT(L54),\" \",ROUND(AVERAGE(K54:L54),0))))","v":" "},null,{"$f":"IF(ISBLANK($C$8),\" \",IF(ISTEXT(M54),\" \",IF(ISTEXT(N54),\" \",ROUND(AVERAGE(M54:N54),0))))","v":" "}]
["F/A",null,{"$f":"IF(ISBLANK(D42),\" \",IF(ISTEXT(C33),\" \",IF(ISBLANK(D41),\" \",Fa(D42,C33))))","v":" "},null,{"$f":"IF(ISBLANK(F42),\" \",IF(ISTEXT(E33),\" \",IF(ISBLANK(F41),\" \",Fa(F42,E33))))","v":" "},null,{"$f":"IF(ISBLANK(H42),\" \",IF(ISTEXT(G33),\" \",IF(ISBLANK(H41),\" \",Fa(H42,G33))))","v":" "},null,{"$f":"IF(ISBLANK(J42),\" \",IF(ISTEXT(I33),\" \",IF(ISBLANK(J41),\" \",Fa(J42,I33))))","v":" "},null,{"$f":"IF(ISBLANK(L42),\" \",IF(ISTEXT(K33),\" \",IF(ISBLANK(L41),\" \",Fa(L42,K33))))","v":" "},null,{"$f":"IF(ISBLANK(N42),\" \",IF(ISTEXT(M33),\" \",IF(ISBLANK(N41),\" \",Fa(N42,M33))))","v":" "}]
["Pbe",null,{"$f":"C33","v":" "},null,{"$f":"E33","v":" "},null,{"$f":"G33","v":" "},null,{"$f":"I33","v":" "},null,{"$f":"K33","v":" "},null,{"$f":"M33","v":" "}]
[null,null,"Voids","VMA","VFA",null,"Upper","Lower","Target"]
["Running averages for conditional formatting tolerances",null,{"$f":"'ST1'!F86","v":{"$error":"#N/A"}},{"$f":"'ST1'!H86","v":{"$error":"#N/A"}},{"$f":"'ST1'!J86","v":{"$error":"#N/A"}},"Voids",{"$f":"'A P'!C6","v":1.5},{"$f":"'A P'!C8","v":1.5},{"$f":"'A P'!C7","v":0}]
[null,null,{"$f":"'ST1'!F87","v":{"$error":"#N/A"}},{"$f":"'ST1'!H87","v":{"$error":"#N/A"}},{"$f":"'ST1'!J87","v":{"$error":"#N/A"}},"VMA",{"$f":"'A P'!C10","v":1},{"$f":"'A P'!C11","v":1}]
[null,null,{"$f":"'ST1'!F88","v":{"$error":"#N/A"}},{"$f":"'ST1'!H88","v":{"$error":"#N/A"}},{"$f":"'ST1'!J88","v":{"$error":"#N/A"}},"VFA",{"$f":"'A P'!C13","v":0},{"$f":"'A P'!C14","v":0}]
[null,null,{"$f":"'ST1'!F89","v":{"$error":"#N/A"}},{"$f":"'ST1'!H89","v":{"$error":"#N/A"}},{"$f":"'ST1'!J89","v":{"$error":"#N/A"}}]
[null,null,{"$f":"'ST1'!F90","v":{"$error":"#N/A"}},{"$f":"'ST1'!H90","v":{"$error":"#N/A"}},{"$f":"'ST1'!J90","v":{"$error":"#N/A"}},"Conditional formatting of running avgs have been taken out of ESB-11 but formulas have been left in place in case future changes are necessary"]
[null,null,{"$f":"'ST1'!F91","v":{"$error":"#N/A"}},{"$f":"'ST1'!H91","v":{"$error":"#N/A"}},{"$f":"'ST1'!J91","v":{"$error":"#N/A"}}]
[null,null,{"$f":"'ST1'!F92","v":{"$error":"#N/A"}},{"$f":"'ST1'!H92","v":{"$error":"#N/A"}},{"$f":"'ST1'!J92","v":{"$error":"#N/A"}}]
[null,null,{"$f":"'ST1'!F93","v":{"$error":"#N/A"}},{"$f":"'ST1'!H93","v":{"$error":"#N/A"}},{"$f":"'ST1'!J93","v":{"$error":"#N/A"}}]
[null,null,{"$f":"'ST1'!F94","v":{"$error":"#N/A"}},{"$f":"'ST1'!H94","v":{"$error":"#N/A"}},{"$f":"'ST1'!J94","v":{"$error":"#N/A"}}]
[null,null,{"$f":"'ST1'!F95","v":{"$error":"#N/A"}},{"$f":"'ST1'!H95","v":{"$error":"#N/A"}},{"$f":"'ST1'!J95","v":{"$error":"#N/A"}}]
[null,null,{"$f":"'ST1'!F96","v":{"$error":"#N/A"}},{"$f":"'ST1'!H96","v":{"$error":"#N/A"}},{"$f":"'ST1'!J96","v":{"$error":"#N/A"}}]
[null,null,{"$f":"'ST1'!F97","v":{"$error":"#N/A"}},{"$f":"'ST1'!H97","v":{"$error":"#N/A"}},{"$f":"'ST1'!J97","v":{"$error":"#N/A"}}]
[]
["Corrected Gsb for upper block using offset value C34 "]
[null,null,{"$f":"C28-$C$34","v":{"$error":"#DIV/0!"}},{"$f":"E28-$C$34","v":{"$error":"#DIV/0!"}},{"$f":"G28-$C$34","v":{"$error":"#DIV/0!"}},{"$f":"I28-$C$34","v":{"$error":"#DIV/0!"}},{"$f":"K28-$C$34","v":{"$error":"#DIV/0!"}},{"$f":"M28-$C$34","v":{"$error":"#DIV/0!"}}]
[]
[]
["Corrected Gsb for lower block using offset value C34 "]
[null,null,{"$f":"C31-$C$34","v":{"$error":"#DIV/0!"}},{"$f":"E31-$C$34","v":{"$error":"#DIV/0!"}},{"$f":"G31-$C$34","v":{"$error":"#DIV/0!"}},{"$f":"I31-$C$34","v":{"$error":"#DIV/0!"}},{"$f":"K31-$C$34","v":{"$error":"#DIV/0!"}},{"$f":"M31-$C$34","v":{"$error":"#DIV/0!"}}]
[]
[null,null,{"$f":"IF(AND(M36=\"Volumetric deviation, resample within 150 tons\",R53>0),\"Deviation on 150 ton sample, suspend production of JMF\",IF(OR(R50=1,S50=1,R51=2,R52=3,S52=3),\"Volumetric deviation, resample within 150 tons\",\" \"))","v":" "},null,{"$f":"IF(AND(C79=\"Volumetric deviation, resample within 150 tons\",T53>0),\"Deviation on 150 ton sample, suspend production of JMF\",IF(OR(T50=1,U50=1,T51=2,T52=3,U52=3),\"Volumetric deviation, resample within 150 tons\",\" \"))","v":" "},null,{"$f":"IF(AND(E79=\"Volumetric deviation, resample within 150 tons\",V53>0),\"Deviation on 150 ton sample, suspend production of JMF\",IF(OR(V50=1,W50=1,V51=2,V52=3,W52=3),\"Volumetric deviation, resample within 150 tons\",\" \"))","v":" "},null,{"$f":"IF(AND(G79=\"Volumetric deviation, resample within 150 tons\",X53>0),\"Deviation on 150 ton sample, suspend production of JMF\",IF(OR(X50=1,Y50=1,X51=2,X52=3,Y52=3),\"Volumetric deviation, resample within 150 tons\",\" \"))","v":" "},null,{"$f":"IF(AND(I79=\"Volumetric deviation, resample within 150 tons\",Z53>0),\"Deviation on 150 ton sample, suspend production of JMF\",IF(OR(Z50=1,AA50=1,Z51=2,Z52=3,AA52=3),\"Volumetric deviation, resample within 150 tons\",\" \"))","v":" "},null,{"$f":"IF(AND(K79=\"Volumetric deviation, resample within 150 tons\",AB53>0),\"Deviation on 150 ton sample, suspend production of JMF\",IF(OR(AB50=1,AC50=1,AB51=2,AB52=3,AC52=3),\"Volumetric deviation, resample within 150 tons\",\" \"))","v":" "}]

{"sheet":"C 1-24","index":40,"n_rows":6,"n_cols":10,"rows_kept":6,"cut":false,"hidden":false,"merged":[[0,0,3,1],[1,2,1,6],[5,0,5,1],[5,2,5,3],[2,2,2,6],[3,2,3,6],[5,7,5,8],[5,9,5,10],[1,7,1,8],[1,9,1,10],[2,7,2,8],[2,9,2,10]]}
[]
[null,null,"COMMONWEALTH OF PENNSYLVANIA",null,null,null,null,"DISTRICT",null,{"$f":"IF(ISBLANK('V1'!M2),\" \",'V1'!M2)","v":" "}]
[null,null,"DEPARTMENT OF TRANSPORTATION",null,null,null,null,"PLANT CODE",null,{"$f":"IF(ISBLANK('V1'!M3),\" \",'V1'!M3)","v":" "}]
[null,null,"LABORATORY TEST SECTION"]
[{"$f":"'S1'!A5","v":"ESB-16"}]
["Material Class",null,{"$f":"IF(ISBLANK('V1'!C6),\" \",'V1'!C6)","v":9.5},null,null,null,null,"Design No.",null,{"$f":"IF(ISBLANK('V1'!M4),\" \",'V1'!M4)","v":" "}]

{"sheet":"C 25-48","index":41,"n_rows":6,"n_cols":10,"rows_kept":6,"cut":false,"hidden":true,"merged":[[2,2,2,6],[2,7,2,8],[2,9,2,10],[3,2,3,6],[5,0,5,1],[5,7,5,8],[5,9,5,10],[0,0,3,1],[1,2,1,6],[1,7,1,8],[1,9,1,10]]}
[]
[null,null,"COMMONWEALTH OF PENNSYLVANIA",null,null,null,null,"DISTRICT",null,{"$f":"IF(ISBLANK('V1'!M2),\" \",'V1'!M2)","v":" "}]
[null,null,"DEPARTMENT OF TRANSPORTATION",null,null,null,null,"PLANT CODE",null,{"$f":"IF(ISBLANK('V1'!M3),\" \",'V1'!M3)","v":" "}]
[null,null,"LABORATORY TEST SECTION"]
[{"$f":"'S1'!A5","v":"ESB-16"}]
["Material Class",null,{"$f":"IF(ISBLANK('V1'!C6),\" \",'V1'!C6)","v":9.5},null,null,null,null,"Design No.",null,{"$f":"IF(ISBLANK('V1'!M4),\" \",'V1'!M4)","v":" "}]

{"sheet":"C 49-72","index":42,"n_rows":6,"n_cols":10,"rows_kept":6,"cut":false,"hidden":true,"merged":[[5,9,5,10],[1,7,1,8],[1,9,1,10],[2,7,2,8],[2,9,2,10],[5,7,5,8],[0,0,3,1],[1,2,1,6],[5,0,5,1],[2,2,2,6],[3,2,3,6]]}
[]
[null,null,"COMMONWEALTH OF PENNSYLVANIA",null,null,null,null,"DISTRICT",null,{"$f":"IF(ISBLANK('V1'!M2),\" \",'V1'!M2)","v":" "}]
[null,null,"DEPARTMENT OF TRANSPORTATION",null,null,null,null,"PLANT CODE",null,{"$f":"IF(ISBLANK('V1'!M3),\" \",'V1'!M3)","v":" "}]
[null,null,"LABORATORY TEST SECTION"]
[{"$f":"'S1'!A5","v":"ESB-16"}]
["Material Class",null,{"$f":"IF(ISBLANK('V1'!C6),\" \",'V1'!C6)","v":9.5},null,null,null,null,"Design No.",null,{"$f":"IF(ISBLANK('V1'!M4),\" \",'V1'!M4)","v":" "}]

{"sheet":"C 73-96","index":43,"n_rows":6,"n_cols":10,"rows_kept":6,"cut":false,"hidden":true,"merged":[[0,0,3,1],[1,2,1,6],[1,7,1,8],[1,9,1,10],[5,0,5,1],[5,2,5,3],[5,7,5,8],[5,9,5,10],[2,2,2,6],[2,7,2,8],[2,9,2,10],[3,2,3,6]]}
[]
[null,null,"COMMONWEALTH OF PENNSYLVANIA",null,null,null,null,"DISTRICT",null,{"$f":"IF(ISBLANK('V1'!M2),\" \",'V1'!M2)","v":" "}]
[null,null,"DEPARTMENT OF TRANSPORTATION",null,null,null,null,"PLANT CODE",null,{"$f":"IF(ISBLANK('V1'!M3),\" \",'V1'!M3)","v":" "}]
[null,null,"LABORATORY TEST SECTION"]
["ESB-08V1"]
["Material Class",null,{"$f":"IF(ISBLANK('V1'!C6),\" \",'V1'!C6)","v":9.5},null,null,null,null,"Design No.",null,{"$f":"IF(ISBLANK('V1'!M4),\" \",'V1'!M4)","v":" "}]

{"sheet":"Stats","index":44,"n_rows":206,"n_cols":67,"rows_kept":206,"cut":false,"hidden":false,"merged":[[148,4,149,9],[150,4,155,9],[140,50,140,51],[142,4,143,8],[142,9,143,9],[144,4,145,8],[144,9,145,9],[146,4,147,8],[146,9,147,9],[135,0,136,13],[138,4,139,8],[138,9,139,9],[140,4,141,8],[140,9,141,9],[116,46,116,47],[104,36,104,37],[104,4,104,13],[116,26,116,27],[116,28,116,29],[116,30,116,31],[104,24,104,25],[104,26,104,27],[104,28,104,29],[104,30,104,31],[116,32,116,33],[127,0,127,2],[121,9,121,12],[106,12,106,13],[106,10,106,11],[106,4,106,5],[106,6,106,7],[104,48,104,49],[116,24,116,25],[104,40,104,41],[104,42,104,43],[104,44,104,45],[104,46,104,47],[104,32,104,33],[104,34,104,35],[104,38,104,39],[116,34,116,35],[116,48,116,49],[116,36,116,37],[116,38,116,39],[116,40,116,41],[116,42,116,43],[116,44,116,45],[2,10,2,11],[2,12,2,13],[0,24,0,25],[0,26,0,27],[0,28,0,29],[0,0,0,3],[104,0,104,3],[0,4,0,13],[12,32,12,33],[17,9,17,12],[23,0,23,2],[12,24,12,25],[12,26,12,27],[12,28,12,29],[12,30,12,31],[0,30,0,31],[0,32,0,33],[2,0,2,1],[2,2,2,3],[2,5,2,6],[2,7,2,8]]}
[{"$f":"'G1'!M3","v":" "},null,null,null,"Volumetric statistics",null,null,null,null,null,null,null,null,null,null,"PWL","5-7","8-10","11-13","14-18","19-25","26-37","38-200",null,"Gmm",null,"Gmb",null,"Voids",null,"VMA"]
[null,null,null,null,null,null,null,null,null,null,null,null,null,null,null,0,-100,-100,-100,-100,-100,-100,-100,null,"Qu","Ql","Qu","Ql","Qu","Ql","Qu","Ql"]
["JMF",null,{"$f":"'G1'!M6","v":" "},null,null,"Gyrations @ Ndes",null,{"$f":"'V1'!C7","v":" "},null,null,"Material Class",null,{"$f":"'G1'!M4:N4","v":9.5},null,null,1,-1.8,-2,-2.09,-2.14,-2.1800000000000002,-2.2200000000000002,-2.2599999999999998,null,{"$f":"(C25-C11)/C9","v":{"$error":"#DIV/0!"}},{"$f":"(C11-C27)/C9","v":{"$error":"#DIV/0!"}},{"$f":"(E25-E11)/E9","v":{"$error":"#DIV/0!"}},{"$f":"(E11-E27)/E9","v":{"$error":"#DIV/0!"}},{"$f":"(G25-G11)/G9","v":{"$error":"#DIV/0!"}},{"$f":"(G11-G27)/G9","v":{"$error":"#DIV/0!"}},{"$f":"(I25-I11)/I9","v":{"$error":"#DIV/0!"}},{"$f":"(I11-I27)/I9","v":{"$error":"#DIV/0!"}}]
[null,null,null,null,null,null,null,null,null,null,null,null,null,null,null,2,-1.7,-1.84,-1.91,-1.93,-1.96,-1.99,-2.0099999999999998,"5-7",{"$f":"IF(AND($C$7>1,$C$7<7.01),LOOKUP($Y$3,$Q$2:$Q$102,$P$2:$P$102))","v":false},{"$f":"IF(AND(C7>1,C7<7.01),LOOKUP(Z3,$Q$2:$Q$102,$P$2:$P$102))","v":false},{"$f":"IF(AND(E$7>1,E$7<7.01),LOOKUP(AA$3,$Q$2:$Q$102,$P$2:$P$102))","v":false},{"$f":"IF(AND(E$7>1,E$7<7.01),LOOKUP(AB3,$Q$2:$Q$102,$P$2:$P$102))","v":false},{"$f":"IF(AND(G$7>1,G$7<7.01),LOOKUP(AC$3,$Q$2:$Q$102,$P$2:$P$102))","v":false},{"$f":"IF(AND(G$7>1,G$7<7.01),LOOKUP(AD$3,$Q$2:$Q$102,$P$2:$P$102))","v":false},{"$f":"IF(AND(I$7>1,I$7<7.01),LOOKUP(AE$3,$Q$2:$Q$102,$P$2:$P$102))","v":false},{"$f":"IF(AND(I$7>1,I$7<7.01),LOOKUP(AF$3,$Q$2:$Q$102,$P$2:$P$102))","v":false}]
[null,null,"Gmm",null,"Gmb",null,"Voids",null,"VMA",null,null,null,null,null,null,3,-1.62,-1.72,-1.77,-1.79,-1.81,-1.83,-1.85,"8-10",{"$f":"IF(AND($C$7>7.5,$C$7<10.5),LOOKUP($Y$3,$R$2:$R$102,$P$2:$P$102))","v":false},{"$f":"IF(AND($C$7>7.5,$C$7<10.5),LOOKUP($Z$3,$R$2:$R$102,$P$2:$P$102))","v":false},{"$f":"IF(AND(E$7>7.5,E$7<10.5),LOOKUP(AA$3,$R$2:$R$102,$P$2:$P$102))","v":false},{"$f":"IF(AND(E$7>7.5,E$7<10.5),LOOKUP(AB3,$R$2:$R$102,$P$2:$P$102))","v":false},{"$f":"IF(AND(G$7>7.5,G$7<10.5),LOOKUP(AC$3,$R$2:$R$102,$P$2:$P$102))","v":false},{"$f":"IF(AND(G$7>7.5,G$7<10.5),LOOKUP(AD$3,$R$2:$R$102,$P$2:$P$102))","v":false},{"$f":"IF(AND(I$7>7.5,I$7<10.5),LOOKUP(AE$3,$R$2:$R$102,$P$2:$P$102))","v":false},{"$f":"IF(AND(I$7>7.5,I$7<10.5),LOOKUP(AF$3,$R$2:$R$102,$P$2:$P$102))","v":false}]
[null,null,null,null,null,null,null,null,null,null,null,null,null,null,null,4,-1.55,-1.63,-1.67,-1.68,-1.7,-1.71,-1.73,"11-13",{"$f":"IF(AND($C$7>10.5,$C$7<13.5),LOOKUP($Y$3,$S$2:$S$102,$P$2:$P$102))","v":false},{"$f":"IF(AND($C$7>10.5,$C$7<13.5),LOOKUP($Z$3,$S$2:$S$102,$P$2:$P$102))","v":false},{"$f":"IF(AND(E$7>10.5,E$7<13.5),LOOKUP(AA$3,$S$2:$S$102,$P$2:$P$102))","v":false},{"$f":"IF(AND(E$7>10.5,E$7<13.5),LOOKUP(AB3,$S$2:$S$102,$P$2:$P$102))","v":false},{"$f":"IF(AND(G$7>10.5,G$7<13.5),LOOKUP(AC$3,$S$2:$S$102,$P$2:$P$102))","v":false},{"$f":"IF(AND(G$7>10.5,G$7<13.5),LOOKUP(AD$3,$S$2:$S$102,$P$2:$P$102))","v":false},{"$f":"IF(AND(I$7>10.5,I$7<13.5),LOOKUP(AE$3,$S$2:$S$102,$P$2:$P$102))","v":false},{"$f":"IF(AND(I$7>10.5,I$7<13.5),LOOKUP(AF$3,$S$2:$S$102,$P$2:$P$102))","v":false}]
["Count",null,{"$f":"IF(COUNTA('ST2'!$C$6:$C$101)=0,\" \",COUNT('ST2'!$C$6:$C$101))","v":0},null,{"$f":"IF(COUNTA('ST2'!$G$6:$H$101)=0,\" \",COUNT('ST2'!$G$6:$H$101))","v":0},null,{"$f":"IF(COUNTA('ST2'!$I$6:$J$101)=0,\" \",COUNT('ST2'!$I$6:$J$101))","v":0},null,{"$f":"IF(COUNTA('ST2'!$K$6:$L$101)=0,\" \",COUNT('ST2'!$K$6:$L$101))","v":0},null,null,null,null,null,null,5,-1.49,-1.55,-1.58,-1.59,-1.61,-1.62,-1.63,"14-18",{"$f":"IF(AND($C$7>13.5,$C$7<18.5),LOOKUP($Y$3,$T$2:$T$102,$P$2:$P$102))","v":false},{"$f":"IF(AND($C$7>13.5,$C$7<18.5),LOOKUP($Z$3,$T$2:$T$102,$P$2:$P$102))","v":false},{"$f":"IF(AND(E$7>13.5,E$7<18.5),LOOKUP(AA$3,$T$2:$T$102,$P$2:$P$102))","v":false},{"$f":"IF(AND(E$7>13.5,E$7<18.5),LOOKUP(AB3,$T$2:$T$102,$P$2:$P$102))","v":false},{"$f":"IF(AND(G$7>13.5,G$7<18.5),LOOKUP(AC$3,$T$2:$T$102,$P$2:$P$102))","v":false},{"$f":"IF(AND(G$7>13.5,G$7<18.5),LOOKUP(AD$3,$T$2:$T$102,$P$2:$P$102))","v":false},{"$f":"IF(AND(I$7>13.5,I$7<18.5),LOOKUP(AE$3,$T$2:$T$102,$P$2:$P$102))","v":false},{"$f":"IF(AND(I$7>13.5,I$7<18.5),LOOKUP(AF$3,$T$2:$T$102,$P$2:$P$102))","v":false}]
[null,null,null,null,null,null,null,null,null,null,null,null,null,null,null,6,-1.43,-1.48,-1.5,-1.51,-1.52,-1.53,-1.54,"19-25",{"$f":"IF(AND($C$7>18.5,$C$7<25.5),LOOKUP($Y$3,$U$2:$U$102,$P$2:$P$102))","v":false},{"$f":"IF(AND($C$7>18.5,$C$7<25.5),LOOKUP($Z$3,$U$2:$U$102,$P$2:$P$102))","v":false},{"$f":"IF(AND(E$7>18.5,E$7<25.5),LOOKUP(AA$3,$U$2:$U$102,$P$2:$P$102))","v":false},{"$f":"IF(AND(E$7>18.5,E$7<25.5),LOOKUP(AB3,$U$2:$U$102,$P$2:$P$102))","v":false},{"$f":"IF(AND(G$7>18.5,G$7<25.5),LOOKUP(AC$3,$U$2:$U$102,$P$2:$P$102))","v":false},{"$f":"IF(AND(G$7>18.5,G$7<25.5),LOOKUP(AD$3,$U$2:$U$102,$P$2:$P$102))","v":false},{"$f":"IF(AND(I$7>18.5,I$7<25.5),LOOKUP(AE$3,$U$2:$U$102,$P$2:$P$102))","v":false},{"$f":"IF(AND(I$7>18.5,I$7<25.5),LOOKUP(AF$3,$U$2:$U$102,$P$2:$P$102))","v":false}]
["Std Dev",null,{"$f":"ROUND(STDEV('ST2'!C$6:C$101),4)","v":{"$error":"#DIV/0!"}},null,{"$f":"ROUND(STDEV('ST2'!G$6:H$101),4)","v":{"$error":"#DIV/0!"}},null,{"$f":"ROUND(STDEV('ST2'!I$6:J$101),2)","v":{"$error":"#DIV/0!"}},null,{"$f":"ROUND(STDEV('ST2'!K$6:L$101),2)","v":{"$error":"#DIV/0!"}},null,null,null,null,null,null,7,-1.38,-1.42,-1.44,-1.44,-1.45,-1.46,-1.46,"26-37",{"$f":"IF(AND($C$7>25.5,$C$7<37.5),LOOKUP($Y$3,$V$2:$V$102,$P$2:$P$102))","v":false},{"$f":"IF(AND($C$7>25.5,$C$7<37.5),LOOKUP($Z$3,$V$2:$V$102,$P$2:$P$102))","v":false},{"$f":"IF(AND(E$7>25.5,E$7<37.5),LOOKUP(AA$3,$V$2:$V$102,$P$2:$P$102))","v":false},{"$f":"IF(AND(E$7>25.5,E$7<37.5),LOOKUP(AB3,$V$2:$V$102,$P$2:$P$102))","v":false},{"$f":"IF(AND(G$7>25.5,G$7<37.5),LOOKUP(AC$3,$V$2:$V$102,$P$2:$P$102))","v":false},{"$f":"IF(AND(G$7>25.5,G$7<37.5),LOOKUP(AD$3,$V$2:$V$102,$P$2:$P$102))","v":false},{"$f":"IF(AND(I$7>25.5,I$7<37.5),LOOKUP(AE$3,$V$2:$V$102,$P$2:$P$102))","v":false},{"$f":"IF(AND(I$7>25.5,I$7<37.5),LOOKUP(AF$3,$V$2:$V$102,$P$2:$P$102))","v":false}]
[null,null,null,null,null,null,null,null,null,null,null,null,null,null,null,8,-1.33,-1.36,-1.37,-1.38,-1.39,-1.39,-1.4,"38-200",{"$f":"IF(AND($C$7>37.5,$C$7<200),LOOKUP($Y$3,$W$2:$W$102,$P$2:$P$102))","v":false},{"$f":"IF(AND($C$7>37.5,$C$7<200),LOOKUP($Z$3,$W$2:$W$102,$P$2:$P$102))","v":false},{"$f":"IF(AND(E$7>37.5,E$7<200),LOOKUP(AA$3,$W$2:$W$102,$P$2:$P$102))","v":false},{"$f":"IF(AND(E$7>37.5,E$7<200),LOOKUP(AB3,$W$2:$W$102,$P$2:$P$102))","v":false},{"$f":"IF(AND(G$7>37.5,G$7<200),LOOKUP(AC$3,$W$2:$W$102,$P$2:$P$102))","v":false},{"$f":"IF(AND(G$7>37.5,G$7<200),LOOKUP(AD$3,$W$2:$W$102,$P$2:$P$102))","v":false},{"$f":"IF(AND(I$7>37.5,I$7<200),LOOKUP(AE$3,$W$2:$W$102,$P$2:$P$102))","v":false},{"$f":"IF(AND(I$7>37.5,I$7<200),LOOKUP(AF$3,$W$2:$W$102,$P$2:$P$102))","v":false}]
["Avg",null,{"$f":"ROUND(AVERAGE('ST2'!C$6:C$101),3)","v":{"$error":"#DIV/0!"}},null,{"$f":"ROUND(AVERAGE('ST2'!G$6:H$101),3)","v":{"$error":"#DIV/0!"}},null,{"$f":"ROUND(AVERAGE('ST2'!I$6:J$101),1)","v":{"$error":"#DIV/0!"}},null,{"$f":"ROUND(AVERAGE('ST2'!K$6:L$101),1)","v":{"$error":"#DIV/0!"}},null,null,null,null,null,null,9,-1.29,-1.31,-1.32,-1.32,-1.33,-1.33,-1.33]
[null,null,null,null,null,null,null,null,null,null,null,null,null,null,null,10,-1.24,-1.26,-1.26,-1.27,-1.27,-1.27,-1.28,"Pu - Pl",{"$f":"SUM(Y4:Y10)","v":0},0,0,0,0,0,100,0]
["JMF",null,{"$f":"'G1'!M7","v":0},null,{"$f":"'G1'!M7*0.96","v":0},null,{"$f":"'V1'!M8","v":0},null,{"$f":"'V1'!M5","v":0},null,null,null,null,null,null,11,-1.2,-1.21,-1.21,-1.22,-1.22,-1.22,-1.22,"PWL",{"$f":"(Y12+Z12)-100","v":-100},null,{"$f":"(AA12+AB12)-100","v":-100},null,{"$f":"(AC12+AD12)-100","v":-100},null,{"$f":"(AE12+AF12)-100","v":0}]
[null,null,null,null,null,null,null,null,null,null,null,null,null,null,null,12,-1.1599999999999999,-1.17,-1.17,-1.17,-1.17,-1.17,-1.17]
["PWL",null,{"$f":"IF(C11>C25,0,IF(C11<C27,0,IF(ISERROR(Y13),100,Y13)))","v":{"$error":"#DIV/0!"}},null,{"$f":"IF(E11>E25,0,IF(E11<E27,0,IF(ISERROR(AA13),100,AA13)))","v":{"$error":"#DIV/0!"}},null,{"$f":"IF(G11>G25,0,IF(G11<G27,0,IF(ISERROR(AC13),100,AC13)))","v":{"$error":"#DIV/0!"}},null,{"$f":"IF(I11>I25,0,IF(I11<I27,0,IF(ISERROR(AE13),100,AE13)))","v":{"$error":"#DIV/0!"}},null,null,null,null,null,null,13,-1.1200000000000001,-1.1200000000000001,-1.1200000000000001,-1.1200000000000001,-1.1200000000000001,-1.1200000000000001,-1.1200000000000001]
[null,null,null,null,null,null,null,null,null,null,null,null,null,null,null,14,-1.08,-1.08,-1.08,-1.08,-1.08,-1.08,-1.08]
[null,null,null,null,null,null,null,null,null,null,null,null,null,null,null,15,-1.04,-1.04,-1.04,-1.04,-1.04,-1.04,-1.04]
[null,null,null,null,null,null,null,null,null,"Volumetric Test Results PWL",null,null,null,{"$f":"ROUND(AVERAGE(C15,E15,G15,I15),0)","v":{"$error":"#DIV/0!"}},null,16,-1.01,-1,-1,-1,-1,-1,-0.99]
[null,null,null,null,null,null,null,null,null,null,null,null,null,null,null,17,-0.97,-0.96,-0.96,-0.96,-0.96,-0.96,-0.95]
[null,null,null,null,null,null,null,null,null,null,null,null,null,null,null,18,-0.94,-0.93,-0.92,-0.92,-0.92,-0.92,-0.92]
[null,null,null,null,null,null,null,null,null,null,null,null,null,null,null,19,-0.9,-0.89,-0.89,-0.88,-0.88,-0.88,-0.88]
[null,null,null,null,null,null,null,null,null,null,null,null,null,null,null,20,-0.87,-0.86,-0.85,-0.85,-0.85,-0.84,-0.84]
[null,null,null,null,null,null,null,null,null,null,null,null,null,null,null,21,-0.84,-0.82,-0.82,-0.81,-0.81,-0.81,-0.81]
["Tolerances",null,null,null,null,null,null,null,null,null,null,null,null,null,null,22,-0.8,-0.79,-0.78,-0.78,-0.78,-0.78,-0.77]
["High",null,{"$f":"C26+0.02","v":0.02},null,{"$f":"E26+0.037","v":3.6999999999999998E-2},null,{"$f":"G26+1.5","v":1.5},null,100,null,null,null,null,null,null,23,-0.77,-0.76,-0.75,-0.75,-0.75,-0.74,-0.74]
["JMF",null,{"$f":"C13","v":0},null,{"$f":"E13","v":0},null,{"$f":"G13","v":0},null,{"$f":"I13","v":0},null,null,null,null,null,null,24,-0.74,-0.72,-0.72,-0.71,-0.71,-0.71,-0.71]
["Low",null,{"$f":"C26-0.02","v":-0.02},null,{"$f":"E26-0.037","v":-3.6999999999999998E-2},null,{"$f":"G26-1.5","v":-1.5},null,{"$f":"IF(M3=9.5,15,IF(M3=12.5,14,IF(M3=19,13,IF(M3=25,12,IF(M3=37.5,11,IF(M3=\"SMA95\",17,IF(M3=\"SMA125\",17)))))))","v":15},null,null,null,null,null,null,25,-0.71,-0.69,-0.69,-0.68,-0.68,-0.68,-0.68]
[null,null,null,null,null,null,null,null,null,null,null,null,null,null,null,26,-0.68,-0.66,-0.66,-0.65,-0.65,-0.65,-0.65]
[null,null,null,null,null,null,null,null,null,null,null,null,null,null,null,27,-0.65,-0.63,-0.62,-0.62,-0.62,-0.62,-0.62]
[null,null,null,null,null,null,null,null,null,null,null,null,null,null,null,28,-0.62,-0.6,-0.59,-0.59,-0.59,-0.59,-0.59]
[null,null,null,null,null,null,null,null,null,null,null,null,null,null,null,29,-0.59,-0.56999999999999995,-0.56999999999999995,-0.56000000000000005,-0.56000000000000005,-0.56000000000000005,-0.56000000000000005]
[null,null,null,null,null,null,null,null,null,null,null,null,null,null,null,30,-0.56000000000000005,-0.54,-0.54,-0.53,-0.53,-0.53,-0.53]
[null,null,null,null,null,null,null,null,null,null,null,null,null,null,null,31,-0.53,-0.51,-0.51,-0.5,-0.5,-0.5,-0.5]
[null,null,null,null,null,null,null,null,null,null,null,null,null,null,null,32,-0.5,-0.48,-0.48,-0.48,-0.47,-0.47,-0.47]
[null,null,null,null,null,null,null,null,null,null,null,null,null,null,null,33,-0.47,-0.46,-0.45,-0.45,-0.45,-0.44,-0.44]
[null,null,null,null,null,null,null,null,null,null,null,null,null,null,null,34,-0.44,-0.43,-0.42,-0.42,-0.42,-0.42,-0.41]
[null,null,null,null,null,null,null,null,null,null,null,null,null,null,null,35,-0.41,-0.4,-0.4,-0.39,-0.39,-0.39,-0.39]
[null,null,null,null,null,null,null,null,null,null,null,null,null,null,null,36,-0.39,-0.37,-0.37,-0.37,-0.36,-0.36,-0.36]
[null,null,null,null,null,null,null,null,null,null,null,null,null,null,null,37,-0.36,-0.35,-0.34,-0.34,-0.34,-0.34,-0.33]
[null,null,null,null,null,null,null,null,null,null,null,null,null,null,null,38,-0.33,-0.32,-0.31,-0.31,-0.31,-0.31,-0.31]
[null,null,null,null,null,null,null,null,null,null,null,null,null,null,null,39,-0.3,-0.28999999999999998,-0.28999999999999998,-0.28999999999999998,-0.28000000000000003,-0.28000000000000003,-0.28000000000000003]
[null,null,null,null,null,null,null,null,null,null,null,null,null,null,null,40,-0.27,-0.26,-0.26,-0.26,-0.26,-0.26,-0.26]
[null,null,null,null,null,null,null,null,null,null,null,null,null,null,null,41,-0.25,-0.24,-0.23,-0.23,-0.23,-0.23,-0.23]
[null,null,null,null,null,null,null,null,null,null,null,null,null,null,null,42,-0.22,-0.21,-0.21,-0.21,-0.2,-0.2,-0.2]
[null,null,null,null,null,null,null,null,null,null,null,null,null,null,null,43,-0.19,-0.18,-0.18,-0.18,-0.18,-0.18,-0.18]
[null,null,null,null,null,null,null,null,null,null,null,null,null,null,null,44,-0.16,-0.16,-0.16,-0.15,-0.15,-0.15,-0.15]
[null,null,null,null,null,null,null,null,null,null,null,null,null,null,null,45,-0.13,-0.13,-0.13,-0.13,-0.13,-0.13,-0.13]
[null,null,null,null,null,null,null,null,null,null,null,null,null,null,null,46,-0.11,-0.1,-0.1,-0.1,-0.1,-0.1,-0.1]
[null,null,null,null,null,null,null,null,null,null,null,null,null,null,null,47,-0.08,-0.08,-0.08,-0.08,-0.08,-0.08,-0.08]
[null,null,null,null,null,null,null,null,null,null,null,null,null,null,null,48,-0.05,-0.05,-0.05,-0.05,-0.05,-0.05,-0.05]
[null,null,null,null,null,null,null,null,null,null,null,null,null,null,null,49,-0.03,-0.03,-0.03,-0.03,-0.03,-0.03,-0.03]
[null,null,null,null,null,null,null,null,null,null,null,null,null,null,null,50,0,0,0,0,0,0,0]
[null,null,null,null,null,null,null,null,null,null,null,null,null,null,null,51,0.03,0.03,0.03,0.03,0.03,0.03,0.03]
[null,null,null,null,null,null,null,null,null,null,null,null,null,null,null,52,0.05,0.05,0.05,0.05,0.05,0.05,0.05]
[null,null,null,null,null,null,null,null,null,null,null,null,null,null,null,53,0.08,0.08,0.08,0.08,0.08,0.08,0.08]
[null,null,null,null,null,null,null,null,null,null,null,null,null,null,null,54,0.11,0.1,0.1,0.1,0.1,0.1,0.1]
[null,null,null,null,null,null,null,null,null,null,null,null,null,null,null,55,0.13,0.13,0.13,0.13,0.13,0.13,0.13]
[null,null,null,null,null,null,null,null,null,null,null,null,null,null,null,56,0.16,0.16,0.16,0.15,0.15,0.15,0.15]
[null,null,null,null,null,null,null,null,null,null,null,null,null,null,null,57,0.19,0.18,0.18,0.18,0.18,0.18,0.18]
[null,null,null,null,null,null,null,null,null,null,null,null,null,null,null,58,0.22,0.21,0.21,0.21,0.2,0.2,0.2]
[null,null,null,null,null,null,null,null,null,null,null,null,null,null,null,59,0.25,0.24,0.23,0.23,0.23,0.23,0.23]
[null,null,null,null,null,null,null,null,null,null,null,null,null,null,null,60,0.27,0.26,0.26,0.26,0.26,0.26,0.26]
[null,null,null,null,null,null,null,null,null,null,null,null,null,null,null,61,0.3,0.28999999999999998,0.28999999999999998,0.28999999999999998,0.28000000000000003,0.28000000000000003,0.28000000000000003]
[null,null,null,null,null,null,null,null,null,null,null,null,null,null,null,62,0.33,0.32,0.31,0.31,0.31,0.31,0.31]
[null,null,null,null,null,null,null,null,null,null,null,null,null,null,null,63,0.36,0.35,0.34,0.34,0.34,0.34,0.33]
[null,null,null,null,null,null,null,null,null,null,null,null,null,null,null,64,0.39,0.37,0.37,0.37,0.36,0.36,0.36]
[null,null,null,null,null,null,null,null,null,null,null,null,null,null,null,65,0.41,0.4,0.4,0.39,0.39,0.39,0.39]
[null,null,null,null,null,null,null,null,null,null,null,null,null,null,null,66,0.44,0.43,0.42,0.42,0.42,0.42,0.41]
[null,null,null,null,null,null,null,null,null,null,null,null,null,null,null,67,0.47,0.46,0.45,0.45,0.45,0.44,0.44]
[null,null,null,null,null,null,null,null,null,null,null,null,null,null,null,68,0.5,0.48,0.48,0.48,0.47,0.47,0.47]
[null,null,null,null,null,null,null,null,null,null,null,null,null,null,null,69,0.53,0.51,0.51,0.5,0.5,0.5,0.5]
[null,null,null,null,null,null,null,null,null,null,null,null,null,null,null,70,0.56000000000000005,0.54,0.54,0.53,0.53,0.53,0.53]
[null,null,null,null,null,null,null,null,null,null,null,null,null,null,null,71,0.59,0.56999999999999995,0.56999999999999995,0.56000000000000005,0.56000000000000005,0.56000000000000005,0.56000000000000005]
[null,null,null,null,null,null,null,null,null,null,null,null,null,null,null,72,0.62,0.6,0.59,0.59,0.59,0.59,0.59]
[null,null,null,null,null,null,null,null,null,null,null,null,null,null,null,73,0.65,0.63,0.62,0.62,0.62,0.62,0.62]
[null,null,null,null,null,null,null,null,null,null,null,null,null,null,null,74,0.68,0.66,0.66,0.65,0.65,0.65,0.65]
[null,null,null,null,null,null,null,null,null,null,null,null,null,null,null,75,0.71,0.69,0.69,0.68,0.68,0.68,0.68]
[null,null,null,null,null,null,null,null,null,null,null,null,null,null,null,76,0.74,0.72,0.72,0.71,0.71,0.71,0.71]
[null,null,null,null,null,null,null,null,null,null,null,null,null,null,null,77,0.77,0.76,0.75,0.75,0.75,0.74,0.74]
[null,null,null,null,null,null,null,null,null,null,null,null,null,null,null,78,0.8,0.79,0.78,0.78,0.78,0.78,0.77]
[null,null,null,null,null,null,null,null,null,null,null,null,null,null,null,79,0.84,0.82,0.82,0.81,0.81,0.81,0.81]
[null,null,null,null,null,null,null,null,null,null,null,null,null,null,null,80,0.87,0.86,0.85,0.85,0.85,0.84,0.84]
[null,null,null,null,null,null,null,null,null,null,null,null,null,null,null,81,0.9,0.89,0.89,0.88,0.88,0.88,0.88]
[null,null,null,null,null,null,null,null,null,null,null,null,null,null,null,82,0.94,0.93,0.92,0.92,0.92,0.92,0.92]
[null,null,null,null,null,null,null,null,null,null,null,null,null,null,null,83,0.97,0.96,0.96,0.96,0.96,0.96,0.95]
[null,null,null,null,null,null,null,null,null,null,null,null,null,null,null,84,1.01,1,1,1,1,1,0.99]
[null,null,null,null,null,null,null,null,null,null,null,null,null,null,null,85,1.04,1.04,1.04,1.04,1.04,1.04,1.04]
[null,null,null,null,null,null,null,null,null,null,null,null,null,null,null,86,1.08,1.08,1.08,1.08,1.08,1.08,1.08]
[null,null,null,null,null,null,null,null,null,null,null,null,null,null,null,87,1.1200000000000001,1.1200000000000001,1.1200000000000001,1.1200000000000001,1.1200000000000001,1.1200000000000001,1.1200000000000001]
[null,null,null,null,null,null,null,null,null,null,null,null,null,null,null,88,1.1599999999999999,1.17,1.17,1.17,1.17,1.17,1.17]
[null,null,null,null,null,null,null,null,null,null,null,null,null,null,null,89,1.2,1.21,1.21,1.22,1.22,1.22,1.22]
[null,null,null,null,null,null,null,null,null,null,null,null,null,null,null,90,1.24,1.26,1.26,1.27,1.27,1.27,1.28]
[null,null,null,null,null,null,null,null,null,null,null,null,null,null,null,91,1.29,1.31,1.32,1.32,1.33,1.33,1.33]
[null,null,null,null,null,null,null,null,null,null,null,null,null,null,null,92,1.33,1.36,1.37,1.38,1.39,1.39,1.4]
[null,null,null,null,null,null,null,null,null,null,null,null,null,null,null,93,1.38,1.42,1.44,1.44,1.45,1.46,1.46]
[null,null,null,null,null,null,null,null,null,null,null,null,null,null,null,94,1.43,1.48,1.5,1.51,1.52,1.53,1.54]
[null,null,null,null,null,null,null,null,null,null,null,null,null,null,null,95,1.49,1.55,1.58,1.59,1.61,1.62,1.63]
[null,null,null,null,null,null,null,null,null,null,null,null,null,null,null,96,1.55,1.63,1.67,1.68,1.7,1.71,1.73]
[null,null,null,null,null,null,null,null,null,null,null,null,null,null,null,97,1.62,1.72,1.77,1.79,1.81,1.83,1.85]
[null,null,null,null,null,null,null,null,null,null,null,null,null,null,null,98,1.7,1.84,1.91,1.93,1.96,1.99,2.0099999999999998]
[null,null,null,null,null,null,null,null,null,null,null,null,null,null,null,99,1.8,2,2.09,2.14,2.1800000000000002,2.2200000000000002,2.2599999999999998]
[null,null,null,null,null,null,null,null,null,null,null,null,null,null,null,100,2.0299999999999998,2.5299999999999998,2.83,3.03,3.2,3.38,3.54]
[]
[]
[{"$f":"'S1'!M3","v":0},null,null,null,"Asphalt content and aggregate gradation statistics",null,null,null,null,null,null,null,null,null,null,"PWL","5-7","8-10","11-13","14-18","19-25","26-37","38-72",null,"AC",null,200,null,100,null,50,null,30,null,16,null,8,null,4,null,0.375,null,0.5,null,0.75,null,1,null,1.5]
[null,null,null,null,null,null,null,null,null,null,null,null,null,null,null,0,-100,-100,-100,-100,-100,-100,-100,null,"Qu","Ql","Qu","Ql","Qu","Ql","Qu","Ql","Qu","Ql","Qu","Ql","Qu","Ql","Qu","Ql","Qu","Ql","Qu","Ql","Qu","Ql","Qu","Ql","Qu","Ql2"]
["JMF",{"$f":"'S1'!M6","v":0},null,null,"Gyrations @ Ndes",null,{"$f":"IF(ISBLANK('S1'!M7),\" \",'S1'!M7)","v":" "},null,null,null,"Material Class",null,{"$f":"'S1'!C6","v":9.5},null,null,1,-1.8,-2,-2.09,-2.14,-2.1800000000000002,-2.2200000000000002,-2.2599999999999998,null,{"$f":"(B129-B115)/B113","v":{"$error":"#DIV/0!"}},{"$f":"(B115-B131)/B113","v":{"$error":"#DIV/0!"}},{"$f":"(C129-C115)/C113","v":{"$error":"#DIV/0!"}},{"$f":"(C115-C131)/C113","v":{"$error":"#DIV/0!"}},{"$f":"(D129-D115)/D113","v":{"$error":"#DIV/0!"}},{"$f":"(D115-D131)/D113","v":{"$error":"#DIV/0!"}},{"$f":"(E129-E115)/E113","v":{"$error":"#DIV/0!"}},{"$f":"(E115-E131)/E113","v":{"$error":"#DIV/0!"}},{"$f":"(F129-F115)/F113","v":{"$error":"#DIV/0!"}},{"$f":"(F115-F131)/F113","v":{"$error":"#DIV/0!"}},{"$f":"(G129-G115)/G113","v":{"$error":"#DIV/0!"}},{"$f":"(G115-G131)/G113","v":{"$error":"#DIV/0!"}},{"$f":"(H129-H115)/H113","v":{"$error":"#DIV/0!"}},{"$f":"(H115-H131)/H113","v":{"$error":"#DIV/0!"}},{"$f":"(I129-I115)/I113","v":{"$error":"#DIV/0!"}},{"$f":"(I115-I131)/I113","v":{"$error":"#DIV/0!"}},{"$f":"(J129-J115)/J113","v":{"$error":"#DIV/0!"}},{"$f":"(J115-J131)/J113","v":{"$error":"#DIV/0!"}},{"$f":"(K129-K115)/K113","v":{"$error":"#DIV/0!"}},{"$f":"(K115-K131)/K113","v":{"$error":"#DIV/0!"}},{"$f":"(L129-L115)/L113","v":{"$error":"#DIV/0!"}},{"$f":"(L115-L131)/L113","v":{"$error":"#DIV/0!"}},{"$f":"(M129-M115)/M113","v":{"$error":"#DIV/0!"}},{"$f":"(M115-M131)/M113","v":{"$error":"#DIV/0!"}},{"$f":"(N129-N115)/N113","v":{"$error":"#DIV/0!"}},{"$f":"(N115-N131)/N113","v":{"$error":"#DIV/0!"}}]
[null,null,null,null,null,null,null,null,null,null,null,null,null,null,null,2,-1.7,-1.84,-1.91,-1.93,-1.96,-1.99,-2.0099999999999998,"5-7",{"$f":"IF(AND($B$111>1,$B$111<7.01),LOOKUP($Y$107,$Q$106:$Q$206,$P$106:$P$206))","v":false},{"$f":"IF(AND(B111>1,B111<7.01),LOOKUP(Z107,$Q$106:$Q$206,$P$106:$P$206))","v":false},{"$f":"IF(AND(C$111>1,C$111<7.01),LOOKUP(AA$107,$Q$106:$Q$206,$P$106:$P$206))","v":false},{"$f":"IF(AND(C$111>1,C$111<7.01),LOOKUP(AB107,$Q$106:$Q$206,$P$106:$P$206))","v":false},{"$f":"IF(AND(D$111>1,D$111<7.01),LOOKUP(AC$107,$Q$106:$Q$206,$P$106:$P$206))","v":false},{"$f":"IF(AND(D$111>1,D$111<7.01),LOOKUP(AD$107,$Q$106:$Q$206,$P$106:$P$206))","v":false},{"$f":"IF(AND(E$111>1,E$111<7.01),LOOKUP(AE$107,$Q$106:$Q$206,$P$106:$P$206))","v":false},{"$f":"IF(AND(E$111>1,E$111<7.01),LOOKUP(AF$107,$Q$106:$Q$206,$P$106:$P$206))","v":false},{"$f":"IF(AND(F$111>1,F$111<7.01),LOOKUP(AG$107,$Q$106:$Q$206,$P$106:$P$206))","v":false},{"$f":"IF(AND(F$111>1,F$111<7.01),LOOKUP(AH$107,$Q$106:$Q$206,$P$106:$P$206))","v":false},{"$f":"IF(AND(G$111>1,G$111<7.01),LOOKUP(AI$107,$Q$106:$Q$206,$P$106:$P$206))","v":false},{"$f":"IF(AND(G$111>1,G$111<7.01),LOOKUP(AJ$107,$Q$106:$Q$206,$P$106:$P$206))","v":false},{"$f":"IF(AND(H$111>1,H$111<7.01),LOOKUP(AK$107,$Q$106:$Q$206,$P$106:$P$206))","v":false},{"$f":"IF(AND(H$111>1,H$111<7.01),LOOKUP(AL$107,$Q$106:$Q$206,$P$106:$P$206))","v":false},{"$f":"IF(AND(I$111>1,I$111<7.01),LOOKUP(AM$107,$Q$106:$Q$206,$P$106:$P$206))","v":false},{"$f":"IF(AND(I$111>1,I$111<7.01),LOOKUP(AN$107,$Q$106:$Q$206,$P$106:$P$206))","v":false},{"$f":"IF(AND(J$111>1,J$111<7.01),LOOKUP(AO$107,$Q$106:$Q$206,$P$106:$P$206))","v":false},{"$f":"IF(AND(J$111>1,J$111<7.01),LOOKUP(AP$107,$Q$106:$Q$206,$P$106:$P$206))","v":false},{"$f":"IF(AND(K$111>1,K$111<7.01),LOOKUP(AQ$107,$Q$106:$Q$206,$P$106:$P$206))","v":false},{"$f":"IF(AND(K$111>1,K$111<7.01),LOOKUP(AR$107,$Q$106:$Q$206,$P$106:$P$206))","v":false},{"$f":"IF(AND(L$111>1,L$111<7.01),LOOKUP(AS$107,$Q$106:$Q$206,$P$106:$P$206))","v":false},{"$f":"IF(AND(L$111>1,L$111<7.01),LOOKUP(AT$107,$Q$106:$Q$206,$P$106:$P$206))","v":false},{"$f":"IF(AND(M$111>1,M$111<7.01),LOOKUP(AU$107,$Q$106:$Q$206,$P$106:$P$206))","v":false},{"$f":"IF(AND(M$111>1,M$111<7.01),LOOKUP(AV$107,$Q$106:$Q$206,$P$106:$P$206))","v":false},{"$f":"IF(AND(N$111>1,N$111<7.01),LOOKUP(AW$107,$Q$106:$Q$206,$P$106:$P$206))","v":false},{"$f":"IF(AND(N$111>1,N$111<7.01),LOOKUP(AX$107,$Q$106:$Q$206,$P$106:$P$206))","v":false}]
[null,"AC",200,100,50,30,16,8,4,0.375,0.5,0.75,1,1.5,null,3,-1.62,-1.72,-1.77,-1.79,-1.81,-1.83,-1.85,"8-10",{"$f":"IF(AND($B$111>7.5,$B$111<10.5),LOOKUP($Y$107,$R$106:$R$206,$P$106:$P$206))","v":false},{"$f":"IF(AND($B$111>7.5,$B$111<10.5),LOOKUP($Z$107,$R$106:$R$206,$P$106:$P$206))","v":false},{"$f":"IF(AND(C$111>7.5,C$111<10.5),LOOKUP(AA$107,$R$106:$R$206,$P$106:$P$206))","v":false},{"$f":"IF(AND(C$111>7.5,C$111<10.5),LOOKUP(AB107,$R$106:$R$206,$P$106:$P$206))","v":false},{"$f":"IF(AND(D$111>7.5,D$111<10.5),LOOKUP(AC$107,$R$106:$R$206,$P$106:$P$206))","v":false},{"$f":"IF(AND(D$111>7.5,D$111<10.5),LOOKUP(AD$107,$R$106:$R$206,$P$106:$P$206))","v":false},{"$f":"IF(AND(E$111>7.5,E$111<10.5),LOOKUP(AE$107,$R$106:$R$206,$P$106:$P$206))","v":false},{"$f":"IF(AND(E$111>7.5,E$111<10.5),LOOKUP(AF$107,$R$106:$R$206,$P$106:$P$206))","v":false},{"$f":"IF(AND(F$111>7.5,F$111<10.5),LOOKUP(AG$107,$R$106:$R$206,$P$106:$P$206))","v":false},{"$f":"IF(AND(F$111>7.5,F$111<10.5),LOOKUP(AH$107,$R$106:$R$206,$P$106:$P$206))","v":false},{"$f":"IF(AND(G$111>7.5,G$111<10.5),LOOKUP(AI$107,$R$106:$R$206,$P$106:$P$206))","v":false},{"$f":"IF(AND(G$111>7.5,G$111<10.5),LOOKUP(AJ$107,$R$106:$R$206,$P$106:$P$206))","v":false},{"$f":"IF(AND(H$111>7.5,H$111<10.5),LOOKUP(AK$107,$R$106:$R$206,$P$106:$P$206))","v":false},{"$f":"IF(AND(H$111>7.5,H$111<10.5),LOOKUP(AL$107,$R$106:$R$206,$P$106:$P$206))","v":false},{"$f":"IF(AND(I$111>7.5,I$111<10.5),LOOKUP(AM$107,$R$106:$R$206,$P$106:$P$206))","v":false},{"$f":"IF(AND(I$111>7.5,I$111<10.5),LOOKUP(AN$107,$R$106:$R$206,$P$106:$P$206))","v":false},{"$f":"IF(AND(J$111>7.5,J$111<10.5),LOOKUP(AO$107,$R$106:$R$206,$P$106:$P$206))","v":false},{"$f":"IF(AND(J$111>7.5,J$111<10.5),LOOKUP(AP$107,$R$106:$R$206,$P$106:$P$206))","v":false},{"$f":"IF(AND(K$111>7.5,K$111<10.5),LOOKUP(AQ$107,$R$106:$R$206,$P$106:$P$206))","v":false},{"$f":"IF(AND(K$111>7.5,K$111<10.5),LOOKUP(AR$107,$R$106:$R$206,$P$106:$P$206))","v":false},{"$f":"IF(AND(L$111>7.5,L$111<10.5),LOOKUP(AS$107,$R$106:$R$206,$P$106:$P$206))","v":false},{"$f":"IF(AND(L$111>7.5,L$111<10.5),LOOKUP(AT$107,$R$106:$R$206,$P$106:$P$206))","v":false},{"$f":"IF(AND(M$111>7.5,M$111<10.5),LOOKUP(AU$107,$R$106:$R$206,$P$106:$P$206))","v":false},{"$f":"IF(AND(M$111>7.5,M$111<10.5),LOOKUP(AV$107,$R$106:$R$206,$P$106:$P$206))","v":false},{"$f":"IF(AND(N$111>7.5,N$111<10.5),LOOKUP(AW$107,$R$106:$R$206,$P$106:$P$206))","v":false},{"$f":"IF(AND(N$111>7.5,N$111<10.5),LOOKUP(AX$107,$R$106:$R$206,$P$106:$P$206))","v":false}]
[null,null,null,null,null,null,null,null,null,null,null,null,null,null,null,4,-1.55,-1.63,-1.67,-1.68,-1.7,-1.71,-1.73,"11-13",{"$f":"IF(AND($B$111>10.5,$B$111<13.5),LOOKUP($Y$107,$S$106:$S$206,$P$106:$P$206))","v":false},{"$f":"IF(AND($B$111>10.5,$B$111<13.5),LOOKUP($Z$107,$S$106:$S$206,$P$106:$P$206))","v":false},{"$f":"IF(AND(C$111>10.5,C$111<13.5),LOOKUP(AA$107,$S$106:$S$206,$P$106:$P$206))","v":false},{"$f":"IF(AND(C$111>10.5,C$111<13.5),LOOKUP(AB107,$S$106:$S$206,$P$106:$P$206))","v":false},{"$f":"IF(AND(D$111>10.5,D$111<13.5),LOOKUP(AC$107,$S$106:$S$206,$P$106:$P$206))","v":false},{"$f":"IF(AND(D$111>10.5,D$111<13.5),LOOKUP(AD$107,$S$106:$S$206,$P$106:$P$206))","v":false},{"$f":"IF(AND(E$111>10.5,E$111<13.5),LOOKUP(AE$107,$S$106:$S$206,$P$106:$P$206))","v":false},{"$f":"IF(AND(E$111>10.5,E$111<13.5),LOOKUP(AF$107,$S$106:$S$206,$P$106:$P$206))","v":false},{"$f":"IF(AND(F$111>10.5,F$111<13.5),LOOKUP(AG$107,$S$106:$S$206,$P$106:$P$206))","v":false},{"$f":"IF(AND(F$111>10.5,F$111<13.5),LOOKUP(AH$107,$S$106:$S$206,$P$106:$P$206))","v":false},{"$f":"IF(AND(G$111>10.5,G$111<13.5),LOOKUP(AI$107,$S$106:$S$206,$P$106:$P$206))","v":false},{"$f":"IF(AND(G$111>10.5,G$111<13.5),LOOKUP(AJ$107,$S$106:$S$206,$P$106:$P$206))","v":false},{"$f":"IF(AND(H$111>10.5,H$111<13.5),LOOKUP(AK$107,$S$106:$S$206,$P$106:$P$206))","v":false},{"$f":"IF(AND(H$111>10.5,H$111<13.5),LOOKUP(AL$107,$S$106:$S$206,$P$106:$P$206))","v":false},{"$f":"IF(AND(I$111>10.5,I$111<13.5),LOOKUP(AM$107,$S$106:$S$206,$P$106:$P$206))","v":false},{"$f":"IF(AND(I$111>10.5,I$111<13.5),LOOKUP(AN$107,$S$106:$S$206,$P$106:$P$206))","v":false},{"$f":"IF(AND(J$111>10.5,J$111<13.5),LOOKUP(AO$107,$S$106:$S$206,$P$106:$P$206))","v":false},{"$f":"IF(AND(J$111>10.5,J$111<13.5),LOOKUP(AP$107,$S$106:$S$206,$P$106:$P$206))","v":false},{"$f":"IF(AND(K$111>10.5,K$111<13.5),LOOKUP(AQ$107,$S$106:$S$206,$P$106:$P$206))","v":false},{"$f":"IF(AND(K$111>10.5,K$111<13.5),LOOKUP(AR$107,$S$106:$S$206,$P$106:$P$206))","v":false},{"$f":"IF(AND(L$111>10.5,L$111<13.5),LOOKUP(AS$107,$S$106:$S$206,$P$106:$P$206))","v":false},{"$f":"IF(AND(L$111>10.5,L$111<13.5),LOOKUP(AT$107,$S$106:$S$206,$P$106:$P$206))","v":false},{"$f":"IF(AND(M$111>10.5,M$111<13.5),LOOKUP(AU$107,$S$106:$S$206,$P$106:$P$206))","v":false},{"$f":"IF(AND(M$111>10.5,M$111<13.5),LOOKUP(AV$107,$S$106:$S$206,$P$106:$P$206))","v":false},{"$f":"IF(AND(N$111>10.5,N$111<13.5),LOOKUP(AW$107,$S$106:$S$206,$P$106:$P$206))","v":false},{"$f":"IF(AND(N$111>10.5,N$111<13.5),LOOKUP(AX$107,$S$106:$S$206,$P$106:$P$206))","v":false}]
["Count",{"$f":"IF(COUNTA('S18'!B$6:B$101)=0,\" \",COUNT('S18'!B$6:B$101))","v":0},{"$f":"IF(COUNTA('S18'!C$6:C$101)=0,\" \",COUNT('S18'!C$6:C$101))","v":0},{"$f":"IF(COUNTA('S18'!D$6:D$101)=0,\" \",COUNT('S18'!D$6:D$101))","v":0},{"$f":"IF(COUNTA('S18'!E$6:E$101)=0,\" \",COUNT('S18'!E$6:E$101))","v":0},{"$f":"IF(COUNTA('S18'!F$6:F$101)=0,\" \",COUNT('S18'!F$6:F$101))","v":0},{"$f":"IF(COUNTA('S18'!G$6:G$101)=0,\" \",COUNT('S18'!G$6:G$101))","v":0},{"$f":"IF(COUNTA('S18'!H$6:H$101)=0,\" \",COUNT('S18'!H$6:H$101))","v":0},{"$f":"IF(COUNTA('S18'!I$6:I$101)=0,\" \",COUNT('S18'!I$6:I$101))","v":0},{"$f":"IF(COUNTA('S18'!J$6:J$101)=0,\" \",COUNT('S18'!J$6:J$101))","v":0},{"$f":"IF(COUNTA('S18'!K$6:K$101)=0,\" \",COUNT('S18'!K$6:K$101))","v":0},{"$f":"IF(COUNTA('S18'!L$6:L$101)=0,\" \",COUNT('S18'!L$6:L$101))","v":0},{"$f":"IF(COUNTA('S18'!M$6:M$101)=0,\" \",COUNT('S18'!M$6:M$101))","v":0},{"$f":"IF(COUNTA('S18'!N$6:N$101)=0,\" \",COUNT('S18'!N$6:N$101))","v":0},null,5,-1.49,-1.55,-1.58,-1.59,-1.61,-1.62,-1.63,"14-18",{"$f":"IF(AND($B$111>13.5,$B$111<18.5),LOOKUP($Y$107,$T$106:$T$206,$P$106:$P$206))","v":false},{"$f":"IF(AND($B$111>13.5,$B$111<18.5),LOOKUP($Z$107,$T$106:$T$206,$P$106:$P$206))","v":false},{"$f":"IF(AND(C$111>13.5,C$111<18.5),LOOKUP(AA$107,$T$106:$T$206,$P$106:$P$206))","v":false},{"$f":"IF(AND(C$111>13.5,C$111<18.5),LOOKUP(AB107,$T$106:$T$206,$P$106:$P$206))","v":false},{"$f":"IF(AND(D$111>13.5,D$111<18.5),LOOKUP(AC$107,$T$106:$T$206,$P$106:$P$206))","v":false},{"$f":"IF(AND(D$111>13.5,D$111<18.5),LOOKUP(AD$107,$T$106:$T$206,$P$106:$P$206))","v":false},{"$f":"IF(AND(E$111>13.5,E$111<18.5),LOOKUP(AE$107,$T$106:$T$206,$P$106:$P$206))","v":false},{"$f":"IF(AND(E$111>13.5,E$111<18.5),LOOKUP(AF$107,$T$106:$T$206,$P$106:$P$206))","v":false},{"$f":"IF(AND(F$111>13.5,F$111<18.5),LOOKUP(AG$107,$T$106:$T$206,$P$106:$P$206))","v":false},{"$f":"IF(AND(F$111>13.5,F$111<18.5),LOOKUP(AH$107,$T$106:$T$206,$P$106:$P$206))","v":false},{"$f":"IF(AND(G$111>13.5,G$111<18.5),LOOKUP(AI$107,$T$106:$T$206,$P$106:$P$206))","v":false},{"$f":"IF(AND(G$111>13.5,G$111<18.5),LOOKUP(AJ$107,$T$106:$T$206,$P$106:$P$206))","v":false},{"$f":"IF(AND(H$111>13.5,H$111<18.5),LOOKUP(AK$107,$T$106:$T$206,$P$106:$P$206))","v":false},{"$f":"IF(AND(H$111>13.5,H$111<18.5),LOOKUP(AL$107,$T$106:$T$206,$P$106:$P$206))","v":false},{"$f":"IF(AND(I$111>13.5,I$111<18.5),LOOKUP(AM$107,$T$106:$T$206,$P$106:$P$206))","v":false},{"$f":"IF(AND(I$111>13.5,I$111<18.5),LOOKUP(AN$107,$T$106:$T$206,$P$106:$P$206))","v":false},{"$f":"IF(AND(J$111>13.5,J$111<18.5),LOOKUP(AO$107,$T$106:$T$206,$P$106:$P$206))","v":false},{"$f":"IF(AND(J$111>13.5,J$111<18.5),LOOKUP(AP$107,$T$106:$T$206,$P$106:$P$206))","v":false},{"$f":"IF(AND(K$111>13.5,K$111<18.5),LOOKUP(AQ$107,$T$106:$T$206,$P$106:$P$206))","v":false},{"$f":"IF(AND(K$111>13.5,K$111<18.5),LOOKUP(AR$107,$T$106:$T$206,$P$106:$P$206))","v":false},{"$f":"IF(AND(L$111>13.5,L$111<18.5),LOOKUP(AS$107,$T$106:$T$206,$P$106:$P$206))","v":false},{"$f":"IF(AND(L$111>13.5,L$111<18.5),LOOKUP(AT$107,$T$106:$T$206,$P$106:$P$206))","v":false},{"$f":"IF(AND(M$111>13.5,M$111<18.5),LOOKUP(AU$107,$T$106:$T$206,$P$106:$P$206))","v":false},{"$f":"IF(AND(M$111>13.5,M$111<18.5),LOOKUP(AV$107,$T$106:$T$206,$P$106:$P$206))","v":false},{"$f":"IF(AND(N$111>13.5,N$111<18.5),LOOKUP(AW$107,$T$106:$T$206,$P$106:$P$206))","v":false},{"$f":"IF(AND(N$111>13.5,N$111<18.5),LOOKUP(AX$107,$T$106:$T$206,$P$106:$P$206))","v":false}]
[null,null,null,null,null,null,null,null,null,null,null,null,null,null,null,6,-1.43,-1.48,-1.5,-1.51,-1.52,-1.53,-1.54,"19-25",{"$f":"IF(AND($B$111>18.5,$B$111<25.5),LOOKUP($Y$107,$U$106:$U$206,$P$106:$P$206))","v":false},{"$f":"IF(AND($B$111>18.5,$B$111<25.5),LOOKUP($Z$107,$U$106:$U$206,$P$106:$P$206))","v":false},{"$f":"IF(AND(C$111>18.5,C$111<25.5),LOOKUP(AA$107,$U$106:$U$206,$P$106:$P$206))","v":false},{"$f":"IF(AND(C$111>18.5,C$111<25.5),LOOKUP(AB107,$U$106:$U$206,$P$106:$P$206))","v":false},{"$f":"IF(AND(D$111>18.5,D$111<25.5),LOOKUP(AC$107,$U$106:$U$206,$P$106:$P$206))","v":false},{"$f":"IF(AND(D$111>18.5,D$111<25.5),LOOKUP(AD$107,$U$106:$U$206,$P$106:$P$206))","v":false},{"$f":"IF(AND(E$111>18.5,E$111<25.5),LOOKUP(AE$107,$U$106:$U$206,$P$106:$P$206))","v":false},{"$f":"IF(AND(E$111>18.5,E$111<25.5),LOOKUP(AF$107,$U$106:$U$206,$P$106:$P$206))","v":false},{"$f":"IF(AND(F$111>18.5,F$111<25.5),LOOKUP(AG$107,$U$106:$U$206,$P$106:$P$206))","v":false},{"$f":"IF(AND(F$111>18.5,F$111<25.5),LOOKUP(AH$107,$U$106:$U$206,$P$106:$P$206))","v":false},{"$f":"IF(AND(G$111>18.5,G$111<25.5),LOOKUP(AI$107,$U$106:$U$206,$P$106:$P$206))","v":false},{"$f":"IF(AND(G$111>18.5,G$111<25.5),LOOKUP(AJ$107,$U$106:$U$206,$P$106:$P$206))","v":false},{"$f":"IF(AND(H$111>18.5,H$111<25.5),LOOKUP(AK$107,$U$106:$U$206,$P$106:$P$206))","v":false},{"$f":"IF(AND(H$111>18.5,H$111<25.5),LOOKUP(AL$107,$U$106:$U$206,$P$106:$P$206))","v":false},{"$f":"IF(AND(I$111>18.5,I$111<25.5),LOOKUP(AM$107,$U$106:$U$206,$P$106:$P$206))","v":false},{"$f":"IF(AND(I$111>18.5,I$111<25.5),LOOKUP(AN$107,$U$106:$U$206,$P$106:$P$206))","v":false},{"$f":"IF(AND(J$111>18.5,J$111<25.5),LOOKUP(AO$107,$U$106:$U$206,$P$106:$P$206))","v":false},{"$f":"IF(AND(J$111>18.5,J$111<25.5),LOOKUP(AP$107,$U$106:$U$206,$P$106:$P$206))","v":false},{"$f":"IF(AND(K$111>18.5,K$111<25.5),LOOKUP(AQ$107,$U$106:$U$206,$P$106:$P$206))","v":false},{"$f":"IF(AND(K$111>18.5,K$111<25.5),LOOKUP(AR$107,$U$106:$U$206,$P$106:$P$206))","v":false},{"$f":"IF(AND(L$111>18.5,L$111<25.5),LOOKUP(AS$107,$U$106:$U$206,$P$106:$P$206))","v":false},{"$f":"IF(AND(L$111>18.5,L$111<25.5),LOOKUP(AT$107,$U$106:$U$206,$P$106:$P$206))","v":false},{"$f":"IF(AND(M$111>18.5,M$111<25.5),LOOKUP(AU$107,$U$106:$U$206,$P$106:$P$206))","v":false},{"$f":"IF(AND(M$111>18.5,M$111<25.5),LOOKUP(AV$107,$U$106:$U$206,$P$106:$P$206))","v":false},{"$f":"IF(AND(N$111>18.5,N$111<25.5),LOOKUP(AW$107,$U$106:$U$206,$P$106:$P$206))","v":false},{"$f":"IF(AND(N$111>18.5,N$111<25.5),LOOKUP(AX$107,$U$106:$U$206,$P$106:$P$206))","v":false}]
["Std Dev",{"$f":"ROUND(STDEV('S18'!B$6:B$101),2)","v":{"$error":"#DIV/0!"}},{"$f":"ROUND(STDEV('S18'!C$6:C$101),2)","v":{"$error":"#DIV/0!"}},{"$f":"ROUND(STDEV('S18'!D$6:D$101),1)","v":{"$error":"#DIV/0!"}},{"$f":"ROUND(STDEV('S18'!E$6:E$101),1)","v":{"$error":"#DIV/0!"}},{"$f":"ROUND(STDEV('S18'!F$6:F$101),1)","v":{"$error":"#DIV/0!"}},{"$f":"ROUND(STDEV('S18'!G$6:G$101),1)","v":{"$error":"#DIV/0!"}},{"$f":"ROUND(STDEV('S18'!H$6:H$101),1)","v":{"$error":"#DIV/0!"}},{"$f":"ROUND(STDEV('S18'!I$6:I$101),1)","v":{"$error":"#DIV/0!"}},{"$f":"ROUND(STDEV('S18'!J$6:J$101),1)","v":{"$error":"#DIV/0!"}},{"$f":"ROUND(STDEV('S18'!K$6:K$101),1)","v":{"$error":"#DIV/0!"}},{"$f":"ROUND(STDEV('S18'!L$6:L$101),1)","v":{"$error":"#DIV/0!"}},{"$f":"ROUND(STDEV('S18'!M$6:M$101),1)","v":{"$error":"#DIV/0!"}},{"$f":"ROUND(STDEV('S18'!N$6:N$101),1)","v":{"$error":"#DIV/0!"}},null,7,-1.38,-1.42,-1.44,-1.44,-1.45,-1.46,-1.46,"26-37",{"$f":"IF(AND($B$111>25.5,$B$111<37.5),LOOKUP($Y$107,$V$106:$V$206,$P$106:$P$206))","v":false},{"$f":"IF(AND($B$111>25.5,$B$111<37.5),LOOKUP($Z$107,$V$106:$V$206,$P$106:$P$206))","v":false},{"$f":"IF(AND(C$111>25.5,C$111<37.5),LOOKUP(AA$107,$V$106:$V$206,$P$106:$P$206))","v":false},{"$f":"IF(AND(C$111>25.5,C$111<37.5),LOOKUP(AB107,$V$106:$V$206,$P$106:$P$206))","v":false},{"$f":"IF(AND(D$111>25.5,D$111<37.5),LOOKUP(AC$107,$V$106:$V$206,$P$106:$P$206))","v":false},{"$f":"IF(AND(D$111>25.5,D$111<37.5),LOOKUP(AD$107,$V$106:$V$206,$P$106:$P$206))","v":false},{"$f":"IF(AND(E$111>25.5,E$111<37.5),LOOKUP(AE$107,$V$106:$V$206,$P$106:$P$206))","v":false},{"$f":"IF(AND(E$111>25.5,E$111<37.5),LOOKUP(AF$107,$V$106:$V$206,$P$106:$P$206))","v":false},{"$f":"IF(AND(F$111>25.5,F$111<37.5),LOOKUP(AG$107,$V$106:$V$206,$P$106:$P$206))","v":false},{"$f":"IF(AND(F$111>25.5,F$111<37.5),LOOKUP(AH$107,$V$106:$V$206,$P$106:$P$206))","v":false},{"$f":"IF(AND(G$111>25.5,G$111<37.5),LOOKUP(AI$107,$V$106:$V$206,$P$106:$P$206))","v":false},{"$f":"IF(AND(G$111>25.5,G$111<37.5),LOOKUP(AJ$107,$V$106:$V$206,$P$106:$P$206))","v":false},{"$f":"IF(AND(H$111>25.5,H$111<37.5),LOOKUP(AK$107,$V$106:$V$206,$P$106:$P$206))","v":false},{"$f":"IF(AND(H$111>25.5,H$111<37.5),LOOKUP(AL$107,$V$106:$V$206,$P$106:$P$206))","v":false},{"$f":"IF(AND(I$111>25.5,I$111<37.5),LOOKUP(AM$107,$V$106:$V$206,$P$106:$P$206))","v":false},{"$f":"IF(AND(I$111>25.5,I$111<37.5),LOOKUP(AN$107,$V$106:$V$206,$P$106:$P$206))","v":false},{"$f":"IF(AND(J$111>25.5,J$111<37.5),LOOKUP(AO$107,$V$106:$V$206,$P$106:$P$206))","v":false},{"$f":"IF(AND(J$111>25.5,J$111<37.5),LOOKUP(AP$107,$V$106:$V$206,$P$106:$P$206))","v":false},{"$f":"IF(AND(K$111>25.5,K$111<37.51),LOOKUP(AQ$107,$V$106:$V$206,$P$106:$P$206))","v":false},{"$f":"IF(AND(K$111>25.5,K$111<37.5),LOOKUP(AR$107,$V$106:$V$206,$P$106:$P$206))","v":false},{"$f":"IF(AND(L$111>25.5,L$111<37.5),LOOKUP(AS$107,$V$106:$V$206,$P$106:$P$206))","v":false},{"$f":"IF(AND(L$111>25.5,L$111<37.5),LOOKUP(AT$107,$V$106:$V$206,$P$106:$P$206))","v":false},{"$f":"IF(AND(M$111>25.5,M$111<37.5),LOOKUP(AU$107,$V$106:$V$206,$P$106:$P$206))","v":false},{"$f":"IF(AND(M$111>25.5,M$111<37.5),LOOKUP(AV$107,$V$106:$V$206,$P$106:$P$206))","v":false},{"$f":"IF(AND(N$111>25.5,N$111<37.5),LOOKUP(AW$107,$V$106:$V$206,$P$106:$P$206))","v":false},{"$f":"IF(AND(N$111>25.5,N$111<37.5),LOOKUP(AX$107,$V$106:$V$206,$P$106:$P$206))","v":false}]
[null,null,null,null,null,null,null,null,null,null,null,null,null,null,null,8,-1.33,-1.36,-1.37,-1.38,-1.39,-1.39,-1.4,"38-200",{"$f":"IF(AND($B$111>37.5,$B$111<200),LOOKUP($Y$107,$W$106:$W$206,$P$106:$P$206))","v":false},{"$f":"IF(AND($B$111>37.5,$B$111<200),LOOKUP($Z$107,$W$106:$W$206,$P$106:$P$206))","v":false},{"$f":"IF(AND(C$111>37.5,C$111<200),LOOKUP(AA$107,$W$106:$W$206,$P$106:$P$206))","v":false},{"$f":"IF(AND(C$111>37.5,C$111<200),LOOKUP(AB107,$W$106:$W$206,$P$106:$P$206))","v":false},{"$f":"IF(AND(D$111>37.5,D$111<200),LOOKUP(AC$107,$W$106:$W$206,$P$106:$P$206))","v":false},{"$f":"IF(AND(D$111>37.5,D$111<200),LOOKUP(AD$107,$W$106:$W$206,$P$106:$P$206))","v":false},{"$f":"IF(AND(E$111>37.5,E$111<200),LOOKUP(AE$107,$W$106:$W$206,$P$106:$P$206))","v":false},{"$f":"IF(AND(E$111>37.5,E$111<200),LOOKUP(AF$107,$W$106:$W$206,$P$106:$P$206))","v":false},{"$f":"IF(AND(F$111>37.5,F$111<200),LOOKUP(AG$107,$W$106:$W$206,$P$106:$P$206))","v":false},{"$f":"IF(AND(F$111>37.5,F$111<200),LOOKUP(AH$107,$W$106:$W$206,$P$106:$P$206))","v":false},{"$f":"IF(AND(G$111>37.5,G$111<200),LOOKUP(AI$107,$W$106:$W$206,$P$106:$P$206))","v":false},{"$f":"IF(AND(G$111>37.5,G$111<200),LOOKUP(AJ$107,$W$106:$W$206,$P$106:$P$206))","v":false},{"$f":"IF(AND(H$111>37.5,H$111<200),LOOKUP(AK$107,$W$106:$W$206,$P$106:$P$206))","v":false},{"$f":"IF(AND(H$111>37.5,H$111<200),LOOKUP(AL$107,$W$106:$W$206,$P$106:$P$206))","v":false},{"$f":"IF(AND(I$111>37.5,I$111<200),LOOKUP(AM$107,$W$106:$W$206,$P$106:$P$206))","v":false},{"$f":"IF(AND(I$111>37.5,I$111<200),LOOKUP(AN$107,$W$106:$W$206,$P$106:$P$206))","v":false},{"$f":"IF(AND(J$111>37.5,J$111<200),LOOKUP(AO$107,$W$106:$W$206,$P$106:$P$206))","v":false},{"$f":"IF(AND(J$111>37.5,J$111<200),LOOKUP(AP$107,$W$106:$W$206,$P$106:$P$206))","v":false},{"$f":"IF(AND(K$111>37.5,K$111<200),LOOKUP(AQ$107,$W$106:$W$206,$P$106:$P$206))","v":false},{"$f":"IF(AND(K$111>37.5,K$111<200),LOOKUP(AR$107,$W$106:$W$206,$P$106:$P$206))","v":false},{"$f":"IF(AND(L$111>37.5,L$111<200),LOOKUP(AS$107,$W$106:$W$206,$P$106:$P$206))","v":false},{"$f":"IF(AND(L$111>37.5,L$111<200),LOOKUP(AT$107,$W$106:$W$206,$P$106:$P$206))","v":false},{"$f":"IF(AND(M$111>37.5,M$111<200),LOOKUP(AU$107,$W$106:$W$206,$P$106:$P$206))","v":false},{"$f":"IF(AND(M$111>37.5,M$111<200),LOOKUP(AV$107,$W$106:$W$206,$P$106:$P$206))","v":false},{"$f":"IF(AND(N$111>37.5,N$111<200),LOOKUP(AW$107,$W$106:$W$206,$P$106:$P$206))","v":false},{"$f":"IF(AND(N$111>37.5,N$111<200),LOOKUP(AX$107,$W$106:$W$206,$P$106:$P$206))","v":false}]
["Avg.",{"$f":"ROUND(AVERAGE('S18'!B$6:B$101),1)","v":{"$error":"#DIV/0!"}},{"$f":"ROUND(AVERAGE('S18'!C$6:C$101),1)","v":{"$error":"#DIV/0!"}},{"$f":"ROUND(AVERAGE('S18'!D$6:D$101),0)","v":{"$error":"#DIV/0!"}},{"$f":"ROUND(AVERAGE('S18'!E$6:E$101),0)","v":{"$error":"#DIV/0!"}},{"$f":"ROUND(AVERAGE('S18'!F$6:F$101),0)","v":{"$error":"#DIV/0!"}},{"$f":"ROUND(AVERAGE('S18'!G$6:G$101),0)","v":{"$error":"#DIV/0!"}},{"$f":"ROUND(AVERAGE('S18'!H$6:H$101),0)","v":{"$error":"#DIV/0!"}},{"$f":"ROUND(AVERAGE('S18'!I$6:I$101),0)","v":{"$error":"#DIV/0!"}},{"$f":"ROUND(AVERAGE('S18'!J$6:J$101),0)","v":{"$error":"#DIV/0!"}},{"$f":"ROUND(AVERAGE('S18'!K$6:K$101),0)","v":{"$error":"#DIV/0!"}},{"$f":"ROUND(AVERAGE('S18'!L$6:L$101),0)","v":{"$error":"#DIV/0!"}},{"$f":"ROUND(AVERAGE('S18'!M$6:M$101),0)","v":{"$error":"#DIV/0!"}},{"$f":"ROUND(AVERAGE('S18'!N$6:N$101),0)","v":{"$error":"#DIV/0!"}},null,9,-1.29,-1.31,-1.32,-1.32,-1.33,-1.33,-1.33]
[null,null,null,null,null,null,null,null,null,null,null,null,null,null,null,10,-1.24,-1.26,-1.26,-1.27,-1.27,-1.27,-1.28,"Pu - Pl",{"$f":"SUM(Y108:Y114)","v":0},0,0,0,0,0,0,0,0,0,0,0,0,0,0,0,0,0,0,0,0,0,0,0,0,0]
["JMF",{"$f":"'S1'!B28","v":0},{"$f":"'S1'!B27","v":0},{"$f":"'S1'!B26","v":0},{"$f":"'S1'!B25","v":0},{"$f":"'S1'!B24","v":0},{"$f":"'S1'!B23","v":0},{"$f":"'S1'!B22","v":0},{"$f":"'S1'!B21","v":0},{"$f":"'S1'!B20","v":0},{"$f":"'S1'!B19","v":0},{"$f":"'S1'!B18","v":0},{"$f":"'S1'!B17","v":0},{"$f":"'S1'!B16","v":0},null,11,-1.2,-1.21,-1.21,-1.22,-1.22,-1.22,-1.22,"PWL",{"$f":"(Y116+Z116)-100","v":-100},null,{"$f":"(AA116+AB116)-100","v":-100},null,{"$f":"(AC116+AD116)-100","v":-100},null,{"$f":"(AE116+AF116)-100","v":-100},null,{"$f":"(AG116+AH116)-100","v":-100},null,{"$f":"(AI116+AJ116)-100","v":-100},null,{"$f":"(AK116+AL116)-100","v":-100},null,{"$f":"(AM116+AN116)-100","v":-100},null,{"$f":"(AO116+AP116)-100","v":-100},null,{"$f":"(AQ116+AR116)-100","v":-100},null,{"$f":"(AS116+AT116)-100","v":-100},null,{"$f":"(AU116+AV116)-100","v":-100},null,{"$f":"(AW116+AX116)-100","v":-100}]
[null,null,null,null,null,null,null,null,null,null,null,null,null,null,null,12,-1.1599999999999999,-1.17,-1.17,-1.17,-1.17,-1.17,-1.17]
["PWL",{"$f":"IF(B115>B129,0,IF(B115<B131,0,IF(ISERROR(Y117),100,Y117)))","v":{"$error":"#DIV/0!"}},{"$f":"IF(C115>C129,0,IF(C115<C131,0,IF(ISERROR(AA117),100,AA117)))","v":{"$error":"#DIV/0!"}},{"$f":"IF(D115>D129,0,IF(D115<D131,0,IF(ISERROR(AC117),100,AC117)))","v":{"$error":"#DIV/0!"}},{"$f":"IF(E115>E129,0,IF(E115<E131,0,IF(ISERROR(AE117),100,AE117)))","v":{"$error":"#DIV/0!"}},{"$f":"IF(F115>F129,0,IF(F115<F131,0,IF(ISERROR(AG117),100,AG117)))","v":{"$error":"#DIV/0!"}},{"$f":"IF(G115>G129,0,IF(G115<G131,0,IF(ISERROR(AI117),100,AI117)))","v":{"$error":"#DIV/0!"}},{"$f":"IF(H115>H129,0,IF(H115<H131,0,IF(ISERROR(AK117),100,AK117)))","v":{"$error":"#DIV/0!"}},{"$f":"IF(I115>I129,0,IF(I115<I131,0,IF(ISERROR(AM117),100,AM117)))","v":{"$error":"#DIV/0!"}},{"$f":"IF(J115>J129,0,IF(J115<J131,0,IF(ISERROR(AO117),100,AO117)))","v":{"$error":"#DIV/0!"}},{"$f":"IF(K115>K129,0,IF(K115<K131,0,IF(ISERROR(AQ117),100,AQ117)))","v":{"$error":"#DIV/0!"}},{"$f":"IF(L115>L129,0,IF(L115<L131,0,IF(ISERROR(AS117),100,AS117)))","v":{"$error":"#DIV/0!"}},{"$f":"IF(M115>M129,0,IF(M115<M131,0,IF(ISERROR(AU117),100,AU117)))","v":{"$error":"#DIV/0!"}},{"$f":"IF(N115>N129,0,IF(N115<N131,0,IF(ISERROR(AW117),100,AW117)))","v":{"$error":"#DIV/0!"}},null,13,-1.1200000000000001,-1.1200000000000001,-1.1200000000000001,-1.1200000000000001,-1.1200000000000001,-1.1200000000000001,-1.1200000000000001]
[null,null,null,null,null,null,null,null,null,null,null,null,null,null,null,14,-1.08,-1.08,-1.08,-1.08,-1.08,-1.08,-1.08]
[null,null,null,null,null,null,null,null,null,null,null,null,null,null,null,15,-1.04,-1.04,-1.04,-1.04,-1.04,-1.04,-1.04]
[null,null,null,null,null,null,null,null,null,"Gradation & Ac Test Results PWL",null,null,null,{"$f":"IF(M107=9.5,(ROUND(AVERAGE(B119:K119),0)),IF(M107=12.5,(ROUND(AVERAGE(B119:L119),0)),IF(M107=19,(ROUND(AVERAGE(B119:M119),0)),IF(M107>=25,(ROUND(AVERAGE(B119:N119),0))))))","v":{"$error":"#DIV/0!"}},null,16,-1.01,-1,-1,-1,-1,-1,-0.99]
[null,null,null,null,null,null,null,null,null,null,null,null,null,null,null,17,-0.97,-0.96,-0.96,-0.96,-0.96,-0.96,-0.95]
[null,null,null,null,null,null,null,null,null,null,null,null,null,null,null,18,-0.94,-0.93,-0.92,-0.92,-0.92,-0.92,-0.92]
[null,null,null,null,null,null,null,null,null,null,null,null,null,null,null,19,-0.9,-0.89,-0.89,-0.88,-0.88,-0.88,-0.88]
[null,null,null,null,null,null,null,null,null,null,null,null,null,null,null,20,-0.87,-0.86,-0.85,-0.85,-0.85,-0.84,-0.84]
[null,null,null,null,null,null,null,null,null,null,null,null,null,null,null,21,-0.84,-0.82,-0.82,-0.81,-0.81,-0.81,-0.81]
["Tolerances",null,null,null,null,null,null,null,null,null,null,null,null,null,null,22,-0.8,-0.79,-0.78,-0.78,-0.78,-0.78,-0.77]
["High",{"$f":"IF(M107<20,B117+0.4,IF(M107>20,B117+0.5))","v":0.4},{"$f":"C117+2","v":2},{"$f":"D117+4","v":4},4,4,4,4,4,{"$f":"IF(J117+4>100,100,J117+4)","v":4},{"$f":"K117+6","v":6},{"$f":"L117+6","v":6},{"$f":"M117+6","v":6},{"$f":"N117+6","v":6},null,23,-0.77,-0.76,-0.75,-0.75,-0.75,-0.74,-0.74]
["JMF",{"$f":"'S1'!B28","v":0},{"$f":"'S1'!B27","v":0},{"$f":"'S1'!B26","v":0},{"$f":"'S1'!B25","v":0},{"$f":"'S1'!B24","v":0},{"$f":"'S1'!B23","v":0},{"$f":"'S1'!B22","v":0},{"$f":"'S1'!B21","v":0},{"$f":"'S1'!B20","v":0},{"$f":"'S1'!B19","v":0},{"$f":"'S1'!B18","v":0},{"$f":"'S1'!B17","v":0},{"$f":"'S1'!B16","v":0},null,24,-0.74,-0.72,-0.72,-0.71,-0.71,-0.71,-0.71]
["Low",{"$f":"IF(M107<20,B117-0.4,IF(M107>20,B117-0.5))","v":-0.4},{"$f":"C117-2","v":-2},{"$f":"D117-4","v":-4},-4,-4,-4,-4,-4,{"$f":"J117-4","v":-4},{"$f":"K117-6","v":-6},{"$f":"L117-6","v":-6},{"$f":"M117-6","v":-6},{"$f":"N117-6","v":-6},null,25,-0.71,-0.69,-0.69,-0.68,-0.68,-0.68,-0.68]
[null,null,null,null,null,null,null,null,null,null,null,null,null,null,null,26,-0.68,-0.66,-0.66,-0.65,-0.65,-0.65,-0.65]
[null,null,null,null,null,null,null,null,null,null,null,null,null,null,null,27,-0.65,-0.63,-0.62,-0.62,-0.62,-0.62,-0.62]
[null,null,null,null,null,null,null,null,null,null,null,null,null,null,null,28,-0.62,-0.6,-0.59,-0.59,-0.59,-0.59,-0.59]
[null,null,null,null,null,null,null,null,null,null,null,null,null,null,null,29,-0.59,-0.56999999999999995,-0.56999999999999995,-0.56000000000000005,-0.56000000000000005,-0.56000000000000005,-0.56000000000000005]
["Annual JMF Evaluation JMF QC Samples according to Bulletin 27 Appendix J",null,null,null,null,null,null,null,null,null,null,null,null,null,null,30,-0.56000000000000005,-0.54,-0.54,-0.53,-0.53,-0.53,-0.53]
[null,null,null,null,null,null,null,null,null,null,null,null,null,null,null,31,-0.53,-0.51,-0.51,-0.5,-0.5,-0.5,-0.5]
[null,null,null,null,null,null,null,null,null,null,null,null,null,null,null,32,-0.5,-0.48,-0.48,-0.48,-0.47,-0.47,-0.47]
[null,null,null,null,"Number of Samples",null,null,null,null,{"$f":"B111","v":0},null,null,null,null,null,33,-0.47,-0.46,-0.45,-0.45,-0.45,-0.44,-0.44]
[null,null,null,null,null,null,null,null,null,null,null,null,null,null,null,34,-0.44,-0.43,-0.42,-0.42,-0.42,-0.42,-0.41]
[null,null,null,null,"Air Voids within + 0.5 from Design",null,null,null,null,{"$f":"IF(G11=MEDIAN(G11,AY142,AZ142),\"Yes\",\"No\")","v":{"$error":"#DIV/0!"}},null,null,null,null,null,35,-0.41,-0.4,-0.4,-0.39,-0.39,-0.39,-0.39,null,null,null,null,null,null,null,null,null,null,null,null,null,null,null,null,null,null,null,null,null,null,null,null,null,null,null,"Voids",null,null,"AC",200,100,50,30,16,8,4,0.375,0.5,0.75,1,1.5,"Sum"]
[null,null,null,null,null,null,null,null,null,null,null,null,null,null,null,36,-0.39,-0.37,-0.37,-0.37,-0.36,-0.36,-0.36,null,null,null,null,null,null,null,null,null,null,null,null,null,null,null,null,null,null,null,null,null,null,null,null,null,null,null,{"$f":"G13-0.5","v":-0.5},{"$f":"G13+0.5","v":0.5},null,{"$f":"IF(ISERROR(B115),0,IF(B115=MEDIAN(B115,B129,B131),1,20))","v":0},{"$f":"IF(ISERROR(C115),0,IF(C115=MEDIAN(C115,C129,C131),1,20))","v":0},0,0,{"$f":"IF(ISERROR(F115),0,IF(F115=MEDIAN(F115,F129,F131),1,20))","v":0},0,0,0,0,0,{"$f":"IF(ISERROR(L115),0,IF(L115=MEDIAN(L115,L129,L131),1,20))","v":0},0,0,{"$f":"SUM(BB142:BN142)","v":0}]
[null,null,null,null,"Air Voids PWL >90",null,null,null,null,{"$f":"IF(G15>89.49,\"Yes\",\"No\")","v":{"$error":"#DIV/0!"}},null,null,null,null,null,37,-0.36,-0.35,-0.34,-0.34,-0.34,-0.34,-0.33]
[null,null,null,null,null,null,null,null,null,null,null,null,null,null,null,38,-0.33,-0.32,-0.31,-0.31,-0.31,-0.31,-0.31,null,null,null,null,null,null,null,null,null,null,null,null,null,null,null,null,null,null,null,null,null,null,null,null,null,null,null,null,null,null,"Less than 5 samples"]
[null,null,null,null,"AC and Sieves meet n>3",null,null,null,null,{"$f":"IF(BO142<15,\"Yes\",\"No\")","v":"Yes"},null,null,null,null,null,39,-0.3,-0.28999999999999998,-0.28999999999999998,-0.28999999999999998,-0.28000000000000003,-0.28000000000000003,-0.28000000000000003,null,null,null,null,null,null,null,null,null,null,null,null,null,null,null,null,null,null,null,null,null,null,null,null,null,null,null,null,null,null,"No action required"]
[null,null,null,null,null,null,null,null,null,null,null,null,null,null,null,40,-0.27,-0.26,-0.26,-0.26,-0.26,-0.26,-0.26,null,null,null,null,null,null,null,null,null,null,null,null,null,null,null,null,null,null,null,null,null,null,null,null,null,null,null,null,null,null,"Produce a complete new mix design according to Bulletin 27"]
[null,null,null,null,"AC and Gradation PWL >90",null,null,null,null,{"$f":"IF(N122=FALSE,\"\",IF(N122>89.49,\"Yes\",\"No\"))","v":{"$error":"#DIV/0!"}},null,null,null,null,null,41,-0.25,-0.24,-0.23,-0.23,-0.23,-0.23,-0.23,null,null,null,null,null,null,null,null,null,null,null,null,null,null,null,null,null,null,null,null,null,null,null,null,null,null,null,null,null,null,"Make proportional or gradational adjustments to the JMF and perform laboratory testing of the adjusted JMF. Prepare and test 2 Gmm samples and 2 gyratory specimens targeting the adjusted JMF"]
[null,null,null,null,null,null,null,null,null,null,null,null,null,null,null,42,-0.22,-0.21,-0.21,-0.21,-0.2,-0.2,-0.2,null,null,null,null,null,null,null,null,null,null,null,null,null,null,null,null,null,null,null,null,null,null,null,null,null,null,null,null,null,null,"Perform laboratory testing of existing JMF, Prepare and test 2 Gmm samples and 2 gyratory specimens targeting the existing JMF"]
[null,null,null,null,{"$f":"IF(BB154=4,\"\",\"Required Action\")","v":{"$error":"#DIV/0!"}},null,null,null,null,null,null,null,null,null,null,43,-0.19,-0.18,-0.18,-0.18,-0.18,-0.18,-0.18,null,null,null,null,null,null,null,null,null,null,null,null,null,null,null,null,null,null,null,null,null,null,null,null,null,null,null,null,null,"#Samples",{"$f":"IF(J139>=5,\"\",0)","v":0}]
[null,null,null,null,null,null,null,null,null,null,null,null,null,null,null,44,-0.16,-0.16,-0.16,-0.15,-0.15,-0.15,-0.15,null,null,null,null,null,null,null,null,null,null,null,null,null,null,null,null,null,null,null,null,null,null,null,null,null,null,null,null,null,0.05,{"$f":"IF(J141=\"Yes\",1,10)","v":{"$error":"#DIV/0!"}}]
[null,null,null,null,{"$f":"IF(BB149=0,BB144,IF(BB154=4,BB145,IF(OR(BB154=13,BB154=23,BB154=32),BB147,IF(OR(BB154=33,BB154=72,BB154=43),BB148,IF(OR(BB154=42,BB154=52,BB154=62,BB154=71,BB154=81,BB154=91,BB154=100,BB154=61,),BB146)))))","v":"Less than 5 samples"},null,null,null,null,null,null,null,null,null,null,45,-0.13,-0.13,-0.13,-0.13,-0.13,-0.13,-0.13,null,null,null,null,null,null,null,null,null,null,null,null,null,null,null,null,null,null,null,null,null,null,null,null,null,null,null,null,null,"Va>90",{"$f":"IF(J143=\"Yes\",1,20)","v":{"$error":"#DIV/0!"}}]
[null,null,null,null,null,null,null,null,null,null,null,null,null,null,null,46,-0.11,-0.1,-0.1,-0.1,-0.1,-0.1,-0.1,null,null,null,null,null,null,null,null,null,null,null,null,null,null,null,null,null,null,null,null,null,null,null,null,null,null,null,null,null,"N=3",{"$f":"IF(J145=\"Yes\",1,30)","v":1}]
[null,null,null,null,null,null,null,null,null,null,null,null,null,null,null,47,-0.08,-0.08,-0.08,-0.08,-0.08,-0.08,-0.08,null,null,null,null,null,null,null,null,null,null,null,null,null,null,null,null,null,null,null,null,null,null,null,null,null,null,null,null,null,"AC Grad ",{"$f":"IF(J147=\"Yes\",1,40)","v":{"$error":"#DIV/0!"}}]
[null,null,null,null,null,null,null,null,null,null,null,null,null,null,null,48,-0.05,-0.05,-0.05,-0.05,-0.05,-0.05,-0.05,null,null,null,null,null,null,null,null,null,null,null,null,null,null,null,null,null,null,null,null,null,null,null,null,null,null,null,null,null,"Sum",{"$f":"SUM(BB150:BB153)","v":{"$error":"#DIV/0!"}}]
[null,null,null,null,null,null,null,null,null,null,null,null,null,null,null,49,-0.03,-0.03,-0.03,-0.03,-0.03,-0.03,-0.03]
[null,null,null,null,null,null,null,null,null,null,null,null,null,null,null,50,0,0,0,0,0,0,0]
[null,null,null,null,null,null,null,null,null,null,null,null,null,null,null,51,0.03,0.03,0.03,0.03,0.03,0.03,0.03]
[null,null,null,null,null,null,null,null,null,null,null,null,null,null,null,52,0.05,0.05,0.05,0.05,0.05,0.05,0.05]
[null,null,null,null,null,null,null,null,null,null,null,null,null,null,null,53,0.08,0.08,0.08,0.08,0.08,0.08,0.08]
[null,null,null,null,null,null,null,null,null,null,null,null,null,null,null,54,0.11,0.1,0.1,0.1,0.1,0.1,0.1]
[null,null,null,null,null,null,null,null,null,null,null,null,null,null,null,55,0.13,0.13,0.13,0.13,0.13,0.13,0.13]
[null,null,null,null,null,null,null,null,null,null,null,null,null,null,null,56,0.16,0.16,0.16,0.15,0.15,0.15,0.15]
[null,null,null,null,null,null,null,null,null,null,null,null,null,null,null,57,0.19,0.18,0.18,0.18,0.18,0.18,0.18]
[null,null,null,null,null,null,null,null,null,null,null,null,null,null,null,58,0.22,0.21,0.21,0.21,0.2,0.2,0.2]
[null,null,null,null,null,null,null,null,null,null,null,null,null,null,null,59,0.25,0.24,0.23,0.23,0.23,0.23,0.23]
[null,null,null,null,null,null,null,null,null,null,null,null,null,null,null,60,0.27,0.26,0.26,0.26,0.26,0.26,0.26]
[null,null,null,null,null,null,null,null,null,null,null,null,null,null,null,61,0.3,0.28999999999999998,0.28999999999999998,0.28999999999999998,0.28000000000000003,0.28000000000000003,0.28000000000000003]
[null,null,null,null,null,null,null,null,null,null,null,null,null,null,null,62,0.33,0.32,0.31,0.31,0.31,0.31,0.31]
[null,null,null,null,null,null,null,null,null,null,null,null,null,null,null,63,0.36,0.35,0.34,0.34,0.34,0.34,0.33]
[null,null,null,null,null,null,null,null,null,null,null,null,null,null,null,64,0.39,0.37,0.37,0.37,0.36,0.36,0.36]
[null,null,null,null,null,null,null,null,null,null,null,null,null,null,null,65,0.41,0.4,0.4,0.39,0.39,0.39,0.39]
[null,null,null,null,null,null,null,null,null,null,null,null,null,null,null,66,0.44,0.43,0.42,0.42,0.42,0.42,0.41]
[null,null,null,null,null,null,null,null,null,null,null,null,null,null,null,67,0.47,0.46,0.45,0.45,0.45,0.44,0.44]
[null,null,null,null,null,null,null,null,null,null,null,null,null,null,null,68,0.5,0.48,0.48,0.48,0.47,0.47,0.47]
[null,null,null,null,null,null,null,null,null,null,null,null,null,null,null,69,0.53,0.51,0.51,0.5,0.5,0.5,0.5]
[null,null,null,null,null,null,null,null,null,null,null,null,null,null,null,70,0.56000000000000005,0.54,0.54,0.53,0.53,0.53,0.53]
[null,null,null,null,null,null,null,null,null,null,null,null,null,null,null,71,0.59,0.56999999999999995,0.56999999999999995,0.56000000000000005,0.56000000000000005,0.56000000000000005,0.56000000000000005]
[null,null,null,null,null,null,null,null,null,null,null,null,null,null,null,72,0.62,0.6,0.59,0.59,0.59,0.59,0.59]
[null,null,null,null,null,null,null,null,null,null,null,null,null,null,null,73,0.65,0.63,0.62,0.62,0.62,0.62,0.62]
[null,null,null,null,null,null,null,null,null,null,null,null,null,null,null,74,0.68,0.66,0.66,0.65,0.65,0.65,0.65]
[null,null,null,null,null,null,null,null,null,null,null,null,null,null,null,75,0.71,0.69,0.69,0.68,0.68,0.68,0.68]
[null,null,null,null,null,null,null,null,null,null,null,null,null,null,null,76,0.74,0.72,0.72,0.71,0.71,0.71,0.71]
[null,null,null,null,null,null,null,null,null,null,null,null,null,null,null,77,0.77,0.76,0.75,0.75,0.75,0.74,0.74]
[null,null,null,null,null,null,null,null,null,null,null,null,null,null,null,78,0.8,0.79,0.78,0.78,0.78,0.78,0.77]
[null,null,null,null,null,null,null,null,null,null,null,null,null,null,null,79,0.84,0.82,0.82,0.81,0.81,0.81,0.81]
[null,null,null,null,null,null,null,null,null,null,null,null,null,null,null,80,0.87,0.86,0.85,0.85,0.85,0.84,0.84]
[null,null,null,null,null,null,null,null,null,null,null,null,null,null,null,81,0.9,0.89,0.89,0.88,0.88,0.88,0.88]
[null,null,null,null,null,null,null,null,null,null,null,null,null,null,null,82,0.94,0.93,0.92,0.92,0.92,0.92,0.92]
[null,null,null,null,null,null,null,null,null,null,null,null,null,null,null,83,0.97,0.96,0.96,0.96,0.96,0.96,0.95]
[null,null,null,null,null,null,null,null,null,null,null,null,null,null,null,84,1.01,1,1,1,1,1,0.99]
[null,null,null,null,null,null,null,null,null,null,null,null,null,null,null,85,1.04,1.04,1.04,1.04,1.04,1.04,1.04]
[null,null,null,null,null,null,null,null,null,null,null,null,null,null,null,86,1.08,1.08,1.08,1.08,1.08,1.08,1.08]
[null,null,null,null,null,null,null,null,null,null,null,null,null,null,null,87,1.1200000000000001,1.1200000000000001,1.1200000000000001,1.1200000000000001,1.1200000000000001,1.1200000000000001,1.1200000000000001]
[null,null,null,null,null,null,null,null,null,null,null,null,null,null,null,88,1.1599999999999999,1.17,1.17,1.17,1.17,1.17,1.17]
[null,null,null,null,null,null,null,null,null,null,null,null,null,null,null,89,1.2,1.21,1.21,1.22,1.22,1.22,1.22]
[null,null,null,null,null,null,null,null,null,null,null,null,null,null,null,90,1.24,1.26,1.26,1.27,1.27,1.27,1.28]
[null,null,null,null,null,null,null,null,null,null,null,null,null,null,null,91,1.29,1.31,1.32,1.32,1.33,1.33,1.33]
[null,null,null,null,null,null,null,null,null,null,null,null,null,null,null,92,1.33,1.36,1.37,1.38,1.39,1.39,1.4]
[null,null,null,null,null,null,null,null,null,null,null,null,null,null,null,93,1.38,1.42,1.44,1.44,1.45,1.46,1.46]
[null,null,null,null,null,null,null,null,null,null,null,null,null,null,null,94,1.43,1.48,1.5,1.51,1.52,1.53,1.54]
[null,null,null,null,null,null,null,null,null,null,null,null,null,null,null,95,1.49,1.55,1.58,1.59,1.61,1.62,1.63]
[null,null,null,null,null,null,null,null,null,null,null,null,null,null,null,96,1.55,1.63,1.67,1.68,1.7,1.71,1.73]
[null,null,null,null,null,null,null,null,null,null,null,null,null,null,null,97,1.62,1.72,1.77,1.79,1.81,1.83,1.85]
[null,null,null,null,null,null,null,null,null,null,null,null,null,null,null,98,1.7,1.84,1.91,1.93,1.96,1.99,2.0099999999999998]
[null,null,null,null,null,null,null,null,null,null,null,null,null,null,null,99,1.8,2,2.09,2.14,2.1800000000000002,2.2200000000000002,2.2599999999999998]
[null,null,null,null,null,null,null,null,null,null,null,null,null,null,null,100,2.0299999999999998,2.5299999999999998,2.83,3.03,3.2,3.38,3.54]

{"sheet":"A P","index":45,"n_rows":28,"n_cols":24,"rows_kept":28,"cut":false,"hidden":true,"merged":[[15,0,17,0],[2,15,2,17],[5,0,7,0],[9,0,10,0],[12,0,13,0],[0,0,3,6],[2,7,2,9],[2,11,2,13]]}
["This sheet can be used to change action points for voids and VMA. Change yellow cells to change tolerances"]
[]
[null,null,null,null,null,null,null,"Voids",null,null,null,"VMA",null,null,null,"VFA",null,null,null,"F/A"]
[null,null,null,null,null,null,null,"Upper AP","Target","Lower AP",null,"Upper AP","Target","Lower AP",null,"Upper AP","Target","Lower AP",null,"Target",null,"Upper AP","Target","Lower AP"]
[null,null,null,null,null,null,1,{"$f":"$C$7+$C$6","v":1.5},{"$f":"$C$7","v":0},{"$f":"$C$7-$C$8","v":-1.5},null,{"$f":"'V1'!$M$5+$C$10","v":1},{"$f":"'V1'!$M$5","v":0},{"$f":"IF('V1'!C6=9.5,15,IF('V1'!C6=12.5,14,IF('V1'!C6=19,13,IF('V1'!C6=25,12,IF('V1'!C6=\"SMA\",18,IF('V1'!C6=37.5,11,15))))))","v":15},null,{"$f":"'V1'!$M$6+$C$13","v":0},{"$f":"'V1'!$M$6","v":0},{"$f":"'V1'!$M$6-$C$14","v":0},null,{"$f":"'V1'!$M$7","v":0},null,{"$f":"$C$17+$C$16","v":0.02},{"$f":"'G1'!$M$7","v":0},{"$f":"$C$17-$C$18","v":-0.02}]
["Voids","Upper Action",1.5,null,null,null,2,{"$f":"$C$7+$C$6","v":1.5},{"$f":"$C$7","v":0},{"$f":"$C$7-$C$8","v":-1.5},null,{"$f":"'V1'!$M$5+$C$10","v":1},{"$f":"'V1'!$M$5","v":0},{"$f":"N$5","v":15},null,{"$f":"'V1'!$M$6+$C$13","v":0},{"$f":"'V1'!$M$6","v":0},{"$f":"'V1'!$M$6-$C$14","v":0},null,{"$f":"'V1'!$M$7","v":0},null,{"$f":"$C$17+$C$16","v":0.02},{"$f":"'G1'!$M$7","v":0},{"$f":"$C$17-$C$18","v":-0.02}]
[null,"Target",{"$f":"'V1'!M8","v":0},null,null,null,3,1.5,0,-1.5,null,{"$f":"'V1'!$M$5+$C$10","v":1},{"$f":"'V1'!$M$5","v":0},{"$f":"N$5","v":15},null,{"$f":"'V1'!$M$6+$C$13","v":0},{"$f":"'V1'!$M$6","v":0},{"$f":"'V1'!$M$6-$C$14","v":0},null,{"$f":"'V1'!$M$7","v":0},null,0.02,{"$f":"'G1'!$M$7","v":0},-0.02]
[null,"Lower Action",1.5,null,null,null,4,1.5,0,-1.5,null,{"$f":"'V1'!$M$5+$C$10","v":1},{"$f":"'V1'!$M$5","v":0},15,null,{"$f":"'V1'!$M$6+$C$13","v":0},{"$f":"'V1'!$M$6","v":0},{"$f":"'V1'!$M$6-$C$14","v":0},null,{"$f":"'V1'!$M$7","v":0},null,0.02,{"$f":"'G1'!$M$7","v":0},-0.02]
[null,null,null,null,null,null,5,1.5,0,-1.5,null,{"$f":"'V1'!$M$5+$C$10","v":1},{"$f":"'V1'!$M$5","v":0},15,null,{"$f":"'V1'!$M$6+$C$13","v":0},{"$f":"'V1'!$M$6","v":0},{"$f":"'V1'!$M$6-$C$14","v":0},null,{"$f":"'V1'!$M$7","v":0},null,0.02,{"$f":"'G1'!$M$7","v":0},-0.02]
["VMA","Upper Action",1,null,null,null,6,1.5,0,-1.5,null,{"$f":"'V1'!$M$5+$C$10","v":1},{"$f":"'V1'!$M$5","v":0},15,null,{"$f":"'V1'!$M$6+$C$13","v":0},{"$f":"'V1'!$M$6","v":0},{"$f":"'V1'!$M$6-$C$14","v":0},null,{"$f":"'V1'!$M$7","v":0},null,0.02,{"$f":"'G1'!$M$7","v":0},-0.02]
[null,"Lower Action",1,null,null,null,7,1.5,0,-1.5,null,{"$f":"'V1'!$M$5+$C$10","v":1},{"$f":"'V1'!$M$5","v":0},15,null,{"$f":"'V1'!$M$6+$C$13","v":0},{"$f":"'V1'!$M$6","v":0},{"$f":"'V1'!$M$6-$C$14","v":0},null,{"$f":"'V1'!$M$7","v":0},null,0.02,{"$f":"'G1'!$M$7","v":0},-0.02]
[null,null,null,null,null,null,8,1.5,0,-1.5,null,{"$f":"'V1'!$M$5+$C$10","v":1},{"$f":"'V1'!$M$5","v":0},15,null,{"$f":"'V1'!$M$6+$C$13","v":0},{"$f":"'V1'!$M$6","v":0},{"$f":"'V1'!$M$6-$C$14","v":0},null,{"$f":"'V1'!$M$7","v":0},null,0.02,{"$f":"'G1'!$M$7","v":0},-0.02]
["VFA","Upper Action",null,null,null,null,9,1.5,0,-1.5,null,{"$f":"'V1'!$M$5+$C$10","v":1},{"$f":"'V1'!$M$5","v":0},15,null,{"$f":"'V1'!$M$6+$C$13","v":0},{"$f":"'V1'!$M$6","v":0},{"$f":"'V1'!$M$6-$C$14","v":0},null,{"$f":"'V1'!$M$7","v":0},null,0.02,{"$f":"'G1'!$M$7","v":0},-0.02]
[null,"Lower Action",null,null,null,null,10,1.5,0,-1.5,null,{"$f":"'V1'!$M$5+$C$10","v":1},{"$f":"'V1'!$M$5","v":0},15,null,{"$f":"'V1'!$M$6+$C$13","v":0},{"$f":"'V1'!$M$6","v":0},{"$f":"'V1'!$M$6-$C$14","v":0},null,{"$f":"'V1'!$M$7","v":0},null,0.02,{"$f":"'G1'!$M$7","v":0},-0.02]
[null,null,null,null,null,null,11,1.5,0,-1.5,null,{"$f":"'V1'!$M$5+$C$10","v":1},{"$f":"'V1'!$M$5","v":0},15,null,{"$f":"'V1'!$M$6+$C$13","v":0},{"$f":"'V1'!$M$6","v":0},{"$f":"'V1'!$M$6-$C$14","v":0},null,{"$f":"'V1'!$M$7","v":0},null,0.02,{"$f":"'G1'!$M$7","v":0},-0.02]
["Gmm","Upper Action",0.02,null,null,null,12,1.5,0,-1.5,null,{"$f":"'V1'!$M$5+$C$10","v":1},{"$f":"'V1'!$M$5","v":0},15,null,{"$f":"'V1'!$M$6+$C$13","v":0},{"$f":"'V1'!$M$6","v":0},{"$f":"'V1'!$M$6-$C$14","v":0},null,{"$f":"'V1'!$M$7","v":0},null,0.02,{"$f":"'G1'!$M$7","v":0},-0.02]
[null,"Target",{"$f":"'G1'!$M$7","v":0},null,null,null,13,1.5,0,-1.5,null,{"$f":"'V1'!$M$5+$C$10","v":1},{"$f":"'V1'!$M$5","v":0},15,null,{"$f":"'V1'!$M$6+$C$13","v":0},{"$f":"'V1'!$M$6","v":0},{"$f":"'V1'!$M$6-$C$14","v":0},null,{"$f":"'V1'!$M$7","v":0}]
[null,"Lower Action",0.02,null,null,null,14,1.5,0,-1.5,null,{"$f":"'V1'!$M$5+$C$10","v":1},{"$f":"'V1'!$M$5","v":0},15,null,{"$f":"'V1'!$M$6+$C$13","v":0},{"$f":"'V1'!$M$6","v":0},{"$f":"'V1'!$M$6-$C$14","v":0},null,{"$f":"'V1'!$M$7","v":0}]
[null,null,null,null,null,null,15,1.5,0,-1.5,null,{"$f":"'V1'!$M$5+$C$10","v":1},{"$f":"'V1'!$M$5","v":0},15,null,{"$f":"'V1'!$M$6+$C$13","v":0},{"$f":"'V1'!$M$6","v":0},{"$f":"'V1'!$M$6-$C$14","v":0},null,{"$f":"'V1'!$M$7","v":0}]
[null,null,null,null,null,null,16,1.5,0,-1.5,null,{"$f":"'V1'!$M$5+$C$10","v":1},{"$f":"'V1'!$M$5","v":0},15,null,{"$f":"'V1'!$M$6+$C$13","v":0},{"$f":"'V1'!$M$6","v":0},{"$f":"'V1'!$M$6-$C$14","v":0},null,{"$f":"'V1'!$M$7","v":0}]
[null,null,null,null,null,null,17,1.5,0,-1.5,null,{"$f":"'V1'!$M$5+$C$10","v":1},{"$f":"'V1'!$M$5","v":0},15,null,{"$f":"'V1'!$M$6+$C$13","v":0},{"$f":"'V1'!$M$6","v":0},{"$f":"'V1'!$M$6-$C$14","v":0},null,{"$f":"'V1'!$M$7","v":0}]
[null,null,null,null,null,null,18,1.5,0,-1.5,null,{"$f":"'V1'!$M$5+$C$10","v":1},{"$f":"'V1'!$M$5","v":0},15,null,{"$f":"'V1'!$M$6+$C$13","v":0},{"$f":"'V1'!$M$6","v":0},{"$f":"'V1'!$M$6-$C$14","v":0},null,{"$f":"'V1'!$M$7","v":0}]
[null,null,null,null,null,null,19,1.5,0,-1.5,null,{"$f":"'V1'!$M$5+$C$10","v":1},{"$f":"'V1'!$M$5","v":0},15,null,{"$f":"'V1'!$M$6+$C$13","v":0},{"$f":"'V1'!$M$6","v":0},{"$f":"'V1'!$M$6-$C$14","v":0},null,{"$f":"'V1'!$M$7","v":0}]
[null,null,null,null,null,null,20,1.5,0,-1.5,null,{"$f":"'V1'!$M$5+$C$10","v":1},{"$f":"'V1'!$M$5","v":0},15,null,{"$f":"'V1'!$M$6+$C$13","v":0},{"$f":"'V1'!$M$6","v":0},{"$f":"'V1'!$M$6-$C$14","v":0},null,{"$f":"'V1'!$M$7","v":0}]
[null,null,null,null,null,null,21,1.5,0,-1.5,null,{"$f":"'V1'!$M$5+$C$10","v":1},{"$f":"'V1'!$M$5","v":0},15,null,{"$f":"'V1'!$M$6+$C$13","v":0},{"$f":"'V1'!$M$6","v":0},{"$f":"'V1'!$M$6-$C$14","v":0},null,{"$f":"'V1'!$M$7","v":0}]
[null,null,null,null,null,null,22,1.5,0,-1.5,null,{"$f":"'V1'!$M$5+$C$10","v":1},{"$f":"'V1'!$M$5","v":0},15,null,{"$f":"'V1'!$M$6+$C$13","v":0},{"$f":"'V1'!$M$6","v":0},{"$f":"'V1'!$M$6-$C$14","v":0},null,{"$f":"'V1'!$M$7","v":0}]
[null,null,null,null,null,null,23,1.5,0,-1.5,null,{"$f":"'V1'!$M$5+$C$10","v":1},{"$f":"'V1'!$M$5","v":0},15,null,{"$f":"'V1'!$M$6+$C$13","v":0},{"$f":"'V1'!$M$6","v":0},{"$f":"'V1'!$M$6-$C$14","v":0},null,{"$f":"'V1'!$M$7","v":0}]
[null,null,null,null,null,null,24,1.5,0,-1.5,null,{"$f":"'V1'!$M$5+$C$10","v":1},{"$f":"'V1'!$M$5","v":0},15,null,{"$f":"'V1'!$M$6+$C$13","v":0},{"$f":"'V1'!$M$6","v":0},{"$f":"'V1'!$M$6-$C$14","v":0},null,{"$f":"'V1'!$M$7","v":0}]

{"sheet":"ST1","index":46,"n_rows":97,"n_cols":12,"rows_kept":97,"cut":false,"hidden":true,"merged":[[74,1,74,2],[75,1,75,2],[76,1,76,2],[77,1,77,2],[78,1,78,2],[79,1,79,2],[80,1,80,2],[95,1,95,2],[96,1,96,2],[85,1,85,2],[86,1,86,2],[87,1,87,2],[88,1,88,2],[89,1,89,2],[90,1,90,2],[91,1,91,2],[92,1,92,2],[93,1,93,2],[94,1,94,2],[81,1,81,2],[82,1,82,2],[83,1,83,2],[84,1,84,2],[73,1,73,2],[12,1,12,2],[13,1,13,2],[43,1,43,2],[44,1,44,2],[45,1,45,2],[35,1,35,2],[59,1,59,2],[26,1,26,2],[27,1,27,2],[28,1,28,2],[29,1,29,2],[30,1,30,2],[31,1,31,2],[32,1,32,2],[33,1,33,2],[34,1,34,2],[67,1,67,2],[40,1,40,2],[65,1,65,2],[52,1,52,2],[53,1,53,2],[54,1,54,2],[55,1,55,2],[10,1,10,2],[11,1,11,2],[0,10,0,11],[1,1,1,2],[2,1,2,2],[3,1,3,2],[0,1,0,2],[0,4,0,5],[0,6,0,7],[0,8,0,9],[4,1,4,2],[36,1,36,2],[37,1,37,2],[48,1,48,2],[58,1,58,2],[41,1,41,2],[50,1,50,2],[49,1,49,2],[5,1,5,2],[24,1,24,2],[25,1,25,2],[16,1,16,2],[17,1,17,2],[18,1,18,2],[19,1,19,2],[20,1,20,2],[21,1,21,2],[22,1,22,2],[23,1,23,2],[14,1,14,2],[15,1,15,2],[6,1,6,2],[7,1,7,2],[8,1,8,2],[9,1,9,2],[38,1,38,2],[39,1,39,2],[46,1,46,2],[47,1,47,2],[51,1,51,2],[42,1,42,2],[64,1,64,2],[60,1,60,2],[56,1,56,2],[57,1,57,2],[72,1,72,2],[68,1,68,2],[69,1,69,2],[70,1,70,2],[71,1,71,2],[62,1,62,2],[63,1,63,2],[66,1,66,2],[61,1,61,2]]}
["Samp. No.","Max",null,"Samp. No.","Voids",null,"VMA",null,"VFA",null,"F/A"]
[{"$f":"IF(ISBLANK('G1'!C$12),\" \",('G1'!C$12))","v":" "},{"$f":"IF(ISTEXT('G1'!$C$17),NA(),'G1'!$C$17)","v":{"$error":"#N/A"}},null,{"$f":"IF(ISBLANK('V1'!C$9),\" \",('V1'!C$9))","v":" "},{"$f":"IF(ISTEXT('V1'!$C$21),NA(),'V1'!$C$21)","v":{"$error":"#N/A"}},{"$f":"E2","v":{"$error":"#N/A"}},{"$f":"IF(ISTEXT('V1'!C22),NA(),'V1'!C22)","v":{"$error":"#N/A"}},{"$f":"IF(ISTEXT('V1'!D22),NA(),'V1'!D22)","v":{"$error":"#N/A"}},{"$f":"IF(ISTEXT('V1'!$C$25),NA(),'V1'!$C$25)","v":{"$error":"#N/A"}},{"$f":"I2","v":{"$error":"#N/A"}},{"$f":"IF(ISTEXT('V1'!$C$26),NA(),'V1'!$C$26)","v":{"$error":"#N/A"}},{"$f":"K2","v":{"$error":"#N/A"}}]
[{"$f":"IF(ISBLANK('G1'!D$12),\" \",('G1'!D$12))","v":" "},{"$f":"IF(ISTEXT('G1'!$D$17),NA(),'G1'!$D$17)","v":{"$error":"#N/A"}},null,{"$f":"IF(ISBLANK('V1'!E$9),\" \",('V1'!E$9))","v":" "},{"$f":"IF(ISTEXT('V1'!$E$21),NA(),'V1'!$E$21)","v":{"$error":"#N/A"}},{"$f":"ROUND(AVERAGE(E2:E3),1)","v":{"$error":"#N/A"}},{"$f":"IF(ISTEXT('V1'!E22),NA(),'V1'!E22)","v":{"$error":"#N/A"}},{"$f":"IF(ISTEXT('V1'!F22),NA(),'V1'!F22)","v":{"$error":"#N/A"}},{"$f":"IF(ISTEXT('V1'!$E$25),NA(),'V1'!$E$25)","v":{"$error":"#N/A"}},{"$f":"ROUND(AVERAGE(I2:I3),0)","v":{"$error":"#N/A"}},{"$f":"IF(ISTEXT('V1'!$E$26),NA(),'V1'!$E$26)","v":{"$error":"#N/A"}},{"$f":"ROUND(AVERAGE(K2:K3),2)","v":{"$error":"#N/A"}}]
[{"$f":"IF(ISBLANK('G1'!E$12),\" \",('G1'!E$12))","v":" "},{"$f":"IF(ISTEXT('G1'!$E$17),NA(),'G1'!$E$17)","v":{"$error":"#N/A"}},null,{"$f":"IF(ISBLANK('V1'!G$9),\" \",('V1'!G$9))","v":" "},{"$f":"IF(ISTEXT('V1'!$G$21),NA(),'V1'!$G$21)","v":{"$error":"#N/A"}},{"$f":"ROUND(AVERAGE(E2:E4),1)","v":{"$error":"#N/A"}},{"$f":"IF(ISTEXT('V1'!G22),NA(),'V1'!G22)","v":{"$error":"#N/A"}},{"$f":"IF(ISTEXT('V1'!H22),NA(),'V1'!H22)","v":{"$error":"#N/A"}},{"$f":"IF(ISTEXT('V1'!$G$25),NA(),'V1'!$G$25)","v":{"$error":"#N/A"}},{"$f":"ROUND(AVERAGE(I2:I4),0)","v":{"$error":"#N/A"}},{"$f":"IF(ISTEXT('V1'!$G$26),NA(),'V1'!$G$26)","v":{"$error":"#N/A"}},{"$f":"ROUND(AVERAGE(K2:K4),2)","v":{"$error":"#N/A"}}]
[{"$f":"IF(ISBLANK('G1'!F$12),\" \",('G1'!F$12))","v":" "},{"$f":"IF(ISTEXT('G1'!$F$17),NA(),'G1'!$F$17)","v":{"$error":"#N/A"}},null,{"$f":"IF(ISBLANK('V1'!I$9),\" \",('V1'!I$9))","v":" "},{"$f":"IF(ISTEXT('V1'!$I$21),NA(),'V1'!$I$21)","v":{"$error":"#N/A"}},{"$f":"ROUND(AVERAGE(E2:E5),1)","v":{"$error":"#N/A"}},{"$f":"IF(ISTEXT('V1'!I22),NA(),'V1'!I22)","v":{"$error":"#N/A"}},{"$f":"IF(ISTEXT('V1'!J22),NA(),'V1'!J22)","v":{"$error":"#N/A"}},{"$f":"IF(ISTEXT('V1'!$I$25),NA(),'V1'!$I$25)","v":{"$error":"#N/A"}},{"$f":"ROUND(AVERAGE(I2:I5),0)","v":{"$error":"#N/A"}},{"$f":"IF(ISTEXT('V1'!$I$26),NA(),'V1'!$I$26)","v":{"$error":"#N/A"}},{"$f":"ROUND(AVERAGE(K2:K5),2)","v":{"$error":"#N/A"}}]
[{"$f":"IF(ISBLANK('G1'!G$12),\" \",('G1'!G$12))","v":" "},{"$f":"IF(ISTEXT('G1'!$G$17),NA(),'G1'!$G$17)","v":{"$error":"#N/A"}},null,{"$f":"IF(ISBLANK('V1'!K$9),\" \",('V1'!K$9))","v":" "},{"$f":"IF(ISTEXT('V1'!$K$21),NA(),'V1'!$K$21)","v":{"$error":"#N/A"}},{"$f":"ROUND(AVERAGE(E2:E6),1)","v":{"$error":"#N/A"}},{"$f":"IF(ISTEXT('V1'!K22),NA(),'V1'!K22)","v":{"$error":"#N/A"}},{"$f":"IF(ISTEXT('V1'!L22),NA(),'V1'!L22)","v":{"$error":"#N/A"}},{"$f":"IF(ISTEXT('V1'!$K$25),NA(),'V1'!$K$25)","v":{"$error":"#N/A"}},{"$f":"ROUND(AVERAGE(I2:I6),0)","v":{"$error":"#N/A"}},{"$f":"IF(ISTEXT('V1'!$K$26),NA(),'V1'!$K$26)","v":{"$error":"#N/A"}},{"$f":"ROUND(AVERAGE(K2:K6),2)","v":{"$error":"#N/A"}}]
[{"$f":"IF(ISBLANK('G1'!H$12),\" \",('G1'!H$12))","v":" "},{"$f":"IF(ISTEXT('G1'!$H$17),NA(),'G1'!$H$17)","v":{"$error":"#N/A"}},null,{"$f":"IF(ISBLANK('V1'!M$9),\" \",('V1'!M$9))","v":" "},{"$f":"IF(ISTEXT('V1'!$M$21),NA(),'V1'!$M$21)","v":{"$error":"#N/A"}},{"$error":"#N/A"},{"$f":"IF(ISTEXT('V1'!M22),NA(),'V1'!M22)","v":{"$error":"#N/A"}},{"$f":"IF(ISTEXT('V1'!N22),NA(),'V1'!N22)","v":{"$error":"#N/A"}},{"$f":"IF(ISTEXT('V1'!$M$25),NA(),'V1'!$M$25)","v":{"$error":"#N/A"}},{"$f":"ROUND(AVERAGE(I3:I7),0)","v":{"$error":"#N/A"}},{"$f":"IF(ISTEXT('V1'!$M$26),NA(),'V1'!$M$26)","v":{"$error":"#N/A"}},{"$f":"ROUND(AVERAGE(K3:K7),2)","v":{"$error":"#N/A"}}]
[{"$f":"IF(ISBLANK('G1'!I$12),\" \",('G1'!I$12))","v":" "},{"$f":"IF(ISTEXT('G1'!$I$17),NA(),'G1'!$I$17)","v":{"$error":"#N/A"}},null,{"$f":"IF(ISBLANK('V1'!C$39),\" \",('V1'!C$39))","v":"."},{"$f":"IF(ISTEXT('V1'!$C$51),NA(),'V1'!$C$51)","v":{"$error":"#N/A"}},{"$error":"#N/A"},{"$f":"IF(ISTEXT('V1'!C52),NA(),'V1'!C52)","v":{"$error":"#N/A"}},{"$f":"IF(ISTEXT('V1'!D52),NA(),'V1'!D52)","v":{"$error":"#N/A"}},{"$f":"IF(ISTEXT('V1'!$C$55),NA(),'V1'!$C$55)","v":{"$error":"#N/A"}},{"$error":"#N/A"},{"$f":"IF(ISTEXT('V1'!$C$56),NA(),'V1'!$C$56)","v":{"$error":"#N/A"}},{"$error":"#N/A"}]
[{"$f":"IF(ISBLANK('G1'!J$12),\" \",('G1'!J$12))","v":" "},{"$f":"IF(ISTEXT('G1'!$J$17),NA(),'G1'!$J$17)","v":{"$error":"#N/A"}},null,{"$f":"IF(ISBLANK('V1'!E$39),\" \",('V1'!E$39))","v":" "},{"$f":"IF(ISTEXT('V1'!$E$51),NA(),'V1'!$E$51)","v":{"$error":"#N/A"}},{"$error":"#N/A"},{"$f":"IF(ISTEXT('V1'!E52),NA(),'V1'!E52)","v":{"$error":"#N/A"}},{"$f":"IF(ISTEXT('V1'!F52),NA(),'V1'!F52)","v":{"$error":"#N/A"}},{"$f":"IF(ISTEXT('V1'!$E$55),NA(),'V1'!$E$55)","v":{"$error":"#N/A"}},{"$error":"#N/A"},{"$f":"IF(ISTEXT('V1'!$E$56),NA(),'V1'!$E$56)","v":{"$error":"#N/A"}},{"$error":"#N/A"}]
[{"$f":"IF(ISBLANK('G1'!K$12),\" \",('G1'!K$12))","v":" "},{"$f":"IF(ISTEXT('G1'!$K$17),NA(),'G1'!$K$17)","v":{"$error":"#N/A"}},null,{"$f":"IF(ISBLANK('V1'!G$39),\" \",('V1'!G$39))","v":" "},{"$f":"IF(ISTEXT('V1'!$G$51),NA(),'V1'!$G$51)","v":{"$error":"#N/A"}},{"$error":"#N/A"},{"$f":"IF(ISTEXT('V1'!G52),NA(),'V1'!G52)","v":{"$error":"#N/A"}},{"$f":"IF(ISTEXT('V1'!H52),NA(),'V1'!H52)","v":{"$error":"#N/A"}},{"$f":"IF(ISTEXT('V1'!$G$55),NA(),'V1'!$G$55)","v":{"$error":"#N/A"}},{"$error":"#N/A"},{"$f":"IF(ISTEXT('V1'!$G$56),NA(),'V1'!$G$56)","v":{"$error":"#N/A"}},{"$error":"#N/A"}]
[{"$f":"IF(ISBLANK('G1'!L$12),\" \",('G1'!L$12))","v":" "},{"$f":"IF(ISTEXT('G1'!$L$17),NA(),'G1'!$L$17)","v":{"$error":"#N/A"}},null,{"$f":"IF(ISBLANK('V1'!I$39),\" \",('V1'!I$39))","v":" "},{"$f":"IF(ISTEXT('V1'!$I$51),NA(),'V1'!$I$51)","v":{"$error":"#N/A"}},{"$error":"#N/A"},{"$f":"IF(ISTEXT('V1'!I52),NA(),'V1'!I52)","v":{"$error":"#N/A"}},{"$f":"IF(ISTEXT('V1'!J52),NA(),'V1'!J52)","v":{"$error":"#N/A"}},{"$f":"IF(ISTEXT('V1'!$I$55),NA(),'V1'!$I$55)","v":{"$error":"#N/A"}},{"$error":"#N/A"},{"$f":"IF(ISTEXT('V1'!$I$56),NA(),'V1'!$I$56)","v":{"$error":"#N/A"}},{"$error":"#N/A"}]
[{"$f":"IF(ISBLANK('G1'!M$12),\" \",('G1'!M$12))","v":" "},{"$f":"IF(ISTEXT('G1'!$M$17),NA(),'G1'!$M$17)","v":{"$error":"#N/A"}},null,{"$f":"IF(ISBLANK('V1'!K$39),\" \",('V1'!K$39))","v":" "},{"$f":"IF(ISTEXT('V1'!$K$51),NA(),'V1'!$K$51)","v":{"$error":"#N/A"}},{"$error":"#N/A"},{"$f":"IF(ISTEXT('V1'!K52),NA(),'V1'!K52)","v":{"$error":"#N/A"}},{"$f":"IF(ISTEXT('V1'!L52),NA(),'V1'!L52)","v":{"$error":"#N/A"}},{"$f":"IF(ISTEXT('V1'!$K$55),NA(),'V1'!$K$55)","v":{"$error":"#N/A"}},{"$error":"#N/A"},{"$f":"IF(ISTEXT('V1'!$K$56),NA(),'V1'!$K$56)","v":{"$error":"#N/A"}},{"$error":"#N/A"}]
[{"$f":"IF(ISBLANK('G1'!N$12),\" \",('G1'!N$12))","v":" "},{"$f":"IF(ISTEXT('G1'!$N$17),NA(),'G1'!$N$17)","v":{"$error":"#N/A"}},null,{"$f":"IF(ISBLANK('V1'!M$39),\" \",('V1'!M$39))","v":" "},{"$f":"IF(ISTEXT('V1'!$M$51),NA(),'V1'!$M$51)","v":{"$error":"#N/A"}},{"$error":"#N/A"},{"$f":"IF(ISTEXT('V1'!M52),NA(),'V1'!M52)","v":{"$error":"#N/A"}},{"$f":"IF(ISTEXT('V1'!N52),NA(),'V1'!N52)","v":{"$error":"#N/A"}},{"$f":"IF(ISTEXT('V1'!$M$55),NA(),'V1'!$M$55)","v":{"$error":"#N/A"}},{"$error":"#N/A"},{"$f":"IF(ISTEXT('V1'!$M$56),NA(),'V1'!$M$56)","v":{"$error":"#N/A"}},{"$error":"#N/A"}]
[{"$f":"IF(ISBLANK('G2'!C$12),\" \",('G2'!C$12))","v":" "},{"$f":"IF(ISTEXT('G2'!$C$17),NA(),'G2'!$C$17)","v":{"$error":"#N/A"}},null,{"$f":"IF(ISBLANK('V2'!C$9),\" \",('V2'!C$9))","v":" "},{"$f":"IF(ISTEXT('V2'!$C$21),NA(),'V2'!$C$21)","v":{"$error":"#N/A"}},{"$error":"#N/A"},{"$f":"IF(ISTEXT('V2'!C22),NA(),'V2'!C22)","v":{"$error":"#N/A"}},{"$f":"IF(ISTEXT('V2'!D22),NA(),'V2'!D22)","v":{"$error":"#N/A"}},{"$f":"IF(ISTEXT('V2'!$C$25),NA(),'V2'!$C$25)","v":{"$error":"#N/A"}},{"$error":"#N/A"},{"$f":"IF(ISTEXT('V2'!$C$26),NA(),'V2'!$C$26)","v":{"$error":"#N/A"}},{"$error":"#N/A"}]
[{"$f":"IF(ISBLANK('G2'!D$12),\" \",('G2'!D$12))","v":" "},{"$f":"IF(ISTEXT('G2'!$D$17),NA(),'G2'!$D$17)","v":{"$error":"#N/A"}},null,{"$f":"IF(ISBLANK('V2'!E$9),\" \",('V2'!E$9))","v":" "},{"$f":"IF(ISTEXT('V2'!$E$21),NA(),'V2'!$E$21)","v":{"$error":"#N/A"}},{"$error":"#N/A"},{"$f":"IF(ISTEXT('V2'!E22),NA(),'V2'!E22)","v":{"$error":"#N/A"}},{"$f":"IF(ISTEXT('V2'!F22),NA(),'V2'!F22)","v":{"$error":"#N/A"}},{"$f":"IF(ISTEXT('V2'!$E$25),NA(),'V2'!$E$25)","v":{"$error":"#N/A"}},{"$error":"#N/A"},{"$f":"IF(ISTEXT('V2'!$E$26),NA(),'V2'!$E$26)","v":{"$error":"#N/A"}},{"$error":"#N/A"}]
[{"$f":"IF(ISBLANK('G2'!E$12),\" \",('G2'!E$12))","v":" "},{"$f":"IF(ISTEXT('G2'!$E$17),NA(),'G2'!$E$17)","v":{"$error":"#N/A"}},null,{"$f":"IF(ISBLANK('V2'!G$9),\" \",('V2'!G$9))","v":" "},{"$f":"IF(ISTEXT('V2'!$G$21),NA(),'V2'!$G$21)","v":{"$error":"#N/A"}},{"$error":"#N/A"},{"$f":"IF(ISTEXT('V2'!G22),NA(),'V2'!G22)","v":{"$error":"#N/A"}},{"$f":"IF(ISTEXT('V2'!H22),NA(),'V2'!H22)","v":{"$error":"#N/A"}},{"$f":"IF(ISTEXT('V2'!$G$25),NA(),'V2'!$G$25)","v":{"$error":"#N/A"}},{"$error":"#N/A"},{"$f":"IF(ISTEXT('V2'!$G$26),NA(),'V2'!$G$26)","v":{"$error":"#N/A"}},{"$error":"#N/A"}]
[{"$f":"IF(ISBLANK('G2'!F$12),\" \",('G2'!F$12))","v":" "},{"$f":"IF(ISTEXT('G2'!$F$17),NA(),'G2'!$F$17)","v":{"$error":"#N/A"}},null,{"$f":"IF(ISBLANK('V2'!I$9),\" \",('V2'!I$9))","v":" "},{"$f":"IF(ISTEXT('V2'!$I$21),NA(),'V2'!$I$21)","v":{"$error":"#N/A"}},{"$error":"#N/A"},{"$f":"IF(ISTEXT('V2'!I22),NA(),'V2'!I22)","v":{"$error":"#N/A"}},{"$f":"IF(ISTEXT('V2'!J22),NA(),'V2'!J22)","v":{"$error":"#N/A"}},{"$f":"IF(ISTEXT('V2'!$I$25),NA(),'V2'!$I$25)","v":{"$error":"#N/A"}},{"$error":"#N/A"},{"$f":"IF(ISTEXT('V2'!$I$26),NA(),'V2'!$I$26)","v":{"$error":"#N/A"}},{"$error":"#N/A"}]
[{"$f":"IF(ISBLANK('G2'!G$12),\" \",('G2'!G$12))","v":" "},{"$f":"IF(ISTEXT('G2'!$G$17),NA(),'G2'!$G$17)","v":{"$error":"#N/A"}},null,{"$f":"IF(ISBLANK('V2'!K$9),\" \",('V2'!K$9))","v":" "},{"$f":"IF(ISTEXT('V2'!$K$21),NA(),'V2'!$K$21)","v":{"$error":"#N/A"}},{"$error":"#N/A"},{"$f":"IF(ISTEXT('V2'!K22),NA(),'V2'!K22)","v":{"$error":"#N/A"}},{"$f":"IF(ISTEXT('V2'!L22),NA(),'V2'!L22)","v":{"$error":"#N/A"}},{"$f":"IF(ISTEXT('V2'!$K$25),NA(),'V2'!$K$25)","v":{"$error":"#N/A"}},{"$error":"#N/A"},{"$f":"IF(ISTEXT('V2'!$K$26),NA(),'V2'!$K$26)","v":{"$error":"#N/A"}},{"$error":"#N/A"}]
[{"$f":"IF(ISBLANK('G2'!H$12),\" \",('G2'!H$12))","v":" "},{"$f":"IF(ISTEXT('G2'!$H$17),NA(),'G2'!$H$17)","v":{"$error":"#N/A"}},null,{"$f":"IF(ISBLANK('V2'!M$9),\" \",('V2'!M$9))","v":" "},{"$f":"IF(ISTEXT('V2'!$M$21),NA(),'V2'!$M$21)","v":{"$error":"#N/A"}},{"$error":"#N/A"},{"$f":"IF(ISTEXT('V2'!M22),NA(),'V2'!M22)","v":{"$error":"#N/A"}},{"$f":"IF(ISTEXT('V2'!N22),NA(),'V2'!N22)","v":{"$error":"#N/A"}},{"$f":"IF(ISTEXT('V2'!$M$25),NA(),'V2'!$M$25)","v":{"$error":"#N/A"}},{"$error":"#N/A"},{"$f":"IF(ISTEXT('V2'!$M$26),NA(),'V2'!$M$26)","v":{"$error":"#N/A"}},{"$error":"#N/A"}]
[{"$f":"IF(ISBLANK('G2'!I$12),\" \",('G2'!I$12))","v":" "},{"$f":"IF(ISTEXT('G2'!$I$17),NA(),'G2'!$I$17)","v":{"$error":"#N/A"}},null,{"$f":"IF(ISBLANK('V2'!C$39),\" \",('V2'!C$39))","v":" "},{"$f":"IF(ISTEXT('V2'!$C$51),NA(),'V2'!$C$51)","v":{"$error":"#N/A"}},{"$error":"#N/A"},{"$f":"IF(ISTEXT('V2'!C52),NA(),'V2'!C52)","v":{"$error":"#N/A"}},{"$f":"IF(ISTEXT('V2'!D52),NA(),'V2'!D52)","v":{"$error":"#N/A"}},{"$f":"IF(ISTEXT('V2'!$C$55),NA(),'V2'!$C$55)","v":{"$error":"#N/A"}},{"$error":"#N/A"},{"$f":"IF(ISTEXT('V2'!$C$56),NA(),'V2'!$C$56)","v":{"$error":"#N/A"}},{"$error":"#N/A"}]
[{"$f":"IF(ISBLANK('G2'!J$12),\" \",('G2'!J$12))","v":" "},{"$f":"IF(ISTEXT('G2'!$J$17),NA(),'G2'!$J$17)","v":{"$error":"#N/A"}},null,{"$f":"IF(ISBLANK('V2'!E$39),\" \",('V2'!E$39))","v":" "},{"$f":"IF(ISTEXT('V2'!$E$51),NA(),'V2'!$E$51)","v":{"$error":"#N/A"}},{"$error":"#N/A"},{"$f":"IF(ISTEXT('V2'!E52),NA(),'V2'!E52)","v":{"$error":"#N/A"}},{"$f":"IF(ISTEXT('V2'!F52),NA(),'V2'!F52)","v":{"$error":"#N/A"}},{"$f":"IF(ISTEXT('V2'!$E$55),NA(),'V2'!$E$55)","v":{"$error":"#N/A"}},{"$error":"#N/A"},{"$f":"IF(ISTEXT('V2'!$E$56),NA(),'V2'!$E$56)","v":{"$error":"#N/A"}},{"$error":"#N/A"}]
[{"$f":"IF(ISBLANK('G2'!K$12),\" \",('G2'!K$12))","v":" "},{"$f":"IF(ISTEXT('G2'!$K$17),NA(),'G2'!$K$17)","v":{"$error":"#N/A"}},null,{"$f":"IF(ISBLANK('V2'!G$39),\" \",('V2'!G$39))","v":" "},{"$f":"IF(ISTEXT('V2'!$G$51),NA(),'V2'!$G$51)","v":{"$error":"#N/A"}},{"$error":"#N/A"},{"$f":"IF(ISTEXT('V2'!G52),NA(),'V2'!G52)","v":{"$error":"#N/A"}},{"$f":"IF(ISTEXT('V2'!H52),NA(),'V2'!H52)","v":{"$error":"#N/A"}},{"$f":"IF(ISTEXT('V2'!$G$55),NA(),'V2'!$G$55)","v":{"$error":"#N/A"}},{"$error":"#N/A"},{"$f":"IF(ISTEXT('V2'!$G$56),NA(),'V2'!$G$56)","v":{"$error":"#N/A"}},{"$error":"#N/A"}]
[{"$f":"IF(ISBLANK('G2'!L$12),\" \",('G2'!L$12))","v":" "},{"$f":"IF(ISTEXT('G2'!$L$17),NA(),'G2'!$L$17)","v":{"$error":"#N/A"}},null,{"$f":"IF(ISBLANK('V2'!I$39),\" \",('V2'!I$39))","v":" "},{"$f":"IF(ISTEXT('V2'!$I$51),NA(),'V2'!$I$51)","v":{"$error":"#N/A"}},{"$error":"#N/A"},{"$f":"IF(ISTEXT('V2'!I52),NA(),'V2'!I52)","v":{"$error":"#N/A"}},{"$f":"IF(ISTEXT('V2'!J52),NA(),'V2'!J52)","v":{"$error":"#N/A"}},{"$f":"IF(ISTEXT('V2'!$I$55),NA(),'V2'!$I$55)","v":{"$error":"#N/A"}},{"$error":"#N/A"},{"$f":"IF(ISTEXT('V2'!$I$56),NA(),'V2'!$I$56)","v":{"$error":"#N/A"}},{"$error":"#N/A"}]
[{"$f":"IF(ISBLANK('G2'!M$12),\" \",('G2'!M$12))","v":" "},{"$f":"IF(ISTEXT('G2'!$M$17),NA(),'G2'!$M$17)","v":{"$error":"#N/A"}},null,{"$f":"IF(ISBLANK('V2'!K$39),\" \",('V2'!K$39))","v":" "},{"$f":"IF(ISTEXT('V2'!$K$51),NA(),'V2'!$K$51)","v":{"$error":"#N/A"}},{"$error":"#N/A"},{"$f":"IF(ISTEXT('V2'!K52),NA(),'V2'!K52)","v":{"$error":"#N/A"}},{"$f":"IF(ISTEXT('V2'!L52),NA(),'V2'!L52)","v":{"$error":"#N/A"}},{"$f":"IF(ISTEXT('V2'!$K$55),NA(),'V2'!$K$55)","v":{"$error":"#N/A"}},{"$error":"#N/A"},{"$f":"IF(ISTEXT('V2'!$K$56),NA(),'V2'!$K$56)","v":{"$error":"#N/A"}},{"$error":"#N/A"}]
[{"$f":"IF(ISBLANK('G2'!N$12),\" \",('G2'!N$12))","v":" "},{"$f":"IF(ISTEXT('G2'!$N$17),NA(),'G2'!$N$17)","v":{"$error":"#N/A"}},null,{"$f":"IF(ISBLANK('V2'!M$39),\" \",('V2'!M$39))","v":" "},{"$f":"IF(ISTEXT('V2'!$M$51),NA(),'V2'!$M$51)","v":{"$error":"#N/A"}},{"$error":"#N/A"},{"$f":"IF(ISTEXT('V2'!M52),NA(),'V2'!M52)","v":{"$error":"#N/A"}},{"$f":"IF(ISTEXT('V2'!N52),NA(),'V2'!N52)","v":{"$error":"#N/A"}},{"$f":"IF(ISTEXT('V2'!$M$55),NA(),'V2'!$M$55)","v":{"$error":"#N/A"}},{"$error":"#N/A"},{"$f":"IF(ISTEXT('V2'!$M$56),NA(),'V2'!$M$56)","v":{"$error":"#N/A"}},{"$error":"#N/A"}]
[{"$f":"IF(ISBLANK('G3'!C$12),\" \",('G3'!C$12))","v":" "},{"$f":"IF(ISTEXT('G3'!$C$17),NA(),'G3'!$C$17)","v":{"$error":"#N/A"}},null,{"$f":"IF(ISBLANK('V3'!C$9),\" \",('V3'!C$9))","v":" "},{"$f":"IF(ISTEXT('V3'!$C$21),NA(),'V3'!$C$21)","v":{"$error":"#N/A"}},{"$error":"#N/A"},{"$f":"IF(ISTEXT('V3'!C22),NA(),'V3'!C22)","v":{"$error":"#N/A"}},{"$f":"IF(ISTEXT('V3'!D22),NA(),'V3'!D22)","v":{"$error":"#N/A"}},{"$f":"IF(ISTEXT('V3'!$C$25),NA(),'V3'!$C$25)","v":{"$error":"#N/A"}},{"$error":"#N/A"},{"$f":"IF(ISTEXT('V3'!$C$26),NA(),'V3'!$C$26)","v":{"$error":"#N/A"}},{"$error":"#N/A"}]
[{"$f":"IF(ISBLANK('G3'!D$12),\" \",('G3'!D$12))","v":" "},{"$f":"IF(ISTEXT('G3'!$D$17),NA(),'G3'!$D$17)","v":{"$error":"#N/A"}},null,{"$f":"IF(ISBLANK('V3'!E$9),\" \",('V3'!E$9))","v":" "},{"$f":"IF(ISTEXT('V3'!$E$21),NA(),'V3'!$E$21)","v":{"$error":"#N/A"}},{"$error":"#N/A"},{"$f":"IF(ISTEXT('V3'!E22),NA(),'V3'!E22)","v":{"$error":"#N/A"}},{"$f":"IF(ISTEXT('V3'!F22),NA(),'V3'!F22)","v":{"$error":"#N/A"}},{"$f":"IF(ISTEXT('V3'!$E$25),NA(),'V3'!$E$25)","v":{"$error":"#N/A"}},{"$error":"#N/A"},{"$f":"IF(ISTEXT('V3'!$E$26),NA(),'V3'!$E$26)","v":{"$error":"#N/A"}},{"$error":"#N/A"}]
[{"$f":"IF(ISBLANK('G3'!E$12),\" \",('G3'!E$12))","v":" "},{"$f":"IF(ISTEXT('G3'!$E$17),NA(),'G3'!$E$17)","v":{"$error":"#N/A"}},null,{"$f":"IF(ISBLANK('V3'!G$9),\" \",('V3'!G$9))","v":" "},{"$f":"IF(ISTEXT('V3'!$G$21),NA(),'V3'!$G$21)","v":{"$error":"#N/A"}},{"$error":"#N/A"},{"$f":"IF(ISTEXT('V3'!G22),NA(),'V3'!G22)","v":{"$error":"#N/A"}},{"$f":"IF(ISTEXT('V3'!H22),NA(),'V3'!H22)","v":{"$error":"#N/A"}},{"$f":"IF(ISTEXT('V3'!$G$25),NA(),'V3'!$G$25)","v":{"$error":"#N/A"}},{"$error":"#N/A"},{"$f":"IF(ISTEXT('V3'!$G$26),NA(),'V3'!$G$26)","v":{"$error":"#N/A"}},{"$error":"#N/A"}]
[{"$f":"IF(ISBLANK('G3'!F$12),\" \",('G3'!F$12))","v":" "},{"$f":"IF(ISTEXT('G3'!$F$17),NA(),'G3'!$F$17)","v":{"$error":"#N/A"}},null,{"$f":"IF(ISBLANK('V3'!I$9),\" \",('V3'!I$9))","v":" "},{"$f":"IF(ISTEXT('V3'!$I$21),NA(),'V3'!$I$21)","v":{"$error":"#N/A"}},{"$error":"#N/A"},{"$f":"IF(ISTEXT('V3'!I22),NA(),'V3'!I22)","v":{"$error":"#N/A"}},{"$f":"IF(ISTEXT('V3'!J22),NA(),'V3'!J22)","v":{"$error":"#N/A"}},{"$f":"IF(ISTEXT('V3'!$I$25),NA(),'V3'!$I$25)","v":{"$error":"#N/A"}},{"$error":"#N/A"},{"$f":"IF(ISTEXT('V3'!$I$26),NA(),'V3'!$I$26)","v":{"$error":"#N/A"}},{"$error":"#N/A"}]
[{"$f":"IF(ISBLANK('G3'!G$12),\" \",('G3'!G$12))","v":" "},{"$f":"IF(ISTEXT('G3'!$G$17),NA(),'G3'!$G$17)","v":{"$error":"#N/A"}},null,{"$f":"IF(ISBLANK('V3'!K$9),\" \",('V3'!K$9))","v":" "},{"$f":"IF(ISTEXT('V3'!$K$21),NA(),'V3'!$K$21)","v":{"$error":"#N/A"}},{"$error":"#N/A"},{"$f":"IF(ISTEXT('V3'!K22),NA(),'V3'!K22)","v":{"$error":"#N/A"}},{"$f":"IF(ISTEXT('V3'!L22),NA(),'V3'!L22)","v":{"$error":"#N/A"}},{"$f":"IF(ISTEXT('V3'!$K$25),NA(),'V3'!$K$25)","v":{"$error":"#N/A"}},{"$error":"#N/A"},{"$f":"IF(ISTEXT('V3'!$K$26),NA(),'V3'!$K$26)","v":{"$error":"#N/A"}},{"$error":"#N/A"}]
[{"$f":"IF(ISBLANK('G3'!H$12),\" \",('G3'!H$12))","v":" "},{"$f":"IF(ISTEXT('G3'!$H$17),NA(),'G3'!$H$17)","v":{"$error":"#N/A"}},null,{"$f":"IF(ISBLANK('V3'!M$9),\" \",('V3'!M$9))","v":" "},{"$f":"IF(ISTEXT('V3'!$M$21),NA(),'V3'!$M$21)","v":{"$error":"#N/A"}},{"$error":"#N/A"},{"$f":"IF(ISTEXT('V3'!M22),NA(),'V3'!M22)","v":{"$error":"#N/A"}},{"$f":"IF(ISTEXT('V3'!N22),NA(),'V3'!N22)","v":{"$error":"#N/A"}},{"$f":"IF(ISTEXT('V3'!$M$25),NA(),'V3'!$M$25)","v":{"$error":"#N/A"}},{"$error":"#N/A"},{"$f":"IF(ISTEXT('V3'!$M$26),NA(),'V3'!$M$26)","v":{"$error":"#N/A"}},{"$error":"#N/A"}]
[{"$f":"IF(ISBLANK('G3'!I$12),\" \",('G3'!I$12))","v":" "},{"$f":"IF(ISTEXT('G3'!$I$17),NA(),'G3'!$I$17)","v":{"$error":"#N/A"}},null,{"$f":"IF(ISBLANK('V3'!C$39),\" \",('V3'!C$39))","v":" "},{"$f":"IF(ISTEXT('V3'!$C$51),NA(),'V3'!$C$51)","v":{"$error":"#N/A"}},{"$error":"#N/A"},{"$f":"IF(ISTEXT('V3'!C52),NA(),'V3'!C52)","v":{"$error":"#N/A"}},{"$f":"IF(ISTEXT('V3'!D52),NA(),'V3'!D52)","v":{"$error":"#N/A"}},{"$f":"IF(ISTEXT('V3'!$C$55),NA(),'V3'!$C$55)","v":{"$error":"#N/A"}},{"$error":"#N/A"},{"$f":"IF(ISTEXT('V3'!$C$56),NA(),'V3'!$C$56)","v":{"$error":"#N/A"}},{"$error":"#N/A"}]
[{"$f":"IF(ISBLANK('G3'!J$12),\" \",('G3'!J$12))","v":" "},{"$f":"IF(ISTEXT('G3'!$J$17),NA(),'G3'!$J$17)","v":{"$error":"#N/A"}},null,{"$f":"IF(ISBLANK('V3'!E$39),\" \",('V3'!E$39))","v":" "},{"$f":"IF(ISTEXT('V3'!$E$51),NA(),'V3'!$E$51)","v":{"$error":"#N/A"}},{"$error":"#N/A"},{"$f":"IF(ISTEXT('V3'!E52),NA(),'V3'!E52)","v":{"$error":"#N/A"}},{"$f":"IF(ISTEXT('V3'!F52),NA(),'V3'!F52)","v":{"$error":"#N/A"}},{"$f":"IF(ISTEXT('V3'!$E$55),NA(),'V3'!$E$55)","v":{"$error":"#N/A"}},{"$error":"#N/A"},{"$f":"IF(ISTEXT('V3'!$E$56),NA(),'V3'!$E$56)","v":{"$error":"#N/A"}},{"$error":"#N/A"}]
[{"$f":"IF(ISBLANK('G3'!K$12),\" \",('G3'!K$12))","v":" "},{"$f":"IF(ISTEXT('G3'!$K$17),NA(),'G3'!$K$17)","v":{"$error":"#N/A"}},null,{"$f":"IF(ISBLANK('V3'!G$39),\" \",('V3'!G$39))","v":" "},{"$f":"IF(ISTEXT('V3'!$G$51),NA(),'V3'!$G$51)","v":{"$error":"#N/A"}},{"$error":"#N/A"},{"$f":"IF(ISTEXT('V3'!G52),NA(),'V3'!G52)","v":{"$error":"#N/A"}},{"$f":"IF(ISTEXT('V3'!H52),NA(),'V3'!H52)","v":{"$error":"#N/A"}},{"$f":"IF(ISTEXT('V3'!$G$55),NA(),'V3'!$G$55)","v":{"$error":"#N/A"}},{"$error":"#N/A"},{"$f":"IF(ISTEXT('V3'!$G$56),NA(),'V3'!$G$56)","v":{"$error":"#N/A"}},{"$error":"#N/A"}]
[{"$f":"IF(ISBLANK('G3'!L$12),\" \",('G3'!L$12))","v":" "},{"$f":"IF(ISTEXT('G3'!$L$17),NA(),'G3'!$L$17)","v":{"$error":"#N/A"}},null,{"$f":"IF(ISBLANK('V3'!I$39),\" \",('V3'!I$39))","v":" "},{"$f":"IF(ISTEXT('V3'!$I$51),NA(),'V3'!$I$51)","v":{"$error":"#N/A"}},{"$error":"#N/A"},{"$f":"IF(ISTEXT('V3'!I52),NA(),'V3'!I52)","v":{"$error":"#N/A"}},{"$f":"IF(ISTEXT('V3'!J52),NA(),'V3'!J52)","v":{"$error":"#N/A"}},{"$f":"IF(ISTEXT('V3'!$I$55),NA(),'V3'!$I$55)","v":{"$error":"#N/A"}},{"$error":"#N/A"},{"$f":"IF(ISTEXT('V3'!$I$56),NA(),'V3'!$I$56)","v":{"$error":"#N/A"}},{"$error":"#N/A"}]
[{"$f":"IF(ISBLANK('G3'!M$12),\" \",('G3'!M$12))","v":" "},{"$f":"IF(ISTEXT('G3'!$M$17),NA(),'G3'!$M$17)","v":{"$error":"#N/A"}},null,{"$f":"IF(ISBLANK('V3'!K$39),\" \",('V3'!K$39))","v":" "},{"$f":"IF(ISTEXT('V3'!$K$51),NA(),'V3'!$K$51)","v":{"$error":"#N/A"}},{"$error":"#N/A"},{"$f":"IF(ISTEXT('V3'!K52),NA(),'V3'!K52)","v":{"$error":"#N/A"}},{"$f":"IF(ISTEXT('V3'!L52),NA(),'V3'!L52)","v":{"$error":"#N/A"}},{"$f":"IF(ISTEXT('V3'!$K$55),NA(),'V3'!$K$55)","v":{"$error":"#N/A"}},{"$error":"#N/A"},{"$f":"IF(ISTEXT('V3'!$K$56),NA(),'V3'!$K$56)","v":{"$error":"#N/A"}},{"$error":"#N/A"}]
[{"$f":"IF(ISBLANK('G3'!N$12),\" \",('G3'!N$12))","v":" "},{"$f":"IF(ISTEXT('G3'!$N$17),NA(),'G3'!$N$17)","v":{"$error":"#N/A"}},null,{"$f":"IF(ISBLANK('V3'!M$39),\" \",('V3'!M$39))","v":" "},{"$f":"IF(ISTEXT('V3'!$M$51),NA(),'V3'!$M$51)","v":{"$error":"#N/A"}},{"$error":"#N/A"},{"$f":"IF(ISTEXT('V3'!M52),NA(),'V3'!M52)","v":{"$error":"#N/A"}},{"$f":"IF(ISTEXT('V3'!N52),NA(),'V3'!N52)","v":{"$error":"#N/A"}},{"$f":"IF(ISTEXT('V3'!$M$55),NA(),'V3'!$M$55)","v":{"$error":"#N/A"}},{"$error":"#N/A"},{"$f":"IF(ISTEXT('V3'!$M$56),NA(),'V3'!$M$56)","v":{"$error":"#N/A"}},{"$error":"#N/A"}]
[{"$f":"IF(ISBLANK('G4'!C$12),\" \",('G4'!C$12))","v":" "},{"$f":"IF(ISTEXT('G4'!$C$17),NA(),'G4'!$C$17)","v":{"$error":"#N/A"}},null,{"$f":"IF(ISBLANK('V4'!C$9),\" \",('V4'!C$9))","v":" "},{"$f":"IF(ISTEXT('V4'!$C$21),NA(),'V4'!$C$21)","v":{"$error":"#N/A"}},{"$error":"#N/A"},{"$f":"IF(ISTEXT('V4'!C22),NA(),'V4'!C22)","v":{"$error":"#N/A"}},{"$f":"IF(ISTEXT('V4'!D22),NA(),'V4'!D22)","v":{"$error":"#N/A"}},{"$f":"IF(ISTEXT('V4'!$C$25),NA(),'V4'!$C$25)","v":{"$error":"#N/A"}},{"$error":"#N/A"},{"$f":"IF(ISTEXT('V4'!$C$26),NA(),'V4'!$C$26)","v":{"$error":"#N/A"}},{"$error":"#N/A"}]
[{"$f":"IF(ISBLANK('G4'!D$12),\" \",('G4'!D$12))","v":" "},{"$f":"IF(ISTEXT('G4'!$D$17),NA(),'G4'!$D$17)","v":{"$error":"#N/A"}},null,{"$f":"IF(ISBLANK('V4'!E$9),\" \",('V4'!E$9))","v":" "},{"$f":"IF(ISTEXT('V4'!$E$21),NA(),'V4'!$E$21)","v":{"$error":"#N/A"}},{"$error":"#N/A"},{"$f":"IF(ISTEXT('V4'!E22),NA(),'V4'!E22)","v":{"$error":"#N/A"}},{"$f":"IF(ISTEXT('V4'!F22),NA(),'V4'!F22)","v":{"$error":"#N/A"}},{"$f":"IF(ISTEXT('V4'!$E$25),NA(),'V4'!$E$25)","v":{"$error":"#N/A"}},{"$error":"#N/A"},{"$f":"IF(ISTEXT('V4'!$E$26),NA(),'V4'!$E$26)","v":{"$error":"#N/A"}},{"$error":"#N/A"}]
[{"$f":"IF(ISBLANK('G4'!E$12),\" \",('G4'!E$12))","v":" "},{"$f":"IF(ISTEXT('G4'!$E$17),NA(),'G4'!$E$17)","v":{"$error":"#N/A"}},null,{"$f":"IF(ISBLANK('V4'!G$9),\" \",('V4'!G$9))","v":" "},{"$f":"IF(ISTEXT('V4'!$G$21),NA(),'V4'!$G$21)","v":{"$error":"#N/A"}},{"$error":"#N/A"},{"$f":"IF(ISTEXT('V4'!G22),NA(),'V4'!G22)","v":{"$error":"#N/A"}},{"$f":"IF(ISTEXT('V4'!H22),NA(),'V4'!H22)","v":{"$error":"#N/A"}},{"$f":"IF(ISTEXT('V4'!$G$25),NA(),'V4'!$G$25)","v":{"$error":"#N/A"}},{"$error":"#N/A"},{"$f":"IF(ISTEXT('V4'!$G$26),NA(),'V4'!$G$26)","v":{"$error":"#N/A"}},{"$error":"#N/A"}]
[{"$f":"IF(ISBLANK('G4'!F$12),\" \",('G4'!F$12))","v":" "},{"$f":"IF(ISTEXT('G4'!$F$17),NA(),'G4'!$F$17)","v":{"$error":"#N/A"}},null,{"$f":"IF(ISBLANK('V4'!I$9),\" \",('V4'!I$9))","v":" "},{"$f":"IF(ISTEXT('V4'!$I$21),NA(),'V4'!$I$21)","v":{"$error":"#N/A"}},{"$error":"#N/A"},{"$f":"IF(ISTEXT('V4'!I22),NA(),'V4'!I22)","v":{"$error":"#N/A"}},{"$f":"IF(ISTEXT('V4'!J22),NA(),'V4'!J22)","v":{"$error":"#N/A"}},{"$f":"IF(ISTEXT('V4'!$I$25),NA(),'V4'!$I$25)","v":{"$error":"#N/A"}},{"$error":"#N/A"},{"$f":"IF(ISTEXT('V4'!$I$26),NA(),'V4'!$I$26)","v":{"$error":"#N/A"}},{"$error":"#N/A"}]
[{"$f":"IF(ISBLANK('G4'!G$12),\" \",('G4'!G$12))","v":" "},{"$f":"IF(ISTEXT('G4'!$G$17),NA(),'G4'!$G$17)","v":{"$error":"#N/A"}},null,{"$f":"IF(ISBLANK('V4'!K$9),\" \",('V4'!K$9))","v":" "},{"$f":"IF(ISTEXT('V4'!$K$21),NA(),'V4'!$K$21)","v":{"$error":"#N/A"}},{"$error":"#N/A"},{"$f":"IF(ISTEXT('V4'!K22),NA(),'V4'!K22)","v":{"$error":"#N/A"}},{"$f":"IF(ISTEXT('V4'!L22),NA(),'V4'!L22)","v":{"$error":"#N/A"}},{"$f":"IF(ISTEXT('V4'!$K$25),NA(),'V4'!$K$25)","v":{"$error":"#N/A"}},{"$error":"#N/A"},{"$f":"IF(ISTEXT('V4'!$K$26),NA(),'V4'!$K$26)","v":{"$error":"#N/A"}},{"$error":"#N/A"}]
[{"$f":"IF(ISBLANK('G4'!H$12),\" \",('G4'!H$12))","v":" "},{"$f":"IF(ISTEXT('G4'!$H$17),NA(),'G4'!$H$17)","v":{"$error":"#N/A"}},null,{"$f":"IF(ISBLANK('V4'!M$9),\" \",('V4'!M$9))","v":" "},{"$f":"IF(ISTEXT('V4'!$M$21),NA(),'V4'!$M$21)","v":{"$error":"#N/A"}},{"$error":"#N/A"},{"$f":"IF(ISTEXT('V4'!M22),NA(),'V4'!M22)","v":{"$error":"#N/A"}},{"$f":"IF(ISTEXT('V4'!N22),NA(),'V4'!N22)","v":{"$error":"#N/A"}},{"$f":"IF(ISTEXT('V4'!$M$25),NA(),'V4'!$M$25)","v":{"$error":"#N/A"}},{"$error":"#N/A"},{"$f":"IF(ISTEXT('V4'!$M$26),NA(),'V4'!$M$26)","v":{"$error":"#N/A"}},{"$error":"#N/A"}]
[{"$f":"IF(ISBLANK('G4'!I$12),\" \",('G4'!I$12))","v":" "},{"$f":"IF(ISTEXT('G4'!$I$17),NA(),'G4'!$I$17)","v":{"$error":"#N/A"}},null,{"$f":"IF(ISBLANK('V4'!C$39),\" \",('V4'!C$39))","v":" "},{"$f":"IF(ISTEXT('V4'!$C$51),NA(),'V4'!$C$51)","v":{"$error":"#N/A"}},{"$error":"#N/A"},{"$f":"IF(ISTEXT('V4'!C52),NA(),'V4'!C52)","v":{"$error":"#N/A"}},{"$f":"IF(ISTEXT('V4'!D52),NA(),'V4'!D52)","v":{"$error":"#N/A"}},{"$f":"IF(ISTEXT('V4'!$C$55),NA(),'V4'!$C$55)","v":{"$error":"#N/A"}},{"$error":"#N/A"},{"$f":"IF(ISTEXT('V4'!$C$56),NA(),'V4'!$C$56)","v":{"$error":"#N/A"}},{"$error":"#N/A"}]
[{"$f":"IF(ISBLANK('G4'!J$12),\" \",('G4'!J$12))","v":" "},{"$f":"IF(ISTEXT('G4'!$J$17),NA(),'G4'!$J$17)","v":{"$error":"#N/A"}},null,{"$f":"IF(ISBLANK('V4'!E$39),\" \",('V4'!E$39))","v":" "},{"$f":"IF(ISTEXT('V4'!$E$51),NA(),'V4'!$E$51)","v":{"$error":"#N/A"}},{"$error":"#N/A"},{"$f":"IF(ISTEXT('V4'!E52),NA(),'V4'!E52)","v":{"$error":"#N/A"}},{"$f":"IF(ISTEXT('V4'!F52),NA(),'V4'!F52)","v":{"$error":"#N/A"}},{"$f":"IF(ISTEXT('V4'!$E$55),NA(),'V4'!$E$55)","v":{"$error":"#N/A"}},{"$error":"#N/A"},{"$f":"IF(ISTEXT('V4'!$E$56),NA(),'V4'!$E$56)","v":{"$error":"#N/A"}},{"$error":"#N/A"}]
[{"$f":"IF(ISBLANK('G4'!K$12),\" \",('G4'!K$12))","v":" "},{"$f":"IF(ISTEXT('G4'!$K$17),NA(),'G4'!$K$17)","v":{"$error":"#N/A"}},null,{"$f":"IF(ISBLANK('V4'!G$39),\" \",('V4'!G$39))","v":" "},{"$f":"IF(ISTEXT('V4'!$G$51),NA(),'V4'!$G$51)","v":{"$error":"#N/A"}},{"$error":"#N/A"},{"$f":"IF(ISTEXT('V4'!G52),NA(),'V4'!G52)","v":{"$error":"#N/A"}},{"$f":"IF(ISTEXT('V4'!H52),NA(),'V4'!H52)","v":{"$error":"#N/A"}},{"$f":"IF(ISTEXT('V4'!$G$55),NA(),'V4'!$G$55)","v":{"$error":"#N/A"}},{"$error":"#N/A"},{"$f":"IF(ISTEXT('V4'!$G$56),NA(),'V4'!$G$56)","v":{"$error":"#N/A"}},{"$error":"#N/A"}]
[{"$f":"IF(ISBLANK('G4'!L$12),\" \",('G4'!L$12))","v":" "},{"$f":"IF(ISTEXT('G4'!$L$17),NA(),'G4'!$L$17)","v":{"$error":"#N/A"}},null,{"$f":"IF(ISBLANK('V4'!I$39),\" \",('V4'!I$39))","v":" "},{"$f":"IF(ISTEXT('V4'!$I$51),NA(),'V4'!$I$51)","v":{"$error":"#N/A"}},{"$error":"#N/A"},{"$f":"IF(ISTEXT('V4'!I52),NA(),'V4'!I52)","v":{"$error":"#N/A"}},{"$f":"IF(ISTEXT('V4'!J52),NA(),'V4'!J52)","v":{"$error":"#N/A"}},{"$f":"IF(ISTEXT('V4'!$I$55),NA(),'V4'!$I$55)","v":{"$error":"#N/A"}},{"$error":"#N/A"},{"$f":"IF(ISTEXT('V4'!$I$56),NA(),'V4'!$I$56)","v":{"$error":"#N/A"}},{"$error":"#N/A"}]
[{"$f":"IF(ISBLANK('G4'!M$12),\" \",('G4'!M$12))","v":" "},{"$f":"IF(ISTEXT('G4'!$M$17),NA(),'G4'!$M$17)","v":{"$error":"#N/A"}},null,{"$f":"IF(ISBLANK('V4'!K$39),\" \",('V4'!K$39))","v":" "},{"$f":"IF(ISTEXT('V4'!$K$51),NA(),'V4'!$K$51)","v":{"$error":"#N/A"}},{"$error":"#N/A"},{"$f":"IF(ISTEXT('V4'!K52),NA(),'V4'!K52)","v":{"$error":"#N/A"}},{"$f":"IF(ISTEXT('V4'!L52),NA(),'V4'!L52)","v":{"$error":"#N/A"}},{"$f":"IF(ISTEXT('V4'!$K$55),NA(),'V4'!$K$55)","v":{"$error":"#N/A"}},{"$error":"#N/A"},{"$f":"IF(ISTEXT('V4'!$K$56),NA(),'V4'!$K$56)","v":{"$error":"#N/A"}},{"$error":"#N/A"}]
[{"$f":"IF(ISBLANK('G4'!N$12),\" \",('G4'!N$12))","v":" "},{"$f":"IF(ISTEXT('G4'!$N$17),NA(),'G4'!$N$17)","v":{"$error":"#N/A"}},null,{"$f":"IF(ISBLANK('V4'!M$39),\" \",('V4'!M$39))","v":" "},{"$f":"IF(ISTEXT('V4'!$M$51),NA(),'V4'!$M$51)","v":{"$error":"#N/A"}},{"$error":"#N/A"},{"$f":"IF(ISTEXT('V4'!M52),NA(),'V4'!M52)","v":{"$error":"#N/A"}},{"$f":"IF(ISTEXT('V4'!N52),NA(),'V4'!N52)","v":{"$error":"#N/A"}},{"$f":"IF(ISTEXT('V4'!$M$55),NA(),'V4'!$M$55)","v":{"$error":"#N/A"}},{"$error":"#N/A"},{"$f":"IF(ISTEXT('V4'!$M$56),NA(),'V4'!$M$56)","v":{"$error":"#N/A"}},{"$error":"#N/A"}]
[{"$f":"IF(ISBLANK('G5'!C$12),\" \",('G5'!C$12))","v":" "},{"$f":"IF(ISTEXT('G5'!$C$17),NA(),'G5'!$C$17)","v":{"$error":"#N/A"}},null,{"$f":"IF(ISBLANK('V5'!C$9),\" \",('V5'!C$9))","v":" "},{"$f":"IF(ISTEXT('V5'!$C$21),NA(),'V5'!$C$21)","v":{"$error":"#N/A"}},{"$error":"#N/A"},{"$f":"IF(ISTEXT('V5'!C22),NA(),'V5'!C22)","v":{"$error":"#N/A"}},{"$f":"IF(ISTEXT('V5'!D22),NA(),'V5'!D22)","v":{"$error":"#N/A"}},{"$f":"IF(ISTEXT('V5'!$C$25),NA(),'V5'!$C$25)","v":{"$error":"#N/A"}},{"$error":"#N/A"},{"$f":"IF(ISTEXT('V5'!$C$26),NA(),'V5'!$C$26)","v":{"$error":"#N/A"}},{"$error":"#N/A"}]
[{"$f":"IF(ISBLANK('G5'!D$12),\" \",('G5'!D$12))","v":" "},{"$f":"IF(ISTEXT('G5'!$D$17),NA(),'G5'!$D$17)","v":{"$error":"#N/A"}},null,{"$f":"IF(ISBLANK('V5'!E$9),\" \",('V5'!E$9))","v":" "},{"$f":"IF(ISTEXT('V5'!$E$21),NA(),'V5'!$E$21)","v":{"$error":"#N/A"}},{"$error":"#N/A"},{"$f":"IF(ISTEXT('V5'!E22),NA(),'V5'!E22)","v":{"$error":"#N/A"}},{"$f":"IF(ISTEXT('V5'!F22),NA(),'V5'!F22)","v":{"$error":"#N/A"}},{"$f":"IF(ISTEXT('V5'!$E$25),NA(),'V5'!$E$25)","v":{"$error":"#N/A"}},{"$error":"#N/A"},{"$f":"IF(ISTEXT('V5'!$E$26),NA(),'V5'!$E$26)","v":{"$error":"#N/A"}},{"$error":"#N/A"}]
[{"$f":"IF(ISBLANK('G5'!E$12),\" \",('G5'!E$12))","v":" "},{"$f":"IF(ISTEXT('G5'!$E$17),NA(),'G5'!$E$17)","v":{"$error":"#N/A"}},null,{"$f":"IF(ISBLANK('V5'!G$9),\" \",('V5'!G$9))","v":" "},{"$f":"IF(ISTEXT('V5'!$G$21),NA(),'V5'!$G$21)","v":{"$error":"#N/A"}},{"$error":"#N/A"},{"$f":"IF(ISTEXT('V5'!G22),NA(),'V5'!G22)","v":{"$error":"#N/A"}},{"$f":"IF(ISTEXT('V5'!H22),NA(),'V5'!H22)","v":{"$error":"#N/A"}},{"$f":"IF(ISTEXT('V5'!$G$25),NA(),'V5'!$G$25)","v":{"$error":"#N/A"}},{"$error":"#N/A"},{"$f":"IF(ISTEXT('V5'!$G$26),NA(),'V5'!$G$26)","v":{"$error":"#N/A"}},{"$error":"#N/A"}]
[{"$f":"IF(ISBLANK('G5'!F$12),\" \",('G5'!F$12))","v":" "},{"$f":"IF(ISTEXT('G5'!$F$17),NA(),'G5'!$F$17)","v":{"$error":"#N/A"}},null,{"$f":"IF(ISBLANK('V5'!I$9),\" \",('V5'!I$9))","v":" "},{"$f":"IF(ISTEXT('V5'!$I$21),NA(),'V5'!$I$21)","v":{"$error":"#N/A"}},{"$error":"#N/A"},{"$f":"IF(ISTEXT('V5'!I22),NA(),'V5'!I22)","v":{"$error":"#N/A"}},{"$f":"IF(ISTEXT('V5'!J22),NA(),'V5'!J22)","v":{"$error":"#N/A"}},{"$f":"IF(ISTEXT('V5'!$I$25),NA(),'V5'!$I$25)","v":{"$error":"#N/A"}},{"$error":"#N/A"},{"$f":"IF(ISTEXT('V5'!$I$26),NA(),'V5'!$I$26)","v":{"$error":"#N/A"}},{"$error":"#N/A"}]
[{"$f":"IF(ISBLANK('G5'!G$12),\" \",('G5'!G$12))","v":" "},{"$f":"IF(ISTEXT('G5'!$G$17),NA(),'G5'!$G$17)","v":{"$error":"#N/A"}},null,{"$f":"IF(ISBLANK('V5'!K$9),\" \",('V5'!K$9))","v":" "},{"$f":"IF(ISTEXT('V5'!$K$21),NA(),'V5'!$K$21)","v":{"$error":"#N/A"}},{"$error":"#N/A"},{"$f":"IF(ISTEXT('V5'!K22),NA(),'V5'!K22)","v":{"$error":"#N/A"}},{"$f":"IF(ISTEXT('V5'!L22),NA(),'V5'!L22)","v":{"$error":"#N/A"}},{"$f":"IF(ISTEXT('V5'!$K$25),NA(),'V5'!$K$25)","v":{"$error":"#N/A"}},{"$error":"#N/A"},{"$f":"IF(ISTEXT('V5'!$K$26),NA(),'V5'!$K$26)","v":{"$error":"#N/A"}},{"$error":"#N/A"}]
[{"$f":"IF(ISBLANK('G5'!H$12),\" \",('G5'!H$12))","v":" "},{"$f":"IF(ISTEXT('G5'!$H$17),NA(),'G5'!$H$17)","v":{"$error":"#N/A"}},null,{"$f":"IF(ISBLANK('V5'!M$9),\" \",('V5'!M$9))","v":" "},{"$f":"IF(ISTEXT('V5'!$M$21),NA(),'V5'!$M$21)","v":{"$error":"#N/A"}},{"$error":"#N/A"},{"$f":"IF(ISTEXT('V5'!M22),NA(),'V5'!M22)","v":{"$error":"#N/A"}},{"$f":"IF(ISTEXT('V5'!N22),NA(),'V5'!N22)","v":{"$error":"#N/A"}},{"$f":"IF(ISTEXT('V5'!$M$25),NA(),'V5'!$M$25)","v":{"$error":"#N/A"}},{"$error":"#N/A"},{"$f":"IF(ISTEXT('V5'!$M$26),NA(),'V5'!$M$26)","v":{"$error":"#N/A"}},{"$error":"#N/A"}]
[{"$f":"IF(ISBLANK('G5'!I$12),\" \",('G5'!I$12))","v":" "},{"$f":"IF(ISTEXT('G5'!$I$17),NA(),'G5'!$I$17)","v":{"$error":"#N/A"}},null,{"$f":"IF(ISBLANK('V5'!C$39),\" \",('V5'!C$39))","v":" "},{"$f":"IF(ISTEXT('V5'!$C$51),NA(),'V5'!$C$51)","v":{"$error":"#N/A"}},{"$error":"#N/A"},{"$f":"IF(ISTEXT('V5'!C52),NA(),'V5'!C52)","v":{"$error":"#N/A"}},{"$f":"IF(ISTEXT('V5'!D52),NA(),'V5'!D52)","v":{"$error":"#N/A"}},{"$f":"IF(ISTEXT('V5'!$C$55),NA(),'V5'!$C$55)","v":{"$error":"#N/A"}},{"$error":"#N/A"},{"$f":"IF(ISTEXT('V5'!$C$56),NA(),'V5'!$C$56)","v":{"$error":"#N/A"}},{"$error":"#N/A"}]
[{"$f":"IF(ISBLANK('G5'!J$12),\" \",('G5'!J$12))","v":" "},{"$f":"IF(ISTEXT('G5'!$J$17),NA(),'G5'!$J$17)","v":{"$error":"#N/A"}},null,{"$f":"IF(ISBLANK('V5'!E$39),\" \",('V5'!E$39))","v":" "},{"$f":"IF(ISTEXT('V5'!$E$51),NA(),'V5'!$E$51)","v":{"$error":"#N/A"}},{"$error":"#N/A"},{"$f":"IF(ISTEXT('V5'!E52),NA(),'V5'!E52)","v":{"$error":"#N/A"}},{"$f":"IF(ISTEXT('V5'!F52),NA(),'V5'!F52)","v":{"$error":"#N/A"}},{"$f":"IF(ISTEXT('V5'!$E$55),NA(),'V5'!$E$55)","v":{"$error":"#N/A"}},{"$error":"#N/A"},{"$f":"IF(ISTEXT('V5'!$E$56),NA(),'V5'!$E$56)","v":{"$error":"#N/A"}},{"$error":"#N/A"}]
[{"$f":"IF(ISBLANK('G5'!K$12),\" \",('G5'!K$12))","v":" "},{"$f":"IF(ISTEXT('G5'!$K$17),NA(),'G5'!$K$17)","v":{"$error":"#N/A"}},null,{"$f":"IF(ISBLANK('V5'!G$39),\" \",('V5'!G$39))","v":" "},{"$f":"IF(ISTEXT('V5'!$G$51),NA(),'V5'!$G$51)","v":{"$error":"#N/A"}},{"$error":"#N/A"},{"$f":"IF(ISTEXT('V5'!G52),NA(),'V5'!G52)","v":{"$error":"#N/A"}},{"$f":"IF(ISTEXT('V5'!H52),NA(),'V5'!H52)","v":{"$error":"#N/A"}},{"$f":"IF(ISTEXT('V5'!$G$55),NA(),'V5'!$G$55)","v":{"$error":"#N/A"}},{"$error":"#N/A"},{"$f":"IF(ISTEXT('V5'!$G$56),NA(),'V5'!$G$56)","v":{"$error":"#N/A"}},{"$error":"#N/A"}]
[{"$f":"IF(ISBLANK('G5'!L$12),\" \",('G5'!L$12))","v":" "},{"$f":"IF(ISTEXT('G5'!$L$17),NA(),'G5'!$L$17)","v":{"$error":"#N/A"}},null,{"$f":"IF(ISBLANK('V5'!I$39),\" \",('V5'!I$39))","v":" "},{"$f":"IF(ISTEXT('V5'!$I$51),NA(),'V5'!$I$51)","v":{"$error":"#N/A"}},{"$error":"#N/A"},{"$f":"IF(ISTEXT('V5'!I52),NA(),'V5'!I52)","v":{"$error":"#N/A"}},{"$f":"IF(ISTEXT('V5'!J52),NA(),'V5'!J52)","v":{"$error":"#N/A"}},{"$f":"IF(ISTEXT('V5'!$I$55),NA(),'V5'!$I$55)","v":{"$error":"#N/A"}},{"$error":"#N/A"},{"$f":"IF(ISTEXT('V5'!$I$56),NA(),'V5'!$I$56)","v":{"$error":"#N/A"}},{"$error":"#N/A"}]
[{"$f":"IF(ISBLANK('G5'!M$12),\" \",('G5'!M$12))","v":" "},{"$f":"IF(ISTEXT('G5'!$M$17),NA(),'G5'!$M$17)","v":{"$error":"#N/A"}},null,{"$f":"IF(ISBLANK('V5'!K$39),\" \",('V5'!K$39))","v":" "},{"$f":"IF(ISTEXT('V5'!$K$51),NA(),'V5'!$K$51)","v":{"$error":"#N/A"}},{"$error":"#N/A"},{"$f":"IF(ISTEXT('V5'!K52),NA(),'V5'!K52)","v":{"$error":"#N/A"}},{"$f":"IF(ISTEXT('V5'!L52),NA(),'V5'!L52)","v":{"$error":"#N/A"}},{"$f":"IF(ISTEXT('V5'!$K$55),NA(),'V5'!$K$55)","v":{"$error":"#N/A"}},{"$error":"#N/A"},{"$f":"IF(ISTEXT('V5'!$K$56),NA(),'V5'!$K$56)","v":{"$error":"#N/A"}},{"$error":"#N/A"}]
[{"$f":"IF(ISBLANK('G5'!N$12),\" \",('G5'!N$12))","v":" "},{"$f":"IF(ISTEXT('G5'!$N$17),NA(),'G5'!$N$17)","v":{"$error":"#N/A"}},null,{"$f":"IF(ISBLANK('V5'!M$39),\" \",('V5'!M$39))","v":" "},{"$f":"IF(ISTEXT('V5'!$M$51),NA(),'V5'!$M$51)","v":{"$error":"#N/A"}},{"$error":"#N/A"},{"$f":"IF(ISTEXT('V5'!M52),NA(),'V5'!M52)","v":{"$error":"#N/A"}},{"$f":"IF(ISTEXT('V5'!N52),NA(),'V5'!N52)","v":{"$error":"#N/A"}},{"$f":"IF(ISTEXT('V5'!$M$55),NA(),'V5'!$M$55)","v":{"$error":"#N/A"}},{"$error":"#N/A"},{"$f":"IF(ISTEXT('V5'!$M$56),NA(),'V5'!$M$56)","v":{"$error":"#N/A"}},{"$error":"#N/A"}]
[{"$f":"IF(ISBLANK('G6'!C$12),\" \",('G6'!C$12))","v":" "},{"$f":"IF(ISTEXT('G6'!$C$17),NA(),'G6'!$C$17)","v":{"$error":"#N/A"}},null,{"$f":"IF(ISBLANK('V6'!C$9),\" \",('V6'!C$9))","v":" "},{"$f":"IF(ISTEXT('V6'!$C$21),NA(),'V6'!$C$21)","v":{"$error":"#N/A"}},{"$error":"#N/A"},{"$f":"IF(ISTEXT('V6'!C$22),NA(),'V6'!C$22)","v":{"$error":"#N/A"}},{"$f":"IF(ISTEXT('V6'!D$22),NA(),'V6'!D$22)","v":{"$error":"#N/A"}},{"$f":"IF(ISTEXT('V6'!$C$25),NA(),'V6'!$C$25)","v":{"$error":"#N/A"}},{"$error":"#N/A"},{"$f":"IF(ISTEXT('V6'!$C$26),NA(),'V6'!$C$26)","v":{"$error":"#N/A"}},{"$error":"#N/A"}]
[{"$f":"IF(ISBLANK('G6'!D$12),\" \",('G6'!D$12))","v":" "},{"$f":"IF(ISTEXT('G6'!$D$17),NA(),'G6'!$D$17)","v":{"$error":"#N/A"}},null,{"$f":"IF(ISBLANK('V6'!E$9),\" \",('V6'!E$9))","v":" "},{"$f":"IF(ISTEXT('V6'!$E$21),NA(),'V6'!$E$21)","v":{"$error":"#N/A"}},{"$error":"#N/A"},{"$f":"IF(ISTEXT('V6'!E$22),NA(),'V6'!E$22)","v":{"$error":"#N/A"}},{"$f":"IF(ISTEXT('V6'!F$22),NA(),'V6'!F$22)","v":{"$error":"#N/A"}},{"$f":"IF(ISTEXT('V6'!$E$25),NA(),'V6'!$E$25)","v":{"$error":"#N/A"}},{"$error":"#N/A"},{"$f":"IF(ISTEXT('V6'!$E$26),NA(),'V6'!$E$26)","v":{"$error":"#N/A"}},{"$error":"#N/A"}]
[{"$f":"IF(ISBLANK('G6'!E$12),\" \",('G6'!E$12))","v":" "},{"$f":"IF(ISTEXT('G6'!$E$17),NA(),'G6'!$E$17)","v":{"$error":"#N/A"}},null,{"$f":"IF(ISBLANK('V6'!G$9),\" \",('V6'!G$9))","v":" "},{"$f":"IF(ISTEXT('V6'!$G$21),NA(),'V6'!$G$21)","v":{"$error":"#N/A"}},{"$error":"#N/A"},{"$f":"IF(ISTEXT('V6'!G$22),NA(),'V6'!G$22)","v":{"$error":"#N/A"}},{"$f":"IF(ISTEXT('V6'!H$22),NA(),'V6'!H$22)","v":{"$error":"#N/A"}},{"$f":"IF(ISTEXT('V6'!$G$25),NA(),'V6'!$G$25)","v":{"$error":"#N/A"}},{"$error":"#N/A"},{"$f":"IF(ISTEXT('V6'!$G$26),NA(),'V6'!$G$26)","v":{"$error":"#N/A"}},{"$error":"#N/A"}]
[{"$f":"IF(ISBLANK('G6'!F$12),\" \",('G6'!F$12))","v":" "},{"$f":"IF(ISTEXT('G6'!$F$17),NA(),'G6'!$F$17)","v":{"$error":"#N/A"}},null,{"$f":"IF(ISBLANK('V6'!I$9),\" \",('V6'!I$9))","v":" "},{"$f":"IF(ISTEXT('V6'!$I$21),NA(),'V6'!$I$21)","v":{"$error":"#N/A"}},{"$error":"#N/A"},{"$f":"IF(ISTEXT('V6'!I$22),NA(),'V6'!I$22)","v":{"$error":"#N/A"}},{"$f":"IF(ISTEXT('V6'!J$22),NA(),'V6'!J$22)","v":{"$error":"#N/A"}},{"$f":"IF(ISTEXT('V6'!$I$25),NA(),'V6'!$I$25)","v":{"$error":"#N/A"}},{"$error":"#N/A"},{"$f":"IF(ISTEXT('V6'!$I$26),NA(),'V6'!$I$26)","v":{"$error":"#N/A"}},{"$error":"#N/A"}]
[{"$f":"IF(ISBLANK('G6'!G$12),\" \",('G6'!G$12))","v":" "},{"$f":"IF(ISTEXT('G6'!$G$17),NA(),'G6'!$G$17)","v":{"$error":"#N/A"}},null,{"$f":"IF(ISBLANK('V6'!K$9),\" \",('V6'!K$9))","v":" "},{"$f":"IF(ISTEXT('V6'!$K$21),NA(),'V6'!$K$21)","v":{"$error":"#N/A"}},{"$error":"#N/A"},{"$f":"IF(ISTEXT('V6'!K$22),NA(),'V6'!K$22)","v":{"$error":"#N/A"}},{"$f":"IF(ISTEXT('V6'!L$22),NA(),'V6'!L$22)","v":{"$error":"#N/A"}},{"$f":"IF(ISTEXT('V6'!$K$25),NA(),'V6'!$K$25)","v":{"$error":"#N/A"}},{"$error":"#N/A"},{"$f":"IF(ISTEXT('V6'!$K$26),NA(),'V6'!$K$26)","v":{"$error":"#N/A"}},{"$error":"#N/A"}]
[{"$f":"IF(ISBLANK('G6'!H$12),\" \",('G6'!H$12))","v":" "},{"$f":"IF(ISTEXT('G6'!$H$17),NA(),'G6'!$H$17)","v":{"$error":"#N/A"}},null,{"$f":"IF(ISBLANK('V6'!M$9),\" \",('V6'!M$9))","v":" "},{"$f":"IF(ISTEXT('V6'!$M$21),NA(),'V6'!$M$21)","v":{"$error":"#N/A"}},{"$error":"#N/A"},{"$f":"IF(ISTEXT('V6'!M$22),NA(),'V6'!M$22)","v":{"$error":"#N/A"}},{"$f":"IF(ISTEXT('V6'!N$22),NA(),'V6'!N$22)","v":{"$error":"#N/A"}},{"$f":"IF(ISTEXT('V6'!$M$25),NA(),'V6'!$M$25)","v":{"$error":"#N/A"}},{"$error":"#N/A"},{"$f":"IF(ISTEXT('V6'!$M$26),NA(),'V6'!$M$26)","v":{"$error":"#N/A"}},{"$error":"#N/A"}]
[{"$f":"IF(ISBLANK('G6'!I$12),\" \",('G6'!I$12))","v":" "},{"$f":"IF(ISTEXT('G6'!$I$17),NA(),'G6'!$I$17)","v":{"$error":"#N/A"}},null,{"$f":"IF(ISBLANK('V6'!C$39),\" \",('V6'!C$39))","v":" "},{"$f":"IF(ISTEXT('V6'!$C$51),NA(),'V6'!$C$51)","v":{"$error":"#N/A"}},{"$error":"#N/A"},{"$f":"IF(ISTEXT('V6'!C$52),NA(),'V6'!C$52)","v":{"$error":"#N/A"}},{"$f":"IF(ISTEXT('V6'!D$52),NA(),'V6'!D$52)","v":{"$error":"#N/A"}},{"$f":"IF(ISTEXT('V6'!$C$55),NA(),'V6'!$C$55)","v":{"$error":"#N/A"}},{"$error":"#N/A"},{"$f":"IF(ISTEXT('V6'!$C$56),NA(),'V6'!$C$56)","v":{"$error":"#N/A"}},{"$error":"#N/A"}]
[{"$f":"IF(ISBLANK('G6'!J$12),\" \",('G6'!J$12))","v":" "},{"$f":"IF(ISTEXT('G6'!$J$17),NA(),'G6'!$J$17)","v":{"$error":"#N/A"}},null,{"$f":"IF(ISBLANK('V6'!E$39),\" \",('V6'!E$39))","v":" "},{"$f":"IF(ISTEXT('V6'!$E$51),NA(),'V6'!$E$51)","v":{"$error":"#N/A"}},{"$error":"#N/A"},{"$f":"IF(ISTEXT('V6'!E$52),NA(),'V6'!E$52)","v":{"$error":"#N/A"}},{"$f":"IF(ISTEXT('V6'!F$52),NA(),'V6'!F$52)","v":{"$error":"#N/A"}},{"$f":"IF(ISTEXT('V6'!$E$55),NA(),'V6'!$E$55)","v":{"$error":"#N/A"}},{"$error":"#N/A"},{"$f":"IF(ISTEXT('V6'!$E$56),NA(),'V6'!$E$56)","v":{"$error":"#N/A"}},{"$error":"#N/A"}]
[{"$f":"IF(ISBLANK('G6'!K$12),\" \",('G6'!K$12))","v":" "},{"$f":"IF(ISTEXT('G6'!$K$17),NA(),'G6'!$K$17)","v":{"$error":"#N/A"}},null,{"$f":"IF(ISBLANK('V6'!G$39),\" \",('V6'!G$39))","v":" "},{"$f":"IF(ISTEXT('V6'!$G$51),NA(),'V6'!$G$51)","v":{"$error":"#N/A"}},{"$f":"ROUND(AVERAGE(E66:E70),1)","v":{"$error":"#N/A"}},{"$f":"IF(ISTEXT('V6'!G$52),NA(),'V6'!G$52)","v":{"$error":"#N/A"}},{"$f":"IF(ISTEXT('V6'!H$52),NA(),'V6'!H$52)","v":{"$error":"#N/A"}},{"$f":"IF(ISTEXT('V6'!$G$55),NA(),'V6'!$G$55)","v":{"$error":"#N/A"}},{"$error":"#N/A"},{"$f":"IF(ISTEXT('V6'!$G$56),NA(),'V6'!$G$56)","v":{"$error":"#N/A"}},{"$error":"#N/A"}]
[{"$f":"IF(ISBLANK('G6'!L$12),\" \",('G6'!L$12))","v":" "},{"$f":"IF(ISTEXT('G6'!$L$17),NA(),'G6'!$L$17)","v":{"$error":"#N/A"}},null,{"$f":"IF(ISBLANK('V6'!I$39),\" \",('V6'!I$39))","v":" "},{"$f":"IF(ISTEXT('V6'!$I$51),NA(),'V6'!$I$51)","v":{"$error":"#N/A"}},{"$f":"ROUND(AVERAGE(E67:E71),1)","v":{"$error":"#N/A"}},{"$f":"IF(ISTEXT('V6'!I$52),NA(),'V6'!I$52)","v":{"$error":"#N/A"}},{"$f":"IF(ISTEXT('V6'!J$52),NA(),'V6'!J$52)","v":{"$error":"#N/A"}},{"$f":"IF(ISTEXT('V6'!$I$55),NA(),'V6'!$I$55)","v":{"$error":"#N/A"}},{"$f":"ROUND(AVERAGE(I67:I71),0)","v":{"$error":"#N/A"}},{"$f":"IF(ISTEXT('V6'!$I$56),NA(),'V6'!$I$56)","v":{"$error":"#N/A"}},{"$f":"ROUND(AVERAGE(K67:K71),2)","v":{"$error":"#N/A"}}]
[{"$f":"IF(ISBLANK('G6'!M$12),\" \",('G6'!M$12))","v":" "},{"$f":"IF(ISTEXT('G6'!$M$17),NA(),'G6'!$M$17)","v":{"$error":"#N/A"}},null,{"$f":"IF(ISBLANK('V6'!K$39),\" \",('V6'!K$39))","v":" "},{"$f":"IF(ISTEXT('V6'!$K$51),NA(),'V6'!$K$51)","v":{"$error":"#N/A"}},{"$f":"ROUND(AVERAGE(E68:E72),1)","v":{"$error":"#N/A"}},{"$f":"IF(ISTEXT('V6'!K$52),NA(),'V6'!K$52)","v":{"$error":"#N/A"}},{"$f":"IF(ISTEXT('V6'!L$52),NA(),'V6'!L$52)","v":{"$error":"#N/A"}},{"$f":"IF(ISTEXT('V6'!$K$55),NA(),'V6'!$K$55)","v":{"$error":"#N/A"}},{"$f":"ROUND(AVERAGE(I68:I72),0)","v":{"$error":"#N/A"}},{"$f":"IF(ISTEXT('V6'!$K$56),NA(),'V6'!$K$56)","v":{"$error":"#N/A"}},{"$f":"ROUND(AVERAGE(K68:K72),2)","v":{"$error":"#N/A"}}]
[{"$f":"IF(ISBLANK('G6'!N$12),\" \",('G6'!N$12))","v":" "},{"$f":"IF(ISTEXT('G6'!$N$17),NA(),'G6'!$N$17)","v":{"$error":"#N/A"}},null,{"$f":"IF(ISBLANK('V6'!M$39),\" \",('V6'!M$39))","v":" "},{"$f":"IF(ISTEXT('V6'!$M$51),NA(),'V6'!$M$51)","v":{"$error":"#N/A"}},{"$f":"ROUND(AVERAGE(E69:E73),1)","v":{"$error":"#N/A"}},{"$f":"IF(ISTEXT('V6'!M$52),NA(),'V6'!M$52)","v":{"$error":"#N/A"}},{"$f":"IF(ISTEXT('V6'!N$52),NA(),'V6'!N$52)","v":{"$error":"#N/A"}},{"$f":"IF(ISTEXT('V6'!$M$55),NA(),'V6'!$M$55)","v":{"$error":"#N/A"}},{"$f":"ROUND(AVERAGE(I69:I73),0)","v":{"$error":"#N/A"}},{"$f":"IF(ISTEXT('V6'!$M$56),NA(),'V6'!$M$56)","v":{"$error":"#N/A"}},{"$f":"ROUND(AVERAGE(K69:K73),2)","v":{"$error":"#N/A"}}]
[{"$f":"IF(ISBLANK('G7'!C$12),\" \",('G7'!C$12))","v":" "},{"$f":"IF(ISTEXT('G7'!$C$17),NA(),'G7'!$C$17)","v":{"$error":"#N/A"}},null,{"$f":"IF(ISBLANK('V7'!C$9),\" \",('V7'!C$9))","v":" "},{"$f":"IF(ISTEXT('V7'!$C$21),NA(),'V7'!$C$21)","v":{"$error":"#N/A"}},{"$f":"ROUND(AVERAGE(E70:E74),1)","v":{"$error":"#N/A"}},{"$f":"IF(ISTEXT('V7'!C$22),NA(),'V7'!C$22)","v":{"$error":"#N/A"}},{"$f":"IF(ISTEXT('V7'!D$22),NA(),'V7'!D$22)","v":{"$error":"#N/A"}},{"$f":"IF(ISTEXT('V7'!$C$25),NA(),'V7'!$C$25)","v":{"$error":"#N/A"}},{"$f":"ROUND(AVERAGE(I70:I74),0)","v":{"$error":"#N/A"}},{"$f":"IF(ISTEXT('V7'!$C$26),NA(),'V7'!$C$26)","v":{"$error":"#N/A"}},{"$f":"ROUND(AVERAGE(K70:K74),2)","v":{"$error":"#N/A"}}]
[{"$f":"IF(ISBLANK('G7'!D$12),\" \",('G7'!D$12))","v":" "},{"$f":"IF(ISTEXT('G7'!$D$17),NA(),'G7'!$D$17)","v":{"$error":"#N/A"}},null,{"$f":"IF(ISBLANK('V7'!E$9),\" \",('V7'!E$9))","v":" "},{"$f":"IF(ISTEXT('V7'!$E$21),NA(),'V7'!$E$21)","v":{"$error":"#N/A"}},{"$error":"#N/A"},{"$f":"IF(ISTEXT('V7'!E$22),NA(),'V7'!E$22)","v":{"$error":"#N/A"}},{"$f":"IF(ISTEXT('V7'!F$22),NA(),'V7'!F$22)","v":{"$error":"#N/A"}},{"$f":"IF(ISTEXT('V7'!$E$25),NA(),'V7'!$E$25)","v":{"$error":"#N/A"}},{"$error":"#N/A"},{"$f":"IF(ISTEXT('V7'!$E$26),NA(),'V7'!$E$26)","v":{"$error":"#N/A"}},{"$f":"ROUND(AVERAGE(K71:K75),2)","v":{"$error":"#N/A"}}]
[{"$f":"IF(ISBLANK('G7'!E$12),\" \",('G7'!E$12))","v":" "},{"$f":"IF(ISTEXT('G7'!$E$17),NA(),'G7'!$E$17)","v":{"$error":"#N/A"}},null,{"$f":"IF(ISBLANK('V7'!G$9),\" \",('V7'!G$9))","v":" "},{"$f":"IF(ISTEXT('V7'!$G$21),NA(),'V7'!$G$21)","v":{"$error":"#N/A"}},{"$error":"#N/A"},{"$f":"IF(ISTEXT('V7'!G$22),NA(),'V7'!G$22)","v":{"$error":"#N/A"}},{"$f":"IF(ISTEXT('V7'!H$22),NA(),'V7'!H$22)","v":{"$error":"#N/A"}},{"$f":"IF(ISTEXT('V7'!$G$25),NA(),'V7'!$G$25)","v":{"$error":"#N/A"}},{"$error":"#N/A"},{"$f":"IF(ISTEXT('V7'!$G$26),NA(),'V7'!$G$26)","v":{"$error":"#N/A"}},{"$error":"#N/A"}]
[{"$f":"IF(ISBLANK('G7'!F$12),\" \",('G7'!F$12))","v":" "},{"$f":"IF(ISTEXT('G7'!$F$17),NA(),'G7'!$F$17)","v":{"$error":"#N/A"}},null,{"$f":"IF(ISBLANK('V7'!I$9),\" \",('V7'!I$9))","v":" "},{"$f":"IF(ISTEXT('V7'!$I$21),NA(),'V7'!$I$21)","v":{"$error":"#N/A"}},{"$error":"#N/A"},{"$f":"IF(ISTEXT('V7'!I$22),NA(),'V7'!I$22)","v":{"$error":"#N/A"}},{"$f":"IF(ISTEXT('V7'!J$22),NA(),'V7'!J$22)","v":{"$error":"#N/A"}},{"$f":"IF(ISTEXT('V7'!$I$25),NA(),'V7'!$I$25)","v":{"$error":"#N/A"}},{"$error":"#N/A"},{"$f":"IF(ISTEXT('V7'!$I$26),NA(),'V7'!$I$26)","v":{"$error":"#N/A"}},{"$error":"#N/A"}]
[{"$f":"IF(ISBLANK('G7'!G$12),\" \",('G7'!G$12))","v":" "},{"$f":"IF(ISTEXT('G7'!$G$17),NA(),'G7'!$G$17)","v":{"$error":"#N/A"}},null,{"$f":"IF(ISBLANK('V7'!K$9),\" \",('V7'!K$9))","v":" "},{"$f":"IF(ISTEXT('V7'!$K$21),NA(),'V7'!$K$21)","v":{"$error":"#N/A"}},{"$error":"#N/A"},{"$f":"IF(ISTEXT('V7'!K$22),NA(),'V7'!K$22)","v":{"$error":"#N/A"}},{"$f":"IF(ISTEXT('V7'!L$22),NA(),'V7'!L$22)","v":{"$error":"#N/A"}},{"$f":"IF(ISTEXT('V7'!$K$25),NA(),'V7'!$K$25)","v":{"$error":"#N/A"}},{"$error":"#N/A"},{"$f":"IF(ISTEXT('V7'!$K$26),NA(),'V7'!$K$26)","v":{"$error":"#N/A"}},{"$error":"#N/A"}]
[{"$f":"IF(ISBLANK('G7'!H$12),\" \",('G7'!H$12))","v":" "},{"$f":"IF(ISTEXT('G7'!$H$17),NA(),'G7'!$H$17)","v":{"$error":"#N/A"}},null,{"$f":"IF(ISBLANK('V7'!M$9),\" \",('V7'!M$9))","v":" "},{"$f":"IF(ISTEXT('V7'!$M$21),NA(),'V7'!$M$21)","v":{"$error":"#N/A"}},{"$error":"#N/A"},{"$f":"IF(ISTEXT('V7'!M$22),NA(),'V7'!M$22)","v":{"$error":"#N/A"}},{"$f":"IF(ISTEXT('V7'!N$22),NA(),'V7'!N$22)","v":{"$error":"#N/A"}},{"$f":"IF(ISTEXT('V7'!$M$25),NA(),'V7'!$M$25)","v":{"$error":"#N/A"}},{"$error":"#N/A"},{"$f":"IF(ISTEXT('V7'!$M$26),NA(),'V7'!$M$26)","v":{"$error":"#N/A"}},{"$error":"#N/A"}]
[{"$f":"IF(ISBLANK('G7'!I$12),\" \",('G7'!I$12))","v":" "},{"$f":"IF(ISTEXT('G7'!$I$17),NA(),'G7'!$I$17)","v":{"$error":"#N/A"}},null,{"$f":"IF(ISBLANK('V7'!C$39),\" \",('V7'!C$39))","v":" "},{"$f":"IF(ISTEXT('V7'!$C$51),NA(),'V7'!$C$51)","v":{"$error":"#N/A"}},{"$error":"#N/A"},{"$f":"IF(ISTEXT('V7'!C$52),NA(),'V7'!C$52)","v":{"$error":"#N/A"}},{"$f":"IF(ISTEXT('V7'!D$52),NA(),'V7'!D$52)","v":{"$error":"#N/A"}},{"$f":"IF(ISTEXT('V7'!$C$55),NA(),'V7'!$C$55)","v":{"$error":"#N/A"}},{"$error":"#N/A"},{"$f":"IF(ISTEXT('V7'!$C$56),NA(),'V7'!$C$56)","v":{"$error":"#N/A"}},{"$error":"#N/A"}]
[{"$f":"IF(ISBLANK('G7'!J$12),\" \",('G7'!J$12))","v":" "},{"$f":"IF(ISTEXT('G7'!$J$17),NA(),'G7'!$J$17)","v":{"$error":"#N/A"}},null,{"$f":"IF(ISBLANK('V7'!E$39),\" \",('V7'!E$39))","v":" "},{"$f":"IF(ISTEXT('V7'!$E$51),NA(),'V7'!$E$51)","v":{"$error":"#N/A"}},{"$error":"#N/A"},{"$f":"IF(ISTEXT('V7'!E$52),NA(),'V7'!E$52)","v":{"$error":"#N/A"}},{"$f":"IF(ISTEXT('V7'!F$52),NA(),'V7'!F$52)","v":{"$error":"#N/A"}},{"$f":"IF(ISTEXT('V7'!$E$55),NA(),'V7'!$E$55)","v":{"$error":"#N/A"}},{"$error":"#N/A"},{"$f":"IF(ISTEXT('V7'!$E$56),NA(),'V7'!$E$56)","v":{"$error":"#N/A"}},{"$error":"#N/A"}]
[{"$f":"IF(ISBLANK('G7'!K$12),\" \",('G7'!K$12))","v":" "},{"$f":"IF(ISTEXT('G7'!$K$17),NA(),'G7'!$K$17)","v":{"$error":"#N/A"}},null,{"$f":"IF(ISBLANK('V7'!G$39),\" \",('V7'!G$39))","v":" "},{"$f":"IF(ISTEXT('V7'!$G$51),NA(),'V7'!$G$51)","v":{"$error":"#N/A"}},{"$error":"#N/A"},{"$f":"IF(ISTEXT('V7'!G$52),NA(),'V7'!G$52)","v":{"$error":"#N/A"}},{"$f":"IF(ISTEXT('V7'!H$52),NA(),'V7'!H$52)","v":{"$error":"#N/A"}},{"$f":"IF(ISTEXT('V7'!$G$55),NA(),'V7'!$G$55)","v":{"$error":"#N/A"}},{"$error":"#N/A"},{"$f":"IF(ISTEXT('V7'!$G$56),NA(),'V7'!$G$56)","v":{"$error":"#N/A"}},{"$error":"#N/A"}]
[{"$f":"IF(ISBLANK('G7'!L$12),\" \",('G7'!L$12))","v":" "},{"$f":"IF(ISTEXT('G7'!$L$17),NA(),'G7'!$L$17)","v":{"$error":"#N/A"}},null,{"$f":"IF(ISBLANK('V7'!I$39),\" \",('V7'!I$39))","v":" "},{"$f":"IF(ISTEXT('V7'!$I$51),NA(),'V7'!$I$51)","v":{"$error":"#N/A"}},{"$error":"#N/A"},{"$f":"IF(ISTEXT('V7'!I$52),NA(),'V7'!I$52)","v":{"$error":"#N/A"}},{"$f":"IF(ISTEXT('V7'!J$52),NA(),'V7'!J$52)","v":{"$error":"#N/A"}},{"$f":"IF(ISTEXT('V7'!$I$55),NA(),'V7'!$I$55)","v":{"$error":"#N/A"}},{"$error":"#N/A"},{"$f":"IF(ISTEXT('V7'!$I$56),NA(),'V7'!$I$56)","v":{"$error":"#N/A"}},{"$error":"#N/A"}]
[{"$f":"IF(ISBLANK('G7'!M$12),\" \",('G7'!M$12))","v":" "},{"$f":"IF(ISTEXT('G7'!$M$17),NA(),'G7'!$M$17)","v":{"$error":"#N/A"}},null,{"$f":"IF(ISBLANK('V7'!K$39),\" \",('V7'!K$39))","v":" "},{"$f":"IF(ISTEXT('V7'!$K$51),NA(),'V7'!$K$51)","v":{"$error":"#N/A"}},{"$error":"#N/A"},{"$f":"IF(ISTEXT('V7'!K$52),NA(),'V7'!K$52)","v":{"$error":"#N/A"}},{"$f":"IF(ISTEXT('V7'!L$52),NA(),'V7'!L$52)","v":{"$error":"#N/A"}},{"$f":"IF(ISTEXT('V7'!$K$55),NA(),'V7'!$K$55)","v":{"$error":"#N/A"}},{"$error":"#N/A"},{"$f":"IF(ISTEXT('V7'!$K$56),NA(),'V7'!$K$56)","v":{"$error":"#N/A"}},{"$error":"#N/A"}]
[{"$f":"IF(ISBLANK('G7'!N$12),\" \",('G7'!N$12))","v":" "},{"$f":"IF(ISTEXT('G7'!$N$17),NA(),'G7'!$N$17)","v":{"$error":"#N/A"}},null,{"$f":"IF(ISBLANK('V7'!M$39),\" \",('V7'!M$39))","v":" "},{"$f":"IF(ISTEXT('V7'!$M$51),NA(),'V7'!$M$51)","v":{"$error":"#N/A"}},{"$error":"#N/A"},{"$f":"IF(ISTEXT('V7'!M$52),NA(),'V7'!M$52)","v":{"$error":"#N/A"}},{"$f":"IF(ISTEXT('V7'!N$52),NA(),'V7'!N$52)","v":{"$error":"#N/A"}},{"$f":"IF(ISTEXT('V7'!$M$55),NA(),'V7'!$M$55)","v":{"$error":"#N/A"}},{"$error":"#N/A"},{"$f":"IF(ISTEXT('V7'!$M$56),NA(),'V7'!$M$56)","v":{"$error":"#N/A"}},{"$f":"ROUND(AVERAGE(K81:K85),2)","v":{"$error":"#N/A"}}]
[{"$f":"IF(ISBLANK('G8'!C$12),\" \",('G8'!C$12))","v":" "},{"$f":"IF(ISTEXT('G8'!$C$17),NA(),'G8'!$C$17)","v":{"$error":"#N/A"}},null,{"$f":"IF(ISBLANK('V8'!C$9),\" \",('V8'!C$9))","v":" "},{"$f":"IF(ISTEXT('V8'!$C$21),NA(),'V8'!$C$21)","v":{"$error":"#N/A"}},{"$error":"#N/A"},{"$f":"IF(ISTEXT('V8'!C$22),NA(),'V8'!C$22)","v":{"$error":"#N/A"}},{"$f":"IF(ISTEXT('V8'!D$22),NA(),'V8'!D$22)","v":{"$error":"#N/A"}},{"$f":"IF(ISTEXT('V8'!$C$25),NA(),'V8'!$C$25)","v":{"$error":"#N/A"}},{"$error":"#N/A"},{"$f":"IF(ISTEXT('V8'!$C$26),NA(),'V8'!$C$26)","v":{"$error":"#N/A"}},{"$error":"#N/A"}]
[{"$f":"IF(ISBLANK('G8'!D$12),\" \",('G8'!D$12))","v":" "},{"$f":"IF(ISTEXT('G8'!$D$17),NA(),'G8'!$D$17)","v":{"$error":"#N/A"}},null,{"$f":"IF(ISBLANK('V8'!E$9),\" \",('V8'!E$9))","v":" "},{"$f":"IF(ISTEXT('V8'!$E$21),NA(),'V8'!$E$21)","v":{"$error":"#N/A"}},{"$error":"#N/A"},{"$f":"IF(ISTEXT('V8'!E$22),NA(),'V8'!E$22)","v":{"$error":"#N/A"}},{"$f":"IF(ISTEXT('V8'!F$22),NA(),'V8'!F$22)","v":{"$error":"#N/A"}},{"$f":"IF(ISTEXT('V8'!$E$25),NA(),'V8'!$E$25)","v":{"$error":"#N/A"}},{"$error":"#N/A"},{"$f":"IF(ISTEXT('V8'!$E$26),NA(),'V8'!$E$26)","v":{"$error":"#N/A"}},{"$error":"#N/A"}]
[{"$f":"IF(ISBLANK('G8'!E$12),\" \",('G8'!E$12))","v":" "},{"$f":"IF(ISTEXT('G8'!$E$17),NA(),'G8'!$E$17)","v":{"$error":"#N/A"}},null,{"$f":"IF(ISBLANK('V8'!G$9),\" \",('V8'!G$9))","v":" "},{"$f":"IF(ISTEXT('V8'!$G$21),NA(),'V8'!$G$21)","v":{"$error":"#N/A"}},{"$error":"#N/A"},{"$f":"IF(ISTEXT('V8'!G$22),NA(),'V8'!G$22)","v":{"$error":"#N/A"}},{"$f":"IF(ISTEXT('V8'!H$22),NA(),'V8'!H$22)","v":{"$error":"#N/A"}},{"$f":"IF(ISTEXT('V8'!$G$25),NA(),'V8'!$G$25)","v":{"$error":"#N/A"}},{"$error":"#N/A"},{"$f":"IF(ISTEXT('V8'!$G$26),NA(),'V8'!$G$26)","v":{"$error":"#N/A"}},{"$error":"#N/A"}]
[{"$f":"IF(ISBLANK('G8'!F$12),\" \",('G8'!F$12))","v":" "},{"$f":"IF(ISTEXT('G8'!$F$17),NA(),'G8'!$F$17)","v":{"$error":"#N/A"}},null,{"$f":"IF(ISBLANK('V8'!I$9),\" \",('V8'!I$9))","v":" "},{"$f":"IF(ISTEXT('V8'!$I$21),NA(),'V8'!$I$21)","v":{"$error":"#N/A"}},{"$error":"#N/A"},{"$f":"IF(ISTEXT('V8'!I$22),NA(),'V8'!I$22)","v":{"$error":"#N/A"}},{"$f":"IF(ISTEXT('V8'!J$22),NA(),'V8'!J$22)","v":{"$error":"#N/A"}},{"$f":"IF(ISTEXT('V8'!$I$25),NA(),'V8'!$I$25)","v":{"$error":"#N/A"}},{"$error":"#N/A"},{"$f":"IF(ISTEXT('V8'!$I$26),NA(),'V8'!$I$26)","v":{"$error":"#N/A"}},{"$error":"#N/A"}]
[{"$f":"IF(ISBLANK('G8'!G$12),\" \",('G8'!G$12))","v":" "},{"$f":"IF(ISTEXT('G8'!$G$17),NA(),'G8'!$G$17)","v":{"$error":"#N/A"}},null,{"$f":"IF(ISBLANK('V8'!K$9),\" \",('V8'!K$9))","v":" "},{"$f":"IF(ISTEXT('V8'!$K$21),NA(),'V8'!$K$21)","v":{"$error":"#N/A"}},{"$error":"#N/A"},{"$f":"IF(ISTEXT('V8'!K$22),NA(),'V8'!K$22)","v":{"$error":"#N/A"}},{"$f":"IF(ISTEXT('V8'!L$22),NA(),'V8'!L$22)","v":{"$error":"#N/A"}},{"$f":"IF(ISTEXT('V8'!$K$25),NA(),'V8'!$K$25)","v":{"$error":"#N/A"}},{"$error":"#N/A"},{"$f":"IF(ISTEXT('V8'!$K$26),NA(),'V8'!$K$26)","v":{"$error":"#N/A"}},{"$error":"#N/A"}]
[{"$f":"IF(ISBLANK('G8'!H$12),\" \",('G8'!H$12))","v":" "},{"$f":"IF(ISTEXT('G8'!$H$17),NA(),'G8'!$H$17)","v":{"$error":"#N/A"}},null,{"$f":"IF(ISBLANK('V8'!M$9),\" \",('V8'!M$9))","v":" "},{"$f":"IF(ISTEXT('V8'!$M$21),NA(),'V8'!$M$21)","v":{"$error":"#N/A"}},{"$error":"#N/A"},{"$f":"IF(ISTEXT('V8'!M$22),NA(),'V8'!M$22)","v":{"$error":"#N/A"}},{"$f":"IF(ISTEXT('V8'!N$22),NA(),'V8'!N$22)","v":{"$error":"#N/A"}},{"$f":"IF(ISTEXT('V8'!$M$25),NA(),'V8'!$M$25)","v":{"$error":"#N/A"}},{"$error":"#N/A"},{"$f":"IF(ISTEXT('V8'!$M$26),NA(),'V8'!$M$26)","v":{"$error":"#N/A"}},{"$f":"ROUND(AVERAGE(K87:K91),2)","v":{"$error":"#N/A"}}]
[{"$f":"IF(ISBLANK('G8'!I$12),\" \",('G8'!I$12))","v":" "},{"$f":"IF(ISTEXT('G8'!$I$17),NA(),'G8'!$I$17)","v":{"$error":"#N/A"}},null,{"$f":"IF(ISBLANK('V8'!C$39),\" \",('V8'!C$39))","v":" "},{"$f":"IF(ISTEXT('V8'!$C$51),NA(),'V8'!$C$51)","v":{"$error":"#N/A"}},{"$f":"ROUND(AVERAGE(E88:E92),1)","v":{"$error":"#N/A"}},{"$f":"IF(ISTEXT('V8'!C$52),NA(),'V8'!C$52)","v":{"$error":"#N/A"}},{"$f":"IF(ISTEXT('V8'!D$52),NA(),'V8'!D$52)","v":{"$error":"#N/A"}},{"$f":"IF(ISTEXT('V8'!$C$55),NA(),'V8'!$C$55)","v":{"$error":"#N/A"}},{"$error":"#N/A"},{"$f":"IF(ISTEXT('V8'!$C$56),NA(),'V8'!$C$56)","v":{"$error":"#N/A"}},{"$error":"#N/A"}]
[{"$f":"IF(ISBLANK('G8'!J$12),\" \",('G8'!J$12))","v":" "},{"$f":"IF(ISTEXT('G8'!$J$17),NA(),'G8'!$J$17)","v":{"$error":"#N/A"}},null,{"$f":"IF(ISBLANK('V8'!E$39),\" \",('V8'!E$39))","v":" "},{"$f":"IF(ISTEXT('V8'!$E$51),NA(),'V8'!$E$51)","v":{"$error":"#N/A"}},{"$error":"#N/A"},{"$f":"IF(ISTEXT('V8'!E$52),NA(),'V8'!E$52)","v":{"$error":"#N/A"}},{"$f":"IF(ISTEXT('V8'!F$52),NA(),'V8'!F$52)","v":{"$error":"#N/A"}},{"$f":"IF(ISTEXT('V8'!$E$55),NA(),'V8'!$E$55)","v":{"$error":"#N/A"}},{"$error":"#N/A"},{"$f":"IF(ISTEXT('V8'!$E$56),NA(),'V8'!$E$56)","v":{"$error":"#N/A"}},{"$error":"#N/A"}]
[{"$f":"IF(ISBLANK('G8'!K$12),\" \",('G8'!K$12))","v":" "},{"$f":"IF(ISTEXT('G8'!$K$17),NA(),'G8'!$K$17)","v":{"$error":"#N/A"}},null,{"$f":"IF(ISBLANK('V8'!G$39),\" \",('V8'!G$39))","v":" "},{"$f":"IF(ISTEXT('V8'!$G$51),NA(),'V8'!$G$51)","v":{"$error":"#N/A"}},{"$error":"#N/A"},{"$f":"IF(ISTEXT('V8'!G$52),NA(),'V8'!G$52)","v":{"$error":"#N/A"}},{"$f":"IF(ISTEXT('V8'!H$52),NA(),'V8'!H$52)","v":{"$error":"#N/A"}},{"$f":"IF(ISTEXT('V8'!$G$55),NA(),'V8'!$G$55)","v":{"$error":"#N/A"}},{"$error":"#N/A"},{"$f":"IF(ISTEXT('V8'!$G$56),NA(),'V8'!$G$56)","v":{"$error":"#N/A"}},{"$error":"#N/A"}]
[{"$f":"IF(ISBLANK('G8'!L$12),\" \",('G8'!L$12))","v":" "},{"$f":"IF(ISTEXT('G8'!$L$17),NA(),'G8'!$L$17)","v":{"$error":"#N/A"}},null,{"$f":"IF(ISBLANK('V8'!I$39),\" \",('V8'!I$39))","v":" "},{"$f":"IF(ISTEXT('V8'!$I$51),NA(),'V8'!$I$51)","v":{"$error":"#N/A"}},{"$error":"#N/A"},{"$f":"IF(ISTEXT('V8'!I$52),NA(),'V8'!I$52)","v":{"$error":"#N/A"}},{"$f":"IF(ISTEXT('V8'!J$52),NA(),'V8'!J$52)","v":{"$error":"#N/A"}},{"$f":"IF(ISTEXT('V8'!$I$55),NA(),'V8'!$I$55)","v":{"$error":"#N/A"}},{"$error":"#N/A"},{"$f":"IF(ISTEXT('V8'!$I$56),NA(),'V8'!$I$56)","v":{"$error":"#N/A"}},{"$error":"#N/A"}]
[{"$f":"IF(ISBLANK('G8'!M$12),\" \",('G8'!M$12))","v":" "},{"$f":"IF(ISTEXT('G8'!$M$17),NA(),'G8'!$M$17)","v":{"$error":"#N/A"}},null,{"$f":"IF(ISBLANK('V8'!K$39),\" \",('V8'!K$39))","v":" "},{"$f":"IF(ISTEXT('V8'!$K$51),NA(),'V8'!$K$51)","v":{"$error":"#N/A"}},{"$error":"#N/A"},{"$f":"IF(ISTEXT('V8'!K$52),NA(),'V8'!K$52)","v":{"$error":"#N/A"}},{"$f":"IF(ISTEXT('V8'!L$52),NA(),'V8'!L$52)","v":{"$error":"#N/A"}},{"$f":"IF(ISTEXT('V8'!$K$55),NA(),'V8'!$K$55)","v":{"$error":"#N/A"}},{"$error":"#N/A"},{"$f":"IF(ISTEXT('V8'!$K$56),NA(),'V8'!$K$56)","v":{"$error":"#N/A"}},{"$error":"#N/A"}]
[{"$f":"IF(ISBLANK('G8'!N$12),\" \",('G8'!N$12))","v":" "},{"$f":"IF(ISTEXT('G8'!$N$17),NA(),'G8'!$N$17)","v":{"$error":"#N/A"}},null,{"$f":"IF(ISBLANK('V8'!M$39),\" \",('V8'!M$39))","v":" "},{"$f":"IF(ISTEXT('V8'!$M$51),NA(),'V8'!$M$51)","v":{"$error":"#N/A"}},{"$f":"ROUND(AVERAGE(E93:E97),1)","v":{"$error":"#N/A"}},{"$f":"IF(ISTEXT('V8'!M$52),NA(),'V8'!M$52)","v":{"$error":"#N/A"}},{"$f":"IF(ISTEXT('V8'!N$52),NA(),'V8'!N$52)","v":{"$error":"#N/A"}},{"$f":"IF(ISTEXT('V8'!$M$55),NA(),'V8'!$M$55)","v":{"$error":"#N/A"}},{"$f":"ROUND(AVERAGE(I93:I97),0)","v":{"$error":"#N/A"}},{"$f":"IF(ISTEXT('V8'!$M$56),NA(),'V8'!$M$56)","v":{"$error":"#N/A"}},{"$f":"ROUND(AVERAGE(K93:K97),2)","v":{"$error":"#N/A"}}]

{"sheet":"ST2","index":47,"n_rows":101,"n_cols":31,"rows_kept":101,"cut":false,"hidden":true,"merged":[[3,6,3,7],[3,8,3,9],[3,10,3,11],[3,12,3,13],[0,0,0,14],[1,0,1,1],[1,2,1,3],[1,5,1,6],[1,7,1,8],[1,11,1,12],[1,13,1,14]]}
[{"$f":"'G1'!M3","v":" "}]
["JMF",null,{"$f":"'G1'!M6","v":" "},null,null,"Gyrations @ Ndes",null,{"$f":"'V1'!C7","v":" "},null,null,null,"Material Class",null,{"$f":"'G1'!C6","v":0}]
[]
["Samp #",null,"Gmm",null,"Sample #",null,"Gmb",null,"Voids",null,"VMA",null,"VFA",null,null,1,1,1,1,1,1,1,1,2,2,2,2,2,2,2,2]
[null,null,null,null,null,null,"Spec 1","Spec 2","Spec 1","Spec 2","Spec 1","Spec 2","Spec 1","Spec 2",null,"Height","Dry Wt","Wt.H2O","SSD Wt","Gmb","VA","VMA","VFA","Height","Dry Wt","Wt.H2O","SSD Wt","Gmb","VA","VMA","VFA"]
[1,null,{"$f":"IF(ISBLANK('G1'!C$17),\" \",'G1'!C$17)","v":" "},null,1,null,{"$f":"IF(ISBLANK('V1'!C$18),\" \",'V1'!C$18)","v":" "},{"$f":"IF(ISBLANK('V1'!D$18),\" \",'V1'!D$18)","v":" "},{"$f":"IF(ISBLANK('V1'!C$20),\" \",'V1'!C$20)","v":" "},{"$f":"IF(ISBLANK('V1'!D$20),\" \",'V1'!D$20)","v":" "},{"$f":"IF(ISBLANK('V1'!C$22),\" \",'V1'!C$22)","v":" "},{"$f":"IF(ISBLANK('V1'!D$22),\" \",'V1'!D$22)","v":" "},{"$f":"IF(ISBLANK('V1'!C$24),\" \",'V1'!C$24)","v":" "},{"$f":"IF(ISBLANK('V1'!D$24),\" \",'V1'!D$24)","v":" "},1,{"$f":"IF('V1'!C$14,'V1'!C$14,\" \")","v":" "},{"$f":"IF('V1'!C$15,'V1'!C$15,\" \")","v":" "},{"$f":"IF('V1'!C$16,'V1'!C$16,\" \")","v":" "},{"$f":"IF('V1'!C$17,'V1'!C$17,\" \")","v":" "},{"$f":"'V1'!C$18","v":" "},{"$f":"'V1'!C$20","v":" "},{"$f":"'V1'!C$22","v":" "},{"$f":"'V1'!C$24","v":" "},{"$f":"IF('V1'!D$14,'V1'!D$14,\" \")","v":" "},{"$f":"IF('V1'!D$15,'V1'!D$15,\" \")","v":" "},{"$f":"IF('V1'!D$16,'V1'!D$16,\" \")","v":" "},{"$f":"IF('V1'!D$17,'V1'!D$17,\" \")","v":" "},{"$f":"'V1'!D$18","v":" "},{"$f":"'V1'!D$20","v":" "},{"$f":"'V1'!D$22","v":" "},{"$f":"'V1'!D$24","v":" "}]
[2,null,{"$f":"IF(ISBLANK('G1'!D$17),\" \",'G1'!D$17)","v":" "},null,2,null,{"$f":"IF(ISBLANK('V1'!E$18),\" \",'V1'!E$18)","v":" "},{"$f":"IF(ISBLANK('V1'!F$18),\" \",'V1'!F$18)","v":" "},{"$f":"IF(ISBLANK('V1'!E$20),\" \",'V1'!E$20)","v":" "},{"$f":"IF(ISBLANK('V1'!F$20),\" \",'V1'!F$20)","v":" "},{"$f":"IF(ISBLANK('V1'!E$22),\" \",'V1'!E$22)","v":" "},{"$f":"IF(ISBLANK('V1'!F$22),\" \",'V1'!F$22)","v":" "},{"$f":"IF(ISBLANK('V1'!E$24),\" \",'V1'!E$24)","v":" "},{"$f":"IF(ISBLANK('V1'!F$24),\" \",'V1'!F$24)","v":" "},2,{"$f":"IF('V1'!E$14,'V1'!E$14,\" \")","v":" "},{"$f":"IF('V1'!E$15,'V1'!E$15,\" \")","v":" "},{"$f":"IF('V1'!E$16,'V1'!E$16,\" \")","v":" "},{"$f":"IF('V1'!E$17,'V1'!E$17,\" \")","v":" "},{"$f":"'V1'!E$18","v":" "},{"$f":"'V1'!E$20","v":" "},{"$f":"'V1'!E$22","v":" "},{"$f":"'V1'!E$24","v":" "},{"$f":"IF('V1'!F$14,'V1'!F$14,\" \")","v":" "},{"$f":"IF('V1'!F$15,'V1'!F$15,\" \")","v":" "},{"$f":"IF('V1'!F$16,'V1'!F$16,\" \")","v":" "},{"$f":"IF('V1'!F$17,'V1'!F$17,\" \")","v":" "},{"$f":"'V1'!F$18","v":" "},{"$f":"'V1'!F$20","v":" "},{"$f":"'V1'!F$22","v":" "},{"$f":"'V1'!F$24","v":" "}]
[3,null,{"$f":"IF(ISBLANK('G1'!E$17),\" \",'G1'!E$17)","v":" "},null,3,null,{"$f":"IF(ISBLANK('V1'!G$18),\" \",'V1'!G$18)","v":" "},{"$f":"IF(ISBLANK('V1'!H$18),\" \",'V1'!H$18)","v":" "},{"$f":"IF(ISBLANK('V1'!G$20),\" \",'V1'!G$20)","v":" "},{"$f":"IF(ISBLANK('V1'!H$20),\" \",'V1'!H$20)","v":" "},{"$f":"IF(ISBLANK('V1'!G$22),\" \",'V1'!G$22)","v":" "},{"$f":"IF(ISBLANK('V1'!H$22),\" \",'V1'!H$22)","v":" "},{"$f":"IF(ISBLANK('V1'!G$24),\" \",'V1'!G$24)","v":" "},{"$f":"IF(ISBLANK('V1'!H$24),\" \",'V1'!H$24)","v":" "},3,{"$f":"IF('V1'!G$14,'V1'!G$14,\" \")","v":" "},{"$f":"IF('V1'!G$15,'V1'!G$15,\" \")","v":" "},{"$f":"IF('V1'!G$16,'V1'!G$16,\" \")","v":" "},{"$f":"IF('V1'!G$17,'V1'!G$17,\" \")","v":" "},{"$f":"'V1'!G$18","v":" "},{"$f":"'V1'!G$20","v":" "},{"$f":"'V1'!G$22","v":" "},{"$f":"'V1'!G$24","v":" "},{"$f":"IF('V1'!H$14,'V1'!H$14,\" \")","v":" "},{"$f":"IF('V1'!H$15,'V1'!H$15,\" \")","v":" "},{"$f":"IF('V1'!H$16,'V1'!H$16,\" \")","v":" "},{"$f":"IF('V1'!H$17,'V1'!H$17,\" \")","v":" "},{"$f":"'V1'!H$18","v":" "},{"$f":"'V1'!H$20","v":" "},{"$f":"'V1'!H$22","v":" "},{"$f":"'V1'!H$24","v":" "}]
[4,null,{"$f":"IF(ISBLANK('G1'!F$17),\" \",'G1'!F$17)","v":" "},null,4,null,{"$f":"IF(ISBLANK('V1'!I$18),\" \",'V1'!I$18)","v":" "},{"$f":"IF(ISBLANK('V1'!J$18),\" \",'V1'!J$18)","v":" "},{"$f":"IF(ISBLANK('V1'!I$20),\" \",'V1'!I$20)","v":" "},{"$f":"IF(ISBLANK('V1'!J$20),\" \",'V1'!J$20)","v":" "},{"$f":"IF(ISBLANK('V1'!I$22),\" \",'V1'!I$22)","v":" "},{"$f":"IF(ISBLANK('V1'!J$22),\" \",'V1'!J$22)","v":" "},{"$f":"IF(ISBLANK('V1'!I$24),\" \",'V1'!I$24)","v":" "},{"$f":"IF(ISBLANK('V1'!J$24),\" \",'V1'!J$24)","v":" "},4,{"$f":"IF('V1'!I$14,'V1'!I$14,\" \")","v":" "},{"$f":"IF('V1'!I$15,'V1'!I$15,\" \")","v":" "},{"$f":"IF('V1'!I$16,'V1'!I$16,\" \")","v":" "},{"$f":"IF('V1'!I$17,'V1'!I$17,\" \")","v":" "},{"$f":"'V1'!I$18","v":" "},{"$f":"'V1'!I$20","v":" "},{"$f":"'V1'!I$22","v":" "},{"$f":"'V1'!I$24","v":" "},{"$f":"IF('V1'!J$14,'V1'!J$14,\" \")","v":" "},{"$f":"IF('V1'!J$15,'V1'!J$15,\" \")","v":" "},{"$f":"IF('V1'!J$16,'V1'!J$16,\" \")","v":" "},{"$f":"IF('V1'!J$17,'V1'!J$17,\" \")","v":" "},{"$f":"'V1'!J$18","v":" "},{"$f":"'V1'!J$20","v":" "},{"$f":"'V1'!J$22","v":" "},{"$f":"'V1'!J$24","v":" "}]
[5,null,{"$f":"IF(ISBLANK('G1'!G$17),\" \",'G1'!G$17)","v":" "},null,5,null,{"$f":"IF(ISBLANK('V1'!K$18),\" \",'V1'!K$18)","v":" "},{"$f":"IF(ISBLANK('V1'!L$18),\" \",'V1'!L$18)","v":" "},{"$f":"IF(ISBLANK('V1'!K$20),\" \",'V1'!K$20)","v":" "},{"$f":"IF(ISBLANK('V1'!L$20),\" \",'V1'!L$20)","v":" "},{"$f":"IF(ISBLANK('V1'!K$22),\" \",'V1'!K$22)","v":" "},{"$f":"IF(ISBLANK('V1'!L$22),\" \",'V1'!L$22)","v":" "},{"$f":"IF(ISBLANK('V1'!K$24),\" \",'V1'!K$24)","v":" "},{"$f":"IF(ISBLANK('V1'!L$24),\" \",'V1'!L$24)","v":" "},5,{"$f":"IF('V1'!K$14,'V1'!K$14,\" \")","v":" "},{"$f":"IF('V1'!K$15,'V1'!K$15,\" \")","v":" "},{"$f":"IF('V1'!K$16,'V1'!K$16,\" \")","v":" "},{"$f":"IF('V1'!K$17,'V1'!K$17,\" \")","v":" "},{"$f":"'V1'!K$18","v":" "},{"$f":"'V1'!K$20","v":" "},{"$f":"'V1'!K$22","v":" "},{"$f":"'V1'!K$24","v":" "},{"$f":"IF('V1'!L$14,'V1'!L$14,\" \")","v":" "},{"$f":"IF('V1'!L$15,'V1'!L$15,\" \")","v":" "},{"$f":"IF('V1'!L$16,'V1'!L$16,\" \")","v":" "},{"$f":"IF('V1'!L$17,'V1'!L$17,\" \")","v":" "},{"$f":"'V1'!L$18","v":" "},{"$f":"'V1'!L$20","v":" "},{"$f":"'V1'!L$22","v":" "},{"$f":"'V1'!L$24","v":" "}]
[6,null,{"$f":"IF(ISBLANK('G1'!H$17),\" \",'G1'!H$17)","v":" "},null,6,null,{"$f":"IF(ISBLANK('V1'!M$18),\" \",'V1'!M$18)","v":" "},{"$f":"IF(ISBLANK('V1'!N$18),\" \",'V1'!N$18)","v":" "},{"$f":"IF(ISBLANK('V1'!M$20),\" \",'V1'!M$20)","v":" "},{"$f":"IF(ISBLANK('V1'!N$20),\" \",'V1'!N$20)","v":" "},{"$f":"IF(ISBLANK('V1'!M$22),\" \",'V1'!M$22)","v":" "},{"$f":"IF(ISBLANK('V1'!N$22),\" \",'V1'!N$22)","v":" "},{"$f":"IF(ISBLANK('V1'!M$24),\" \",'V1'!M$24)","v":" "},{"$f":"IF(ISBLANK('V1'!N$24),\" \",'V1'!N$24)","v":" "},6,{"$f":"IF('V1'!M$14,'V1'!M$14,\" \")","v":" "},{"$f":"IF('V1'!M$15,'V1'!M$15,\" \")","v":" "},{"$f":"IF('V1'!M$16,'V1'!M$16,\" \")","v":" "},{"$f":"IF('V1'!M$17,'V1'!M$17,\" \")","v":" "},{"$f":"'V1'!M$18","v":" "},{"$f":"'V1'!M$20","v":" "},{"$f":"'V1'!M$22","v":" "},{"$f":"'V1'!M$24","v":" "},{"$f":"IF('V1'!N$14,'V1'!N$14,\" \")","v":" "},{"$f":"IF('V1'!N$15,'V1'!N$15,\" \")","v":" "},{"$f":"IF('V1'!N$16,'V1'!N$16,\" \")","v":" "},{"$f":"IF('V1'!N$17,'V1'!N$17,\" \")","v":" "},{"$f":"'V1'!N$18","v":" "},{"$f":"'V1'!N$20","v":" "},{"$f":"'V1'!N$22","v":" "},{"$f":"'V1'!N$24","v":" "}]
[7,null,{"$f":"IF(ISBLANK('G1'!I$17),\" \",'G1'!I$17)","v":" "},null,7,null,{"$f":"IF(ISBLANK('V1'!C$48),\" \",'V1'!C$48)","v":" "},{"$f":"IF(ISBLANK('V1'!D$48),\" \",'V1'!D$48)","v":" "},{"$f":"IF(ISBLANK('V1'!C$50),\" \",'V1'!C$50)","v":" "},{"$f":"IF(ISBLANK('V1'!D$50),\" \",'V1'!D$50)","v":" "},{"$f":"IF(ISBLANK('V1'!C$52),\" \",'V1'!C$52)","v":" "},{"$f":"IF(ISBLANK('V1'!D$52),\" \",'V1'!D$52)","v":" "},{"$f":"IF(ISBLANK('V1'!C$54),\" \",'V1'!C$54)","v":" "},{"$f":"IF(ISBLANK('V1'!D$54),\" \",'V1'!D$54)","v":" "},7,{"$f":"IF('V1'!C$44,'V1'!C$44,\" \")","v":" "},{"$f":"IF('V1'!C$45,'V1'!C$45,\" \")","v":" "},{"$f":"IF('V1'!C$46,'V1'!C$46,\" \")","v":" "},{"$f":"IF('V1'!C$47,'V1'!C$47,\" \")","v":" "},{"$f":"'V1'!C$48","v":" "},{"$f":"'V1'!C$50","v":" "},{"$f":"'V1'!C$52","v":" "},{"$f":"'V1'!C$54","v":" "},{"$f":"IF('V1'!D$44,'V1'!D$44,\" \")","v":" "},{"$f":"IF('V1'!D$45,'V1'!D$45,\" \")","v":" "},{"$f":"IF('V1'!D$46,'V1'!D$46,\" \")","v":" "},{"$f":"IF('V1'!D$47,'V1'!D$47,\" \")","v":" "},{"$f":"'V1'!D$48","v":" "},{"$f":"'V1'!D$50","v":" "},{"$f":"'V1'!D$52","v":" "},{"$f":"'V1'!D$54","v":" "}]
[8,null,{"$f":"IF(ISBLANK('G1'!J$17),\" \",'G1'!J$17)","v":" "},null,8,null,{"$f":"IF(ISBLANK('V1'!E$48),\" \",'V1'!E$48)","v":" "},{"$f":"IF(ISBLANK('V1'!F$48),\" \",'V1'!F$48)","v":" "},{"$f":"IF(ISBLANK('V1'!E$50),\" \",'V1'!E$50)","v":" "},{"$f":"IF(ISBLANK('V1'!F$50),\" \",'V1'!F$50)","v":" "},{"$f":"IF(ISBLANK('V1'!E$52),\" \",'V1'!E$52)","v":" "},{"$f":"IF(ISBLANK('V1'!F$52),\" \",'V1'!F$52)","v":" "},{"$f":"IF(ISBLANK('V1'!E$54),\" \",'V1'!E$54)","v":" "},{"$f":"IF(ISBLANK('V1'!F$54),\" \",'V1'!F$54)","v":" "},8,{"$f":"IF('V1'!E$44,'V1'!E$44,\" \")","v":" "},{"$f":"IF('V1'!E$45,'V1'!E$45,\" \")","v":" "},{"$f":"IF('V1'!E$46,'V1'!E$46,\" \")","v":" "},{"$f":"IF('V1'!E$47,'V1'!E$47,\" \")","v":" "},{"$f":"'V1'!E$48","v":" "},{"$f":"'V1'!E$50","v":" "},{"$f":"'V1'!E$52","v":" "},{"$f":"'V1'!E$54","v":" "},{"$f":"IF('V1'!F$44,'V1'!F$44,\" \")","v":" "},{"$f":"IF('V1'!F$45,'V1'!F$45,\" \")","v":" "},{"$f":"IF('V1'!F$46,'V1'!F$46,\" \")","v":" "},{"$f":"IF('V1'!F$47,'V1'!F$47,\" \")","v":" "},{"$f":"'V1'!F$48","v":" "},{"$f":"'V1'!F$50","v":" "},{"$f":"'V1'!F$52","v":" "},{"$f":"'V1'!F$54","v":" "}]
[9,null,{"$f":"IF(ISBLANK('G1'!K$17),\" \",'G1'!K$17)","v":" "},null,9,null,{"$f":"IF(ISBLANK('V1'!G$48),\" \",'V1'!G$48)","v":" "},{"$f":"IF(ISBLANK('V1'!H$48),\" \",'V1'!H$48)","v":" "},{"$f":"IF(ISBLANK('V1'!G$50),\" \",'V1'!G$50)","v":" "},{"$f":"IF(ISBLANK('V1'!H$50),\" \",'V1'!H$50)","v":" "},{"$f":"IF(ISBLANK('V1'!G$52),\" \",'V1'!G$52)","v":" "},{"$f":"IF(ISBLANK('V1'!H$52),\" \",'V1'!H$52)","v":" "},{"$f":"IF(ISBLANK('V1'!G$54),\" \",'V1'!G$54)","v":" "},{"$f":"IF(ISBLANK('V1'!H$54),\" \",'V1'!H$54)","v":" "},9,{"$f":"IF('V1'!G$44,'V1'!G$44,\" \")","v":" "},{"$f":"IF('V1'!G$45,'V1'!G$45,\" \")","v":" "},{"$f":"IF('V1'!G$46,'V1'!G$46,\" \")","v":" "},{"$f":"IF('V1'!G$47,'V1'!G$47,\" \")","v":" "},{"$f":"'V1'!G$48","v":" "},{"$f":"'V1'!G$50","v":" "},{"$f":"'V1'!G$52","v":" "},{"$f":"'V1'!G$54","v":" "},{"$f":"IF('V1'!H$44,'V1'!H$44,\" \")","v":" "},{"$f":"IF('V1'!H$45,'V1'!H$45,\" \")","v":" "},{"$f":"IF('V1'!H$46,'V1'!H$46,\" \")","v":" "},{"$f":"IF('V1'!H$47,'V1'!H$47,\" \")","v":" "},{"$f":"'V1'!H$48","v":" "},{"$f":"'V1'!H$50","v":" "},{"$f":"'V1'!H$52","v":" "},{"$f":"'V1'!H$54","v":" "}]
[10,null,{"$f":"IF(ISBLANK('G1'!L$17),\" \",'G1'!L$17)","v":" "},null,10,null,{"$f":"IF(ISBLANK('V1'!I$48),\" \",'V1'!I$48)","v":" "},{"$f":"IF(ISBLANK('V1'!J$48),\" \",'V1'!J$48)","v":" "},{"$f":"IF(ISBLANK('V1'!I$50),\" \",'V1'!I$50)","v":" "},{"$f":"IF(ISBLANK('V1'!J$50),\" \",'V1'!J$50)","v":" "},{"$f":"IF(ISBLANK('V1'!I$52),\" \",'V1'!I$52)","v":" "},{"$f":"IF(ISBLANK('V1'!J$52),\" \",'V1'!J$52)","v":" "},{"$f":"IF(ISBLANK('V1'!I$54),\" \",'V1'!I$54)","v":" "},{"$f":"IF(ISBLANK('V1'!J$54),\" \",'V1'!J$54)","v":" "},10,{"$f":"IF('V1'!I$44,'V1'!I$44,\" \")","v":" "},{"$f":"IF('V1'!I$45,'V1'!I$45,\" \")","v":" "},{"$f":"IF('V1'!I$46,'V1'!I$46,\" \")","v":" "},{"$f":"IF('V1'!I$47,'V1'!I$47,\" \")","v":" "},{"$f":"'V1'!I$48","v":" "},{"$f":"'V1'!I$50","v":" "},{"$f":"'V1'!I$52","v":" "},{"$f":"'V1'!I$54","v":" "},{"$f":"IF('V1'!J$44,'V1'!J$44,\" \")","v":" "},{"$f":"IF('V1'!J$45,'V1'!J$45,\" \")","v":" "},{"$f":"IF('V1'!J$46,'V1'!J$46,\" \")","v":" "},{"$f":"IF('V1'!J$47,'V1'!J$47,\" \")","v":" "},{"$f":"'V1'!J$48","v":" "},{"$f":"'V1'!J$50","v":" "},{"$f":"'V1'!J$52","v":" "},{"$f":"'V1'!J$54","v":" "}]
[11,null,{"$f":"IF(ISBLANK('G1'!M$17),\" \",'G1'!M$17)","v":" "},null,11,null,{"$f":"IF(ISBLANK('V1'!K$48),\" \",'V1'!K$48)","v":" "},{"$f":"IF(ISBLANK('V1'!L$48),\" \",'V1'!L$48)","v":" "},{"$f":"IF(ISBLANK('V1'!K$50),\" \",'V1'!K$50)","v":" "},{"$f":"IF(ISBLANK('V1'!L$50),\" \",'V1'!L$50)","v":" "},{"$f":"IF(ISBLANK('V1'!K$52),\" \",'V1'!K$52)","v":" "},{"$f":"IF(ISBLANK('V1'!L$52),\" \",'V1'!L$52)","v":" "},{"$f":"IF(ISBLANK('V1'!K$24),\" \",'V1'!K$54)","v":" "},{"$f":"IF(ISBLANK('V1'!L$24),\" \",'V1'!L$54)","v":" "},11,{"$f":"IF('V1'!K$44,'V1'!K$44,\" \")","v":" "},{"$f":"IF('V1'!K$45,'V1'!K$45,\" \")","v":" "},{"$f":"IF('V1'!K$46,'V1'!K$46,\" \")","v":" "},{"$f":"IF('V1'!K$47,'V1'!K$47,\" \")","v":" "},{"$f":"'V1'!K$48","v":" "},{"$f":"'V1'!K$50","v":" "},{"$f":"'V1'!K$52","v":" "},{"$f":"'V1'!K$54","v":" "},{"$f":"IF('V1'!L$44,'V1'!L$44,\" \")","v":" "},{"$f":"IF('V1'!L$45,'V1'!L$45,\" \")","v":" "},{"$f":"IF('V1'!L$46,'V1'!L$46,\" \")","v":" "},{"$f":"IF('V1'!L$47,'V1'!L$47,\" \")","v":" "},{"$f":"'V1'!L$48","v":" "},{"$f":"'V1'!L$50","v":" "},{"$f":"'V1'!L$52","v":" "},{"$f":"'V1'!L$54","v":" "}]
[12,null,{"$f":"IF(ISBLANK('G1'!N$17),\" \",'G1'!N$17)","v":" "},null,12,null,{"$f":"IF(ISBLANK('V1'!M$48),\" \",'V1'!M$48)","v":" "},{"$f":"IF(ISBLANK('V1'!N$48),\" \",'V1'!N$48)","v":" "},{"$f":"IF(ISBLANK('V1'!M$50),\" \",'V1'!M$50)","v":" "},{"$f":"IF(ISBLANK('V1'!N$50),\" \",'V1'!N$50)","v":" "},{"$f":"IF(ISBLANK('V1'!M$52),\" \",'V1'!M$52)","v":" "},{"$f":"IF(ISBLANK('V1'!N$52),\" \",'V1'!N$52)","v":" "},{"$f":"IF(ISBLANK('V1'!M$54),\" \",'V1'!M$54)","v":" "},{"$f":"IF(ISBLANK('V1'!N$54),\" \",'V1'!N$54)","v":" "},12,{"$f":"IF('V1'!M$44,'V1'!M$44,\" \")","v":" "},{"$f":"IF('V1'!M$45,'V1'!M$45,\" \")","v":" "},{"$f":"IF('V1'!M$46,'V1'!M$46,\" \")","v":" "},{"$f":"IF('V1'!M$47,'V1'!M$47,\" \")","v":" "},{"$f":"'V1'!M$48","v":" "},{"$f":"'V1'!M$50","v":" "},{"$f":"'V1'!M$52","v":" "},{"$f":"'V1'!M$54","v":" "},{"$f":"IF('V1'!N$44,'V1'!N$44,\" \")","v":" "},{"$f":"IF('V1'!N$45,'V1'!N$45,\" \")","v":" "},{"$f":"IF('V1'!N$46,'V1'!N$46,\" \")","v":" "},{"$f":"IF('V1'!N$47,'V1'!N$47,\" \")","v":" "},{"$f":"'V1'!N$48","v":" "},{"$f":"'V1'!N$50","v":" "},{"$f":"'V1'!N$52","v":" "},{"$f":"'V1'!N$54","v":" "}]
[13,null,{"$f":"IF(ISBLANK('G2'!C$17),\" \",'G2'!C$17)","v":" "},null,13,null,{"$f":"IF(ISBLANK('V2'!C$18),\" \",'V2'!C$18)","v":" "},{"$f":"IF(ISBLANK('V2'!D$18),\" \",'V2'!D$18)","v":" "},{"$f":"IF(ISBLANK('V2'!C$20),\" \",'V2'!C$20)","v":" "},{"$f":"IF(ISBLANK('V2'!D$20),\" \",'V2'!D$20)","v":" "},{"$f":"IF(ISBLANK('V2'!C$22),\" \",'V2'!C$22)","v":" "},{"$f":"IF(ISBLANK('V2'!D$22),\" \",'V2'!D$22)","v":" "},{"$f":"IF(ISBLANK('V2'!C$24),\" \",'V2'!C$24)","v":" "},{"$f":"IF(ISBLANK('V2'!D$24),\" \",'V2'!D$24)","v":" "},13,{"$f":"IF('V2'!C$14,'V2'!C$14,\" \")","v":" "},{"$f":"IF('V2'!C$15,'V2'!C$15,\" \")","v":" "},{"$f":"IF('V2'!C$16,'V2'!C$16,\" \")","v":" "},{"$f":"IF('V2'!C$17,'V2'!C$17,\" \")","v":" "},{"$f":"'V2'!C$18","v":" "},{"$f":"'V2'!C$20","v":" "},{"$f":"'V2'!C$22","v":" "},{"$f":"'V2'!C$24","v":" "},{"$f":"IF('V2'!D$14,'V2'!D$14,\" \")","v":" "},{"$f":"IF('V2'!D$15,'V2'!D$15,\" \")","v":" "},{"$f":"IF('V2'!D$16,'V2'!D$16,\" \")","v":" "},{"$f":"IF('V2'!D$17,'V2'!D$17,\" \")","v":" "},{"$f":"'V2'!D$18","v":" "},{"$f":"'V2'!D$20","v":" "},{"$f":"'V2'!D$22","v":" "},{"$f":"'V2'!D$24","v":" "}]
[14,null,{"$f":"IF(ISBLANK('G2'!D$17),\" \",'G2'!D$17)","v":" "},null,14,null,{"$f":"IF(ISBLANK('V2'!E$18),\" \",'V2'!E$18)","v":" "},{"$f":"IF(ISBLANK('V2'!F$18),\" \",'V2'!F$18)","v":" "},{"$f":"IF(ISBLANK('V2'!E$20),\" \",'V2'!E$20)","v":" "},{"$f":"IF(ISBLANK('V2'!F$20),\" \",'V2'!F$20)","v":" "},{"$f":"IF(ISBLANK('V2'!E$22),\" \",'V2'!E$22)","v":" "},{"$f":"IF(ISBLANK('V2'!F$22),\" \",'V2'!F$22)","v":" "},{"$f":"IF(ISBLANK('V2'!E$24),\" \",'V2'!E$24)","v":" "},{"$f":"IF(ISBLANK('V2'!F$24),\" \",'V2'!F$24)","v":" "},14,{"$f":"IF('V2'!E$14,'V2'!E$14,\" \")","v":" "},{"$f":"IF('V2'!E$15,'V2'!E$15,\" \")","v":" "},{"$f":"IF('V2'!E$16,'V2'!E$16,\" \")","v":" "},{"$f":"IF('V2'!E$17,'V2'!E$17,\" \")","v":" "},{"$f":"'V2'!E$18","v":" "},{"$f":"'V2'!E$20","v":" "},{"$f":"'V2'!E$22","v":" "},{"$f":"'V2'!E$24","v":" "},{"$f":"IF('V2'!F$14,'V2'!F$14,\" \")","v":" "},{"$f":"IF('V2'!F$15,'V2'!F$15,\" \")","v":" "},{"$f":"IF('V2'!F$16,'V2'!F$16,\" \")","v":" "},{"$f":"IF('V2'!F$17,'V2'!F$17,\" \")","v":" "},{"$f":"'V2'!F$18","v":" "},{"$f":"'V2'!F$20","v":" "},{"$f":"'V2'!F$22","v":" "},{"$f":"'V2'!F$24","v":" "}]
[15,null,{"$f":"IF(ISBLANK('G2'!E$17),\" \",'G2'!E$17)","v":" "},null,15,null,{"$f":"IF(ISBLANK('V2'!G$18),\" \",'V2'!G$18)","v":" "},{"$f":"IF(ISBLANK('V2'!H$18),\" \",'V2'!H$18)","v":" "},{"$f":"IF(ISBLANK('V2'!G$20),\" \",'V2'!G$20)","v":" "},{"$f":"IF(ISBLANK('V2'!H$20),\" \",'V2'!H$20)","v":" "},{"$f":"IF(ISBLANK('V2'!G$22),\" \",'V2'!G$22)","v":" "},{"$f":"IF(ISBLANK('V2'!H$22),\" \",'V2'!H$22)","v":" "},{"$f":"IF(ISBLANK('V2'!G$24),\" \",'V2'!G$24)","v":" "},{"$f":"IF(ISBLANK('V2'!H$24),\" \",'V2'!H$24)","v":" "},15,{"$f":"IF('V2'!G$14,'V2'!G$14,\" \")","v":" "},{"$f":"IF('V2'!G$15,'V2'!G$15,\" \")","v":" "},{"$f":"IF('V2'!G$16,'V2'!G$16,\" \")","v":" "},{"$f":"IF('V2'!G$17,'V2'!G$17,\" \")","v":" "},{"$f":"'V2'!G$18","v":" "},{"$f":"'V2'!G$20","v":" "},{"$f":"'V2'!G$22","v":" "},{"$f":"'V2'!G$24","v":" "},{"$f":"IF('V2'!H$14,'V2'!H$14,\" \")","v":" "},{"$f":"IF('V2'!H$15,'V2'!H$15,\" \")","v":" "},{"$f":"IF('V2'!H$16,'V2'!H$16,\" \")","v":" "},{"$f":"IF('V2'!H$17,'V2'!H$17,\" \")","v":" "},{"$f":"'V2'!H$18","v":" "},{"$f":"'V2'!H$20","v":" "},{"$f":"'V2'!H$22","v":" "},{"$f":"'V2'!H$24","v":" "}]
[16,null,{"$f":"IF(ISBLANK('G2'!F$17),\" \",'G2'!F$17)","v":" "},null,16,null,{"$f":"IF(ISBLANK('V2'!I$18),\" \",'V2'!I$18)","v":" "},{"$f":"IF(ISBLANK('V2'!J$18),\" \",'V2'!J$18)","v":" "},{"$f":"IF(ISBLANK('V2'!I$20),\" \",'V2'!I$20)","v":" "},{"$f":"IF(ISBLANK('V2'!J$20),\" \",'V2'!J$20)","v":" "},{"$f":"IF(ISBLANK('V2'!I$22),\" \",'V2'!I$22)","v":" "},{"$f":"IF(ISBLANK('V2'!J$22),\" \",'V2'!J$22)","v":" "},{"$f":"IF(ISBLANK('V2'!I$24),\" \",'V2'!I$24)","v":" "},{"$f":"IF(ISBLANK('V2'!J$24),\" \",'V2'!J$24)","v":" "},16,{"$f":"IF('V2'!I$14,'V2'!I$14,\" \")","v":" "},{"$f":"IF('V2'!I$15,'V2'!I$15,\" \")","v":" "},{"$f":"IF('V2'!I$16,'V2'!I$16,\" \")","v":" "},{"$f":"IF('V2'!I$17,'V2'!I$17,\" \")","v":" "},{"$f":"'V2'!I$18","v":" "},{"$f":"'V2'!I$20","v":" "},{"$f":"'V2'!I$22","v":" "},{"$f":"'V2'!I$24","v":" "},{"$f":"IF('V2'!J$14,'V2'!J$14,\" \")","v":" "},{"$f":"IF('V2'!J$15,'V2'!J$15,\" \")","v":" "},{"$f":"IF('V2'!J$16,'V2'!J$16,\" \")","v":" "},{"$f":"IF('V2'!J$17,'V2'!J$17,\" \")","v":" "},{"$f":"'V2'!J$18","v":" "},{"$f":"'V2'!J$20","v":" "},{"$f":"'V2'!J$22","v":" "},{"$f":"'V2'!J$24","v":" "}]
[17,null,{"$f":"IF(ISBLANK('G2'!G$17),\" \",'G2'!G$17)","v":" "},null,17,null,{"$f":"IF(ISBLANK('V2'!K$18),\" \",'V2'!K$18)","v":" "},{"$f":"IF(ISBLANK('V2'!L$18),\" \",'V2'!L$18)","v":" "},{"$f":"IF(ISBLANK('V2'!K$20),\" \",'V2'!K$20)","v":" "},{"$f":"IF(ISBLANK('V2'!L$20),\" \",'V2'!L$20)","v":" "},{"$f":"IF(ISBLANK('V2'!K$22),\" \",'V2'!K$22)","v":" "},{"$f":"IF(ISBLANK('V2'!L$22),\" \",'V2'!L$22)","v":" "},{"$f":"IF(ISBLANK('V2'!K$24),\" \",'V2'!K$24)","v":" "},{"$f":"IF(ISBLANK('V2'!L$24),\" \",'V2'!L$24)","v":" "},17,{"$f":"IF('V2'!K$14,'V2'!K$14,\" \")","v":" "},{"$f":"IF('V2'!K$15,'V2'!K$15,\" \")","v":" "},{"$f":"IF('V2'!K$16,'V2'!K$16,\" \")","v":" "},{"$f":"IF('V2'!K$17,'V2'!K$17,\" \")","v":" "},{"$f":"'V2'!K$18","v":" "},{"$f":"'V2'!K$20","v":" "},{"$f":"'V2'!K$22","v":" "},{"$f":"'V2'!K$24","v":" "},{"$f":"IF('V2'!L$14,'V2'!L$14,\" \")","v":" "},{"$f":"IF('V2'!L$15,'V2'!L$15,\" \")","v":" "},{"$f":"IF('V2'!L$16,'V2'!L$16,\" \")","v":" "},{"$f":"IF('V2'!L$17,'V2'!L$17,\" \")","v":" "},{"$f":"'V2'!L$18","v":" "},{"$f":"'V2'!L$20","v":" "},{"$f":"'V2'!L$22","v":" "},{"$f":"'V2'!L$24","v":" "}]
[18,null,{"$f":"IF(ISBLANK('G2'!H$17),\" \",'G2'!H$17)","v":" "},null,18,null,{"$f":"IF(ISBLANK('V2'!M$18),\" \",'V2'!M$18)","v":" "},{"$f":"IF(ISBLANK('V2'!N$18),\" \",'V2'!N$18)","v":" "},{"$f":"IF(ISBLANK('V2'!M$20),\" \",'V2'!M$20)","v":" "},{"$f":"IF(ISBLANK('V2'!N$20),\" \",'V2'!N$20)","v":" "},{"$f":"IF(ISBLANK('V2'!M$22),\" \",'V2'!M$22)","v":" "},{"$f":"IF(ISBLANK('V2'!N$22),\" \",'V2'!N$22)","v":" "},{"$f":"IF(ISBLANK('V2'!M$24),\" \",'V2'!M$24)","v":" "},{"$f":"IF(ISBLANK('V2'!N$24),\" \",'V2'!N$24)","v":" "},18,{"$f":"IF('V2'!M$14,'V2'!M$14,\" \")","v":" "},{"$f":"IF('V2'!M$15,'V2'!M$15,\" \")","v":" "},{"$f":"IF('V2'!M$16,'V2'!M$16,\" \")","v":" "},{"$f":"IF('V2'!M$17,'V2'!M$17,\" \")","v":" "},{"$f":"'V2'!M$18","v":" "},{"$f":"'V2'!M$20","v":" "},{"$f":"'V2'!M$22","v":" "},{"$f":"'V2'!M$24","v":" "},{"$f":"IF('V2'!N$14,'V2'!N$14,\" \")","v":" "},{"$f":"IF('V2'!N$15,'V2'!N$15,\" \")","v":" "},{"$f":"IF('V2'!N$16,'V2'!N$16,\" \")","v":" "},{"$f":"IF('V2'!N$17,'V2'!N$17,\" \")","v":" "},{"$f":"'V2'!N$18","v":" "},{"$f":"'V2'!N$20","v":" "},{"$f":"'V2'!N$22","v":" "},{"$f":"'V2'!N$24","v":" "}]
[19,null,{"$f":"IF(ISBLANK('G2'!I$17),\" \",'G2'!I$17)","v":" "},null,19,null,{"$f":"IF(ISBLANK('V2'!C$48),\" \",'V2'!C$48)","v":" "},{"$f":"IF(ISBLANK('V2'!D$48),\" \",'V2'!D$48)","v":" "},{"$f":"IF(ISBLANK('V2'!C$50),\" \",'V2'!C$50)","v":" "},{"$f":"IF(ISBLANK('V2'!D$50),\" \",'V2'!D$50)","v":" "},{"$f":"IF(ISBLANK('V2'!C$52),\" \",'V2'!C$52)","v":" "},{"$f":"IF(ISBLANK('V2'!D$52),\" \",'V2'!D$52)","v":" "},{"$f":"IF(ISBLANK('V2'!C$54),\" \",'V2'!C$54)","v":" "},{"$f":"IF(ISBLANK('V2'!D$54),\" \",'V2'!D$54)","v":" "},19,{"$f":"IF('V2'!C$44,'V2'!C$44,\" \")","v":" "},{"$f":"IF('V2'!C$45,'V2'!C$45,\" \")","v":" "},{"$f":"IF('V2'!C$46,'V2'!C$46,\" \")","v":" "},{"$f":"IF('V2'!C$47,'V2'!C$47,\" \")","v":" "},{"$f":"'V2'!C$48","v":" "},{"$f":"'V2'!C$50","v":" "},{"$f":"'V2'!C$52","v":" "},{"$f":"'V2'!C$54","v":" "},{"$f":"IF('V2'!D$44,'V2'!D$44,\" \")","v":" "},{"$f":"IF('V2'!D$45,'V2'!D$45,\" \")","v":" "},{"$f":"IF('V2'!D$46,'V2'!D$46,\" \")","v":" "},{"$f":"IF('V2'!D$47,'V2'!D$47,\" \")","v":" "},{"$f":"'V2'!D$48","v":" "},{"$f":"'V2'!D$50","v":" "},{"$f":"'V2'!D$52","v":" "},{"$f":"'V2'!D$54","v":" "}]
[20,null,{"$f":"IF(ISBLANK('G2'!J$17),\" \",'G2'!J$17)","v":" "},null,20,null,{"$f":"IF(ISBLANK('V2'!E$48),\" \",'V2'!E$48)","v":" "},{"$f":"IF(ISBLANK('V2'!F$48),\" \",'V2'!F$48)","v":" "},{"$f":"IF(ISBLANK('V2'!E$50),\" \",'V2'!E$50)","v":" "},{"$f":"IF(ISBLANK('V2'!F$50),\" \",'V2'!F$50)","v":" "},{"$f":"IF(ISBLANK('V2'!E$52),\" \",'V2'!E$52)","v":" "},{"$f":"IF(ISBLANK('V2'!F$52),\" \",'V2'!F$52)","v":" "},{"$f":"IF(ISBLANK('V2'!E$54),\" \",'V2'!E$54)","v":" "},{"$f":"IF(ISBLANK('V2'!F$54),\" \",'V2'!F$54)","v":" "},20,{"$f":"IF('V2'!E$44,'V2'!E$44,\" \")","v":" "},{"$f":"IF('V2'!E$45,'V2'!E$45,\" \")","v":" "},{"$f":"IF('V2'!E$46,'V2'!E$46,\" \")","v":" "},{"$f":"IF('V2'!E$47,'V2'!E$47,\" \")","v":" "},{"$f":"'V2'!E$48","v":" "},{"$f":"'V2'!E$50","v":" "},{"$f":"'V2'!E$52","v":" "},{"$f":"'V2'!E$54","v":" "},{"$f":"IF('V2'!F$44,'V2'!F$44,\" \")","v":" "},{"$f":"IF('V2'!F$45,'V2'!F$45,\" \")","v":" "},{"$f":"IF('V2'!F$46,'V2'!F$46,\" \")","v":" "},{"$f":"IF('V2'!F$47,'V2'!F$47,\" \")","v":" "},{"$f":"'V2'!F$48","v":" "},{"$f":"'V2'!F$50","v":" "},{"$f":"'V2'!F$52","v":" "},{"$f":"'V2'!F$54","v":" "}]
[21,null,{"$f":"IF(ISBLANK('G2'!K$17),\" \",'G2'!K$17)","v":" "},null,21,null,{"$f":"IF(ISBLANK('V2'!G$48),\" \",'V2'!G$48)","v":" "},{"$f":"IF(ISBLANK('V2'!H$48),\" \",'V2'!H$48)","v":" "},{"$f":"IF(ISBLANK('V2'!G$50),\" \",'V2'!G$50)","v":" "},{"$f":"IF(ISBLANK('V2'!H$50),\" \",'V2'!H$50)","v":" "},{"$f":"IF(ISBLANK('V2'!G$52),\" \",'V2'!G$52)","v":" "},{"$f":"IF(ISBLANK('V2'!H$52),\" \",'V2'!H$52)","v":" "},{"$f":"IF(ISBLANK('V2'!G$54),\" \",'V2'!G$54)","v":" "},{"$f":"IF(ISBLANK('V2'!H$54),\" \",'V2'!H$54)","v":" "},21,{"$f":"IF('V2'!G$44,'V2'!G$44,\" \")","v":" "},{"$f":"IF('V2'!G$45,'V2'!G$45,\" \")","v":" "},{"$f":"IF('V2'!G$46,'V2'!G$46,\" \")","v":" "},{"$f":"IF('V2'!G$47,'V2'!G$47,\" \")","v":" "},{"$f":"'V2'!G$48","v":" "},{"$f":"'V2'!G$50","v":" "},{"$f":"'V2'!G$52","v":" "},{"$f":"'V2'!G$54","v":" "},{"$f":"IF('V2'!H$44,'V2'!H$44,\" \")","v":" "},{"$f":"IF('V2'!H$45,'V2'!H$45,\" \")","v":" "},{"$f":"IF('V2'!H$46,'V2'!H$46,\" \")","v":" "},{"$f":"IF('V2'!H$47,'V2'!H$47,\" \")","v":" "},{"$f":"'V2'!H$48","v":" "},{"$f":"'V2'!H$50","v":" "},{"$f":"'V2'!H$52","v":" "},{"$f":"'V2'!H$54","v":" "}]
[22,null,{"$f":"IF(ISBLANK('G2'!L$17),\" \",'G2'!L$17)","v":" "},null,22,null,{"$f":"IF(ISBLANK('V2'!I$48),\" \",'V2'!I$48)","v":" "},{"$f":"IF(ISBLANK('V2'!J$48),\" \",'V2'!J$48)","v":" "},{"$f":"IF(ISBLANK('V2'!I$50),\" \",'V2'!I$50)","v":" "},{"$f":"IF(ISBLANK('V2'!J$50),\" \",'V2'!J$50)","v":" "},{"$f":"IF(ISBLANK('V2'!I$52),\" \",'V2'!I$52)","v":" "},{"$f":"IF(ISBLANK('V2'!J$52),\" \",'V2'!J$52)","v":" "},{"$f":"IF(ISBLANK('V2'!I$54),\" \",'V2'!I$54)","v":" "},{"$f":"IF(ISBLANK('V2'!J$54),\" \",'V2'!J$54)","v":" "},22,{"$f":"IF('V2'!I$44,'V2'!I$44,\" \")","v":" "},{"$f":"IF('V2'!I$45,'V2'!I$45,\" \")","v":" "},{"$f":"IF('V2'!I$46,'V2'!I$46,\" \")","v":" "},{"$f":"IF('V2'!I$47,'V2'!I$47,\" \")","v":" "},{"$f":"'V2'!I$48","v":" "},{"$f":"'V2'!I$50","v":" "},{"$f":"'V2'!I$52","v":" "},{"$f":"'V2'!I$54","v":" "},{"$f":"IF('V2'!J$44,'V2'!J$44,\" \")","v":" "},{"$f":"IF('V2'!J$45,'V2'!J$45,\" \")","v":" "},{"$f":"IF('V2'!J$46,'V2'!J$46,\" \")","v":" "},{"$f":"IF('V2'!J$47,'V2'!J$47,\" \")","v":" "},{"$f":"'V2'!J$48","v":" "},{"$f":"'V2'!J$50","v":" "},{"$f":"'V2'!J$52","v":" "},{"$f":"'V2'!J$54","v":" "}]
[23,null,{"$f":"IF(ISBLANK('G2'!M$17),\" \",'G2'!M$17)","v":" "},null,23,null,{"$f":"IF(ISBLANK('V2'!K$48),\" \",'V2'!K$48)","v":" "},{"$f":"IF(ISBLANK('V2'!L$48),\" \",'V2'!L$48)","v":" "},{"$f":"IF(ISBLANK('V2'!K$50),\" \",'V2'!K$50)","v":" "},{"$f":"IF(ISBLANK('V2'!L$50),\" \",'V2'!L$50)","v":" "},{"$f":"IF(ISBLANK('V2'!K$52),\" \",'V2'!K$52)","v":" "},{"$f":"IF(ISBLANK('V2'!L$52),\" \",'V2'!L$52)","v":" "},{"$f":"IF(ISBLANK('V2'!K$54),\" \",'V2'!K$54)","v":" "},{"$f":"IF(ISBLANK('V2'!L$54),\" \",'V2'!L$54)","v":" "},23,{"$f":"IF('V2'!K$44,'V2'!K$44,\" \")","v":" "},{"$f":"IF('V2'!K$45,'V2'!K$45,\" \")","v":" "},{"$f":"IF('V2'!K$46,'V2'!K$46,\" \")","v":" "},{"$f":"IF('V2'!K$47,'V2'!K$47,\" \")","v":" "},{"$f":"'V2'!K$48","v":" "},{"$f":"'V2'!K$50","v":" "},{"$f":"'V2'!K$52","v":" "},{"$f":"'V2'!K$54","v":" "},{"$f":"IF('V2'!L$44,'V2'!L$44,\" \")","v":" "},{"$f":"IF('V2'!L$45,'V2'!L$45,\" \")","v":" "},{"$f":"IF('V2'!L$46,'V2'!L$46,\" \")","v":" "},{"$f":"IF('V2'!L$47,'V2'!L$47,\" \")","v":" "},{"$f":"'V2'!L$48","v":" "},{"$f":"'V2'!L$50","v":" "},{"$f":"'V2'!L$52","v":" "},{"$f":"'V2'!L$54","v":" "}]
[24,null,{"$f":"IF(ISBLANK('G2'!N$17),\" \",'G2'!N$17)","v":" "},null,24,null,{"$f":"IF(ISBLANK('V2'!M$48),\" \",'V2'!M$48)","v":" "},{"$f":"IF(ISBLANK('V2'!N$48),\" \",'V2'!N$48)","v":" "},{"$f":"IF(ISBLANK('V2'!M$50),\" \",'V2'!M$50)","v":" "},{"$f":"IF(ISBLANK('V2'!N$50),\" \",'V2'!N$50)","v":" "},{"$f":"IF(ISBLANK('V2'!M$52),\" \",'V2'!M$52)","v":" "},{"$f":"IF(ISBLANK('V2'!N$52),\" \",'V2'!N$52)","v":" "},{"$f":"IF(ISBLANK('V2'!M$54),\" \",'V2'!M$54)","v":" "},{"$f":"IF(ISBLANK('V2'!N$54),\" \",'V2'!N$54)","v":" "},24,{"$f":"IF('V2'!M$44,'V2'!M$44,\" \")","v":" "},{"$f":"IF('V2'!M$45,'V2'!M$45,\" \")","v":" "},{"$f":"IF('V2'!M$46,'V2'!M$46,\" \")","v":" "},{"$f":"IF('V2'!M$47,'V2'!M$47,\" \")","v":" "},{"$f":"'V2'!M$48","v":" "},{"$f":"'V2'!M$50","v":" "},{"$f":"'V2'!M$52","v":" "},{"$f":"'V2'!M$54","v":" "},{"$f":"IF('V2'!N$44,'V2'!N$44,\" \")","v":" "},{"$f":"IF('V2'!N$45,'V2'!N$45,\" \")","v":" "},{"$f":"IF('V2'!N$46,'V2'!N$46,\" \")","v":" "},{"$f":"IF('V2'!N$47,'V2'!N$47,\" \")","v":" "},{"$f":"'V2'!N$48","v":" "},{"$f":"'V2'!N$50","v":" "},{"$f":"'V2'!N$52","v":" "},{"$f":"'V2'!N$54","v":" "}]
[25,null,{"$f":"IF(ISBLANK('G3'!C$17),\" \",'G3'!C$17)","v":" "},null,25,null,{"$f":"IF(ISBLANK('V3'!C$18),\" \",'V3'!C$18)","v":" "},{"$f":"IF(ISBLANK('V3'!D$18),\" \",'V3'!D$18)","v":" "},{"$f":"IF(ISBLANK('V3'!C$20),\" \",'V3'!C$20)","v":" "},{"$f":"IF(ISBLANK('V3'!D$20),\" \",'V3'!D$20)","v":" "},{"$f":"IF(ISBLANK('V3'!C$22),\" \",'V3'!C$22)","v":" "},{"$f":"IF(ISBLANK('V3'!D$22),\" \",'V3'!D$22)","v":" "},{"$f":"IF(ISBLANK('V3'!C$24),\" \",'V3'!C$24)","v":" "},{"$f":"IF(ISBLANK('V3'!D$24),\" \",'V3'!D$24)","v":" "},25,{"$f":"IF('V3'!C$14,'V3'!C$14,\" \")","v":" "},{"$f":"IF('V3'!C$15,'V3'!C$15,\" \")","v":" "},{"$f":"IF('V3'!C$16,'V3'!C$16,\" \")","v":" "},{"$f":"IF('V3'!C$17,'V3'!C$17,\" \")","v":" "},{"$f":"'V3'!C$18","v":" "},{"$f":"'V3'!C$20","v":" "},{"$f":"'V3'!C$22","v":" "},{"$f":"'V3'!C$24","v":" "},{"$f":"IF('V3'!D$14,'V3'!D$14,\" \")","v":" "},{"$f":"IF('V3'!D$15,'V3'!D$15,\" \")","v":" "},{"$f":"IF('V3'!D$16,'V3'!D$16,\" \")","v":" "},{"$f":"IF('V3'!D$17,'V3'!D$17,\" \")","v":" "},{"$f":"'V3'!D$18","v":" "},{"$f":"'V3'!D$20","v":" "},{"$f":"'V3'!D$22","v":" "},{"$f":"'V3'!D$24","v":" "}]
[26,null,{"$f":"IF(ISBLANK('G3'!D$17),\" \",'G3'!D$17)","v":" "},null,26,null,{"$f":"IF(ISBLANK('V3'!E$18),\" \",'V3'!E$18)","v":" "},{"$f":"IF(ISBLANK('V3'!F$18),\" \",'V3'!F$18)","v":" "},{"$f":"IF(ISBLANK('V3'!E$20),\" \",'V3'!E$20)","v":" "},{"$f":"IF(ISBLANK('V3'!F$20),\" \",'V3'!F$20)","v":" "},{"$f":"IF(ISBLANK('V3'!E$22),\" \",'V3'!E$22)","v":" "},{"$f":"IF(ISBLANK('V3'!F$22),\" \",'V3'!F$22)","v":" "},{"$f":"IF(ISBLANK('V3'!E$24),\" \",'V3'!E$24)","v":" "},{"$f":"IF(ISBLANK('V3'!F$24),\" \",'V3'!F$24)","v":" "},26,{"$f":"IF('V3'!E$14,'V3'!E$14,\" \")","v":" "},{"$f":"IF('V3'!E$15,'V3'!E$15,\" \")","v":" "},{"$f":"IF('V3'!E$16,'V3'!E$16,\" \")","v":" "},{"$f":"IF('V3'!E$17,'V3'!E$17,\" \")","v":" "},{"$f":"'V3'!E$18","v":" "},{"$f":"'V3'!E$20","v":" "},{"$f":"'V3'!E$22","v":" "},{"$f":"'V3'!E$24","v":" "},{"$f":"IF('V3'!F$14,'V3'!F$14,\" \")","v":" "},{"$f":"IF('V3'!F$15,'V3'!F$15,\" \")","v":" "},{"$f":"IF('V3'!F$16,'V3'!F$16,\" \")","v":" "},{"$f":"IF('V3'!F$17,'V3'!F$17,\" \")","v":" "},{"$f":"'V3'!F$18","v":" "},{"$f":"'V3'!F$20","v":" "},{"$f":"'V3'!F$22","v":" "},{"$f":"'V3'!F$24","v":" "}]
[27,null,{"$f":"IF(ISBLANK('G3'!E$17),\" \",'G3'!E$17)","v":" "},null,27,null,{"$f":"IF(ISBLANK('V3'!G$18),\" \",'V3'!G$18)","v":" "},{"$f":"IF(ISBLANK('V3'!H$18),\" \",'V3'!H$18)","v":" "},{"$f":"IF(ISBLANK('V3'!G$20),\" \",'V3'!G$20)","v":" "},{"$f":"IF(ISBLANK('V3'!H$20),\" \",'V3'!H$20)","v":" "},{"$f":"IF(ISBLANK('V3'!G$22),\" \",'V3'!G$22)","v":" "},{"$f":"IF(ISBLANK('V3'!H$22),\" \",'V3'!H$22)","v":" "},{"$f":"IF(ISBLANK('V3'!G$24),\" \",'V3'!G$24)","v":" "},{"$f":"IF(ISBLANK('V3'!H$24),\" \",'V3'!H$24)","v":" "},27,{"$f":"IF('V3'!G$14,'V3'!G$14,\" \")","v":" "},{"$f":"IF('V3'!G$15,'V3'!G$15,\" \")","v":" "},{"$f":"IF('V3'!G$16,'V3'!G$16,\" \")","v":" "},{"$f":"IF('V3'!G$17,'V3'!G$17,\" \")","v":" "},{"$f":"'V3'!G$18","v":" "},{"$f":"'V3'!G$20","v":" "},{"$f":"'V3'!G$22","v":" "},{"$f":"'V3'!G$24","v":" "},{"$f":"IF('V3'!H$14,'V3'!H$14,\" \")","v":" "},{"$f":"IF('V3'!H$15,'V3'!H$15,\" \")","v":" "},{"$f":"IF('V3'!H$16,'V3'!H$16,\" \")","v":" "},{"$f":"IF('V3'!H$17,'V3'!H$17,\" \")","v":" "},{"$f":"'V3'!H$18","v":" "},{"$f":"'V3'!H$20","v":" "},{"$f":"'V3'!H$22","v":" "},{"$f":"'V3'!H$24","v":" "}]
[28,null,{"$f":"IF(ISBLANK('G3'!F$17),\" \",'G3'!F$17)","v":" "},null,28,null,{"$f":"IF(ISBLANK('V3'!I$18),\" \",'V3'!I$18)","v":" "},{"$f":"IF(ISBLANK('V3'!J$18),\" \",'V3'!J$18)","v":" "},{"$f":"IF(ISBLANK('V3'!I$20),\" \",'V3'!I$20)","v":" "},{"$f":"IF(ISBLANK('V3'!J$20),\" \",'V3'!J$20)","v":" "},{"$f":"IF(ISBLANK('V3'!I$22),\" \",'V3'!I$22)","v":" "},{"$f":"IF(ISBLANK('V3'!J$22),\" \",'V3'!J$22)","v":" "},{"$f":"IF(ISBLANK('V3'!I$24),\" \",'V3'!I$24)","v":" "},{"$f":"IF(ISBLANK('V3'!J$24),\" \",'V3'!J$24)","v":" "},28,{"$f":"IF('V3'!I$14,'V3'!I$14,\" \")","v":" "},{"$f":"IF('V3'!I$15,'V3'!I$15,\" \")","v":" "},{"$f":"IF('V3'!I$16,'V3'!I$16,\" \")","v":" "},{"$f":"IF('V3'!I$17,'V3'!I$17,\" \")","v":" "},{"$f":"'V3'!I$18","v":" "},{"$f":"'V3'!I$20","v":" "},{"$f":"'V3'!I$22","v":" "},{"$f":"'V3'!I$24","v":" "},{"$f":"IF('V3'!J$14,'V3'!J$14,\" \")","v":" "},{"$f":"IF('V3'!J$15,'V3'!J$15,\" \")","v":" "},{"$f":"IF('V3'!J$16,'V3'!J$16,\" \")","v":" "},{"$f":"IF('V3'!J$17,'V3'!J$17,\" \")","v":" "},{"$f":"'V3'!J$18","v":" "},{"$f":"'V3'!J$20","v":" "},{"$f":"'V3'!J$22","v":" "},{"$f":"'V3'!J$24","v":" "}]
[29,null,{"$f":"IF(ISBLANK('G3'!G$17),\" \",'G3'!G$17)","v":" "},null,29,null,{"$f":"IF(ISBLANK('V3'!K$18),\" \",'V3'!K$18)","v":" "},{"$f":"IF(ISBLANK('V3'!L$18),\" \",'V3'!L$18)","v":" "},{"$f":"IF(ISBLANK('V3'!K$20),\" \",'V3'!K$20)","v":" "},{"$f":"IF(ISBLANK('V3'!L$20),\" \",'V3'!L$20)","v":" "},{"$f":"IF(ISBLANK('V3'!K$22),\" \",'V3'!K$22)","v":" "},{"$f":"IF(ISBLANK('V3'!L$22),\" \",'V3'!L$22)","v":" "},{"$f":"IF(ISBLANK('V3'!K$24),\" \",'V3'!K$24)","v":" "},{"$f":"IF(ISBLANK('V3'!L$24),\" \",'V3'!L$24)","v":" "},29,{"$f":"IF('V3'!K$14,'V3'!K$14,\" \")","v":" "},{"$f":"IF('V3'!K$15,'V3'!K$15,\" \")","v":" "},{"$f":"IF('V3'!K$16,'V3'!K$16,\" \")","v":" "},{"$f":"IF('V3'!K$17,'V3'!K$17,\" \")","v":" "},{"$f":"'V3'!K$18","v":" "},{"$f":"'V3'!K$20","v":" "},{"$f":"'V3'!K$22","v":" "},{"$f":"'V3'!K$24","v":" "},{"$f":"IF('V3'!L$14,'V3'!L$14,\" \")","v":" "},{"$f":"IF('V3'!L$15,'V3'!L$15,\" \")","v":" "},{"$f":"IF('V3'!L$16,'V3'!L$16,\" \")","v":" "},{"$f":"IF('V3'!L$17,'V3'!L$17,\" \")","v":" "},{"$f":"'V3'!L$18","v":" "},{"$f":"'V3'!L$20","v":" "},{"$f":"'V3'!L$22","v":" "},{"$f":"'V3'!L$24","v":" "}]
[30,null,{"$f":"IF(ISBLANK('G3'!H$17),\" \",'G3'!H$17)","v":" "},null,30,null,{"$f":"IF(ISBLANK('V3'!M$18),\" \",'V3'!M$18)","v":" "},{"$f":"IF(ISBLANK('V3'!N$18),\" \",'V3'!N$18)","v":" "},{"$f":"IF(ISBLANK('V3'!M$20),\" \",'V3'!M$20)","v":" "},{"$f":"IF(ISBLANK('V3'!N$20),\" \",'V3'!N$20)","v":" "},{"$f":"IF(ISBLANK('V3'!M$22),\" \",'V3'!M$22)","v":" "},{"$f":"IF(ISBLANK('V3'!N$22),\" \",'V3'!N$22)","v":" "},{"$f":"IF(ISBLANK('V3'!M$24),\" \",'V3'!M$24)","v":" "},{"$f":"IF(ISBLANK('V3'!N$24),\" \",'V3'!N$24)","v":" "},30,{"$f":"IF('V3'!M$14,'V3'!M$14,\" \")","v":" "},{"$f":"IF('V3'!M$15,'V3'!M$15,\" \")","v":" "},{"$f":"IF('V3'!M$16,'V3'!M$16,\" \")","v":" "},{"$f":"IF('V3'!M$17,'V3'!M$17,\" \")","v":" "},{"$f":"'V3'!M$18","v":" "},{"$f":"'V3'!M$20","v":" "},{"$f":"'V3'!M$22","v":" "},{"$f":"'V3'!M$24","v":" "},{"$f":"IF('V3'!N$14,'V3'!N$14,\" \")","v":" "},{"$f":"IF('V3'!N$15,'V3'!N$15,\" \")","v":" "},{"$f":"IF('V3'!N$16,'V3'!N$16,\" \")","v":" "},{"$f":"IF('V3'!N$17,'V3'!N$17,\" \")","v":" "},{"$f":"'V3'!N$18","v":" "},{"$f":"'V3'!N$20","v":" "},{"$f":"'V3'!N$22","v":" "},{"$f":"'V3'!N$24","v":" "}]
[31,null,{"$f":"IF(ISBLANK('G3'!I$17),\" \",'G3'!I$17)","v":" "},null,31,null,{"$f":"IF(ISBLANK('V3'!C$48),\" \",'V3'!C$48)","v":" "},{"$f":"IF(ISBLANK('V3'!D$48),\" \",'V3'!D$48)","v":" "},{"$f":"IF(ISBLANK('V3'!C$50),\" \",'V3'!C$50)","v":" "},{"$f":"IF(ISBLANK('V3'!D$50),\" \",'V3'!D$50)","v":" "},{"$f":"IF(ISBLANK('V3'!C$52),\" \",'V3'!C$52)","v":" "},{"$f":"IF(ISBLANK('V3'!D$52),\" \",'V3'!D$52)","v":" "},{"$f":"IF(ISBLANK('V3'!C$54),\" \",'V3'!C$54)","v":" "},{"$f":"IF(ISBLANK('V3'!D$54),\" \",'V3'!D$54)","v":" "},31,{"$f":"IF('V3'!C$44,'V3'!C$44,\" \")","v":" "},{"$f":"IF('V3'!C$45,'V3'!C$45,\" \")","v":" "},{"$f":"IF('V3'!C$46,'V3'!C$46,\" \")","v":" "},{"$f":"IF('V3'!C$47,'V3'!C$47,\" \")","v":" "},{"$f":"'V3'!C$48","v":" "},{"$f":"'V3'!C$50","v":" "},{"$f":"'V3'!C$52","v":" "},{"$f":"'V3'!C$54","v":" "},{"$f":"IF('V3'!D$44,'V3'!D$44,\" \")","v":" "},{"$f":"IF('V3'!D$45,'V3'!D$45,\" \")","v":" "},{"$f":"IF('V3'!D$46,'V3'!D$46,\" \")","v":" "},{"$f":"IF('V3'!D$47,'V3'!D$47,\" \")","v":" "},{"$f":"'V3'!D$48","v":" "},{"$f":"'V3'!D$50","v":" "},{"$f":"'V3'!D$52","v":" "},{"$f":"'V3'!D$54","v":" "}]
[32,null,{"$f":"IF(ISBLANK('G3'!J$17),\" \",'G3'!J$17)","v":" "},null,32,null,{"$f":"IF(ISBLANK('V3'!E$48),\" \",'V3'!E$48)","v":" "},{"$f":"IF(ISBLANK('V3'!F$48),\" \",'V3'!F$48)","v":" "},{"$f":"IF(ISBLANK('V3'!E$50),\" \",'V3'!E$50)","v":" "},{"$f":"IF(ISBLANK('V3'!F$50),\" \",'V3'!F$50)","v":" "},{"$f":"IF(ISBLANK('V3'!E$52),\" \",'V3'!E$52)","v":" "},{"$f":"IF(ISBLANK('V3'!F$52),\" \",'V3'!F$52)","v":" "},{"$f":"IF(ISBLANK('V3'!E$54),\" \",'V3'!E$54)","v":" "},{"$f":"IF(ISBLANK('V3'!F$54),\" \",'V3'!F$54)","v":" "},32,{"$f":"IF('V3'!E$44,'V3'!E$44,\" \")","v":" "},{"$f":"IF('V3'!E$45,'V3'!E$45,\" \")","v":" "},{"$f":"IF('V3'!E$46,'V3'!E$46,\" \")","v":" "},{"$f":"IF('V3'!E$47,'V3'!E$47,\" \")","v":" "},{"$f":"'V3'!E$48","v":" "},{"$f":"'V3'!E$50","v":" "},{"$f":"'V3'!E$52","v":" "},{"$f":"'V3'!E$54","v":" "},{"$f":"IF('V3'!F$44,'V3'!F$44,\" \")","v":" "},{"$f":"IF('V3'!F$45,'V3'!F$45,\" \")","v":" "},{"$f":"IF('V3'!F$46,'V3'!F$46,\" \")","v":" "},{"$f":"IF('V3'!F$47,'V3'!F$47,\" \")","v":" "},{"$f":"'V3'!F$48","v":" "},{"$f":"'V3'!F$50","v":" "},{"$f":"'V3'!F$52","v":" "},{"$f":"'V3'!F$54","v":" "}]
[33,null,{"$f":"IF(ISBLANK('G3'!K$17),\" \",'G3'!K$17)","v":" "},null,33,null,{"$f":"IF(ISBLANK('V3'!G$48),\" \",'V3'!G$48)","v":" "},{"$f":"IF(ISBLANK('V3'!H$48),\" \",'V3'!H$48)","v":" "},{"$f":"IF(ISBLANK('V3'!G$50),\" \",'V3'!G$50)","v":" "},{"$f":"IF(ISBLANK('V3'!H$50),\" \",'V3'!H$50)","v":" "},{"$f":"IF(ISBLANK('V3'!G$52),\" \",'V3'!G$52)","v":" "},{"$f":"IF(ISBLANK('V3'!H$52),\" \",'V3'!H$52)","v":" "},{"$f":"IF(ISBLANK('V3'!G$54),\" \",'V3'!G$54)","v":" "},{"$f":"IF(ISBLANK('V3'!H$54),\" \",'V3'!H$54)","v":" "},33,{"$f":"IF('V3'!G$44,'V3'!G$44,\" \")","v":" "},{"$f":"IF('V3'!G$45,'V3'!G$45,\" \")","v":" "},{"$f":"IF('V3'!G$46,'V3'!G$46,\" \")","v":" "},{"$f":"IF('V3'!G$47,'V3'!G$47,\" \")","v":" "},{"$f":"'V3'!G$48","v":" "},{"$f":"'V3'!G$50","v":" "},{"$f":"'V3'!G$52","v":" "},{"$f":"'V3'!G$54","v":" "},{"$f":"IF('V3'!H$44,'V3'!H$44,\" \")","v":" "},{"$f":"IF('V3'!H$45,'V3'!H$45,\" \")","v":" "},{"$f":"IF('V3'!H$46,'V3'!H$46,\" \")","v":" "},{"$f":"IF('V3'!H$47,'V3'!H$47,\" \")","v":" "},{"$f":"'V3'!H$48","v":" "},{"$f":"'V3'!H$50","v":" "},{"$f":"'V3'!H$52","v":" "},{"$f":"'V3'!H$54","v":" "}]
[34,null,{"$f":"IF(ISBLANK('G3'!L$17),\" \",'G3'!L$17)","v":" "},null,34,null,{"$f":"IF(ISBLANK('V3'!I$48),\" \",'V3'!I$48)","v":" "},{"$f":"IF(ISBLANK('V3'!J$48),\" \",'V3'!J$48)","v":" "},{"$f":"IF(ISBLANK('V3'!I$50),\" \",'V3'!I$50)","v":" "},{"$f":"IF(ISBLANK('V3'!J$50),\" \",'V3'!J$50)","v":" "},{"$f":"IF(ISBLANK('V3'!I$52),\" \",'V3'!I$52)","v":" "},{"$f":"IF(ISBLANK('V3'!J$52),\" \",'V3'!J$52)","v":" "},{"$f":"IF(ISBLANK('V3'!I$54),\" \",'V3'!I$54)","v":" "},{"$f":"IF(ISBLANK('V3'!J$54),\" \",'V3'!J$54)","v":" "},34,{"$f":"IF('V3'!I$44,'V3'!I$44,\" \")","v":" "},{"$f":"IF('V3'!I$45,'V3'!I$45,\" \")","v":" "},{"$f":"IF('V3'!I$46,'V3'!I$46,\" \")","v":" "},{"$f":"IF('V3'!I$47,'V3'!I$47,\" \")","v":" "},{"$f":"'V3'!I$48","v":" "},{"$f":"'V3'!I$50","v":" "},{"$f":"'V3'!I$52","v":" "},{"$f":"'V3'!I$54","v":" "},{"$f":"IF('V3'!J$44,'V3'!J$44,\" \")","v":" "},{"$f":"IF('V3'!J$45,'V3'!J$45,\" \")","v":" "},{"$f":"IF('V3'!J$46,'V3'!J$46,\" \")","v":" "},{"$f":"IF('V3'!J$47,'V3'!J$47,\" \")","v":" "},{"$f":"'V3'!J$48","v":" "},{"$f":"'V3'!J$50","v":" "},{"$f":"'V3'!J$52","v":" "},{"$f":"'V3'!J$54","v":" "}]
[35,null,{"$f":"IF(ISBLANK('G3'!M$17),\" \",'G3'!M$17)","v":" "},null,35,null,{"$f":"IF(ISBLANK('V3'!K$48),\" \",'V3'!K$48)","v":" "},{"$f":"IF(ISBLANK('V3'!L$48),\" \",'V3'!L$48)","v":" "},{"$f":"IF(ISBLANK('V3'!K$50),\" \",'V3'!K$50)","v":" "},{"$f":"IF(ISBLANK('V3'!L$50),\" \",'V3'!L$50)","v":" "},{"$f":"IF(ISBLANK('V3'!K$52),\" \",'V3'!K$52)","v":" "},{"$f":"IF(ISBLANK('V3'!L$52),\" \",'V3'!L$52)","v":" "},{"$f":"IF(ISBLANK('V3'!K$54),\" \",'V3'!K$54)","v":" "},{"$f":"IF(ISBLANK('V3'!L$54),\" \",'V3'!L$54)","v":" "},35,{"$f":"IF('V3'!K$44,'V3'!K$44,\" \")","v":" "},{"$f":"IF('V3'!K$45,'V3'!K$45,\" \")","v":" "},{"$f":"IF('V3'!K$46,'V3'!K$46,\" \")","v":" "},{"$f":"IF('V3'!K$47,'V3'!K$47,\" \")","v":" "},{"$f":"'V3'!K$48","v":" "},{"$f":"'V3'!K$50","v":" "},{"$f":"'V3'!K$52","v":" "},{"$f":"'V3'!K$54","v":" "},{"$f":"IF('V3'!L$44,'V3'!L$44,\" \")","v":" "},{"$f":"IF('V3'!L$45,'V3'!L$45,\" \")","v":" "},{"$f":"IF('V3'!L$46,'V3'!L$46,\" \")","v":" "},{"$f":"IF('V3'!L$47,'V3'!L$47,\" \")","v":" "},{"$f":"'V3'!L$48","v":" "},{"$f":"'V3'!L$50","v":" "},{"$f":"'V3'!L$52","v":" "},{"$f":"'V3'!L$54","v":" "}]
[36,null,{"$f":"IF(ISBLANK('G3'!N$17),\" \",'G3'!N$17)","v":" "},null,36,null,{"$f":"IF(ISBLANK('V3'!M$48),\" \",'V3'!M$48)","v":" "},{"$f":"IF(ISBLANK('V3'!N$48),\" \",'V3'!N$48)","v":" "},{"$f":"IF(ISBLANK('V3'!M$50),\" \",'V3'!M$50)","v":" "},{"$f":"IF(ISBLANK('V3'!N$50),\" \",'V3'!N$50)","v":" "},{"$f":"IF(ISBLANK('V3'!M$52),\" \",'V3'!M$52)","v":" "},{"$f":"IF(ISBLANK('V3'!N$52),\" \",'V3'!N$52)","v":" "},{"$f":"IF(ISBLANK('V3'!M$54),\" \",'V3'!M$54)","v":" "},{"$f":"IF(ISBLANK('V3'!N$54),\" \",'V3'!N$54)","v":" "},36,{"$f":"IF('V3'!M$44,'V3'!M$44,\" \")","v":" "},{"$f":"IF('V3'!M$45,'V3'!M$45,\" \")","v":" "},{"$f":"IF('V3'!M$46,'V3'!M$46,\" \")","v":" "},{"$f":"IF('V3'!M$47,'V3'!M$47,\" \")","v":" "},{"$f":"'V3'!M$48","v":" "},{"$f":"'V3'!M$50","v":" "},{"$f":"'V3'!M$52","v":" "},{"$f":"'V3'!M$54","v":" "},{"$f":"IF('V3'!N$44,'V3'!N$44,\" \")","v":" "},{"$f":"IF('V3'!N$45,'V3'!N$45,\" \")","v":" "},{"$f":"IF('V3'!N$46,'V3'!N$46,\" \")","v":" "},{"$f":"IF('V3'!N$47,'V3'!N$47,\" \")","v":" "},{"$f":"'V3'!N$48","v":" "},{"$f":"'V3'!N$50","v":" "},{"$f":"'V3'!N$52","v":" "},{"$f":"'V3'!N$54","v":" "}]
[37,null,{"$f":"IF(ISBLANK('G4'!C$17),\" \",'G4'!C$17)","v":" "},null,37,null,{"$f":"IF(ISBLANK('V4'!C$18),\" \",'V4'!C$18)","v":" "},{"$f":"IF(ISBLANK('V4'!D$18),\" \",'V4'!D$18)","v":" "},{"$f":"IF(ISBLANK('V4'!C$20),\" \",'V4'!C$20)","v":" "},{"$f":"IF(ISBLANK('V4'!D$20),\" \",'V4'!D$20)","v":" "},{"$f":"IF(ISBLANK('V4'!C$22),\" \",'V4'!C$22)","v":" "},{"$f":"IF(ISBLANK('V4'!D$22),\" \",'V4'!D$22)","v":" "},{"$f":"IF(ISBLANK('V4'!C$24),\" \",'V4'!C$24)","v":" "},{"$f":"IF(ISBLANK('V4'!D$24),\" \",'V4'!D$24)","v":" "},37,{"$f":"IF('V4'!C$14,'V4'!C$14,\" \")","v":" "},{"$f":"IF('V4'!C$15,'V4'!C$15,\" \")","v":" "},{"$f":"IF('V4'!C$16,'V4'!C$16,\" \")","v":" "},{"$f":"IF('V4'!C$17,'V4'!C$17,\" \")","v":" "},{"$f":"'V4'!C$18","v":" "},{"$f":"'V4'!C$20","v":" "},{"$f":"'V4'!C$22","v":" "},{"$f":"'V4'!C$24","v":" "},{"$f":"IF('V4'!D$14,'V4'!D$14,\" \")","v":" "},{"$f":"IF('V4'!D$15,'V4'!D$15,\" \")","v":" "},{"$f":"IF('V4'!D$16,'V4'!D$16,\" \")","v":" "},{"$f":"IF('V4'!D$17,'V4'!D$17,\" \")","v":" "},{"$f":"'V4'!D$18","v":" "},{"$f":"'V4'!D$20","v":" "},{"$f":"'V4'!D$22","v":" "},{"$f":"'V4'!D$24","v":" "}]
[38,null,{"$f":"IF(ISBLANK('G4'!D$17),\" \",'G4'!D$17)","v":" "},null,38,null,{"$f":"IF(ISBLANK('V4'!E$18),\" \",'V4'!E$18)","v":" "},{"$f":"IF(ISBLANK('V4'!F$18),\" \",'V4'!F$18)","v":" "},{"$f":"IF(ISBLANK('V4'!E$20),\" \",'V4'!E$20)","v":" "},{"$f":"IF(ISBLANK('V4'!F$20),\" \",'V4'!F$20)","v":" "},{"$f":"IF(ISBLANK('V4'!E$22),\" \",'V4'!E$22)","v":" "},{"$f":"IF(ISBLANK('V4'!F$22),\" \",'V4'!F$22)","v":" "},{"$f":"IF(ISBLANK('V4'!E$24),\" \",'V4'!E$24)","v":" "},{"$f":"IF(ISBLANK('V4'!F$24),\" \",'V4'!F$24)","v":" "},38,{"$f":"IF('V4'!E$14,'V4'!E$14,\" \")","v":" "},{"$f":"IF('V4'!E$15,'V4'!E$15,\" \")","v":" "},{"$f":"IF('V4'!E$16,'V4'!E$16,\" \")","v":" "},{"$f":"IF('V4'!E$17,'V4'!E$17,\" \")","v":" "},{"$f":"'V4'!E$18","v":" "},{"$f":"'V4'!E$20","v":" "},{"$f":"'V4'!E$22","v":" "},{"$f":"'V4'!E$24","v":" "},{"$f":"IF('V4'!F$14,'V4'!F$14,\" \")","v":" "},{"$f":"IF('V4'!F$15,'V4'!F$15,\" \")","v":" "},{"$f":"IF('V4'!F$16,'V4'!F$16,\" \")","v":" "},{"$f":"IF('V4'!F$17,'V4'!F$17,\" \")","v":" "},{"$f":"'V4'!F$18","v":" "},{"$f":"'V4'!F$20","v":" "},{"$f":"'V4'!F$22","v":" "},{"$f":"'V4'!F$24","v":" "}]
[39,null,{"$f":"IF(ISBLANK('G4'!E$17),\" \",'G4'!E$17)","v":" "},null,39,null,{"$f":"IF(ISBLANK('V4'!G$18),\" \",'V4'!G$18)","v":" "},{"$f":"IF(ISBLANK('V4'!H$18),\" \",'V4'!H$18)","v":" "},{"$f":"IF(ISBLANK('V4'!G$20),\" \",'V4'!G$20)","v":" "},{"$f":"IF(ISBLANK('V4'!H$20),\" \",'V4'!H$20)","v":" "},{"$f":"IF(ISBLANK('V4'!G$22),\" \",'V4'!G$22)","v":" "},{"$f":"IF(ISBLANK('V4'!H$22),\" \",'V4'!H$22)","v":" "},{"$f":"IF(ISBLANK('V4'!G$24),\" \",'V4'!G$24)","v":" "},{"$f":"IF(ISBLANK('V4'!H$24),\" \",'V4'!H$24)","v":" "},39,{"$f":"IF('V4'!G$14,'V4'!G$14,\" \")","v":" "},{"$f":"IF('V4'!G$15,'V4'!G$15,\" \")","v":" "},{"$f":"IF('V4'!G$16,'V4'!G$16,\" \")","v":" "},{"$f":"IF('V4'!G$17,'V4'!G$17,\" \")","v":" "},{"$f":"'V4'!G$18","v":" "},{"$f":"'V4'!G$20","v":" "},{"$f":"'V4'!G$22","v":" "},{"$f":"'V4'!G$24","v":" "},{"$f":"IF('V4'!H$14,'V4'!H$14,\" \")","v":" "},{"$f":"IF('V4'!H$15,'V4'!H$15,\" \")","v":" "},{"$f":"IF('V4'!H$16,'V4'!H$16,\" \")","v":" "},{"$f":"IF('V4'!H$17,'V4'!H$17,\" \")","v":" "},{"$f":"'V4'!H$18","v":" "},{"$f":"'V4'!H$20","v":" "},{"$f":"'V4'!H$22","v":" "},{"$f":"'V4'!H$24","v":" "}]
[40,null,{"$f":"IF(ISBLANK('G4'!F$17),\" \",'G4'!F$17)","v":" "},null,40,null,{"$f":"IF(ISBLANK('V4'!I$18),\" \",'V4'!I$18)","v":" "},{"$f":"IF(ISBLANK('V4'!J$18),\" \",'V4'!J$18)","v":" "},{"$f":"IF(ISBLANK('V4'!I$20),\" \",'V4'!I$20)","v":" "},{"$f":"IF(ISBLANK('V4'!J$20),\" \",'V4'!J$20)","v":" "},{"$f":"IF(ISBLANK('V4'!I$22),\" \",'V4'!I$22)","v":" "},{"$f":"IF(ISBLANK('V4'!J$22),\" \",'V4'!J$22)","v":" "},{"$f":"IF(ISBLANK('V4'!I$24),\" \",'V4'!I$24)","v":" "},{"$f":"IF(ISBLANK('V4'!J$24),\" \",'V4'!J$24)","v":" "},40,{"$f":"IF('V4'!I$14,'V4'!I$14,\" \")","v":" "},{"$f":"IF('V4'!I$15,'V4'!I$15,\" \")","v":" "},{"$f":"IF('V4'!I$16,'V4'!I$16,\" \")","v":" "},{"$f":"IF('V4'!I$17,'V4'!I$17,\" \")","v":" "},{"$f":"'V4'!I$18","v":" "},{"$f":"'V4'!I$20","v":" "},{"$f":"'V4'!I$22","v":" "},{"$f":"'V4'!I$24","v":" "},{"$f":"IF('V4'!J$14,'V4'!J$14,\" \")","v":" "},{"$f":"IF('V4'!J$15,'V4'!J$15,\" \")","v":" "},{"$f":"IF('V4'!J$16,'V4'!J$16,\" \")","v":" "},{"$f":"IF('V4'!J$17,'V4'!J$17,\" \")","v":" "},{"$f":"'V4'!J$18","v":" "},{"$f":"'V4'!J$20","v":" "},{"$f":"'V4'!J$22","v":" "},{"$f":"'V4'!J$24","v":" "}]
[41,null,{"$f":"IF(ISBLANK('G4'!G$17),\" \",'G4'!G$17)","v":" "},null,41,null,{"$f":"IF(ISBLANK('V4'!K$18),\" \",'V4'!K$18)","v":" "},{"$f":"IF(ISBLANK('V4'!L$18),\" \",'V4'!L$18)","v":" "},{"$f":"IF(ISBLANK('V4'!K$20),\" \",'V4'!K$20)","v":" "},{"$f":"IF(ISBLANK('V4'!L$20),\" \",'V4'!L$20)","v":" "},{"$f":"IF(ISBLANK('V4'!K$22),\" \",'V4'!K$22)","v":" "},{"$f":"IF(ISBLANK('V4'!L$22),\" \",'V4'!L$22)","v":" "},{"$f":"IF(ISBLANK('V4'!K$24),\" \",'V4'!K$24)","v":" "},{"$f":"IF(ISBLANK('V4'!L$24),\" \",'V4'!L$24)","v":" "},41,{"$f":"IF('V4'!K$14,'V4'!K$14,\" \")","v":" "},{"$f":"IF('V4'!K$15,'V4'!K$15,\" \")","v":" "},{"$f":"IF('V4'!K$16,'V4'!K$16,\" \")","v":" "},{"$f":"IF('V4'!K$17,'V4'!K$17,\" \")","v":" "},{"$f":"'V4'!K$18","v":" "},{"$f":"'V4'!K$20","v":" "},{"$f":"'V4'!K$22","v":" "},{"$f":"'V4'!K$24","v":" "},{"$f":"IF('V4'!L$14,'V4'!L$14,\" \")","v":" "},{"$f":"IF('V4'!L$15,'V4'!L$15,\" \")","v":" "},{"$f":"IF('V4'!L$16,'V4'!L$16,\" \")","v":" "},{"$f":"IF('V4'!L$17,'V4'!L$17,\" \")","v":" "},{"$f":"'V4'!L$18","v":" "},{"$f":"'V4'!L$20","v":" "},{"$f":"'V4'!L$22","v":" "},{"$f":"'V4'!L$24","v":" "}]
[42,null,{"$f":"IF(ISBLANK('G4'!H$17),\" \",'G4'!H$17)","v":" "},null,42,null,{"$f":"IF(ISBLANK('V4'!M$18),\" \",'V4'!M$18)","v":" "},{"$f":"IF(ISBLANK('V4'!N$18),\" \",'V4'!N$18)","v":" "},{"$f":"IF(ISBLANK('V4'!M$20),\" \",'V4'!M$20)","v":" "},{"$f":"IF(ISBLANK('V4'!N$20),\" \",'V4'!N$20)","v":" "},{"$f":"IF(ISBLANK('V4'!M$22),\" \",'V4'!M$22)","v":" "},{"$f":"IF(ISBLANK('V4'!N$22),\" \",'V4'!N$22)","v":" "},{"$f":"IF(ISBLANK('V4'!M$24),\" \",'V4'!M$24)","v":" "},{"$f":"IF(ISBLANK('V4'!N$24),\" \",'V4'!N$24)","v":" "},42,{"$f":"IF('V4'!M$14,'V4'!M$14,\" \")","v":" "},{"$f":"IF('V4'!M$15,'V4'!M$15,\" \")","v":" "},{"$f":"IF('V4'!M$16,'V4'!M$16,\" \")","v":" "},{"$f":"IF('V4'!M$17,'V4'!M$17,\" \")","v":" "},{"$f":"'V4'!M$18","v":" "},{"$f":"'V4'!M$20","v":" "},{"$f":"'V4'!M$22","v":" "},{"$f":"'V4'!M$24","v":" "},{"$f":"IF('V4'!N$14,'V4'!N$14,\" \")","v":" "},{"$f":"IF('V4'!N$15,'V4'!N$15,\" \")","v":" "},{"$f":"IF('V4'!N$16,'V4'!N$16,\" \")","v":" "},{"$f":"IF('V4'!N$17,'V4'!N$17,\" \")","v":" "},{"$f":"'V4'!N$18","v":" "},{"$f":"'V4'!N$20","v":" "},{"$f":"'V4'!N$22","v":" "},{"$f":"'V4'!N$24","v":" "}]
[43,null,{"$f":"IF(ISBLANK('G4'!I$17),\" \",'G4'!I$17)","v":" "},null,43,null,{"$f":"IF(ISBLANK('V4'!C$48),\" \",'V4'!C$48)","v":" "},{"$f":"IF(ISBLANK('V4'!D$48),\" \",'V4'!D$48)","v":" "},{"$f":"IF(ISBLANK('V4'!C$50),\" \",'V4'!C$50)","v":" "},{"$f":"IF(ISBLANK('V4'!D$50),\" \",'V4'!D$50)","v":" "},{"$f":"IF(ISBLANK('V4'!C$52),\" \",'V4'!C$52)","v":" "},{"$f":"IF(ISBLANK('V4'!D$52),\" \",'V4'!D$52)","v":" "},{"$f":"IF(ISBLANK('V4'!C$54),\" \",'V4'!C$54)","v":" "},{"$f":"IF(ISBLANK('V4'!D$54),\" \",'V4'!D$54)","v":" "},43,{"$f":"IF('V4'!C$44,'V4'!C$44,\" \")","v":" "},{"$f":"IF('V4'!C$45,'V4'!C$45,\" \")","v":" "},{"$f":"IF('V4'!C$46,'V4'!C$46,\" \")","v":" "},{"$f":"IF('V4'!C$47,'V4'!C$47,\" \")","v":" "},{"$f":"'V4'!C$48","v":" "},{"$f":"'V4'!C$50","v":" "},{"$f":"'V4'!C$52","v":" "},{"$f":"'V4'!C$54","v":" "},{"$f":"IF('V4'!D$44,'V4'!D$44,\" \")","v":" "},{"$f":"IF('V4'!D$45,'V4'!D$45,\" \")","v":" "},{"$f":"IF('V4'!D$46,'V4'!D$46,\" \")","v":" "},{"$f":"IF('V4'!D$47,'V4'!D$47,\" \")","v":" "},{"$f":"'V4'!D$48","v":" "},{"$f":"'V4'!D$50","v":" "},{"$f":"'V4'!D$52","v":" "},{"$f":"'V4'!D$54","v":" "}]
[44,null,{"$f":"IF(ISBLANK('G4'!J$17),\" \",'G4'!J$17)","v":" "},null,44,null,{"$f":"IF(ISBLANK('V4'!E$48),\" \",'V4'!E$48)","v":" "},{"$f":"IF(ISBLANK('V4'!F$48),\" \",'V4'!F$48)","v":" "},{"$f":"IF(ISBLANK('V4'!E$50),\" \",'V4'!E$50)","v":" "},{"$f":"IF(ISBLANK('V4'!F$50),\" \",'V4'!F$50)","v":" "},{"$f":"IF(ISBLANK('V4'!E$52),\" \",'V4'!E$52)","v":" "},{"$f":"IF(ISBLANK('V4'!F$52),\" \",'V4'!F$52)","v":" "},{"$f":"IF(ISBLANK('V4'!E$54),\" \",'V4'!E$54)","v":" "},{"$f":"IF(ISBLANK('V4'!F$54),\" \",'V4'!F$54)","v":" "},44,{"$f":"IF('V4'!E$44,'V4'!E$44,\" \")","v":" "},{"$f":"IF('V4'!E$45,'V4'!E$45,\" \")","v":" "},{"$f":"IF('V4'!E$46,'V4'!E$46,\" \")","v":" "},{"$f":"IF('V4'!E$47,'V4'!E$47,\" \")","v":" "},{"$f":"'V4'!E$48","v":" "},{"$f":"'V4'!E$50","v":" "},{"$f":"'V4'!E$52","v":" "},{"$f":"'V4'!E$54","v":" "},{"$f":"IF('V4'!F$44,'V4'!F$44,\" \")","v":" "},{"$f":"IF('V4'!F$45,'V4'!F$45,\" \")","v":" "},{"$f":"IF('V4'!F$46,'V4'!F$46,\" \")","v":" "},{"$f":"IF('V4'!F$47,'V4'!F$47,\" \")","v":" "},{"$f":"'V4'!F$48","v":" "},{"$f":"'V4'!F$50","v":" "},{"$f":"'V4'!F$52","v":" "},{"$f":"'V4'!F$54","v":" "}]
[45,null,{"$f":"IF(ISBLANK('G4'!K$17),\" \",'G4'!K$17)","v":" "},null,45,null,{"$f":"IF(ISBLANK('V4'!G$48),\" \",'V4'!G$48)","v":" "},{"$f":"IF(ISBLANK('V4'!H$48),\" \",'V4'!H$48)","v":" "},{"$f":"IF(ISBLANK('V4'!G$50),\" \",'V4'!G$50)","v":" "},{"$f":"IF(ISBLANK('V4'!H$50),\" \",'V4'!H$50)","v":" "},{"$f":"IF(ISBLANK('V4'!G$52),\" \",'V4'!G$52)","v":" "},{"$f":"IF(ISBLANK('V4'!H$52),\" \",'V4'!H$52)","v":" "},{"$f":"IF(ISBLANK('V4'!G$54),\" \",'V4'!G$54)","v":" "},{"$f":"IF(ISBLANK('V4'!H$54),\" \",'V4'!H$54)","v":" "},45,{"$f":"IF('V4'!G$44,'V4'!G$44,\" \")","v":" "},{"$f":"IF('V4'!G$45,'V4'!G$45,\" \")","v":" "},{"$f":"IF('V4'!G$46,'V4'!G$46,\" \")","v":" "},{"$f":"IF('V4'!G$47,'V4'!G$47,\" \")","v":" "},{"$f":"'V4'!G$48","v":" "},{"$f":"'V4'!G$50","v":" "},{"$f":"'V4'!G$52","v":" "},{"$f":"'V4'!G$54","v":" "},{"$f":"IF('V4'!H$44,'V4'!H$44,\" \")","v":" "},{"$f":"IF('V4'!H$45,'V4'!H$45,\" \")","v":" "},{"$f":"IF('V4'!H$46,'V4'!H$46,\" \")","v":" "},{"$f":"IF('V4'!H$47,'V4'!H$47,\" \")","v":" "},{"$f":"'V4'!H$48","v":" "},{"$f":"'V4'!H$50","v":" "},{"$f":"'V4'!H$52","v":" "},{"$f":"'V4'!H$54","v":" "}]
[46,null,{"$f":"IF(ISBLANK('G4'!L$17),\" \",'G4'!L$17)","v":" "},null,46,null,{"$f":"IF(ISBLANK('V4'!I$48),\" \",'V4'!I$48)","v":" "},{"$f":"IF(ISBLANK('V4'!J$48),\" \",'V4'!J$48)","v":" "},{"$f":"IF(ISBLANK('V4'!I$50),\" \",'V4'!I$50)","v":" "},{"$f":"IF(ISBLANK('V4'!J$50),\" \",'V4'!J$50)","v":" "},{"$f":"IF(ISBLANK('V4'!I$52),\" \",'V4'!I$52)","v":" "},{"$f":"IF(ISBLANK('V4'!J$52),\" \",'V4'!J$52)","v":" "},{"$f":"IF(ISBLANK('V4'!I$54),\" \",'V4'!I$54)","v":" "},{"$f":"IF(ISBLANK('V4'!J$54),\" \",'V4'!J$54)","v":" "},46,{"$f":"IF('V4'!I$44,'V4'!I$44,\" \")","v":" "},{"$f":"IF('V4'!I$45,'V4'!I$45,\" \")","v":" "},{"$f":"IF('V4'!I$46,'V4'!I$46,\" \")","v":" "},{"$f":"IF('V4'!I$47,'V4'!I$47,\" \")","v":" "},{"$f":"'V4'!I$48","v":" "},{"$f":"'V4'!I$50","v":" "},{"$f":"'V4'!I$52","v":" "},{"$f":"'V4'!I$54","v":" "},{"$f":"IF('V4'!J$44,'V4'!J$44,\" \")","v":" "},{"$f":"IF('V4'!J$45,'V4'!J$45,\" \")","v":" "},{"$f":"IF('V4'!J$46,'V4'!J$46,\" \")","v":" "},{"$f":"IF('V4'!J$47,'V4'!J$47,\" \")","v":" "},{"$f":"'V4'!J$48","v":" "},{"$f":"'V4'!J$50","v":" "},{"$f":"'V4'!J$52","v":" "},{"$f":"'V4'!J$54","v":" "}]
[47,null,{"$f":"IF(ISBLANK('G4'!M$17),\" \",'G4'!M$17)","v":" "},null,47,null,{"$f":"IF(ISBLANK('V4'!K$48),\" \",'V4'!K$48)","v":" "},{"$f":"IF(ISBLANK('V4'!L$48),\" \",'V4'!L$48)","v":" "},{"$f":"IF(ISBLANK('V4'!K$50),\" \",'V4'!K$50)","v":" "},{"$f":"IF(ISBLANK('V4'!L$50),\" \",'V4'!L$50)","v":" "},{"$f":"IF(ISBLANK('V4'!K$52),\" \",'V4'!K$52)","v":" "},{"$f":"IF(ISBLANK('V4'!L$52),\" \",'V4'!L$52)","v":" "},{"$f":"IF(ISBLANK('V4'!K$54),\" \",'V4'!K$54)","v":" "},{"$f":"IF(ISBLANK('V4'!L$54),\" \",'V4'!L$54)","v":" "},47,{"$f":"IF('V4'!K$44,'V4'!K$44,\" \")","v":" "},{"$f":"IF('V4'!K$45,'V4'!K$45,\" \")","v":" "},{"$f":"IF('V4'!K$46,'V4'!K$46,\" \")","v":" "},{"$f":"IF('V4'!K$47,'V4'!K$47,\" \")","v":" "},{"$f":"'V4'!K$48","v":" "},{"$f":"'V4'!K$50","v":" "},{"$f":"'V4'!K$52","v":" "},{"$f":"'V4'!K$54","v":" "},{"$f":"IF('V4'!L$44,'V4'!L$44,\" \")","v":" "},{"$f":"IF('V4'!L$45,'V4'!L$45,\" \")","v":" "},{"$f":"IF('V4'!L$46,'V4'!L$46,\" \")","v":" "},{"$f":"IF('V4'!L$47,'V4'!L$47,\" \")","v":" "},{"$f":"'V4'!L$48","v":" "},{"$f":"'V4'!L$50","v":" "},{"$f":"'V4'!L$52","v":" "},{"$f":"'V4'!L$54","v":" "}]
[48,null,{"$f":"IF(ISBLANK('G4'!N$17),\" \",'G4'!N$17)","v":" "},null,48,null,{"$f":"IF(ISBLANK('V4'!M$48),\" \",'V4'!M$48)","v":" "},{"$f":"IF(ISBLANK('V4'!N$48),\" \",'V4'!N$48)","v":" "},{"$f":"IF(ISBLANK('V4'!M$50),\" \",'V4'!M$50)","v":" "},{"$f":"IF(ISBLANK('V4'!N$50),\" \",'V4'!N$50)","v":" "},{"$f":"IF(ISBLANK('V4'!M$52),\" \",'V4'!M$52)","v":" "},{"$f":"IF(ISBLANK('V4'!N$52),\" \",'V4'!N$52)","v":" "},{"$f":"IF(ISBLANK('V4'!M$54),\" \",'V4'!M$54)","v":" "},{"$f":"IF(ISBLANK('V4'!N$54),\" \",'V4'!N$54)","v":" "},48,{"$f":"IF('V4'!M$44,'V4'!M$44,\" \")","v":" "},{"$f":"IF('V4'!M$45,'V4'!M$45,\" \")","v":" "},{"$f":"IF('V4'!M$46,'V4'!M$46,\" \")","v":" "},{"$f":"IF('V4'!M$47,'V4'!M$47,\" \")","v":" "},{"$f":"'V4'!M$48","v":" "},{"$f":"'V4'!M$50","v":" "},{"$f":"'V4'!M$52","v":" "},{"$f":"'V4'!M$54","v":" "},{"$f":"IF('V4'!N$44,'V4'!N$44,\" \")","v":" "},{"$f":"IF('V4'!N$45,'V4'!N$45,\" \")","v":" "},{"$f":"IF('V4'!N$46,'V4'!N$46,\" \")","v":" "},{"$f":"IF('V4'!N$47,'V4'!N$47,\" \")","v":" "},{"$f":"'V4'!N$48","v":" "},{"$f":"'V4'!N$50","v":" "},{"$f":"'V4'!N$52","v":" "},{"$f":"'V4'!N$54","v":" "}]
[49,null,{"$f":"IF(ISBLANK('G5'!C$17),\" \",'G5'!C$17)","v":" "},null,49,null,{"$f":"IF(ISBLANK('V5'!C$18),\" \",'V5'!C$18)","v":" "},{"$f":"IF(ISBLANK('V5'!D$18),\" \",'V5'!D$18)","v":" "},{"$f":"IF(ISBLANK('V5'!C$20),\" \",'V5'!C$20)","v":" "},{"$f":"IF(ISBLANK('V5'!D$20),\" \",'V5'!D$20)","v":" "},{"$f":"IF(ISBLANK('V5'!C$22),\" \",'V5'!C$22)","v":" "},{"$f":"IF(ISBLANK('V5'!D$22),\" \",'V5'!D$22)","v":" "},{"$f":"IF(ISBLANK('V5'!C$24),\" \",'V5'!C$24)","v":" "},{"$f":"IF(ISBLANK('V5'!D$24),\" \",'V5'!D$24)","v":" "},49,{"$f":"IF('V5'!C$14,'V5'!C$14,\" \")","v":" "},{"$f":"IF('V5'!C$15,'V5'!C$15,\" \")","v":" "},{"$f":"IF('V5'!C$16,'V5'!C$16,\" \")","v":" "},{"$f":"IF('V5'!C$17,'V5'!C$17,\" \")","v":" "},{"$f":"'V5'!C$18","v":" "},{"$f":"'V5'!C$20","v":" "},{"$f":"'V5'!C$22","v":" "},{"$f":"'V5'!C$24","v":" "},{"$f":"IF('V5'!D$14,'V5'!D$14,\" \")","v":" "},{"$f":"IF('V5'!D$15,'V5'!D$15,\" \")","v":" "},{"$f":"IF('V5'!D$16,'V5'!D$16,\" \")","v":" "},{"$f":"IF('V5'!D$17,'V5'!D$17,\" \")","v":" "},{"$f":"'V5'!D$18","v":" "},{"$f":"'V5'!D$20","v":" "},{"$f":"'V5'!D$22","v":" "},{"$f":"'V5'!D$24","v":" "}]
[50,null,{"$f":"IF(ISBLANK('G5'!C$17),\" \",'G5'!C$17)","v":" "},null,50,null,{"$f":"IF(ISBLANK('V5'!E$18),\" \",'V5'!E$18)","v":" "},{"$f":"IF(ISBLANK('V5'!F$18),\" \",'V5'!F$18)","v":" "},{"$f":"IF(ISBLANK('V5'!E$20),\" \",'V5'!E$20)","v":" "},{"$f":"IF(ISBLANK('V5'!F$20),\" \",'V5'!F$20)","v":" "},{"$f":"IF(ISBLANK('V5'!E$22),\" \",'V5'!E$22)","v":" "},{"$f":"IF(ISBLANK('V5'!F$22),\" \",'V5'!F$22)","v":" "},{"$f":"IF(ISBLANK('V5'!E$24),\" \",'V5'!E$24)","v":" "},{"$f":"IF(ISBLANK('V5'!F$24),\" \",'V5'!F$24)","v":" "},50,{"$f":"IF('V5'!E$14,'V5'!E$14,\" \")","v":" "},{"$f":"IF('V5'!E$15,'V5'!E$15,\" \")","v":" "},{"$f":"IF('V5'!E$16,'V5'!E$16,\" \")","v":" "},{"$f":"IF('V5'!E$17,'V5'!E$17,\" \")","v":" "},{"$f":"'V5'!E$18","v":" "},{"$f":"'V5'!E$20","v":" "},{"$f":"'V5'!E$22","v":" "},{"$f":"'V5'!E$24","v":" "},{"$f":"IF('V5'!F$14,'V5'!F$14,\" \")","v":" "},{"$f":"IF('V5'!F$15,'V5'!F$15,\" \")","v":" "},{"$f":"IF('V5'!F$16,'V5'!F$16,\" \")","v":" "},{"$f":"IF('V5'!F$17,'V5'!F$17,\" \")","v":" "},{"$f":"'V5'!F$18","v":" "},{"$f":"'V5'!F$20","v":" "},{"$f":"'V5'!F$22","v":" "},{"$f":"'V5'!F$24","v":" "}]
[51,null,{"$f":"IF(ISBLANK('G5'!C$17),\" \",'G5'!C$17)","v":" "},null,51,null,{"$f":"IF(ISBLANK('V5'!G$18),\" \",'V5'!G$18)","v":" "},{"$f":"IF(ISBLANK('V5'!H$18),\" \",'V5'!H$18)","v":" "},{"$f":"IF(ISBLANK('V5'!G$20),\" \",'V5'!G$20)","v":" "},{"$f":"IF(ISBLANK('V5'!H$20),\" \",'V5'!H$20)","v":" "},{"$f":"IF(ISBLANK('V5'!G$22),\" \",'V5'!G$22)","v":" "},{"$f":"IF(ISBLANK('V5'!H$22),\" \",'V5'!H$22)","v":" "},{"$f":"IF(ISBLANK('V5'!G$24),\" \",'V5'!G$24)","v":" "},{"$f":"IF(ISBLANK('V5'!H$24),\" \",'V5'!H$24)","v":" "},51,{"$f":"IF('V5'!G$14,'V5'!G$14,\" \")","v":" "},{"$f":"IF('V5'!G$15,'V5'!G$15,\" \")","v":" "},{"$f":"IF('V5'!G$16,'V5'!G$16,\" \")","v":" "},{"$f":"IF('V5'!G$17,'V5'!G$17,\" \")","v":" "},{"$f":"'V5'!G$18","v":" "},{"$f":"'V5'!G$20","v":" "},{"$f":"'V5'!G$22","v":" "},{"$f":"'V5'!G$24","v":" "},{"$f":"IF('V5'!H$14,'V5'!H$14,\" \")","v":" "},{"$f":"IF('V5'!H$15,'V5'!H$15,\" \")","v":" "},{"$f":"IF('V5'!H$16,'V5'!H$16,\" \")","v":" "},{"$f":"IF('V5'!H$17,'V5'!H$17,\" \")","v":" "},{"$f":"'V5'!H$18","v":" "},{"$f":"'V5'!H$20","v":" "},{"$f":"'V5'!H$22","v":" "},{"$f":"'V5'!H$24","v":" "}]
[52,null,{"$f":"IF(ISBLANK('G5'!E$17),\" \",'G5'!E$17)","v":" "},null,52,null,{"$f":"IF(ISBLANK('V5'!I$18),\" \",'V5'!I$18)","v":" "},{"$f":"IF(ISBLANK('V5'!J$18),\" \",'V5'!J$18)","v":" "},{"$f":"IF(ISBLANK('V5'!I$20),\" \",'V5'!I$20)","v":" "},{"$f":"IF(ISBLANK('V5'!J$20),\" \",'V5'!J$20)","v":" "},{"$f":"IF(ISBLANK('V5'!I$22),\" \",'V5'!I$22)","v":" "},{"$f":"IF(ISBLANK('V5'!J$22),\" \",'V5'!J$22)","v":" "},{"$f":"IF(ISBLANK('V5'!I$24),\" \",'V5'!I$24)","v":" "},{"$f":"IF(ISBLANK('V5'!J$24),\" \",'V5'!J$24)","v":" "},52,{"$f":"IF('V5'!I$14,'V5'!I$14,\" \")","v":" "},{"$f":"IF('V5'!I$15,'V5'!I$15,\" \")","v":" "},{"$f":"IF('V5'!I$16,'V5'!I$16,\" \")","v":" "},{"$f":"IF('V5'!I$17,'V5'!I$17,\" \")","v":" "},{"$f":"'V5'!I$18","v":" "},{"$f":"'V5'!I$20","v":" "},{"$f":"'V5'!I$22","v":" "},{"$f":"'V5'!I$24","v":" "},{"$f":"IF('V5'!J$14,'V5'!J$14,\" \")","v":" "},{"$f":"IF('V5'!J$15,'V5'!J$15,\" \")","v":" "},{"$f":"IF('V5'!J$16,'V5'!J$16,\" \")","v":" "},{"$f":"IF('V5'!J$17,'V5'!J$17,\" \")","v":" "},{"$f":"'V5'!J$18","v":" "},{"$f":"'V5'!J$20","v":" "},{"$f":"'V5'!J$22","v":" "},{"$f":"'V5'!J$24","v":" "}]
[53,null,{"$f":"IF(ISBLANK('G5'!F$17),\" \",'G5'!F$17)","v":" "},null,53,null,{"$f":"IF(ISBLANK('V5'!K$18),\" \",'V5'!K$18)","v":" "},{"$f":"IF(ISBLANK('V5'!L$18),\" \",'V5'!L$18)","v":" "},{"$f":"IF(ISBLANK('V5'!K$20),\" \",'V5'!K$20)","v":" "},{"$f":"IF(ISBLANK('V5'!L$20),\" \",'V5'!L$20)","v":" "},{"$f":"IF(ISBLANK('V5'!K$22),\" \",'V5'!K$22)","v":" "},{"$f":"IF(ISBLANK('V5'!L$22),\" \",'V5'!L$22)","v":" "},{"$f":"IF(ISBLANK('V5'!K$24),\" \",'V5'!K$24)","v":" "},{"$f":"IF(ISBLANK('V5'!L$24),\" \",'V5'!L$24)","v":" "},53,{"$f":"IF('V5'!K$14,'V5'!K$14,\" \")","v":" "},{"$f":"IF('V5'!K$15,'V5'!K$15,\" \")","v":" "},{"$f":"IF('V5'!K$16,'V5'!K$16,\" \")","v":" "},{"$f":"IF('V5'!K$17,'V5'!K$17,\" \")","v":" "},{"$f":"'V5'!K$18","v":" "},{"$f":"'V5'!K$20","v":" "},{"$f":"'V5'!K$22","v":" "},{"$f":"'V5'!K$24","v":" "},{"$f":"IF('V5'!L$14,'V5'!L$14,\" \")","v":" "},{"$f":"IF('V5'!L$15,'V5'!L$15,\" \")","v":" "},{"$f":"IF('V5'!L$16,'V5'!L$16,\" \")","v":" "},{"$f":"IF('V5'!L$17,'V5'!L$17,\" \")","v":" "},{"$f":"'V5'!L$18","v":" "},{"$f":"'V5'!L$20","v":" "},{"$f":"'V5'!L$22","v":" "},{"$f":"'V5'!L$24","v":" "}]
[54,null,{"$f":"IF(ISBLANK('G5'!G$17),\" \",'G5'!G$17)","v":" "},null,54,null,{"$f":"IF(ISBLANK('V5'!M$18),\" \",'V5'!M$18)","v":" "},{"$f":"IF(ISBLANK('V5'!N$18),\" \",'V5'!N$18)","v":" "},{"$f":"IF(ISBLANK('V5'!M$20),\" \",'V5'!M$20)","v":" "},{"$f":"IF(ISBLANK('V5'!N$20),\" \",'V5'!N$20)","v":" "},{"$f":"IF(ISBLANK('V5'!M$22),\" \",'V5'!M$22)","v":" "},{"$f":"IF(ISBLANK('V5'!N$22),\" \",'V5'!N$22)","v":" "},{"$f":"IF(ISBLANK('V5'!M$24),\" \",'V5'!M$24)","v":" "},{"$f":"IF(ISBLANK('V5'!N$24),\" \",'V5'!N$24)","v":" "},54,{"$f":"IF('V5'!M$14,'V5'!M$14,\" \")","v":" "},{"$f":"IF('V5'!M$15,'V5'!M$15,\" \")","v":" "},{"$f":"IF('V5'!M$16,'V5'!M$16,\" \")","v":" "},{"$f":"IF('V5'!M$17,'V5'!M$17,\" \")","v":" "},{"$f":"'V5'!M$18","v":" "},{"$f":"'V5'!M$20","v":" "},{"$f":"'V5'!M$22","v":" "},{"$f":"'V5'!M$24","v":" "},{"$f":"IF('V5'!N$14,'V5'!N$14,\" \")","v":" "},{"$f":"IF('V5'!N$15,'V5'!N$15,\" \")","v":" "},{"$f":"IF('V5'!N$16,'V5'!N$16,\" \")","v":" "},{"$f":"IF('V5'!N$17,'V5'!N$17,\" \")","v":" "},{"$f":"'V5'!N$18","v":" "},{"$f":"'V5'!N$20","v":" "},{"$f":"'V5'!N$22","v":" "},{"$f":"'V5'!N$24","v":" "}]
[55,null,{"$f":"IF(ISBLANK('G5'!H$17),\" \",'G5'!H$17)","v":" "},null,55,null,{"$f":"IF(ISBLANK('V5'!C$48),\" \",'V5'!C$48)","v":" "},{"$f":"IF(ISBLANK('V5'!D$48),\" \",'V5'!D$48)","v":" "},{"$f":"IF(ISBLANK('V5'!C$50),\" \",'V5'!C$50)","v":" "},{"$f":"IF(ISBLANK('V5'!D$50),\" \",'V5'!D$50)","v":" "},{"$f":"IF(ISBLANK('V5'!C$52),\" \",'V5'!C$52)","v":" "},{"$f":"IF(ISBLANK('V5'!D$52),\" \",'V5'!D$52)","v":" "},{"$f":"IF(ISBLANK('V5'!C$54),\" \",'V5'!C$54)","v":" "},{"$f":"IF(ISBLANK('V5'!D$54),\" \",'V5'!D$54)","v":" "},55,{"$f":"IF('V5'!C$44,'V5'!C$44,\" \")","v":" "},{"$f":"IF('V5'!C$45,'V5'!C$45,\" \")","v":" "},{"$f":"IF('V5'!C$46,'V5'!C$46,\" \")","v":" "},{"$f":"IF('V5'!C$47,'V5'!C$47,\" \")","v":" "},{"$f":"'V5'!C$48","v":" "},{"$f":"'V5'!C$50","v":" "},{"$f":"'V5'!C$52","v":" "},{"$f":"'V5'!C$54","v":" "},{"$f":"IF('V5'!D$44,'V5'!D$44,\" \")","v":" "},{"$f":"IF('V5'!D$45,'V5'!D$45,\" \")","v":" "},{"$f":"IF('V5'!D$46,'V5'!D$46,\" \")","v":" "},{"$f":"IF('V5'!D$47,'V5'!D$47,\" \")","v":" "},{"$f":"'V5'!D$48","v":" "},{"$f":"'V5'!D$50","v":" "},{"$f":"'V5'!D$52","v":" "},{"$f":"'V5'!D$54","v":" "}]
[56,null,{"$f":"IF(ISBLANK('G5'!I$17),\" \",'G5'!I$17)","v":" "},null,56,null,{"$f":"IF(ISBLANK('V5'!E$48),\" \",'V5'!E$48)","v":" "},{"$f":"IF(ISBLANK('V5'!F$48),\" \",'V5'!F$48)","v":" "},{"$f":"IF(ISBLANK('V5'!E$50),\" \",'V5'!E$50)","v":" "},{"$f":"IF(ISBLANK('V5'!F$50),\" \",'V5'!F$50)","v":" "},{"$f":"IF(ISBLANK('V5'!E$52),\" \",'V5'!E$52)","v":" "},{"$f":"IF(ISBLANK('V5'!F$52),\" \",'V5'!F$52)","v":" "},{"$f":"IF(ISBLANK('V5'!E$54),\" \",'V5'!E$54)","v":" "},{"$f":"IF(ISBLANK('V5'!F$54),\" \",'V5'!F$54)","v":" "},56,{"$f":"IF('V5'!E$44,'V5'!E$44,\" \")","v":" "},{"$f":"IF('V5'!E$45,'V5'!E$45,\" \")","v":" "},{"$f":"IF('V5'!E$46,'V5'!E$46,\" \")","v":" "},{"$f":"IF('V5'!E$47,'V5'!E$47,\" \")","v":" "},{"$f":"'V5'!E$48","v":" "},{"$f":"'V5'!E$50","v":" "},{"$f":"'V5'!E$52","v":" "},{"$f":"'V5'!E$54","v":" "},{"$f":"IF('V5'!F$44,'V5'!F$44,\" \")","v":" "},{"$f":"IF('V5'!F$45,'V5'!F$45,\" \")","v":" "},{"$f":"IF('V5'!F$46,'V5'!F$46,\" \")","v":" "},{"$f":"IF('V5'!F$47,'V5'!F$47,\" \")","v":" "},{"$f":"'V5'!F$48","v":" "},{"$f":"'V5'!F$50","v":" "},{"$f":"'V5'!F$52","v":" "},{"$f":"'V5'!F$54","v":" "}]
[57,null,{"$f":"IF(ISBLANK('G5'!J$17),\" \",'G5'!J$17)","v":" "},null,57,null,{"$f":"IF(ISBLANK('V5'!G$48),\" \",'V5'!G$48)","v":" "},{"$f":"IF(ISBLANK('V5'!H$48),\" \",'V5'!H$48)","v":" "},{"$f":"IF(ISBLANK('V5'!G$50),\" \",'V5'!G$50)","v":" "},{"$f":"IF(ISBLANK('V5'!H$50),\" \",'V5'!H$50)","v":" "},{"$f":"IF(ISBLANK('V5'!G$52),\" \",'V5'!G$52)","v":" "},{"$f":"IF(ISBLANK('V5'!H$52),\" \",'V5'!H$52)","v":" "},{"$f":"IF(ISBLANK('V5'!G$54),\" \",'V5'!G$54)","v":" "},{"$f":"IF(ISBLANK('V5'!H$54),\" \",'V5'!H$54)","v":" "},57,{"$f":"IF('V5'!G$44,'V5'!G$44,\" \")","v":" "},{"$f":"IF('V5'!G$45,'V5'!G$45,\" \")","v":" "},{"$f":"IF('V5'!G$46,'V5'!G$46,\" \")","v":" "},{"$f":"IF('V5'!G$47,'V5'!G$47,\" \")","v":" "},{"$f":"'V5'!G$48","v":" "},{"$f":"'V5'!G$50","v":" "},{"$f":"'V5'!G$52","v":" "},{"$f":"'V5'!G$54","v":" "},{"$f":"IF('V5'!H$44,'V5'!H$44,\" \")","v":" "},{"$f":"IF('V5'!H$45,'V5'!H$45,\" \")","v":" "},{"$f":"IF('V5'!H$46,'V5'!H$46,\" \")","v":" "},{"$f":"IF('V5'!H$47,'V5'!H$47,\" \")","v":" "},{"$f":"'V5'!H$48","v":" "},{"$f":"'V5'!H$50","v":" "},{"$f":"'V5'!H$52","v":" "},{"$f":"'V5'!H$54","v":" "}]
[58,null,{"$f":"IF(ISBLANK('G5'!K$17),\" \",'G5'!K$17)","v":" "},null,58,null,{"$f":"IF(ISBLANK('V5'!I$48),\" \",'V5'!I$48)","v":" "},{"$f":"IF(ISBLANK('V5'!J$48),\" \",'V5'!J$48)","v":" "},{"$f":"IF(ISBLANK('V5'!I$50),\" \",'V5'!I$50)","v":" "},{"$f":"IF(ISBLANK('V5'!J$50),\" \",'V5'!J$50)","v":" "},{"$f":"IF(ISBLANK('V5'!I$52),\" \",'V5'!I$52)","v":" "},{"$f":"IF(ISBLANK('V5'!J$52),\" \",'V5'!J$52)","v":" "},{"$f":"IF(ISBLANK('V5'!I$54),\" \",'V5'!I$54)","v":" "},{"$f":"IF(ISBLANK('V5'!J$54),\" \",'V5'!J$54)","v":" "},58,{"$f":"IF('V5'!I$44,'V5'!I$44,\" \")","v":" "},{"$f":"IF('V5'!I$45,'V5'!I$45,\" \")","v":" "},{"$f":"IF('V5'!I$46,'V5'!I$46,\" \")","v":" "},{"$f":"IF('V5'!I$47,'V5'!I$47,\" \")","v":" "},{"$f":"'V5'!I$48","v":" "},{"$f":"'V5'!I$50","v":" "},{"$f":"'V5'!I$52","v":" "},{"$f":"'V5'!I$54","v":" "},{"$f":"IF('V5'!J$44,'V5'!J$44,\" \")","v":" "},{"$f":"IF('V5'!J$45,'V5'!J$45,\" \")","v":" "},{"$f":"IF('V5'!J$46,'V5'!J$46,\" \")","v":" "},{"$f":"IF('V5'!J$47,'V5'!J$47,\" \")","v":" "},{"$f":"'V5'!J$48","v":" "},{"$f":"'V5'!J$50","v":" "},{"$f":"'V5'!J$52","v":" "},{"$f":"'V5'!J$54","v":" "}]
[59,null,{"$f":"IF(ISBLANK('G5'!L$17),\" \",'G5'!L$17)","v":" "},null,59,null,{"$f":"IF(ISBLANK('V5'!K$48),\" \",'V5'!K$48)","v":" "},{"$f":"IF(ISBLANK('V5'!L$48),\" \",'V5'!L$48)","v":" "},{"$f":"IF(ISBLANK('V5'!K$50),\" \",'V5'!K$50)","v":" "},{"$f":"IF(ISBLANK('V5'!L$50),\" \",'V5'!L$50)","v":" "},{"$f":"IF(ISBLANK('V5'!K$52),\" \",'V5'!K$52)","v":" "},{"$f":"IF(ISBLANK('V5'!L$52),\" \",'V5'!L$52)","v":" "},{"$f":"IF(ISBLANK('V5'!K$54),\" \",'V5'!K$54)","v":" "},{"$f":"IF(ISBLANK('V5'!L$54),\" \",'V5'!L$54)","v":" "},59,{"$f":"IF('V5'!K$44,'V5'!K$44,\" \")","v":" "},{"$f":"IF('V5'!K$45,'V5'!K$45,\" \")","v":" "},{"$f":"IF('V5'!K$46,'V5'!K$46,\" \")","v":" "},{"$f":"IF('V5'!K$47,'V5'!K$47,\" \")","v":" "},{"$f":"'V5'!K$48","v":" "},{"$f":"'V5'!K$50","v":" "},{"$f":"'V5'!K$52","v":" "},{"$f":"'V5'!K$54","v":" "},{"$f":"IF('V5'!L$44,'V5'!L$44,\" \")","v":" "},{"$f":"IF('V5'!L$45,'V5'!L$45,\" \")","v":" "},{"$f":"IF('V5'!L$46,'V5'!L$46,\" \")","v":" "},{"$f":"IF('V5'!L$47,'V5'!L$47,\" \")","v":" "},{"$f":"'V5'!L$48","v":" "},{"$f":"'V5'!L$50","v":" "},{"$f":"'V5'!L$52","v":" "},{"$f":"'V5'!L$54","v":" "}]
[60,null,{"$f":"IF(ISBLANK('G5'!M$17),\" \",'G5'!M$17)","v":" "},null,60,null,{"$f":"IF(ISBLANK('V5'!M$48),\" \",'V5'!M$48)","v":" "},{"$f":"IF(ISBLANK('V5'!N$48),\" \",'V5'!N$48)","v":" "},{"$f":"IF(ISBLANK('V5'!M$50),\" \",'V5'!M$50)","v":" "},{"$f":"IF(ISBLANK('V5'!N$50),\" \",'V5'!N$50)","v":" "},{"$f":"IF(ISBLANK('V5'!M$52),\" \",'V5'!M$52)","v":" "},{"$f":"IF(ISBLANK('V5'!N$52),\" \",'V5'!N$52)","v":" "},{"$f":"IF(ISBLANK('V5'!M$54),\" \",'V5'!M$54)","v":" "},{"$f":"IF(ISBLANK('V5'!N$54),\" \",'V5'!N$54)","v":" "},60,{"$f":"IF('V5'!M$44,'V5'!M$44,\" \")","v":" "},{"$f":"IF('V5'!M$45,'V5'!M$45,\" \")","v":" "},{"$f":"IF('V5'!M$46,'V5'!M$46,\" \")","v":" "},{"$f":"IF('V5'!M$47,'V5'!M$47,\" \")","v":" "},{"$f":"'V5'!M$48","v":" "},{"$f":"'V5'!M$50","v":" "},{"$f":"'V5'!M$52","v":" "},{"$f":"'V5'!M$54","v":" "},{"$f":"IF('V5'!N$44,'V5'!N$44,\" \")","v":" "},{"$f":"IF('V5'!N$45,'V5'!N$45,\" \")","v":" "},{"$f":"IF('V5'!N$46,'V5'!N$46,\" \")","v":" "},{"$f":"IF('V5'!N$47,'V5'!N$47,\" \")","v":" "},{"$f":"'V5'!N$48","v":" "},{"$f":"'V5'!N$50","v":" "},{"$f":"'V5'!N$52","v":" "},{"$f":"'V5'!N$54","v":" "}]
[61,null,{"$f":"IF(ISBLANK('G6'!C$17),\" \",'G6'!C$17)","v":" "},null,61,null,{"$f":"IF(ISBLANK('V6'!C$18),\" \",'V6'!C$18)","v":" "},{"$f":"IF(ISBLANK('V6'!D$18),\" \",'V6'!D$18)","v":" "},{"$f":"IF(ISBLANK('V6'!C$20),\" \",'V6'!C$20)","v":" "},{"$f":"IF(ISBLANK('V6'!D$20),\" \",'V6'!D$20)","v":" "},{"$f":"IF(ISBLANK('V6'!C$22),\" \",'V6'!C$22)","v":" "},{"$f":"IF(ISBLANK('V6'!D$22),\" \",'V6'!D$22)","v":" "},{"$f":"IF(ISBLANK('V6'!C$24),\" \",'V6'!C$24)","v":" "},{"$f":"IF(ISBLANK('V6'!D$24),\" \",'V6'!D$24)","v":" "},61,{"$f":"IF('V6'!C$14,'V6'!C$14,\" \")","v":" "},{"$f":"IF('V6'!C$15,'V6'!C$15,\" \")","v":" "},{"$f":"IF('V6'!C$16,'V6'!C$16,\" \")","v":" "},{"$f":"IF('V6'!C$17,'V6'!C$17,\" \")","v":" "},{"$f":"'V6'!C$18","v":" "},{"$f":"'V6'!C$20","v":" "},{"$f":"'V6'!C$22","v":" "},{"$f":"'V6'!C$24","v":" "},{"$f":"IF('V6'!D$14,'V6'!D$14,\" \")","v":" "},{"$f":"IF('V6'!D$15,'V6'!D$15,\" \")","v":" "},{"$f":"IF('V6'!D$16,'V6'!D$16,\" \")","v":" "},{"$f":"IF('V6'!D$17,'V6'!D$17,\" \")","v":" "},{"$f":"'V6'!D$18","v":" "},{"$f":"'V6'!D$20","v":" "},{"$f":"'V6'!D$22","v":" "},{"$f":"'V6'!D$24","v":" "}]
[62,null,{"$f":"IF(ISBLANK('G6'!D$17),\" \",'G6'!D$17)","v":" "},null,62,null,{"$f":"IF(ISBLANK('V6'!E$18),\" \",'V6'!E$18)","v":" "},{"$f":"IF(ISBLANK('V6'!F$18),\" \",'V6'!F$18)","v":" "},{"$f":"IF(ISBLANK('V6'!E$20),\" \",'V6'!E$20)","v":" "},{"$f":"IF(ISBLANK('V6'!F$20),\" \",'V6'!F$20)","v":" "},{"$f":"IF(ISBLANK('V6'!E$22),\" \",'V6'!E$22)","v":" "},{"$f":"IF(ISBLANK('V6'!F$22),\" \",'V6'!F$22)","v":" "},{"$f":"IF(ISBLANK('V6'!E$24),\" \",'V6'!E$24)","v":" "},{"$f":"IF(ISBLANK('V6'!F$24),\" \",'V6'!F$24)","v":" "},62,{"$f":"IF('V6'!E$14,'V6'!E$14,\" \")","v":" "},{"$f":"IF('V6'!E$15,'V6'!E$15,\" \")","v":" "},{"$f":"IF('V6'!E$16,'V6'!E$16,\" \")","v":" "},{"$f":"IF('V6'!E$17,'V6'!E$17,\" \")","v":" "},{"$f":"'V6'!E$18","v":" "},{"$f":"'V6'!E$20","v":" "},{"$f":"'V6'!E$22","v":" "},{"$f":"'V6'!E$24","v":" "},{"$f":"IF('V6'!F$14,'V6'!F$14,\" \")","v":" "},{"$f":"IF('V6'!F$15,'V6'!F$15,\" \")","v":" "},{"$f":"IF('V6'!F$16,'V6'!F$16,\" \")","v":" "},{"$f":"IF('V6'!F$17,'V6'!F$17,\" \")","v":" "},{"$f":"'V6'!F$18","v":" "},{"$f":"'V6'!F$20","v":" "},{"$f":"'V6'!F$22","v":" "},{"$f":"'V6'!F$24","v":" "}]
[63,null,{"$f":"IF(ISBLANK('G6'!E$17),\" \",'G6'!E$17)","v":" "},null,63,null,{"$f":"IF(ISBLANK('V6'!G$18),\" \",'V6'!G$18)","v":" "},{"$f":"IF(ISBLANK('V6'!H$18),\" \",'V6'!H$18)","v":" "},{"$f":"IF(ISBLANK('V6'!G$20),\" \",'V6'!G$20)","v":" "},{"$f":"IF(ISBLANK('V6'!H$20),\" \",'V6'!H$20)","v":" "},{"$f":"IF(ISBLANK('V6'!G$22),\" \",'V6'!G$22)","v":" "},{"$f":"IF(ISBLANK('V6'!H$22),\" \",'V6'!H$22)","v":" "},{"$f":"IF(ISBLANK('V6'!G$24),\" \",'V6'!G$24)","v":" "},{"$f":"IF(ISBLANK('V6'!H$24),\" \",'V6'!H$24)","v":" "},63,{"$f":"IF('V6'!G$14,'V6'!G$14,\" \")","v":" "},{"$f":"IF('V6'!G$15,'V6'!G$15,\" \")","v":" "},{"$f":"IF('V6'!G$16,'V6'!G$16,\" \")","v":" "},{"$f":"IF('V6'!G$17,'V6'!G$17,\" \")","v":" "},{"$f":"'V6'!G$18","v":" "},{"$f":"'V6'!G$20","v":" "},{"$f":"'V6'!G$22","v":" "},{"$f":"'V6'!G$24","v":" "},{"$f":"IF('V6'!H$14,'V6'!H$14,\" \")","v":" "},{"$f":"IF('V6'!H$15,'V6'!H$15,\" \")","v":" "},{"$f":"IF('V6'!H$16,'V6'!H$16,\" \")","v":" "},{"$f":"IF('V6'!H$17,'V6'!H$17,\" \")","v":" "},{"$f":"'V6'!H$18","v":" "},{"$f":"'V6'!H$20","v":" "},{"$f":"'V6'!H$22","v":" "},{"$f":"'V6'!H$24","v":" "}]
[64,null,{"$f":"IF(ISBLANK('G6'!F$17),\" \",'G6'!F$17)","v":" "},null,64,null,{"$f":"IF(ISBLANK('V6'!I$18),\" \",'V6'!I$18)","v":" "},{"$f":"IF(ISBLANK('V6'!J$18),\" \",'V6'!J$18)","v":" "},{"$f":"IF(ISBLANK('V6'!I$20),\" \",'V6'!I$20)","v":" "},{"$f":"IF(ISBLANK('V6'!J$20),\" \",'V6'!J$20)","v":" "},{"$f":"IF(ISBLANK('V6'!I$22),\" \",'V6'!I$22)","v":" "},{"$f":"IF(ISBLANK('V6'!J$22),\" \",'V6'!J$22)","v":" "},{"$f":"IF(ISBLANK('V6'!I$24),\" \",'V6'!I$24)","v":" "},{"$f":"IF(ISBLANK('V6'!J$24),\" \",'V6'!J$24)","v":" "},64,{"$f":"IF('V6'!I$14,'V6'!I$14,\" \")","v":" "},{"$f":"IF('V6'!I$15,'V6'!I$15,\" \")","v":" "},{"$f":"IF('V6'!I$16,'V6'!I$16,\" \")","v":" "},{"$f":"IF('V6'!I$17,'V6'!I$17,\" \")","v":" "},{"$f":"'V6'!I$18","v":" "},{"$f":"'V6'!I$20","v":" "},{"$f":"'V6'!I$22","v":" "},{"$f":"'V6'!I$24","v":" "},{"$f":"IF('V6'!J$14,'V6'!J$14,\" \")","v":" "},{"$f":"IF('V6'!J$15,'V6'!J$15,\" \")","v":" "},{"$f":"IF('V6'!J$16,'V6'!J$16,\" \")","v":" "},{"$f":"IF('V6'!J$17,'V6'!J$17,\" \")","v":" "},{"$f":"'V6'!J$18","v":" "},{"$f":"'V6'!J$20","v":" "},{"$f":"'V6'!J$22","v":" "},{"$f":"'V6'!J$24","v":" "}]
[65,null,{"$f":"IF(ISBLANK('G6'!G$17),\" \",'G6'!G$17)","v":" "},null,65,null,{"$f":"IF(ISBLANK('V6'!K$18),\" \",'V6'!K$18)","v":" "},{"$f":"IF(ISBLANK('V6'!L$18),\" \",'V6'!L$18)","v":" "},{"$f":"IF(ISBLANK('V6'!K$20),\" \",'V6'!K$20)","v":" "},{"$f":"IF(ISBLANK('V6'!L$20),\" \",'V6'!L$20)","v":" "},{"$f":"IF(ISBLANK('V6'!K$22),\" \",'V6'!K$22)","v":" "},{"$f":"IF(ISBLANK('V6'!L$22),\" \",'V6'!L$22)","v":" "},{"$f":"IF(ISBLANK('V6'!K$24),\" \",'V6'!K$24)","v":" "},{"$f":"IF(ISBLANK('V6'!L$24),\" \",'V6'!L$24)","v":" "},65,{"$f":"IF('V6'!K$14,'V6'!K$14,\" \")","v":" "},{"$f":"IF('V6'!K$15,'V6'!K$15,\" \")","v":" "},{"$f":"IF('V6'!K$16,'V6'!K$16,\" \")","v":" "},{"$f":"IF('V6'!K$17,'V6'!K$17,\" \")","v":" "},{"$f":"'V6'!K$18","v":" "},{"$f":"'V6'!K$20","v":" "},{"$f":"'V6'!K$22","v":" "},{"$f":"'V6'!K$24","v":" "},{"$f":"IF('V6'!L$14,'V6'!L$14,\" \")","v":" "},{"$f":"IF('V6'!L$15,'V6'!L$15,\" \")","v":" "},{"$f":"IF('V6'!L$16,'V6'!L$16,\" \")","v":" "},{"$f":"IF('V6'!L$17,'V6'!L$17,\" \")","v":" "},{"$f":"'V6'!L$18","v":" "},{"$f":"'V6'!L$20","v":" "},{"$f":"'V6'!L$22","v":" "},{"$f":"'V6'!L$24","v":" "}]
[66,null,{"$f":"IF(ISBLANK('G6'!H$17),\" \",'G6'!H$17)","v":" "},null,66,null,{"$f":"IF(ISBLANK('V6'!M$18),\" \",'V6'!M$18)","v":" "},{"$f":"IF(ISBLANK('V6'!N$18),\" \",'V6'!N$18)","v":" "},{"$f":"IF(ISBLANK('V6'!M$20),\" \",'V6'!M$20)","v":" "},{"$f":"IF(ISBLANK('V6'!N$20),\" \",'V6'!N$20)","v":" "},{"$f":"IF(ISBLANK('V6'!M$22),\" \",'V6'!M$22)","v":" "},{"$f":"IF(ISBLANK('V6'!N$22),\" \",'V6'!N$22)","v":" "},{"$f":"IF(ISBLANK('V6'!M$24),\" \",'V6'!M$24)","v":" "},{"$f":"IF(ISBLANK('V6'!N$24),\" \",'V6'!N$24)","v":" "},66,{"$f":"IF('V6'!M$14,'V6'!M$14,\" \")","v":" "},{"$f":"IF('V6'!M$15,'V6'!M$15,\" \")","v":" "},{"$f":"IF('V6'!M$16,'V6'!M$16,\" \")","v":" "},{"$f":"IF('V6'!M$17,'V6'!M$17,\" \")","v":" "},{"$f":"'V6'!M$18","v":" "},{"$f":"'V6'!M$20","v":" "},{"$f":"'V6'!M$22","v":" "},{"$f":"'V6'!M$24","v":" "},{"$f":"IF('V6'!N$14,'V6'!N$14,\" \")","v":" "},{"$f":"IF('V6'!N$15,'V6'!N$15,\" \")","v":" "},{"$f":"IF('V6'!N$16,'V6'!N$16,\" \")","v":" "},{"$f":"IF('V6'!N$17,'V6'!N$17,\" \")","v":" "},{"$f":"'V6'!N$18","v":" "},{"$f":"'V6'!N$20","v":" "},{"$f":"'V6'!N$22","v":" "},{"$f":"'V6'!N$24","v":" "}]
[67,null,{"$f":"IF(ISBLANK('G6'!I$17),\" \",'G6'!I$17)","v":" "},null,67,null,{"$f":"IF(ISBLANK('V6'!C$48),\" \",'V6'!C$48)","v":" "},{"$f":"IF(ISBLANK('V6'!D$48),\" \",'V6'!D$48)","v":" "},{"$f":"IF(ISBLANK('V6'!C$50),\" \",'V6'!C$50)","v":" "},{"$f":"IF(ISBLANK('V6'!D$50),\" \",'V6'!D$50)","v":" "},{"$f":"IF(ISBLANK('V6'!C$52),\" \",'V6'!C$52)","v":" "},{"$f":"IF(ISBLANK('V6'!D$52),\" \",'V6'!D$52)","v":" "},{"$f":"IF(ISBLANK('V6'!C$54),\" \",'V6'!C$54)","v":" "},{"$f":"IF(ISBLANK('V6'!D$54),\" \",'V6'!D$54)","v":" "},67,{"$f":"IF('V6'!C$44,'V6'!C$44,\" \")","v":" "},{"$f":"IF('V6'!C$45,'V6'!C$45,\" \")","v":" "},{"$f":"IF('V6'!C$46,'V6'!C$46,\" \")","v":" "},{"$f":"IF('V6'!C$47,'V6'!C$47,\" \")","v":" "},{"$f":"'V6'!C$48","v":" "},{"$f":"'V6'!C$50","v":" "},{"$f":"'V6'!C$52","v":" "},{"$f":"'V6'!C$54","v":" "},{"$f":"IF('V6'!D$44,'V6'!D$44,\" \")","v":" "},{"$f":"IF('V6'!D$45,'V6'!D$45,\" \")","v":" "},{"$f":"IF('V6'!D$46,'V6'!D$46,\" \")","v":" "},{"$f":"IF('V6'!D$47,'V6'!D$47,\" \")","v":" "},{"$f":"'V6'!D$48","v":" "},{"$f":"'V6'!D$50","v":" "},{"$f":"'V6'!D$52","v":" "},{"$f":"'V6'!D$54","v":" "}]
[68,null,{"$f":"IF(ISBLANK('G6'!J$17),\" \",'G6'!J$17)","v":" "},null,68,null,{"$f":"IF(ISBLANK('V6'!E$48),\" \",'V6'!E$48)","v":" "},{"$f":"IF(ISBLANK('V6'!F$48),\" \",'V6'!F$48)","v":" "},{"$f":"IF(ISBLANK('V6'!E$50),\" \",'V6'!E$50)","v":" "},{"$f":"IF(ISBLANK('V6'!F$50),\" \",'V6'!F$50)","v":" "},{"$f":"IF(ISBLANK('V6'!E$52),\" \",'V6'!E$52)","v":" "},{"$f":"IF(ISBLANK('V6'!F$52),\" \",'V6'!F$52)","v":" "},{"$f":"IF(ISBLANK('V6'!E$54),\" \",'V6'!E$54)","v":" "},{"$f":"IF(ISBLANK('V6'!F$54),\" \",'V6'!F$54)","v":" "},68,{"$f":"IF('V6'!E$44,'V6'!E$44,\" \")","v":" "},{"$f":"IF('V6'!E$45,'V6'!E$45,\" \")","v":" "},{"$f":"IF('V6'!E$46,'V6'!E$46,\" \")","v":" "},{"$f":"IF('V6'!E$47,'V6'!E$47,\" \")","v":" "},{"$f":"'V6'!E$48","v":" "},{"$f":"'V6'!E$50","v":" "},{"$f":"'V6'!E$52","v":" "},{"$f":"'V6'!E$54","v":" "},{"$f":"IF('V6'!F$44,'V6'!F$44,\" \")","v":" "},{"$f":"IF('V6'!F$45,'V6'!F$45,\" \")","v":" "},{"$f":"IF('V6'!F$46,'V6'!F$46,\" \")","v":" "},{"$f":"IF('V6'!F$47,'V6'!F$47,\" \")","v":" "},{"$f":"'V6'!F$48","v":" "},{"$f":"'V6'!F$50","v":" "},{"$f":"'V6'!F$52","v":" "},{"$f":"'V6'!F$54","v":" "}]
[69,null,{"$f":"IF(ISBLANK('G6'!K$17),\" \",'G6'!K$17)","v":" "},null,69,null,{"$f":"IF(ISBLANK('V6'!G$48),\" \",'V6'!G$48)","v":" "},{"$f":"IF(ISBLANK('V6'!H$48),\" \",'V6'!H$48)","v":" "},{"$f":"IF(ISBLANK('V6'!G$50),\" \",'V6'!G$50)","v":" "},{"$f":"IF(ISBLANK('V6'!H$50),\" \",'V6'!H$50)","v":" "},{"$f":"IF(ISBLANK('V6'!G$52),\" \",'V6'!G$52)","v":" "},{"$f":"IF(ISBLANK('V6'!H$52),\" \",'V6'!H$52)","v":" "},{"$f":"IF(ISBLANK('V6'!G$54),\" \",'V6'!G$54)","v":" "},{"$f":"IF(ISBLANK('V6'!H$54),\" \",'V6'!H$54)","v":" "},69,{"$f":"IF('V6'!G$44,'V6'!G$44,\" \")","v":" "},{"$f":"IF('V6'!G$45,'V6'!G$45,\" \")","v":" "},{"$f":"IF('V6'!G$46,'V6'!G$46,\" \")","v":" "},{"$f":"IF('V6'!G$47,'V6'!G$47,\" \")","v":" "},{"$f":"'V6'!G$48","v":" "},{"$f":"'V6'!G$50","v":" "},{"$f":"'V6'!G$52","v":" "},{"$f":"'V6'!G$54","v":" "},{"$f":"IF('V6'!H$44,'V6'!H$44,\" \")","v":" "},{"$f":"IF('V6'!H$45,'V6'!H$45,\" \")","v":" "},{"$f":"IF('V6'!H$46,'V6'!H$46,\" \")","v":" "},{"$f":"IF('V6'!H$47,'V6'!H$47,\" \")","v":" "},{"$f":"'V6'!H$48","v":" "},{"$f":"'V6'!H$50","v":" "},{"$f":"'V6'!H$52","v":" "},{"$f":"'V6'!H$54","v":" "}]
[70,null,{"$f":"IF(ISBLANK('G6'!L$17),\" \",'G6'!L$17)","v":" "},null,70,null,{"$f":"IF(ISBLANK('V6'!I$48),\" \",'V6'!I$48)","v":" "},{"$f":"IF(ISBLANK('V6'!J$48),\" \",'V6'!J$48)","v":" "},{"$f":"IF(ISBLANK('V6'!I$50),\" \",'V6'!I$50)","v":" "},{"$f":"IF(ISBLANK('V6'!J$50),\" \",'V6'!J$50)","v":" "},{"$f":"IF(ISBLANK('V6'!I$52),\" \",'V6'!I$52)","v":" "},{"$f":"IF(ISBLANK('V6'!J$52),\" \",'V6'!J$52)","v":" "},{"$f":"IF(ISBLANK('V6'!I$54),\" \",'V6'!I$54)","v":" "},{"$f":"IF(ISBLANK('V6'!J$54),\" \",'V6'!J$54)","v":" "},70,{"$f":"IF('V6'!I$44,'V6'!I$44,\" \")","v":" "},{"$f":"IF('V6'!I$45,'V6'!I$45,\" \")","v":" "},{"$f":"IF('V6'!I$46,'V6'!I$46,\" \")","v":" "},{"$f":"IF('V6'!I$47,'V6'!I$47,\" \")","v":" "},{"$f":"'V6'!I$48","v":" "},{"$f":"'V6'!I$50","v":" "},{"$f":"'V6'!I$52","v":" "},{"$f":"'V6'!I$54","v":" "},{"$f":"IF('V6'!J$44,'V6'!J$44,\" \")","v":" "},{"$f":"IF('V6'!J$45,'V6'!J$45,\" \")","v":" "},{"$f":"IF('V6'!J$46,'V6'!J$46,\" \")","v":" "},{"$f":"IF('V6'!J$47,'V6'!J$47,\" \")","v":" "},{"$f":"'V6'!J$48","v":" "},{"$f":"'V6'!J$50","v":" "},{"$f":"'V6'!J$52","v":" "},{"$f":"'V6'!J$54","v":" "}]
[71,null,{"$f":"IF(ISBLANK('G6'!M$17),\" \",'G6'!M$17)","v":" "},null,71,null,{"$f":"IF(ISBLANK('V6'!K$48),\" \",'V6'!K$48)","v":" "},{"$f":"IF(ISBLANK('V6'!L$48),\" \",'V6'!L$48)","v":" "},{"$f":"IF(ISBLANK('V6'!K$50),\" \",'V6'!K$50)","v":" "},{"$f":"IF(ISBLANK('V6'!L$50),\" \",'V6'!L$50)","v":" "},{"$f":"IF(ISBLANK('V6'!K$52),\" \",'V6'!K$52)","v":" "},{"$f":"IF(ISBLANK('V6'!L$52),\" \",'V6'!L$52)","v":" "},{"$f":"IF(ISBLANK('V6'!K$54),\" \",'V6'!K$54)","v":" "},{"$f":"IF(ISBLANK('V6'!L$54),\" \",'V6'!L$54)","v":" "},71,{"$f":"IF('V6'!K$44,'V6'!K$44,\" \")","v":" "},{"$f":"IF('V6'!K$45,'V6'!K$45,\" \")","v":" "},{"$f":"IF('V6'!K$46,'V6'!K$46,\" \")","v":" "},{"$f":"IF('V6'!K$47,'V6'!K$47,\" \")","v":" "},{"$f":"'V6'!K$48","v":" "},{"$f":"'V6'!K$50","v":" "},{"$f":"'V6'!K$52","v":" "},{"$f":"'V6'!K$54","v":" "},{"$f":"IF('V6'!L$44,'V6'!L$44,\" \")","v":" "},{"$f":"IF('V6'!L$45,'V6'!L$45,\" \")","v":" "},{"$f":"IF('V6'!L$46,'V6'!L$46,\" \")","v":" "},{"$f":"IF('V6'!L$47,'V6'!L$47,\" \")","v":" "},{"$f":"'V6'!L$48","v":" "},{"$f":"'V6'!L$50","v":" "},{"$f":"'V6'!L$52","v":" "},{"$f":"'V6'!L$54","v":" "}]
[72,null,{"$f":"IF(ISBLANK('G6'!N$17),\" \",'G6'!N$17)","v":" "},null,72,null,{"$f":"IF(ISBLANK('V6'!M$48),\" \",'V6'!M$48)","v":" "},{"$f":"IF(ISBLANK('V6'!N$48),\" \",'V6'!N$48)","v":" "},{"$f":"IF(ISBLANK('V6'!M$50),\" \",'V6'!M$50)","v":" "},{"$f":"IF(ISBLANK('V6'!N$50),\" \",'V6'!N$50)","v":" "},{"$f":"IF(ISBLANK('V6'!M$52),\" \",'V6'!M$52)","v":" "},{"$f":"IF(ISBLANK('V6'!N$52),\" \",'V6'!N$52)","v":" "},{"$f":"IF(ISBLANK('V6'!M$54),\" \",'V6'!M$54)","v":" "},{"$f":"IF(ISBLANK('V6'!N$54),\" \",'V6'!N$54)","v":" "},72,{"$f":"IF('V6'!M$44,'V6'!M$44,\" \")","v":" "},{"$f":"IF('V6'!M$45,'V6'!M$45,\" \")","v":" "},{"$f":"IF('V6'!M$46,'V6'!M$46,\" \")","v":" "},{"$f":"IF('V6'!M$47,'V6'!M$47,\" \")","v":" "},{"$f":"'V6'!M$48","v":" "},{"$f":"'V6'!M$50","v":" "},{"$f":"'V6'!M$52","v":" "},{"$f":"'V6'!M$54","v":" "},{"$f":"IF('V6'!N$44,'V6'!N$44,\" \")","v":" "},{"$f":"IF('V6'!N$45,'V6'!N$45,\" \")","v":" "},{"$f":"IF('V6'!N$46,'V6'!N$46,\" \")","v":" "},{"$f":"IF('V6'!N$47,'V6'!N$47,\" \")","v":" "},{"$f":"'V6'!N$48","v":" "},{"$f":"'V6'!N$50","v":" "},{"$f":"'V6'!N$52","v":" "},{"$f":"'V6'!N$54","v":" "}]
[73,null,{"$f":"IF(ISBLANK('G7'!C$17),\" \",'G7'!C$17)","v":" "},null,73,null,{"$f":"IF(ISBLANK('V7'!C$18),\" \",'V7'!C$18)","v":" "},{"$f":"IF(ISBLANK('V7'!D$18),\" \",'V7'!D$18)","v":" "},{"$f":"IF(ISBLANK('V7'!C$20),\" \",'V7'!C$20)","v":" "},{"$f":"IF(ISBLANK('V7'!D$20),\" \",'V7'!D$20)","v":" "},{"$f":"IF(ISBLANK('V7'!C$22),\" \",'V7'!C$22)","v":" "},{"$f":"IF(ISBLANK('V7'!D$22),\" \",'V7'!D$22)","v":" "},{"$f":"IF(ISBLANK('V7'!C$24),\" \",'V7'!C$24)","v":" "},{"$f":"IF(ISBLANK('V7'!D$24),\" \",'V7'!D$24)","v":" "},73,{"$f":"IF('V7'!C$14,'V7'!C$14,\" \")","v":" "},{"$f":"IF('V7'!C$15,'V7'!C$15,\" \")","v":" "},{"$f":"IF('V7'!C$16,'V7'!C$16,\" \")","v":" "},{"$f":"IF('V7'!C$17,'V7'!C$17,\" \")","v":" "},{"$f":"'V7'!C$18","v":" "},{"$f":"'V7'!C$20","v":" "},{"$f":"'V7'!C$22","v":" "},{"$f":"'V7'!C$24","v":" "},{"$f":"IF('V7'!D$14,'V7'!D$14,\" \")","v":" "},{"$f":"IF('V7'!D$15,'V7'!D$15,\" \")","v":" "},{"$f":"IF('V7'!D$16,'V7'!D$16,\" \")","v":" "},{"$f":"IF('V7'!D$17,'V7'!D$17,\" \")","v":" "},{"$f":"'V7'!D$18","v":" "},{"$f":"'V7'!D$20","v":" "},{"$f":"'V7'!D$22","v":" "},{"$f":"'V7'!D$24","v":" "}]
[74,null,{"$f":"IF(ISBLANK('G7'!D$17),\" \",'G7'!D$17)","v":" "},null,74,null,{"$f":"IF(ISBLANK('V7'!E$18),\" \",'V7'!E$18)","v":" "},{"$f":"IF(ISBLANK('V7'!F$18),\" \",'V7'!F$18)","v":" "},{"$f":"IF(ISBLANK('V7'!E$20),\" \",'V7'!E$20)","v":" "},{"$f":"IF(ISBLANK('V7'!F$20),\" \",'V7'!F$20)","v":" "},{"$f":"IF(ISBLANK('V7'!E$22),\" \",'V7'!E$22)","v":" "},{"$f":"IF(ISBLANK('V7'!F$22),\" \",'V7'!F$22)","v":" "},{"$f":"IF(ISBLANK('V7'!E$24),\" \",'V7'!E$24)","v":" "},{"$f":"IF(ISBLANK('V7'!F$24),\" \",'V7'!F$24)","v":" "},74,{"$f":"IF('V7'!E$14,'V7'!E$14,\" \")","v":" "},{"$f":"IF('V7'!E$15,'V7'!E$15,\" \")","v":" "},{"$f":"IF('V7'!E$16,'V7'!E$16,\" \")","v":" "},{"$f":"IF('V7'!E$17,'V7'!E$17,\" \")","v":" "},{"$f":"'V7'!E$18","v":" "},{"$f":"'V7'!E$20","v":" "},{"$f":"'V7'!E$22","v":" "},{"$f":"'V7'!E$24","v":" "},{"$f":"IF('V7'!F$14,'V7'!F$14,\" \")","v":" "},{"$f":"IF('V7'!F$15,'V7'!F$15,\" \")","v":" "},{"$f":"IF('V7'!F$16,'V7'!F$16,\" \")","v":" "},{"$f":"IF('V7'!F$17,'V7'!F$17,\" \")","v":" "},{"$f":"'V7'!F$18","v":" "},{"$f":"'V7'!F$20","v":" "},{"$f":"'V7'!F$22","v":" "},{"$f":"'V7'!F$24","v":" "}]
[75,null,{"$f":"IF(ISBLANK('G7'!E$17),\" \",'G7'!E$17)","v":" "},null,75,null,{"$f":"IF(ISBLANK('V7'!G$18),\" \",'V7'!G$18)","v":" "},{"$f":"IF(ISBLANK('V7'!H$18),\" \",'V7'!H$18)","v":" "},{"$f":"IF(ISBLANK('V7'!G$20),\" \",'V7'!G$20)","v":" "},{"$f":"IF(ISBLANK('V7'!H$20),\" \",'V7'!H$20)","v":" "},{"$f":"IF(ISBLANK('V7'!G$22),\" \",'V7'!G$22)","v":" "},{"$f":"IF(ISBLANK('V7'!H$22),\" \",'V7'!H$22)","v":" "},{"$f":"IF(ISBLANK('V7'!G$24),\" \",'V7'!G$24)","v":" "},{"$f":"IF(ISBLANK('V7'!H$24),\" \",'V7'!H$24)","v":" "},75,{"$f":"IF('V7'!G$14,'V7'!G$14,\" \")","v":" "},{"$f":"IF('V7'!G$15,'V7'!G$15,\" \")","v":" "},{"$f":"IF('V7'!G$16,'V7'!G$16,\" \")","v":" "},{"$f":"IF('V7'!G$17,'V7'!G$17,\" \")","v":" "},{"$f":"'V7'!G$18","v":" "},{"$f":"'V7'!G$20","v":" "},{"$f":"'V7'!G$22","v":" "},{"$f":"'V7'!G$24","v":" "},{"$f":"IF('V7'!H$14,'V7'!H$14,\" \")","v":" "},{"$f":"IF('V7'!H$15,'V7'!H$15,\" \")","v":" "},{"$f":"IF('V7'!H$16,'V7'!H$16,\" \")","v":" "},{"$f":"IF('V7'!H$17,'V7'!H$17,\" \")","v":" "},{"$f":"'V7'!H$18","v":" "},{"$f":"'V7'!H$20","v":" "},{"$f":"'V7'!H$22","v":" "},{"$f":"'V7'!H$24","v":" "}]
[76,null,{"$f":"IF(ISBLANK('G7'!F$17),\" \",'G7'!F$17)","v":" "},null,76,null,{"$f":"IF(ISBLANK('V7'!I$18),\" \",'V7'!I$18)","v":" "},{"$f":"IF(ISBLANK('V7'!J$18),\" \",'V7'!J$18)","v":" "},{"$f":"IF(ISBLANK('V7'!I$20),\" \",'V7'!I$20)","v":" "},{"$f":"IF(ISBLANK('V7'!J$20),\" \",'V7'!J$20)","v":" "},{"$f":"IF(ISBLANK('V7'!I$22),\" \",'V7'!I$22)","v":" "},{"$f":"IF(ISBLANK('V7'!J$22),\" \",'V7'!J$22)","v":" "},{"$f":"IF(ISBLANK('V7'!I$24),\" \",'V7'!I$24)","v":" "},{"$f":"IF(ISBLANK('V7'!J$24),\" \",'V7'!J$24)","v":" "},76,{"$f":"IF('V7'!I$14,'V7'!I$14,\" \")","v":" "},{"$f":"IF('V7'!I$15,'V7'!I$15,\" \")","v":" "},{"$f":"IF('V7'!I$16,'V7'!I$16,\" \")","v":" "},{"$f":"IF('V7'!I$17,'V7'!I$17,\" \")","v":" "},{"$f":"'V7'!I$18","v":" "},{"$f":"'V7'!I$20","v":" "},{"$f":"'V7'!I$22","v":" "},{"$f":"'V7'!I$24","v":" "},{"$f":"IF('V7'!J$14,'V7'!J$14,\" \")","v":" "},{"$f":"IF('V7'!J$15,'V7'!J$15,\" \")","v":" "},{"$f":"IF('V7'!J$16,'V7'!J$16,\" \")","v":" "},{"$f":"IF('V7'!J$17,'V7'!J$17,\" \")","v":" "},{"$f":"'V7'!J$18","v":" "},{"$f":"'V7'!J$20","v":" "},{"$f":"'V7'!J$22","v":" "},{"$f":"'V7'!J$24","v":" "}]
[77,null,{"$f":"IF(ISBLANK('G7'!G$17),\" \",'G7'!G$17)","v":" "},null,77,null,{"$f":"IF(ISBLANK('V7'!K$18),\" \",'V7'!K$18)","v":" "},{"$f":"IF(ISBLANK('V7'!L$18),\" \",'V7'!L$18)","v":" "},{"$f":"IF(ISBLANK('V7'!K$20),\" \",'V7'!K$20)","v":" "},{"$f":"IF(ISBLANK('V7'!L$20),\" \",'V7'!L$20)","v":" "},{"$f":"IF(ISBLANK('V7'!K$22),\" \",'V7'!K$22)","v":" "},{"$f":"IF(ISBLANK('V7'!L$22),\" \",'V7'!L$22)","v":" "},{"$f":"IF(ISBLANK('V7'!K$24),\" \",'V7'!K$24)","v":" "},{"$f":"IF(ISBLANK('V7'!L$24),\" \",'V7'!L$24)","v":" "},77,{"$f":"IF('V7'!K$14,'V7'!K$14,\" \")","v":" "},{"$f":"IF('V7'!K$15,'V7'!K$15,\" \")","v":" "},{"$f":"IF('V7'!K$16,'V7'!K$16,\" \")","v":" "},{"$f":"IF('V7'!K$17,'V7'!K$17,\" \")","v":" "},{"$f":"'V7'!K$18","v":" "},{"$f":"'V7'!K$20","v":" "},{"$f":"'V7'!K$22","v":" "},{"$f":"'V7'!K$24","v":" "},{"$f":"IF('V7'!L$14,'V7'!L$14,\" \")","v":" "},{"$f":"IF('V7'!L$15,'V7'!L$15,\" \")","v":" "},{"$f":"IF('V7'!L$16,'V7'!L$16,\" \")","v":" "},{"$f":"IF('V7'!L$17,'V7'!L$17,\" \")","v":" "},{"$f":"'V7'!L$18","v":" "},{"$f":"'V7'!L$20","v":" "},{"$f":"'V7'!L$22","v":" "},{"$f":"'V7'!L$24","v":" "}]
[78,null,{"$f":"IF(ISBLANK('G7'!H$17),\" \",'G7'!H$17)","v":" "},null,78,null,{"$f":"IF(ISBLANK('V7'!M$18),\" \",'V7'!M$18)","v":" "},{"$f":"IF(ISBLANK('V7'!N$18),\" \",'V7'!N$18)","v":" "},{"$f":"IF(ISBLANK('V7'!M$20),\" \",'V7'!M$20)","v":" "},{"$f":"IF(ISBLANK('V7'!N$20),\" \",'V7'!N$20)","v":" "},{"$f":"IF(ISBLANK('V7'!M$22),\" \",'V7'!M$22)","v":" "},{"$f":"IF(ISBLANK('V7'!N$22),\" \",'V7'!N$22)","v":" "},{"$f":"IF(ISBLANK('V7'!M$24),\" \",'V7'!M$24)","v":" "},{"$f":"IF(ISBLANK('V7'!N$24),\" \",'V7'!N$24)","v":" "},78,{"$f":"IF('V7'!M$14,'V7'!M$14,\" \")","v":" "},{"$f":"IF('V7'!M$15,'V7'!M$15,\" \")","v":" "},{"$f":"IF('V7'!M$16,'V7'!M$16,\" \")","v":" "},{"$f":"IF('V7'!M$17,'V7'!M$17,\" \")","v":" "},{"$f":"'V7'!M$18","v":" "},{"$f":"'V7'!M$20","v":" "},{"$f":"'V7'!M$22","v":" "},{"$f":"'V7'!M$24","v":" "},{"$f":"IF('V7'!N$14,'V7'!N$14,\" \")","v":" "},{"$f":"IF('V7'!N$15,'V7'!N$15,\" \")","v":" "},{"$f":"IF('V7'!N$16,'V7'!N$16,\" \")","v":" "},{"$f":"IF('V7'!N$17,'V7'!N$17,\" \")","v":" "},{"$f":"'V7'!N$18","v":" "},{"$f":"'V7'!N$20","v":" "},{"$f":"'V7'!N$22","v":" "},{"$f":"'V7'!N$24","v":" "}]
[79,null,{"$f":"IF(ISBLANK('G7'!I$17),\" \",'G7'!I$17)","v":" "},null,79,null,{"$f":"IF(ISBLANK('V7'!C$48),\" \",'V7'!C$48)","v":" "},{"$f":"IF(ISBLANK('V7'!D$48),\" \",'V7'!D$48)","v":" "},{"$f":"IF(ISBLANK('V7'!C$50),\" \",'V7'!C$50)","v":" "},{"$f":"IF(ISBLANK('V7'!D$50),\" \",'V7'!D$50)","v":" "},{"$f":"IF(ISBLANK('V7'!C$52),\" \",'V7'!C$52)","v":" "},{"$f":"IF(ISBLANK('V7'!D$52),\" \",'V7'!D$52)","v":" "},{"$f":"IF(ISBLANK('V7'!C$54),\" \",'V7'!C$54)","v":" "},{"$f":"IF(ISBLANK('V7'!D$54),\" \",'V7'!D$54)","v":" "},79,{"$f":"IF('V7'!C$44,'V7'!C$44,\" \")","v":" "},{"$f":"IF('V7'!C$45,'V7'!C$45,\" \")","v":" "},{"$f":"IF('V7'!C$46,'V7'!C$46,\" \")","v":" "},{"$f":"IF('V7'!C$47,'V7'!C$47,\" \")","v":" "},{"$f":"'V7'!C$48","v":" "},{"$f":"'V7'!C$50","v":" "},{"$f":"'V7'!C$52","v":" "},{"$f":"'V7'!C$54","v":" "},{"$f":"IF('V7'!D$44,'V7'!D$44,\" \")","v":" "},{"$f":"IF('V7'!D$45,'V7'!D$45,\" \")","v":" "},{"$f":"IF('V7'!D$46,'V7'!D$46,\" \")","v":" "},{"$f":"IF('V7'!D$47,'V7'!D$47,\" \")","v":" "},{"$f":"'V7'!D$48","v":" "},{"$f":"'V7'!D$50","v":" "},{"$f":"'V7'!D$52","v":" "},{"$f":"'V7'!D$54","v":" "}]
[80,null,{"$f":"IF(ISBLANK('G7'!J$17),\" \",'G7'!J$17)","v":" "},null,80,null,{"$f":"IF(ISBLANK('V7'!E$48),\" \",'V7'!E$48)","v":" "},{"$f":"IF(ISBLANK('V7'!F$48),\" \",'V7'!F$48)","v":" "},{"$f":"IF(ISBLANK('V7'!E$50),\" \",'V7'!E$50)","v":" "},{"$f":"IF(ISBLANK('V7'!F$50),\" \",'V7'!F$50)","v":" "},{"$f":"IF(ISBLANK('V7'!E$52),\" \",'V7'!E$52)","v":" "},{"$f":"IF(ISBLANK('V7'!F$52),\" \",'V7'!F$52)","v":" "},{"$f":"IF(ISBLANK('V7'!E$54),\" \",'V7'!E$54)","v":" "},{"$f":"IF(ISBLANK('V7'!F$54),\" \",'V7'!F$54)","v":" "},80,{"$f":"IF('V7'!E$44,'V7'!E$44,\" \")","v":" "},{"$f":"IF('V7'!E$45,'V7'!E$45,\" \")","v":" "},{"$f":"IF('V7'!E$46,'V7'!E$46,\" \")","v":" "},{"$f":"IF('V7'!E$47,'V7'!E$47,\" \")","v":" "},{"$f":"'V7'!E$48","v":" "},{"$f":"'V7'!E$50","v":" "},{"$f":"'V7'!E$52","v":" "},{"$f":"'V7'!E$54","v":" "},{"$f":"IF('V7'!F$44,'V7'!F$44,\" \")","v":" "},{"$f":"IF('V7'!F$45,'V7'!F$45,\" \")","v":" "},{"$f":"IF('V7'!F$46,'V7'!F$46,\" \")","v":" "},{"$f":"IF('V7'!F$47,'V7'!F$47,\" \")","v":" "},{"$f":"'V7'!F$48","v":" "},{"$f":"'V7'!F$50","v":" "},{"$f":"'V7'!F$52","v":" "},{"$f":"'V7'!F$54","v":" "}]
[81,null,{"$f":"IF(ISBLANK('G7'!K$17),\" \",'G7'!K$17)","v":" "},null,81,null,{"$f":"IF(ISBLANK('V7'!G$48),\" \",'V7'!G$48)","v":" "},{"$f":"IF(ISBLANK('V7'!H$48),\" \",'V7'!H$48)","v":" "},{"$f":"IF(ISBLANK('V7'!G$50),\" \",'V7'!G$50)","v":" "},{"$f":"IF(ISBLANK('V7'!H$50),\" \",'V7'!H$50)","v":" "},{"$f":"IF(ISBLANK('V7'!G$52),\" \",'V7'!G$52)","v":" "},{"$f":"IF(ISBLANK('V7'!H$52),\" \",'V7'!H$52)","v":" "},{"$f":"IF(ISBLANK('V7'!G$54),\" \",'V7'!G$54)","v":" "},{"$f":"IF(ISBLANK('V7'!H$54),\" \",'V7'!H$54)","v":" "},81,{"$f":"IF('V7'!G$44,'V7'!G$44,\" \")","v":" "},{"$f":"IF('V7'!G$45,'V7'!G$45,\" \")","v":" "},{"$f":"IF('V7'!G$46,'V7'!G$46,\" \")","v":" "},{"$f":"IF('V7'!G$47,'V7'!G$47,\" \")","v":" "},{"$f":"'V7'!G$48","v":" "},{"$f":"'V7'!G$50","v":" "},{"$f":"'V7'!G$52","v":" "},{"$f":"'V7'!G$54","v":" "},{"$f":"IF('V7'!H$44,'V7'!H$44,\" \")","v":" "},{"$f":"IF('V7'!H$45,'V7'!H$45,\" \")","v":" "},{"$f":"IF('V7'!H$46,'V7'!H$46,\" \")","v":" "},{"$f":"IF('V7'!H$47,'V7'!H$47,\" \")","v":" "},{"$f":"'V7'!H$48","v":" "},{"$f":"'V7'!H$50","v":" "},{"$f":"'V7'!H$52","v":" "},{"$f":"'V7'!H$54","v":" "}]
[82,null,{"$f":"IF(ISBLANK('G7'!L$17),\" \",'G7'!L$17)","v":" "},null,82,null,{"$f":"IF(ISBLANK('V7'!I$48),\" \",'V7'!I$48)","v":" "},{"$f":"IF(ISBLANK('V7'!J$48),\" \",'V7'!J$48)","v":" "},{"$f":"IF(ISBLANK('V7'!I$50),\" \",'V7'!I$50)","v":" "},{"$f":"IF(ISBLANK('V7'!J$50),\" \",'V7'!J$50)","v":" "},{"$f":"IF(ISBLANK('V7'!I$52),\" \",'V7'!I$52)","v":" "},{"$f":"IF(ISBLANK('V7'!J$52),\" \",'V7'!J$52)","v":" "},{"$f":"IF(ISBLANK('V7'!I$54),\" \",'V7'!I$54)","v":" "},{"$f":"IF(ISBLANK('V7'!J$54),\" \",'V7'!J$54)","v":" "},82,{"$f":"IF('V7'!I$44,'V7'!I$44,\" \")","v":" "},{"$f":"IF('V7'!I$45,'V7'!I$45,\" \")","v":" "},{"$f":"IF('V7'!I$46,'V7'!I$46,\" \")","v":" "},{"$f":"IF('V7'!I$47,'V7'!I$47,\" \")","v":" "},{"$f":"'V7'!I$48","v":" "},{"$f":"'V7'!I$50","v":" "},{"$f":"'V7'!I$52","v":" "},{"$f":"'V7'!I$54","v":" "},{"$f":"IF('V7'!J$44,'V7'!J$44,\" \")","v":" "},{"$f":"IF('V7'!J$45,'V7'!J$45,\" \")","v":" "},{"$f":"IF('V7'!J$46,'V7'!J$46,\" \")","v":" "},{"$f":"IF('V7'!J$47,'V7'!J$47,\" \")","v":" "},{"$f":"'V7'!J$48","v":" "},{"$f":"'V7'!J$50","v":" "},{"$f":"'V7'!J$52","v":" "},{"$f":"'V7'!J$54","v":" "}]
[83,null,{"$f":"IF(ISBLANK('G7'!M$17),\" \",'G7'!M$17)","v":" "},null,83,null,{"$f":"IF(ISBLANK('V7'!K$48),\" \",'V7'!K$48)","v":" "},{"$f":"IF(ISBLANK('V7'!L$48),\" \",'V7'!L$48)","v":" "},{"$f":"IF(ISBLANK('V7'!K$50),\" \",'V7'!K$50)","v":" "},{"$f":"IF(ISBLANK('V7'!L$50),\" \",'V7'!L$50)","v":" "},{"$f":"IF(ISBLANK('V7'!K$52),\" \",'V7'!K$52)","v":" "},{"$f":"IF(ISBLANK('V7'!L$52),\" \",'V7'!L$52)","v":" "},{"$f":"IF(ISBLANK('V7'!K$54),\" \",'V7'!K$54)","v":" "},{"$f":"IF(ISBLANK('V7'!L$54),\" \",'V7'!L$54)","v":" "},83,{"$f":"IF('V7'!K$44,'V7'!K$44,\" \")","v":" "},{"$f":"IF('V7'!K$45,'V7'!K$45,\" \")","v":" "},{"$f":"IF('V7'!K$46,'V7'!K$46,\" \")","v":" "},{"$f":"IF('V7'!K$47,'V7'!K$47,\" \")","v":" "},{"$f":"'V7'!K$48","v":" "},{"$f":"'V7'!K$50","v":" "},{"$f":"'V7'!K$52","v":" "},{"$f":"'V7'!K$54","v":" "},{"$f":"IF('V7'!L$44,'V7'!L$44,\" \")","v":" "},{"$f":"IF('V7'!L$45,'V7'!L$45,\" \")","v":" "},{"$f":"IF('V7'!L$46,'V7'!L$46,\" \")","v":" "},{"$f":"IF('V7'!L$47,'V7'!L$47,\" \")","v":" "},{"$f":"'V7'!L$48","v":" "},{"$f":"'V7'!L$50","v":" "},{"$f":"'V7'!L$52","v":" "},{"$f":"'V7'!L$54","v":" "}]
[84,null,{"$f":"IF(ISBLANK('G7'!N$17),\" \",'G7'!N$17)","v":" "},null,84,null,{"$f":"IF(ISBLANK('V7'!M$48),\" \",'V7'!M$48)","v":" "},{"$f":"IF(ISBLANK('V7'!N$48),\" \",'V7'!N$48)","v":" "},{"$f":"IF(ISBLANK('V7'!M$50),\" \",'V7'!M$50)","v":" "},{"$f":"IF(ISBLANK('V7'!N$50),\" \",'V7'!N$50)","v":" "},{"$f":"IF(ISBLANK('V7'!M$52),\" \",'V7'!M$52)","v":" "},{"$f":"IF(ISBLANK('V7'!N$52),\" \",'V7'!N$52)","v":" "},{"$f":"IF(ISBLANK('V7'!M$54),\" \",'V7'!M$54)","v":" "},{"$f":"IF(ISBLANK('V7'!N$54),\" \",'V7'!N$54)","v":" "},84,{"$f":"IF('V7'!M$44,'V7'!M$44,\" \")","v":" "},{"$f":"IF('V7'!M$45,'V7'!M$45,\" \")","v":" "},{"$f":"IF('V7'!M$46,'V7'!M$46,\" \")","v":" "},{"$f":"IF('V7'!M$47,'V7'!M$47,\" \")","v":" "},{"$f":"'V7'!M$48","v":" "},{"$f":"'V7'!M$50","v":" "},{"$f":"'V7'!M$52","v":" "},{"$f":"'V7'!M$54","v":" "},{"$f":"IF('V7'!N$44,'V7'!N$44,\" \")","v":" "},{"$f":"IF('V7'!N$45,'V7'!N$45,\" \")","v":" "},{"$f":"IF('V7'!N$46,'V7'!N$46,\" \")","v":" "},{"$f":"IF('V7'!N$47,'V7'!N$47,\" \")","v":" "},{"$f":"'V7'!N$48","v":" "},{"$f":"'V7'!N$50","v":" "},{"$f":"'V7'!N$52","v":" "},{"$f":"'V7'!N$54","v":" "}]
[85,null,{"$f":"IF(ISBLANK('G8'!C$17),\" \",'G8'!C$17)","v":" "},null,85,null,{"$f":"IF(ISBLANK('V8'!C$18),\" \",'V8'!C$18)","v":" "},{"$f":"IF(ISBLANK('V8'!D$18),\" \",'V8'!D$18)","v":" "},{"$f":"IF(ISBLANK('V8'!C$20),\" \",'V8'!C$20)","v":" "},{"$f":"IF(ISBLANK('V8'!D$20),\" \",'V8'!D$20)","v":" "},{"$f":"IF(ISBLANK('V8'!C$22),\" \",'V8'!C$22)","v":" "},{"$f":"IF(ISBLANK('V8'!D$22),\" \",'V8'!D$22)","v":" "},{"$f":"IF(ISBLANK('V8'!C$24),\" \",'V8'!C$24)","v":" "},{"$f":"IF(ISBLANK('V8'!D$24),\" \",'V8'!D$24)","v":" "},85,{"$f":"IF('V8'!C$14,'V8'!C$14,\" \")","v":" "},{"$f":"IF('V8'!C$15,'V8'!C$15,\" \")","v":" "},{"$f":"IF('V8'!C$16,'V8'!C$16,\" \")","v":" "},{"$f":"IF('V8'!C$17,'V8'!C$17,\" \")","v":" "},{"$f":"'V8'!C$18","v":" "},{"$f":"'V8'!C$20","v":" "},{"$f":"'V8'!C$22","v":" "},{"$f":"'V8'!C$24","v":" "},{"$f":"IF('V8'!D$14,'V8'!D$14,\" \")","v":" "},{"$f":"IF('V8'!D$15,'V8'!D$15,\" \")","v":" "},{"$f":"IF('V8'!D$16,'V8'!D$16,\" \")","v":" "},{"$f":"IF('V8'!D$17,'V8'!D$17,\" \")","v":" "},{"$f":"'V8'!D$18","v":" "},{"$f":"'V8'!D$20","v":" "},{"$f":"'V8'!D$22","v":" "},{"$f":"'V8'!D$24","v":" "}]
[86,null,{"$f":"IF(ISBLANK('G8'!D$17),\" \",'G8'!D$17)","v":" "},null,86,null,{"$f":"IF(ISBLANK('V8'!E$18),\" \",'V8'!E$18)","v":" "},{"$f":"IF(ISBLANK('V8'!F$18),\" \",'V8'!F$18)","v":" "},{"$f":"IF(ISBLANK('V8'!E$20),\" \",'V8'!E$20)","v":" "},{"$f":"IF(ISBLANK('V8'!F$20),\" \",'V8'!F$20)","v":" "},{"$f":"IF(ISBLANK('V8'!E$22),\" \",'V8'!E$22)","v":" "},{"$f":"IF(ISBLANK('V8'!F$22),\" \",'V8'!F$22)","v":" "},{"$f":"IF(ISBLANK('V8'!E$24),\" \",'V8'!E$24)","v":" "},{"$f":"IF(ISBLANK('V8'!F$24),\" \",'V8'!F$24)","v":" "},86,{"$f":"IF('V8'!E$14,'V8'!E$14,\" \")","v":" "},{"$f":"IF('V8'!E$15,'V8'!E$15,\" \")","v":" "},{"$f":"IF('V8'!E$16,'V8'!E$16,\" \")","v":" "},{"$f":"IF('V8'!E$17,'V8'!E$17,\" \")","v":" "},{"$f":"'V8'!E$18","v":" "},{"$f":"'V8'!E$20","v":" "},{"$f":"'V8'!E$22","v":" "},{"$f":"'V8'!E$24","v":" "},{"$f":"IF('V8'!F$14,'V8'!F$14,\" \")","v":" "},{"$f":"IF('V8'!F$15,'V8'!F$15,\" \")","v":" "},{"$f":"IF('V8'!F$16,'V8'!F$16,\" \")","v":" "},{"$f":"IF('V8'!F$17,'V8'!F$17,\" \")","v":" "},{"$f":"'V8'!F$18","v":" "},{"$f":"'V8'!F$20","v":" "},{"$f":"'V8'!F$22","v":" "},{"$f":"'V8'!F$24","v":" "}]
[87,null,{"$f":"IF(ISBLANK('G8'!E$17),\" \",'G8'!E$17)","v":" "},null,87,null,{"$f":"IF(ISBLANK('V8'!G$18),\" \",'V8'!G$18)","v":" "},{"$f":"IF(ISBLANK('V8'!H$18),\" \",'V8'!H$18)","v":" "},{"$f":"IF(ISBLANK('V8'!G$20),\" \",'V8'!G$20)","v":" "},{"$f":"IF(ISBLANK('V8'!H$20),\" \",'V8'!H$20)","v":" "},{"$f":"IF(ISBLANK('V8'!G$22),\" \",'V8'!G$22)","v":" "},{"$f":"IF(ISBLANK('V8'!H$22),\" \",'V8'!H$22)","v":" "},{"$f":"IF(ISBLANK('V8'!G$24),\" \",'V8'!G$24)","v":" "},{"$f":"IF(ISBLANK('V8'!H$24),\" \",'V8'!H$24)","v":" "},87,{"$f":"IF('V8'!G$14,'V8'!G$14,\" \")","v":" "},{"$f":"IF('V8'!G$15,'V8'!G$15,\" \")","v":" "},{"$f":"IF('V8'!G$16,'V8'!G$16,\" \")","v":" "},{"$f":"IF('V8'!G$17,'V8'!G$17,\" \")","v":" "},{"$f":"'V8'!G$18","v":" "},{"$f":"'V8'!G$20","v":" "},{"$f":"'V8'!G$22","v":" "},{"$f":"'V8'!G$24","v":" "},{"$f":"IF('V8'!H$14,'V8'!H$14,\" \")","v":" "},{"$f":"IF('V8'!H$15,'V8'!H$15,\" \")","v":" "},{"$f":"IF('V8'!H$16,'V8'!H$16,\" \")","v":" "},{"$f":"IF('V8'!H$17,'V8'!H$17,\" \")","v":" "},{"$f":"'V8'!H$18","v":" "},{"$f":"'V8'!H$20","v":" "},{"$f":"'V8'!H$22","v":" "},{"$f":"'V8'!H$24","v":" "}]
[88,null,{"$f":"IF(ISBLANK('G8'!F$17),\" \",'G8'!F$17)","v":" "},null,88,null,{"$f":"IF(ISBLANK('V8'!I$18),\" \",'V8'!I$18)","v":" "},{"$f":"IF(ISBLANK('V8'!J$18),\" \",'V8'!J$18)","v":" "},{"$f":"IF(ISBLANK('V8'!I$20),\" \",'V8'!I$20)","v":" "},{"$f":"IF(ISBLANK('V8'!J$20),\" \",'V8'!J$20)","v":" "},{"$f":"IF(ISBLANK('V8'!I$22),\" \",'V8'!I$22)","v":" "},{"$f":"IF(ISBLANK('V8'!J$22),\" \",'V8'!J$22)","v":" "},{"$f":"IF(ISBLANK('V8'!I$24),\" \",'V8'!I$24)","v":" "},{"$f":"IF(ISBLANK('V8'!J$24),\" \",'V8'!J$24)","v":" "},88,{"$f":"IF('V8'!I$14,'V8'!I$14,\" \")","v":" "},{"$f":"IF('V8'!I$15,'V8'!I$15,\" \")","v":" "},{"$f":"IF('V8'!I$16,'V8'!I$16,\" \")","v":" "},{"$f":"IF('V8'!I$17,'V8'!I$17,\" \")","v":" "},{"$f":"'V8'!I$18","v":" "},{"$f":"'V8'!I$20","v":" "},{"$f":"'V8'!I$22","v":" "},{"$f":"'V8'!I$24","v":" "},{"$f":"IF('V8'!J$14,'V8'!J$14,\" \")","v":" "},{"$f":"IF('V8'!J$15,'V8'!J$15,\" \")","v":" "},{"$f":"IF('V8'!J$16,'V8'!J$16,\" \")","v":" "},{"$f":"IF('V8'!J$17,'V8'!J$17,\" \")","v":" "},{"$f":"'V8'!J$18","v":" "},{"$f":"'V8'!J$20","v":" "},{"$f":"'V8'!J$22","v":" "},{"$f":"'V8'!J$24","v":" "}]
[89,null,{"$f":"IF(ISBLANK('G8'!G$17),\" \",'G8'!G$17)","v":" "},null,89,null,{"$f":"IF(ISBLANK('V8'!K$18),\" \",'V8'!K$18)","v":" "},{"$f":"IF(ISBLANK('V8'!L$18),\" \",'V8'!L$18)","v":" "},{"$f":"IF(ISBLANK('V8'!K$20),\" \",'V8'!K$20)","v":" "},{"$f":"IF(ISBLANK('V8'!L$20),\" \",'V8'!L$20)","v":" "},{"$f":"IF(ISBLANK('V8'!K$22),\" \",'V8'!K$22)","v":" "},{"$f":"IF(ISBLANK('V8'!L$22),\" \",'V8'!L$22)","v":" "},{"$f":"IF(ISBLANK('V8'!K$24),\" \",'V8'!K$24)","v":" "},{"$f":"IF(ISBLANK('V8'!L$24),\" \",'V8'!L$24)","v":" "},89,{"$f":"IF('V8'!K$14,'V8'!K$14,\" \")","v":" "},{"$f":"IF('V8'!K$15,'V8'!K$15,\" \")","v":" "},{"$f":"IF('V8'!K$16,'V8'!K$16,\" \")","v":" "},{"$f":"IF('V8'!K$17,'V8'!K$17,\" \")","v":" "},{"$f":"'V8'!K$18","v":" "},{"$f":"'V8'!K$20","v":" "},{"$f":"'V8'!K$22","v":" "},{"$f":"'V8'!K$24","v":" "},{"$f":"IF('V8'!L$14,'V8'!L$14,\" \")","v":" "},{"$f":"IF('V8'!L$15,'V8'!L$15,\" \")","v":" "},{"$f":"IF('V8'!L$16,'V8'!L$16,\" \")","v":" "},{"$f":"IF('V8'!L$17,'V8'!L$17,\" \")","v":" "},{"$f":"'V8'!L$18","v":" "},{"$f":"'V8'!L$20","v":" "},{"$f":"'V8'!L$22","v":" "},{"$f":"'V8'!L$24","v":" "}]
[90,null,{"$f":"IF(ISBLANK('G8'!H$17),\" \",'G8'!H$17)","v":" "},null,90,null,{"$f":"IF(ISBLANK('V8'!M$18),\" \",'V8'!M$18)","v":" "},{"$f":"IF(ISBLANK('V8'!N$18),\" \",'V8'!N$18)","v":" "},{"$f":"IF(ISBLANK('V8'!M$20),\" \",'V8'!M$20)","v":" "},{"$f":"IF(ISBLANK('V8'!N$20),\" \",'V8'!N$20)","v":" "},{"$f":"IF(ISBLANK('V8'!M$22),\" \",'V8'!M$22)","v":" "},{"$f":"IF(ISBLANK('V8'!N$22),\" \",'V8'!N$22)","v":" "},{"$f":"IF(ISBLANK('V8'!M$24),\" \",'V8'!M$24)","v":" "},{"$f":"IF(ISBLANK('V8'!N$24),\" \",'V8'!N$24)","v":" "},90,{"$f":"IF('V8'!M$14,'V8'!M$14,\" \")","v":" "},{"$f":"IF('V8'!M$15,'V8'!M$15,\" \")","v":" "},{"$f":"IF('V8'!M$16,'V8'!M$16,\" \")","v":" "},{"$f":"IF('V8'!M$17,'V8'!M$17,\" \")","v":" "},{"$f":"'V8'!M$18","v":" "},{"$f":"'V8'!M$20","v":" "},{"$f":"'V8'!M$22","v":" "},{"$f":"'V8'!M$24","v":" "},{"$f":"IF('V8'!N$14,'V8'!N$14,\" \")","v":" "},{"$f":"IF('V8'!N$15,'V8'!N$15,\" \")","v":" "},{"$f":"IF('V8'!N$16,'V8'!N$16,\" \")","v":" "},{"$f":"IF('V8'!N$17,'V8'!N$17,\" \")","v":" "},{"$f":"'V8'!N$18","v":" "},{"$f":"'V8'!N$20","v":" "},{"$f":"'V8'!N$22","v":" "},{"$f":"'V8'!N$24","v":" "}]
[91,null,{"$f":"IF(ISBLANK('G8'!I$17),\" \",'G8'!I$17)","v":" "},null,91,null,{"$f":"IF(ISBLANK('V8'!C$48),\" \",'V8'!C$48)","v":" "},{"$f":"IF(ISBLANK('V8'!D$48),\" \",'V8'!D$48)","v":" "},{"$f":"IF(ISBLANK('V8'!C$50),\" \",'V8'!C$50)","v":" "},{"$f":"IF(ISBLANK('V8'!D$50),\" \",'V8'!D$50)","v":" "},{"$f":"IF(ISBLANK('V8'!C$52),\" \",'V8'!C$52)","v":" "},{"$f":"IF(ISBLANK('V8'!D$52),\" \",'V8'!D$52)","v":" "},{"$f":"IF(ISBLANK('V8'!C$54),\" \",'V8'!C$54)","v":" "},{"$f":"IF(ISBLANK('V8'!D$54),\" \",'V8'!D$54)","v":" "},91,{"$f":"IF('V8'!C$44,'V8'!C$44,\" \")","v":" "},{"$f":"IF('V8'!C$45,'V8'!C$45,\" \")","v":" "},{"$f":"IF('V8'!C$46,'V8'!C$46,\" \")","v":" "},{"$f":"IF('V8'!C$47,'V8'!C$47,\" \")","v":" "},{"$f":"'V8'!C$48","v":" "},{"$f":"'V8'!C$50","v":" "},{"$f":"'V8'!C$52","v":" "},{"$f":"'V8'!C$54","v":" "},{"$f":"IF('V8'!D$44,'V8'!D$44,\" \")","v":" "},{"$f":"IF('V8'!D$45,'V8'!D$45,\" \")","v":" "},{"$f":"IF('V8'!D$46,'V8'!D$46,\" \")","v":" "},{"$f":"IF('V8'!D$47,'V8'!D$47,\" \")","v":" "},{"$f":"'V8'!D$48","v":" "},{"$f":"'V8'!D$50","v":" "},{"$f":"'V8'!D$52","v":" "},{"$f":"'V8'!D$54","v":" "}]
[92,null,{"$f":"IF(ISBLANK('G8'!J$17),\" \",'G8'!J$17)","v":" "},null,92,null,{"$f":"IF(ISBLANK('V8'!E$48),\" \",'V8'!E$48)","v":" "},{"$f":"IF(ISBLANK('V8'!F$48),\" \",'V8'!F$48)","v":" "},{"$f":"IF(ISBLANK('V8'!E$50),\" \",'V8'!E$50)","v":" "},{"$f":"IF(ISBLANK('V8'!F$50),\" \",'V8'!F$50)","v":" "},{"$f":"IF(ISBLANK('V8'!E$52),\" \",'V8'!E$52)","v":" "},{"$f":"IF(ISBLANK('V8'!F$52),\" \",'V8'!F$52)","v":" "},{"$f":"IF(ISBLANK('V8'!E$54),\" \",'V8'!E$54)","v":" "},{"$f":"IF(ISBLANK('V8'!F$54),\" \",'V8'!F$54)","v":" "},92,{"$f":"IF('V8'!E$44,'V8'!E$44,\" \")","v":" "},{"$f":"IF('V8'!E$45,'V8'!E$45,\" \")","v":" "},{"$f":"IF('V8'!E$46,'V8'!E$46,\" \")","v":" "},{"$f":"IF('V8'!E$47,'V8'!E$47,\" \")","v":" "},{"$f":"'V8'!E$48","v":" "},{"$f":"'V8'!E$50","v":" "},{"$f":"'V8'!E$52","v":" "},{"$f":"'V8'!E$54","v":" "},{"$f":"IF('V8'!F$44,'V8'!F$44,\" \")","v":" "},{"$f":"IF('V8'!F$45,'V8'!F$45,\" \")","v":" "},{"$f":"IF('V8'!F$46,'V8'!F$46,\" \")","v":" "},{"$f":"IF('V8'!F$47,'V8'!F$47,\" \")","v":" "},{"$f":"'V8'!F$48","v":" "},{"$f":"'V8'!F$50","v":" "},{"$f":"'V8'!F$52","v":" "},{"$f":"'V8'!F$54","v":" "}]
[93,null,{"$f":"IF(ISBLANK('G8'!K$17),\" \",'G8'!K$17)","v":" "},null,93,null,{"$f":"IF(ISBLANK('V8'!G$48),\" \",'V8'!G$48)","v":" "},{"$f":"IF(ISBLANK('V8'!H$48),\" \",'V8'!H$48)","v":" "},{"$f":"IF(ISBLANK('V8'!G$50),\" \",'V8'!G$50)","v":" "},{"$f":"IF(ISBLANK('V8'!H$50),\" \",'V8'!H$50)","v":" "},{"$f":"IF(ISBLANK('V8'!G$52),\" \",'V8'!G$52)","v":" "},{"$f":"IF(ISBLANK('V8'!H$52),\" \",'V8'!H$52)","v":" "},{"$f":"IF(ISBLANK('V8'!G$54),\" \",'V8'!G$54)","v":" "},{"$f":"IF(ISBLANK('V8'!H$54),\" \",'V8'!H$54)","v":" "},93,{"$f":"IF('V8'!G$44,'V8'!G$44,\" \")","v":" "},{"$f":"IF('V8'!G$45,'V8'!G$45,\" \")","v":" "},{"$f":"IF('V8'!G$46,'V8'!G$46,\" \")","v":" "},{"$f":"IF('V8'!G$47,'V8'!G$47,\" \")","v":" "},{"$f":"'V8'!G$48","v":" "},{"$f":"'V8'!G$50","v":" "},{"$f":"'V8'!G$52","v":" "},{"$f":"'V8'!G$54","v":" "},{"$f":"IF('V8'!H$44,'V8'!H$44,\" \")","v":" "},{"$f":"IF('V8'!H$45,'V8'!H$45,\" \")","v":" "},{"$f":"IF('V8'!H$46,'V8'!H$46,\" \")","v":" "},{"$f":"IF('V8'!H$47,'V8'!H$47,\" \")","v":" "},{"$f":"'V8'!H$48","v":" "},{"$f":"'V8'!H$50","v":" "},{"$f":"'V8'!H$52","v":" "},{"$f":"'V8'!H$54","v":" "}]
[94,null,{"$f":"IF(ISBLANK('G8'!L$17),\" \",'G8'!L$17)","v":" "},null,94,null,{"$f":"IF(ISBLANK('V8'!I$48),\" \",'V8'!I$48)","v":" "},{"$f":"IF(ISBLANK('V8'!J$48),\" \",'V8'!J$48)","v":" "},{"$f":"IF(ISBLANK('V8'!I$50),\" \",'V8'!I$50)","v":" "},{"$f":"IF(ISBLANK('V8'!J$50),\" \",'V8'!J$50)","v":" "},{"$f":"IF(ISBLANK('V8'!I$52),\" \",'V8'!I$52)","v":" "},{"$f":"IF(ISBLANK('V8'!J$52),\" \",'V8'!J$52)","v":" "},{"$f":"IF(ISBLANK('V8'!I$54),\" \",'V8'!I$54)","v":" "},{"$f":"IF(ISBLANK('V8'!J$54),\" \",'V8'!J$54)","v":" "},94,{"$f":"IF('V8'!I$44,'V8'!I$44,\" \")","v":" "},{"$f":"IF('V8'!I$45,'V8'!I$45,\" \")","v":" "},{"$f":"IF('V8'!I$46,'V8'!I$46,\" \")","v":" "},{"$f":"IF('V8'!I$47,'V8'!I$47,\" \")","v":" "},{"$f":"'V8'!I$48","v":" "},{"$f":"'V8'!I$50","v":" "},{"$f":"'V8'!I$52","v":" "},{"$f":"'V8'!I$54","v":" "},{"$f":"IF('V8'!J$44,'V8'!J$44,\" \")","v":" "},{"$f":"IF('V8'!J$45,'V8'!J$45,\" \")","v":" "},{"$f":"IF('V8'!J$46,'V8'!J$46,\" \")","v":" "},{"$f":"IF('V8'!J$47,'V8'!J$47,\" \")","v":" "},{"$f":"'V8'!J$48","v":" "},{"$f":"'V8'!J$50","v":" "},{"$f":"'V8'!J$52","v":" "},{"$f":"'V8'!J$54","v":" "}]
[95,null,{"$f":"IF(ISBLANK('G8'!M$17),\" \",'G8'!M$17)","v":" "},null,95,null,{"$f":"IF(ISBLANK('V8'!K$48),\" \",'V8'!K$48)","v":" "},{"$f":"IF(ISBLANK('V8'!L$48),\" \",'V8'!L$48)","v":" "},{"$f":"IF(ISBLANK('V8'!K$50),\" \",'V8'!K$50)","v":" "},{"$f":"IF(ISBLANK('V8'!L$50),\" \",'V8'!L$50)","v":" "},{"$f":"IF(ISBLANK('V8'!K$52),\" \",'V8'!K$52)","v":" "},{"$f":"IF(ISBLANK('V8'!L$52),\" \",'V8'!L$52)","v":" "},{"$f":"IF(ISBLANK('V8'!K$54),\" \",'V8'!K$54)","v":" "},{"$f":"IF(ISBLANK('V8'!L$54),\" \",'V8'!L$54)","v":" "},95,{"$f":"IF('V8'!K$44,'V8'!K$44,\" \")","v":" "},{"$f":"IF('V8'!K$45,'V8'!K$45,\" \")","v":" "},{"$f":"IF('V8'!K$46,'V8'!K$46,\" \")","v":" "},{"$f":"IF('V8'!K$47,'V8'!K$47,\" \")","v":" "},{"$f":"'V8'!K$48","v":" "},{"$f":"'V8'!K$50","v":" "},{"$f":"'V8'!K$52","v":" "},{"$f":"'V8'!K$54","v":" "},{"$f":"IF('V8'!L$44,'V8'!L$44,\" \")","v":" "},{"$f":"IF('V8'!L$45,'V8'!L$45,\" \")","v":" "},{"$f":"IF('V8'!L$46,'V8'!L$46,\" \")","v":" "},{"$f":"IF('V8'!L$47,'V8'!L$47,\" \")","v":" "},{"$f":"'V8'!L$48","v":" "},{"$f":"'V8'!L$50","v":" "},{"$f":"'V8'!L$52","v":" "},{"$f":"'V8'!L$54","v":" "}]
[96,null,{"$f":"IF(ISBLANK('G8'!N$17),\" \",'G8'!N$17)","v":" "},null,96,null,{"$f":"IF(ISBLANK('V8'!M$48),\" \",'V8'!M$48)","v":" "},{"$f":"IF(ISBLANK('V8'!N$48),\" \",'V8'!N$48)","v":" "},{"$f":"IF(ISBLANK('V8'!M$50),\" \",'V8'!M$50)","v":" "},{"$f":"IF(ISBLANK('V8'!N$50),\" \",'V8'!N$50)","v":" "},{"$f":"IF(ISBLANK('V8'!M$52),\" \",'V8'!M$52)","v":" "},{"$f":"IF(ISBLANK('V8'!N$52),\" \",'V8'!N$52)","v":" "},{"$f":"IF(ISBLANK('V8'!M$54),\" \",'V8'!M$54)","v":" "},{"$f":"IF(ISBLANK('V8'!N$54),\" \",'V8'!N$54)","v":" "},96,{"$f":"IF('V8'!M$44,'V8'!M$44,\" \")","v":" "},{"$f":"IF('V8'!M$45,'V8'!M$45,\" \")","v":" "},{"$f":"IF('V8'!M$46,'V8'!M$46,\" \")","v":" "},{"$f":"IF('V8'!M$47,'V8'!M$47,\" \")","v":" "},{"$f":"'V8'!M$48","v":" "},{"$f":"'V8'!M$50","v":" "},{"$f":"'V8'!M$52","v":" "},{"$f":"'V8'!M$54","v":" "},{"$f":"IF('V8'!N$44,'V8'!N$44,\" \")","v":" "},{"$f":"IF('V8'!N$45,'V8'!N$45,\" \")","v":" "},{"$f":"IF('V8'!N$46,'V8'!N$46,\" \")","v":" "},{"$f":"IF('V8'!N$47,'V8'!N$47,\" \")","v":" "},{"$f":"'V8'!N$48","v":" "},{"$f":"'V8'!N$50","v":" "},{"$f":"'V8'!N$52","v":" "},{"$f":"'V8'!N$54","v":" "}]

{"sheet":"Data Table","index":48,"n_rows":98,"n_cols":36,"rows_kept":98,"cut":false,"hidden":false,"merged":[]}
[null,null,null,null,null,null,null,null,null,null,null,null,null,null,null,null,"Avg","Avg","Avg","Avg","Plug 1","Plug 1","Plug 1","Plug 1","Plug 1","Plug1","Plug 1","Plug 1","Plug 2","Plug 2","Plug 2","Plug 2","Plug 2","Plug2","Plug 2","Plug 2"]
["Samp #","AC",200,100,50,30,16,8,4,0.375,0.5,0.75,1,1.5,2,"Gmm","Gmb","Voids","VMA","VFA","Height","Dry Wt.","Wt. H2O","SSD Wt.","Gmb","Voids","VMA","VFA","Height","Dry Wt.","Wt. H2O","SSD Wt.","Gmb","Voids","VMA","VFA"]
[1," ","  ","  ","  ","  ","  ","  ","  ","  ","  ","  ","  ","  "," "," "," "," "," "," "," "," "," "," "," "," "," "," "," "," "," "," "," "," "," "," "]
[2," ","  ","  ","  ","  ","  ","  ","  ","  ","  ","  ","  ","  "," "," "," "," "," "," "," "," "," "," "," "," "," "," "," "," "," "," "," "," "," "," "]
[3," ","  ","  ","  ","  ","  ","  ","  ","  ","  ","  ","  ","  "," "," "," "," "," "," "," "," "," "," "," "," "," "," "," "," "," "," "," "," "," "," "]
[4," ","  ","  ","  ","  ","  ","  ","  ","  ","  ","  ","  ","  "," "," "," "," "," "," "," "," "," "," "," "," "," "," "," "," "," "," "," "," "," "," "]
[5," ","  ","  ","  ","  ","  ","  ","  ","  ","  ","  ","  ","  "," "," "," "," "," "," "," "," "," "," "," "," "," "," "," "," "," "," "," "," "," "," "]
[6," ","  ","  ","  ","  ","  ","  ","  ","  ","  ","  ","  ","  "," "," "," "," "," "," "," "," "," "," "," "," "," "," "," "," "," "," "," "," "," "," "]
[7," ","  ","  ","  ","  ","  ","  ","  ","  ","  ","  ","  ","  "," "," "," "," "," "," "," "," "," "," "," "," "," "," "," "," "," "," "," "," "," "," "]
[8," ","  ","  ","  ","  ","  ","  ","  ","  ","  ","  ","  ","  "," "," "," "," "," "," "," "," "," "," "," "," "," "," "," "," "," "," "," "," "," "," "]
[9," ","  ","  ","  ","  ","  ","  ","  ","  ","  ","  ","  ","  "," "," "," "," "," "," "," "," "," "," "," "," "," "," "," "," "," "," "," "," "," "," "]
[10," ","  ","  ","  ","  ","  ","  ","  ","  ","  ","  ","  ","  "," "," "," "," "," "," "," "," "," "," "," "," "," "," "," "," "," "," "," "," "," "," "]
[11," ","  ","  ","  ","  ","  ","  ","  ","  ","  ","  ","  ","  "," "," "," "," "," "," "," "," "," "," "," "," "," "," "," "," "," "," "," "," "," "," "]
[12," ","  ","  ","  ","  ","  ","  ","  ","  ","  ","  ","  ","  "," "," "," "," "," "," "," "," "," "," "," "," "," "," "," "," "," "," "," "," "," "," "]
[13," ","  ","  ","  ","  ","  ","  ","  ","  ","  ","  ","  ","  "," "," "," "," "," "," "," "," "," "," "," "," "," "," "," "," "," "," "," "," "," "," "]
[14," ","  ","  ","  ","  ","  ","  ","  ","  ","  ","  ","  ","  "," "," "," "," "," "," "," "," "," "," "," "," "," "," "," "," "," "," "," "," "," "," "]
[15," ","  ","  ","  ","  ","  ","  ","  ","  ","  ","  ","  ","  "," "," "," "," "," "," "," "," "," "," "," "," "," "," "," "," "," "," "," "," "," "," "]
[16," ","  ","  ","  ","  ","  ","  ","  ","  ","  ","  ","  ","  "," "," "," "," "," "," "," "," "," "," "," "," "," "," "," "," "," "," "," "," "," "," "]
[17," ","  ","  ","  ","  ","  ","  ","  ","  ","  ","  ","  ","  "," "," "," "," "," "," "," "," "," "," "," "," "," "," "," "," "," "," "," "," "," "," "]
[18," ","  ","  ","  ","  ","  ","  ","  ","  ","  ","  ","  ","  "," "," "," "," "," "," "," "," "," "," "," "," "," "," "," "," "," "," "," "," "," "," "]
[19," ","  ","  ","  ","  ","  ","  ","  ","  ","  ","  ","  ","  "," "," "," "," "," "," "," "," "," "," "," "," "," "," "," "," "," "," "," "," "," "," "]
[20," ","  ","  ","  ","  ","  ","  ","  ","  ","  ","  ","  ","  "," "," "," "," "," "," "," "," "," "," "," "," "," "," "," "," "," "," "," "," "," "," "]
[21," ","  ","  ","  ","  ","  ","  ","  ","  ","  ","  ","  ","  "," "," "," "," "," "," "," "," "," "," "," "," "," "," "," "," "," "," "," "," "," "," "]
[22," ","  ","  ","  ","  ","  ","  ","  ","  ","  ","  ","  ","  "," "," "," "," "," "," "," "," "," "," "," "," "," "," "," "," "," "," "," "," "," "," "]
[23," ","  ","  ","  ","  ","  ","  ","  ","  ","  ","  ","  ","  "," "," "," "," "," "," "," "," "," "," "," "," "," "," "," "," "," "," "," "," "," "," "]
[24," ","  ","  ","  ","  ","  ","  ","  ","  ","  ","  ","  ","  "," "," "," "," "," "," "," "," "," "," "," "," "," "," "," "," "," "," "," "," "," "," "]
[25," ","  ","  ","  ","  ","  ","  ","  ","  ","  ","  ","  ","  "," "," "," "," "," "," "," "," "," "," "," "," "," "," "," "," "," "," "," "," "," "," "]
[26," ","  ","  ","  ","  ","  ","  ","  ","  ","  ","  ","  ","  "," "," "," "," "," "," "," "," "," "," "," "," "," "," "," "," "," "," "," "," "," "," "]
[27," ","  ","  ","  ","  ","  ","  ","  ","  ","  ","  ","  ","  "," "," "," "," "," "," "," "," "," "," "," "," "," "," "," "," "," "," "," "," "," "," "]
[28," ","  ","  ","  ","  ","  ","  ","  ","  ","  ","  ","  ","  "," "," "," "," "," "," "," "," "," "," "," "," "," "," "," "," "," "," "," "," "," "," "]
[29," ","  ","  ","  ","  ","  ","  ","  ","  ","  ","  ","  ","  "," "," "," "," "," "," "," "," "," "," "," "," "," "," "," "," "," "," "," "," "," "," "]
[30," ","  ","  ","  ","  ","  ","  ","  ","  ","  ","  ","  ","  "," "," "," "," "," "," "," "," "," "," "," "," "," "," "," "," "," "," "," "," "," "," "]
[31," ","  ","  ","  ","  ","  ","  ","  ","  ","  ","  ","  ","  "," "," "," "," "," "," "," "," "," "," "," "," "," "," "," "," "," "," "," "," "," "," "]
[32," ","  ","  ","  ","  ","  ","  ","  ","  ","  ","  ","  ","  "," "," "," "," "," "," "," "," "," "," "," "," "," "," "," "," "," "," "," "," "," "," "]
[33," ","  ","  ","  ","  ","  ","  ","  ","  ","  ","  ","  ","  "," "," "," "," "," "," "," "," "," "," "," "," "," "," "," "," "," "," "," "," "," "," "]
[34," ","  ","  ","  ","  ","  ","  ","  ","  ","  ","  ","  ","  "," "," "," "," "," "," "," "," "," "," "," "," "," "," "," "," "," "," "," "," "," "," "]
[35," ","  ","  ","  ","  ","  ","  ","  ","  ","  ","  ","  ","  "," "," "," "," "," "," "," "," "," "," "," "," "," "," "," "," "," "," "," "," "," "," "]
[36," ","  ","  ","  ","  ","  ","  ","  ","  ","  ","  ","  ","  "," "," "," "," "," "," "," "," "," "," "," "," "," "," "," "," "," "," "," "," "," "," "]
[37," ","  ","  ","  ","  ","  ","  ","  ","  ","  ","  ","  ","  "," "," "," "," "," "," "," "," "," "," "," "," "," "," "," "," "," "," "," "," "," "," "]
[38," ","  ","  ","  ","  ","  ","  ","  ","  ","  ","  ","  ","  "," "," "," "," "," "," "," "," "," "," "," "," "," "," "," "," "," "," "," "," "," "," "]
[39," ","  ","  ","  ","  ","  ","  ","  ","  ","  ","  ","  ","  "," "," "," "," "," "," "," "," "," "," "," "," "," "," "," "," "," "," "," "," "," "," "]
[40," ","  ","  ","  ","  ","  ","  ","  ","  ","  ","  ","  ","  "," "," "," "," "," "," "," "," "," "," "," "," "," "," "," "," "," "," "," "," "," "," "]
[41," ","  ","  ","  ","  ","  ","  ","  ","  ","  ","  ","  ","  "," "," "," "," "," "," "," "," "," "," "," "," "," "," "," "," "," "," "," "," "," "," "]
[42," ","  ","  ","  ","  ","  ","  ","  ","  ","  ","  ","  ","  "," "," "," "," "," "," "," "," "," "," "," "," "," "," "," "," "," "," "," "," "," "," "]
[43," ","  ","  ","  ","  ","  ","  ","  ","  ","  ","  ","  ","  "," "," "," "," "," "," "," "," "," "," "," "," "," "," "," "," "," "," "," "," "," "," "]
[44," ","  ","  ","  ","  ","  ","  ","  ","  ","  ","  ","  ","  "," "," "," "," "," "," "," "," "," "," "," "," "," "," "," "," "," "," "," "," "," "," "]
[45," ","  ","  ","  ","  ","  ","  ","  ","  ","  ","  ","  ","  "," "," "," "," "," "," "," "," "," "," "," "," "," "," "," "," "," "," "," "," "," "," "]
[46," ","  ","  ","  ","  ","  ","  ","  ","  ","  ","  ","  ","  "," "," "," "," "," "," "," "," "," "," "," "," "," "," "," "," "," "," "," "," "," "," "]
[47," ","  ","  ","  ","  ","  ","  ","  ","  ","  ","  ","  ","  "," "," "," "," "," "," "," "," "," "," "," "," "," "," "," "," "," "," "," "," "," "," "]
[48," ","  ","  ","  ","  ","  ","  ","  ","  ","  ","  ","  ","  "," "," "," "," "," "," "," "," "," "," "," "," "," "," "," "," "," "," "," "," "," "," "]
[49," ","  ","  ","  ","  ","  ","  ","  ","  ","  ","  ","  ","  "," "," "," "," "," "," "," "," "," "," "," "," "," "," "," "," "," "," "," "," "," "," "]
[50," ","  ","  ","  ","  ","  ","  ","  ","  ","  ","  ","  ","  "," "," "," "," "," "," "," "," "," "," "," "," "," "," "," "," "," "," "," "," "," "," "]
[51," ","  ","  ","  ","  ","  ","  ","  ","  ","  ","  ","  ","  "," "," "," "," "," "," "," "," "," "," "," "," "," "," "," "," "," "," "," "," "," "," "]
[52," ","  ","  ","  ","  ","  ","  ","  ","  ","  ","  ","  ","  "," "," "," "," "," "," "," "," "," "," "," "," "," "," "," "," "," "," "," "," "," "," "]
[53," ","  ","  ","  ","  ","  ","  ","  ","  ","  ","  ","  ","  "," "," "," "," "," "," "," "," "," "," "," "," "," "," "," "," "," "," "," "," "," "," "]
[54," ","  ","  ","  ","  ","  ","  ","  ","  ","  ","  ","  ","  "," "," "," "," "," "," "," "," "," "," "," "," "," "," "," "," "," "," "," "," "," "," "]
[55," ","  ","  ","  ","  ","  ","  ","  ","  ","  ","  ","  ","  "," "," "," "," "," "," "," "," "," "," "," "," "," "," "," "," "," "," "," "," "," "," "]
[56," ","  ","  ","  ","  ","  ","  ","  ","  ","  ","  ","  ","  "," "," "," "," "," "," "," "," "," "," "," "," "," "," "," "," "," "," "," "," "," "," "]
[57," ","  ","  ","  ","  ","  ","  ","  ","  ","  ","  ","  ","  "," "," "," "," "," "," "," "," "," "," "," "," "," "," "," "," "," "," "," "," "," "," "]
[58," ","  ","  ","  ","  ","  ","  ","  ","  ","  ","  ","  ","  "," "," "," "," "," "," "," "," "," "," "," "," "," "," "," "," "," "," "," "," "," "," "]
[59," ","  ","  ","  ","  ","  ","  ","  ","  ","  ","  ","  ","  "," "," "," "," "," "," "," "," "," "," "," "," "," "," "," "," "," "," "," "," "," "," "]
[60," ","  ","  ","  ","  ","  ","  ","  ","  ","  ","  ","  ","  "," "," "," "," "," "," "," "," "," "," "," "," "," "," "," "," "," "," "," "," "," "," "]
[61," ","  ","  ","  ","  ","  ","  ","  ","  ","  ","  ","  ","  "," "," "," "," "," "," "," "," "," "," "," "," "," "," "," "," "," "," "," "," "," "," "]
[62," ","  ","  ","  ","  ","  ","  ","  ","  ","  ","  ","  ","  "," "," "," "," "," "," "," "," "," "," "," "," "," "," "," "," "," "," "," "," "," "," "]
[63," ","  ","  ","  ","  ","  ","  ","  ","  ","  ","  ","  ","  "," "," "," "," "," "," "," "," "," "," "," "," "," "," "," "," "," "," "," "," "," "," "]
[64," ","  ","  ","  ","  ","  ","  ","  ","  ","  ","  ","  ","  "," "," "," "," "," "," "," "," "," "," "," "," "," "," "," "," "," "," "," "," "," "," "]
[65," ","  ","  ","  ","  ","  ","  ","  ","  ","  ","  ","  ","  "," "," "," "," "," "," "," "," "," "," "," "," "," "," "," "," "," "," "," "," "," "," "]
[66," ","  ","  ","  ","  ","  ","  ","  ","  ","  ","  ","  ","  "," "," "," "," "," "," "," "," "," "," "," "," "," "," "," "," "," "," "," "," "," "," "]
[67," ","  ","  ","  ","  ","  ","  ","  ","  ","  ","  ","  ","  "," "," "," "," "," "," "," "," "," "," "," "," "," "," "," "," "," "," "," "," "," "," "]
[68," ","  ","  ","  ","  ","  ","  ","  ","  ","  ","  ","  ","  "," "," "," "," "," "," "," "," "," "," "," "," "," "," "," "," "," "," "," "," "," "," "]
[69," ","  ","  ","  ","  ","  ","  ","  ","  ","  ","  ","  ","  "," "," "," "," "," "," "," "," "," "," "," "," "," "," "," "," "," "," "," "," "," "," "]
[70," ","  ","  ","  ","  ","  ","  ","  ","  ","  ","  ","  ","  "," "," "," "," "," "," "," "," "," "," "," "," "," "," "," "," "," "," "," "," "," "," "]
[71," ","  ","  ","  ","  ","  ","  ","  ","  ","  ","  ","  ","  "," "," "," "," "," "," "," "," "," "," "," "," "," "," "," "," "," "," "," "," "," "," "]
[72," ","  ","  ","  ","  ","  ","  ","  ","  ","  ","  ","  ","  "," "," "," "," "," "," "," "," "," "," "," "," "," "," "," "," "," "," "," "," "," "," "]
[73," ","  ","  ","  ","  ","  ","  ","  ","  ","  ","  ","  ","  "," "," "," "," "," "," "," "," "," "," "," "," "," "," "," "," "," "," "," "," "," "," "]
[74," ","  ","  ","  ","  ","  ","  ","  ","  ","  ","  ","  ","  "," "," "," "," "," "," "," "," "," "," "," "," "," "," "," "," "," "," "," "," "," "," "]
[75," ","  ","  ","  ","  ","  ","  ","  ","  ","  ","  ","  ","  "," "," "," "," "," "," "," "," "," "," "," "," "," "," "," "," "," "," "," "," "," "," "]
[76," ","  ","  ","  ","  ","  ","  ","  ","  ","  ","  ","  ","  "," "," "," "," "," "," "," "," "," "," "," "," "," "," "," "," "," "," "," "," "," "," "]
[77," ","  ","  ","  ","  ","  ","  ","  ","  ","  ","  ","  ","  "," "," "," "," "," "," "," "," "," "," "," "," "," "," "," "," "," "," "," "," "," "," "]
[78," ","  ","  ","  ","  ","  ","  ","  ","  ","  ","  ","  ","  "," "," "," "," "," "," "," "," "," "," "," "," "," "," "," "," "," "," "," "," "," "," "]
[79," ","  ","  ","  ","  ","  ","  ","  ","  ","  ","  ","  ","  "," "," "," "," "," "," "," "," "," "," "," "," "," "," "," "," "," "," "," "," "," "," "]
[80," ","  ","  ","  ","  ","  ","  ","  ","  ","  ","  ","  ","  "," "," "," "," "," "," "," "," "," "," "," "," "," "," "," "," "," "," "," "," "," "," "]
[81," ","  ","  ","  ","  ","  ","  ","  ","  ","  ","  ","  ","  "," "," "," "," "," "," "," "," "," "," "," "," "," "," "," "," "," "," "," "," "," "," "]
[82," ","  ","  ","  ","  ","  ","  ","  ","  ","  ","  ","  ","  "," "," "," "," "," "," "," "," "," "," "," "," "," "," "," "," "," "," "," "," "," "," "]
[83," ","  ","  ","  ","  ","  ","  ","  ","  ","  ","  ","  ","  "," "," "," "," "," "," "," "," "," "," "," "," "," "," "," "," "," "," "," "," "," "," "]
[84," ","  ","  ","  ","  ","  ","  ","  ","  ","  ","  ","  ","  "," "," "," "," "," "," "," "," "," "," "," "," "," "," "," "," "," "," "," "," "," "," "]
[85," ","  ","  ","  ","  ","  ","  ","  ","  ","  ","  ","  ","  "," "," "," "," "," "," "," "," "," "," "," "," "," "," "," "," "," "," "," "," "," "," "]
[86," ","  ","  ","  ","  ","  ","  ","  ","  ","  ","  ","  ","  "," "," "," "," "," "," "," "," "," "," "," "," "," "," "," "," "," "," "," "," "," "," "]
[87," ","  ","  ","  ","  ","  ","  ","  ","  ","  ","  ","  ","  "," "," "," "," "," "," "," "," "," "," "," "," "," "," "," "," "," "," "," "," "," "," "]
[88," ","  ","  ","  ","  ","  ","  ","  ","  ","  ","  ","  ","  "," "," "," "," "," "," "," "," "," "," "," "," "," "," "," "," "," "," "," "," "," "," "]
[89," ","  ","  ","  ","  ","  ","  ","  ","  ","  ","  ","  ","  "," "," "," "," "," "," "," "," "," "," "," "," "," "," "," "," "," "," "," "," "," "," "]
[90," ","  ","  ","  ","  ","  ","  ","  ","  ","  ","  ","  ","  "," "," "," "," "," "," "," "," "," "," "," "," "," "," "," "," "," "," "," "," "," "," "]
[91," ","  ","  ","  ","  ","  ","  ","  ","  ","  ","  ","  ","  "," "," "," "," "," "," "," "," "," "," "," "," "," "," "," "," "," "," "," "," "," "," "]
[92," ","  ","  ","  ","  ","  ","  ","  ","  ","  ","  ","  ","  "," "," "," "," "," "," "," "," "," "," "," "," "," "," "," "," "," "," "," "," "," "," "]
[93," ","  ","  ","  ","  ","  ","  ","  ","  ","  ","  ","  ","  "," "," "," "," "," "," "," "," "," "," "," "," "," "," "," "," "," "," "," "," "," "," "]
[94," ","  ","  ","  ","  ","  ","  ","  ","  ","  ","  ","  ","  "," "," "," "," "," "," "," "," "," "," "," "," "," "," "," "," "," "," "," "," "," "," "]
[95," ","  ","  ","  ","  ","  ","  ","  ","  ","  ","  ","  ","  "," "," "," "," "," "," "," "," "," "," "," "," "," "," "," "," "," "," "," "," "," "," "]
[96," ","  ","  ","  ","  ","  ","  ","  ","  ","  ","  ","  ","  "," "," "," "," "," "," "," "," "," "," "," "," "," "," "," "," "," "," "," "," "," "," "]